{"text_format":"1","workbook":"xlsx","n_sheets":21,"sheets":["Instructions","Version","Guidance ","Data Export XML","Reporter Info","COVERED EM CALC","Retail Provider","CAISO Sales","Unspec Imports","Spec Imports","RPS Adjust","REC Serial","QE Adjust","Unspec Exports","Spec Exports","Wheeled","POR.POD","EF List","Other Lookups","CEC RPS List","EPEs"],"not_rendered":{"charts":0,"images":5,"macros":1,"external_links":1,"defined_names":54,"comments":0,"pivot_tables":0},"unopened":[],"bounds":{"document_bytes":16777216,"sheet_cells":100000,"rows_first":2000,"rows_last":500,"rows_between":2000,"halvings":0,"cell_chars":16384,"cell_head_chars":4096},"cells_cut":0,"cells_raw":0,"read":"whole","date_system":"1900"}

{"sheet":"Instructions","index":0,"n_rows":34,"n_cols":3,"rows_kept":34,"cut":false,"hidden":false,"merged":[]}
[null,null,"§95111. Data Requirements and Calculation Methods for Electric Power Entities"]
[]
[]
[null,null,"Instructions for the Use of This Reporting Workbook"]
[null,null,"This spreadsheet is protected by default and contains locked cells to ensure that the user does not inadvertently alter any of the included formulas and/or calculations. The worksheets may be unprotected by right-clicking on the tab and selecting \"Unprotect Sheet\". However, any modified workbook will not be accepted by the Air Resources Board for reporting purposes.  "]
[]
[null,null,"Please use this workbook to calculate and report emissions to the Air Resources Board for Electric Power Entities. The workbook contains the following individual spreadsheets, representing the required emission sources and reporting elements for the Electricity Imports, Exports, and Wheels relative to California. Click the names below to go to the corresponding tabs in this workbook."]
[]
[null,1,"Guidance on Data Entry"]
[null,2,"How to Export this Workbook Data to XML"]
[null,3,"Electric Power Entity Overview Information"]
[null,4,"Covered Emissions Calculation:  This is the overall calculation captured in this workbook.  Various workbook tabs contain detailed calculations that feed into this summary tab.  "]
[null,5,"Retail Provider"]
[null,6,"CAISO Sales"]
[null,7,"Unspecified Imports"]
[null,8,"Specified Imports"]
[null,9,"RPS Adjustment"]
[null,10,"REC Serial Numbers"]
[null,11,"Qualified Export Adjustment"]
[null,12,"Unspecified Exports"]
[null,13,"Specified Exports *"]
[null,14,"Wheeled Power *"]
[null,15,"Emission Factors"]
[null,null,"* Not part of the Covered Emissions Calculation."]
[]
[null,null,"Each individual spreadsheet includes all of the required calculations and reporting fields for the individual emission source and subsection. Cells have been color coded to indicate where user inputs are required, and where intermediate and final results of calculations can be found. The following color coding has been used:"]
[]
[null,null,"Light green cells require user inputs. These inputs may be text or numerical, but are required for either reporting or execution of equations."]
[]
[null,null,"Grey cells are locked and may contain informational items, field descriptions, equation constants, or inputs that have been automatically calculated or transferred from previous inputs."]
[]
[null,null,"White cells with red outline are locked and contain the results of individual equations and final emissions results."]
[]
[null,null,"When completed, these spreadsheets can be uploaded to Cal e-GGRT to fulfill your facility's reporting obligations. As such, in addition to the calculations required under Section 5, this workbook also includes all required informational reporting elements. Reporting elements are included as the first input section of each spreadsheet, and where appropriate these inputs will be carried into the corresponding equations."]

{"sheet":"Version","index":1,"n_rows":21,"n_cols":4,"rows_kept":21,"cut":false,"hidden":false,"merged":[[0,1,0,3],[1,1,1,3]]}
[{"$f":"$B$5","v":11},"Version History"]
[null,"Only use the most current version for reporting purposes."]
[]
[null,"Versions","Date Posted","Description"]
["`",11,43157,"Revised for reporting CY2017 emissions."]
[null,10,42803,"Revised for reporting CY2016 emissions.  Updates include removing a field from the Reporter Info tab, modifying the Transmission Loss Factor column in Specified Exports, and Added new EPE Names and ID Numbers available for selection in several Load Serving Entity dropdowns. Updated user input of threshold questions on CAISO Sales tab."]
[null,9.1,42479,"Added several emission factors and updated the list of EPEs."]
[null,9,42474,"Revised for reporting CY2015 emissions, including an updated emission factor list. Added Searchable Drop Down List for Specified Sources in the following tabs: Retail Provider, CAISO Sales, Spec Imports, RPS Adjust, REC Serial, and Wheeled.  Redesigned the CAISO Sales tab.  Added Searchable Drop Down List for POR/POD grid points in the following tabs: Unspec Imports, Spec Imports, Unspec Exports, and Wheeled.  In the Spec Imports tab, removed a non-essential column describing the first deliverer determination.  In Spec Imports tab, revised functionality and some labeling of Columns.  In the REC Serial tab, added data validation to ensure REC serial numbers are reported in a readable and consistent format.  Deleted the Facility Reg Info tab.  In the EF List tab, added columns to implement the new searchable drop down lists in other tabs, and removed several non-essential descriptive columns."]
[null,8.1,42111,"Updated emission factor list."]
[null,8,42107,"Added the CAISO Sales worksheet/tab.  Spec Imports tab:  New data entry for transmission loss factor use of 1.02 or 1.0.  Modified fields for REC serial number reporting, and updated Meter Data requirement related fields.  REC Serial tab:  Added REC summary table to consolidate reported REC data in the Spec Imports, RPS Adjustment, and REC Serial tabs.  Facility Reg Info tab:  Conformed this tab to the new version of the February 1 Registration workbook.  In multiple tabs, added a field to track tagged, metered, or EIM line items.  Added various data validation and logic checks to ensure data quality. "]
[null,7,41757,"Note:  On 8/8/2014, the emission factor list was updated, but the workbook version remained the same.  Emission Factors for Sources with EPA ID in Column C of the emission factor tab (shown in red) use U.S. EPA Part 98 Emissions Data.  \n\nReporter Info tab: removed two choices from the Supplemental picklist (B6). Removed Importer, Exporter, or Both question.\nSpec/Unspec Imports, and Spec/Unspec Exports - (4 tabs): changed choices available in the Relationship to Source fields. \nSpecified Imports: Revised label in colunn BD\nREC Serial tab:  Added new tab\nRPS Adjust tab: Revised label for column Y.  Changed formula for column T, such that a \"Will Be Retired Later\" response in Column O will return a value of \"1\".\nUnspec Imports and Spec Imports tabs (2 tabs):  Changed Isp label to \"Isp = Imported MWh Imported ON BEHALF of Retail Provider (MWh)\"\nSpec Imports and Spec Exports (2 tabs):  Deleted Cogen and Threshold Data Field Set\n2013 EFs:  Updated EF tab to include 2013 data."]
[null,6,41381,"Added XML Validation to require the use of the latest Version of Workbook 1 such that older versions will result in XML errors on upload to Cal e-GGRT. Retail Provider tab:  In Column I on Ownership Share, added hover note to clarify type of data input, and increased decimal places. Spec Imports tab: Corrected formulas in Columns AQ & AR for On Behalf of Imports for Retail Providers. Covered EM Calc tab:  Revised formula in B6 to allow only a zero or positive covered emissions value. Minor formatting and validation changes.  Reporter tab:  Added \"No Imports or Exports\" field value to the “Electricity Importer, Exporter or Both” field as some EPEs may not have any imports or exports.         "]
[null,5,41358,"This revised Workbook 1 incorporates regulatory changes from the 2012 update rulemaking, reflects improvements in functionality, and contains updated emission factors in the \"2012 EFs\" tab.  More detail on the updated emission factor list is shown in this tab below the version history table.  In addition, ARB has added the ability to deploy an updated emission factor list that can be imported via macro into the Version 5 of Workbook 1, as described below.   "]
[null,4,41095,"Added emission factors for the following facilities to the “2011 EFs” tab, which is the same in Workbooks 1, 2, and 4:  "]
[null,null,null,"Kettle Falls Woodwaste Plant; "]
[null,null,null,"Clearwater Paper Corporation;"]
[null,null,null,"Bonneville Power Administration Asset-Controlling Supplier. "]
[null,3,41045,"Added 160 facilities with emission factors to the “2011 EFs” tab. This tab is the same in Workbooks 1, 2, and 4. "]
[null,2,41037,"Update to the “RPS Adjust” tab.  The fieldnames in Columns N, O, P, Q, R, and T are now Optional text fields.  Columns M and W were renamed.  The ‘table’ composed of Columns M through T was renamed from Agent and Relationship Data to RPS Information. "]
[null,null,null,"Update to the Reporter Info tab.  “Marketer” was added as a drop down choice in the Supplemental Data Category in Cell B6."]
[null,1,41023,"First version posted to Cal e-GGRT website."]

{"sheet":"Guidance ","index":2,"n_rows":12,"n_cols":2,"rows_kept":12,"cut":false,"hidden":false,"merged":[[9,1,9,5],[10,1,10,5],[11,1,11,5],[3,1,3,5],[4,1,4,5],[5,1,5,5],[6,1,6,5],[7,1,7,5],[8,1,8,5]]}
[]
[null,"Template complatible with Excel 2003, Excel 2007, and Excel 2010."]
[]
[null,"Guidance for Completing The Workbook Templates\n"]
[null,"The Following Tabs within this workbook contain the data entry fields for reporting power transactions data.  Each workbook is customized per entity type. "]
[null,"1.  Enter data below grayed column header cells with bold type.  The bold type indicates the type of data to be entered. "]
[null,"2.  Review this guidance tab and examples to see the possible data types applicable in each field."]
[null,"3.  Correct entry of data.\n   a. Enter data for all applicable tabs.  If you do not have data for a given worksheet, please leave the worksheet blank.\n   b. Only enter data where indicated by a green box. This box indicates that these fields are mapped to the supporting xsd file.\n   c. To add or remove rows follow the instructions at the top of each sheet.\n   d. Once data entry is complete, remove all blank lines following the instructions at the top of each sheet.  Blank lines may result in errors during the upload process."]
[null,"4.  The spreadsheet is equipped with validation to ensure correct values.  If validation is required for a cell, a drop down box will be available. "]
[null,"5.  Conditional formatting is also enabled within the workbook.  If an entry is invalid, the cell will be filled red.\n     For example, if the field requires numeric values and you enter a non numeric value, the cell will be filled red."]
[null,"6.  Use caution when inserting data into the spreadsheet. When pasting copied data into a spreadsheet, use Paste Special \\ Values.  Please do not delete columns of data or change on page formatting  as this may cause errors when exporting your data to XML.  If you are unable to resolve formatting errors, please dowload a new template from the reporting tool."]
[null,"7.  If you have follow-up questions, please contact GHGReport@arb.ca.gov, and include \"Request Assistance with Power Transactions Data Entry\" in your subject line."]

{"sheet":"Data Export XML","index":3,"n_rows":18,"n_cols":2,"rows_kept":18,"cut":false,"hidden":false,"merged":[[3,1,3,5],[15,1,15,5],[16,1,16,5],[17,1,17,5],[12,1,12,5],[14,1,14,5],[6,1,6,5],[7,1,7,5],[8,1,8,5],[10,1,10,5]]}
[]
[null,"Upload Both the XLS and XML files"]
[]
[null,"When reporting emissions data, Electric Power Entities are required to upload both the MS-Excel file in XLS or XLSX file formats, and (2) the XML copy.  \n\nEntities utilizing the reporting services of OATI must also submit the MS-Excel file in XLS or XLSX file format.   "]
[]
[]
[null,"Guidance for Exporting Data to XML\n"]
[null,"1.  Enter all data for each worksheet within the workbook where indicated. \n     Ensure that all columns of data are completed before exporting your file.  Only completed rows will be imported into the Tool."]
[null,"2.  Save your workbook."]
[null,"3.  Export Excel data to XML."]
[null,"For Excel 2003,  select the menu Data / XML / Export. "]
[]
[null,"For Excel 2007 and Excel 2010,  right click within a linked cell. Select XML / Export."]
[]
[null,"4.  Provide a file name and complete the process. The generated XML file is the file that you will attach and upload within the Reporting Tool."]
[null,"5.  Within Cal e-GGRT, navigate to the Electric Power Entity overview page for your facility\n"]
[null,"6.  Upload your newly exported XML document.  Do not upload your Excel template."]
[null,"7.  If successfully attached, the interface will refresh and display the newly added document. If there are problems with the xml data being uploaded, validation messages will be displayed describing the problem(s)."]

{"sheet":"Reporter Info","index":4,"n_rows":15,"n_cols":3,"rows_kept":15,"cut":false,"hidden":false,"merged":[]}
["ELECTRIC POWER ENTITY SUBMISSION INFORMATION"]
[]
["Entity Name (Required)"]
["If not listed above, enter Entity Name"]
["ARB Electric Power Entity ID# (Required)",{"$f":"INDEX(EPE_Names_array,MATCH(B3,EPE_Names,0),1)","v":{"$error":"#N/A"}}]
["EPE Type per CARB",{"$f":"INDEX(EPE_List,MATCH(B5,ARB_ID_EPE_List,0),3)","v":{"$error":"#N/A"}}]
["Confirm EPE Type (Required)",null,{"$f":"IF(B3=\"Other -- Not Listed\",\"\",IF(LEFT(B7,3)=LEFT(B6,3),\"Match\",\"Mismatch\"))","v":{"$error":"#N/A"}}]
["Retail Provider in California? (Y/N) (Required)"]
["Emission Year (Required)"]
["Submission Date (Required)"]
["Balancing Authority Area in which Retail Customers are Located"]
["California Retail Sales, MWh"]
["MJRP Total Service Territory Retail Sales, MWh"]
["Electrification (subset of retail sales), MWh"]
["Notes:  If reporting retail sales for another entity, provide the entity name, ID number, and MWh value."]

{"sheet":"COVERED EM CALC","index":5,"n_rows":13,"n_cols":9,"rows_kept":13,"cut":false,"hidden":false,"merged":[[7,1,7,8]]}
[null,"CALCULATION OF COVERED EMISSIONS per 95111(b)(5)"]
[]
[]
[null,"COVERED",null,"Unspecified Imports","Specified Imports","Specified Not Covered","RPS Adjustment","QE Adjustment","Linked"]
[null,"[CO2ecovered] Annual metric tons of CO2e with a compliance obligation.","=","[CO2eunspecified] Annual metric tons of CO2e from unspecified imported electricity calculated pursuant to MRR 95111.","[CO2especified] Annual metric tons of CO2e from imported electricity from specified sources that meet the requirements of MRR sections 95111.","[CO2especified-not covered] Annual metric tons of CO2e without a compliance obligation pursuant to section 95852.2.from specified sources that meet the requirements in MRR section 95111","[CO2eRPS_adjustment] Annual metric tons of CO2e calculated pursuant to MRR that meets the requirements of section 95852(b)(4).","[CO2eQE_adjustment] Annual metric tons of CO2e from qualified exports pursuant to MRR section 95111 that meet the requirements of section 95852(b)(5).","[CO2elinked] Annual metric tons of CO2e from electricity with a first point of receipt located in a jurisdiction where a GHG emissions trading system has been approved for linkage by the Board pursuant to subarticle 12."]
[null,{"$f":"IF((D6+(E6-F6)-G6-H6-I6)<0,0,D6+(E6-F6)-G6-H6-I6)","v":0},null,{"$f":"IF(ISERROR('Unspec Imports'!B3)=TRUE,0,'Unspec Imports'!B3)","v":0},{"$f":"IF(ISERROR('Spec Imports'!B3)=TRUE,0,'Spec Imports'!B3)","v":0},{"$f":"IF(ISERROR('Spec Imports'!B4)=TRUE,0,'Spec Imports'!B4)","v":0},{"$f":"IF(ISERROR('RPS Adjust'!B3)=TRUE,0,'RPS Adjust'!B3)","v":0},{"$f":"'QE Adjust'!B3","v":0},0]
[]
[]
[null,"INVENTORY ONLY CALCULATION"]
[]
[null,"TOTAL EMISSIONS",null,"Unspecified Imports","Specified Imports"]
[null,"[CO2e Total] Annual metric tons of CO2e ","=","[CO2eunspecified] Annual metric tons of CO2e from unspecified imported electricity calculated pursuant to MRR 95111.","[CO2especified] Annual metric tons of CO2e from imported electricity from specified sources that meet the requirements of MRR sections 95111."]
[null,{"$f":"D13+E13","v":0},null,{"$f":"D6","v":0},{"$f":"E6","v":0}]

{"sheet":"Retail Provider","index":6,"n_rows":25,"n_cols":38,"rows_kept":25,"cut":false,"hidden":false,"merged":[[15,0,15,8],[17,0,17,11],[11,0,11,3],[11,7,11,8],[12,0,12,3],[12,7,12,8],[13,0,13,8],[14,0,14,8],[24,0,24,37],[17,30,17,37],[20,0,20,3],[20,4,20,6],[20,7,20,13],[20,14,20,26]]}
["RETAIL PROVIDER HIGH GHG EMITTING FACILITIES per Section 95111(c) ",null,null,null,null,{"$f":"G13","v":24},{"$f":"G12","v":1},null,null,null,{"$f":"#REF!","v":{"$error":"#REF!"}}]
[]
["Sum of MT CO2e Imported from Owned-High GHG Facilities",{"$f":"M19","v":0}]
["Sum MT CO2e NOT Imported from Owned-High GHG Facilities",{"$f":"N19","v":0}]
[]
["Sum Replacement Generation that Must Be Identified (MWh)",{"$f":"V19","v":0}]
["Sum of Replacement Generation Reported (MWh)",{"$f":"W19","v":0}]
["Sum of Replacement Generation  Under/Over Reported (MWh)",{"$f":"X19","v":0}]
[]
["Sum of MT CO2e from Replacement Generation Reported",{"$f":"Y19","v":0}]
[]
["TO ADD ROW(s) TO THE TABLE USING MACROS, enter the number of rows to be added and click the Add Row(s) button.  ",null,null,null,"Rows to Add to the table below:",null,1]
["TO DELETE EXTRANEOUS ROWS USING MACROS, specify the row number to be deleted and click the \"Delete Row\" button.",null,null,null,"Row to Delete from the table below:",null,24]
["NOTE: You will need to enable macros for either button to work.  If you do not wish to enable macros, or are an expert user, please unlock the workbook by right-clicking the active worksheet and selecting \"Unprotect Sheet\". If you unprotect the sheet and then subsequently use the macro, this will reprotect the sheet."]
["TO ADD ROW(s) TO THE TABLE WITHOUT USING MACROS, use one of the following methods:\n  1. Insert a row or rows into the middle of the table, above the last row. WARNING: if you insert a row after the table, it will not properly export to XML.\n  2. Drag the blue marker in the far right corner of the table down."]
["TO DELETE ROW(s) TO THE TABLE WITHOUT USING MACROS, select the row(s) that you wish to delete, right click on and select \"Delete\""]
[]
["RETAIL PROVIDER  --  HIGH GHG-EMITTING FACILITIES OR UNITS",null,null,null,null,null,null,null,null,null,null,null,{"$f":"A3","v":"Sum of MT CO2e Imported from Owned-High GHG Facilities"},{"$f":"A4","v":"Sum MT CO2e NOT Imported from Owned-High GHG Facilities"},null,null,null,null,null,null,null,"Sum Replacement Generation that Must Be Identified\n(MWh)","Sum of Replacement Generation Reported\n(MWh)","Sum of Replacement Generation  Under/Over Reported\n(MWh)","Sum of MT CO2e from Replacement Generation Reported",null,null,null,null,null,"ARB EMISSIONS FACTORS from \"EF List\" tab"]
[null,null,null,null,null,null,null,null,null,null,null,null,{"$f":"SUM(M24:M25)","v":0},{"$f":"SUM(N24:N25)","v":0},null,null,null,null,null,null,null,{"$f":"SUM(V24:V25)","v":0},{"$f":"SUM(W24:W25)","v":0},{"$f":"W19-V19","v":0},{"$f":"SUM(Y24:Y25)","v":0},null,null,null,null,null,"EF CO2e","EF CO2e","EF CO2e","EF CO2e","EF CO2e","EF CH4 CO2e","EF CH4 CO2e","EF N2O CO2e"]
[null,null,null,null,null,null,null,null,{"$f":"IF(E20=\"Not Owned\", \"ERROR!\",\"\")","v":""},null,null,null,null,null,null,null,null,null,null,null,null,null,null,null,null,null,null,null,null,null,"Total","Fossil & Process","Biomass Exempt","Biomass Non-Exempt","Geothermal Exempt","All Geothermal CH4 Exempt","All Other CH4 NonExempt","All N2O NonExempt"]
["Facilities",null,null,null,"Ownership & High GHG Threshold",null,null,"CO2e Not Imported, per Section 95111(c)(3)(C)(1)",null,null,null,null,null,null,"Replacement Generation, per Section 95111(c)(3)(C)(2)"]
["Facility and Unit ID Name (select \"Other\" if not listed)\n\nFor the drop down list, see the hover note in the cell below.\n","ARB Facility and Unit ID#\n","If facility is un-listed, Facility Name","If facility is un-listed, Manually Enter an Emission Factor \n(MT CO2e/MWh)","If any of the following apply, the resource is \"Owned\":  Does the Retail Provider (1) operate the resource, (2) fully or partially owned the resource, and/or (3) have a Specified Source Contract for a SHARE of the Total Capacity or Total Output of the Facility, as opposed to a Fixed Amount?  95111(c)(3)","This IS or IS NOT considered a High GHG Resource as it is \nabove 0.428 MT CO2e/MWh per 95111(c)(3)","This IS or IS NOT considered \"Reportable Power\" where power meets the Combined Criteria Under Section 95111(c)(3) for Ownership & GHG Level","Whole Facility Net Generation:  EGsp = \"Facility or unit net generation\" which means Total Annual Facility or Unit Net Generation for the WHOLE facility for the entire Reporting Year (MWh)","Ownership Share:  \nOS = Fraction Ownership Share in Facility or Unit\n","Retail Provider Share:  Product of Net Generation and Ownership Share (MWh)","Isp = Imported \nMWh Owned by Retail Provider from the Facility\n(MWh)","NOT Imported \n(MWh)","Imported\nTotal MT CO2e \n","NOT Imported\nTotal MT CO2e \n","Imports as a Percentage of Total SHARE of Facility or Unit Output","Replacement Generation Must Be Identified When Imported MWh are less than 90% of Total Facility or Unit Output, i.e.,  Isp < 90% of EGsp*OS \n(Yes/No)","Single or Multiple Replacement Generation Sources?  \nIf Multiple, list each additional replacement generation source as a separate line item as \"Replacement Generation\" for the Unit ID.","Replacement Generation Source.  Facility and Unit ID Name (select \"Other\" if not listed).  If Unspecified, then select \"Unspecified Retail Provider\" from list.","If facility is un-listed, provide Facility Name. ","If facility is un-listed, Manually Enter: \n\nEmission Factor \n\n(MT CO2e/MWh)","Emission Factor \n[Non-Exempt EF Components] \nfor Replacement Generation  \n(MT CO2e/MWh)","Quantity of Replacement Generation that Must Be Identified When Imported MWh are less than 90% of Total Facility or Unit Output, i.e.,  Isp < 90% of EGsp*OS \n(MWh)","Enter Quantity of Replacement Generation Reported\n(MWh)","-Under/+Over Check on Reported Replacement Generation\n                                                                                                                                                                                                                                                                (MWh)","Quantity of Replacement Generation Reported \n(MT CO2e)","Vintage of Resource (New, Repowered, Old, Original) Add Text Description As Necessary in the Notes field","Replacement Generation Location(s)",null,"Notes",null,"[EFsp : CO2e total] Facility-specific or unit-specific emission factor published on the ARB Mandatory Reporting website, (MT CO2e/MWh)","[EFsp: CO2 fossil fuel combustion and process] (MT CO2/MWh) [new column]","[EFsp :  CO2 biomass exempt] Facility-specific or unit-specific emission factor published on the ARB Mandatory Reporting website, (MT CO2/MWh)","[EFsp :  CO2 biomass non-exempt] Facility-specific or unit-specific emission factor published on the ARB Mandatory Reporting website, (MT CO2/MWh)","[EFsp :  CO2 geothermal exempt] Facility-specific or unit-specific emission factor published on the ARB Mandatory Reporting website, (MT CO2/MWh)","[EFsp: MT CH4 geothermal exempt] Facility-specific or unit-specific emission factor published on the ARB Mandatory Reporting website, (MTCH4/MWh)","[EFsp: MT CH4 non-geothermal] Facility-specific or unit-specific emission factor published on the ARB Mandatory Reporting website, (MTCH4/MWh)","[EFsp: MT N2O] Facility-specific or unit-specific emission factor published on the ARB Mandatory Reporting website, (MTN2O/MWh)"]
["Column1","Column2","Column3","Column32","Column358","Column356","Column3562","Column23","Column33","Column6","Column7","Column8","Column10","Column9","Column92","Column923","Column926","Column9262","Column9263","Column322","Column92632","Column924","Column9264","Column92642","Column92643","Column9265","Column9266","Blank_Column_2","Blank_Column_22","Blank_Column_3","Column16","Column17","Column18","Column19","Column20","Column21","Column22","Column234"]
[" ",{"$f":"VLOOKUP(A24,EF_List,3,FALSE)","v":{"$error":"#N/A"}},null,null,null,{"$f":"IF(ISERROR(IF(MAX(D24,(AF24+AH24+AK24+AL24))>0.428,\"High GHG\",\"Low GHG\")),\"\", IF(MAX(D24,(AF24+AH24+AK24+AL24))>0.428,\"High GHG\",\"Low GHG\"))","v":"Low GHG"},{"$f":"IF(ISERROR(IF(AND(E24=\"Owned\",(D24+AF24+AH24+AK24+AL24)>0.428),\"Reportable\",\"No\")),\"\", IF(AND(E24=\"Owned\",(D24+AF24+AH24+AK24+AL24)>0.428),\"Reportable\",\"No\"))","v":"No"},null,null,{"$f":"IF(TRIM(G24)=\"No\",0,H24*I24)","v":0},null,{"$f":"IF(TRIM(G24)=\"No\",0,J24-K24)","v":0},{"$f":"IF(ISERROR(IF(TRIM(G24)=\"No\",0,K24*(D24+AE24))),\"\", IF(TRIM(G24)=\"No\",0,K24*(D24+AE24)))","v":0},{"$f":"IF(ISERROR(IF(TRIM(G24)=\"No\",0,L24*(D24+AE24))),\"\", IF(TRIM(G24)=\"No\",0,L24*(D24+AE24)))","v":0},{"$f":"IF(ISERROR(IF(TRIM(G24)=\"No\",0,K24/J24)),\"\", IF(TRIM(G24)=\"No\",0,K24/J24))","v":0},{"$f":"IF(TRIM(G24)=\"No\",\"No\",IF(O24<0.9,\"Yes\",\"No\"))","v":"No"},null,null,null,null,{"$f":"IF(ISERROR(LOOKUP($R24,Facility_Name,'EF List'!AB$7:AB$291))=TRUE,0,LOOKUP($R24,Facility_Name,'EF List'!AB$7:AB$291))","v":0},{"$f":"IF(ISERROR(J24-K24),\"\",J24-K24)","v":0},null,{"$f":"IF(TRIM(R24)=\"No\",0,W24-V24)","v":0},{"$f":"IF(TRIM(R24)=\"\",0,MAX(T24:U45)*W24)","v":0},null,null,null,null,null,{"$f":"IF(ISERROR(LOOKUP($A24,Facility_Name,'EF List'!T$7:T$289))=TRUE,0,LOOKUP($A24,Facility_Name,'EF List'!T$7:T$289))","v":0},{"$f":"IF(ISERROR(LOOKUP($A24,Facility_Name,'EF List'!U$7:U$289))=TRUE,0,LOOKUP($A24,Facility_Name,'EF List'!U$7:U$289))","v":0},{"$f":"IF(ISERROR(LOOKUP($A24,Facility_Name,'EF List'!V$7:V$289))=TRUE,0,LOOKUP($A24,Facility_Name,'EF List'!V$7:V$289))","v":0},{"$f":"IF(ISERROR(LOOKUP($A24,Facility_Name,'EF List'!W$7:W$289))=TRUE,0,LOOKUP($A24,Facility_Name,'EF List'!W$7:W$289))","v":0},{"$f":"IF(ISERROR(LOOKUP($A24,Facility_Name,'EF List'!X$7:X$289))=TRUE,0,LOOKUP($A24,Facility_Name,'EF List'!X$7:X$289))","v":0},{"$f":"IF(ISERROR(LOOKUP($A24,Facility_Name,'EF List'!Y$7:Y$289))=TRUE,0,LOOKUP($A24,Facility_Name,'EF List'!Y$7:Y$289))","v":0},{"$f":"IF(ISERROR(LOOKUP($A24,Facility_Name,'EF List'!Z$7:Z$289))=TRUE,0,LOOKUP($A24,Facility_Name,'EF List'!Z$7:Z$289))","v":0},{"$f":"IF(ISERROR(LOOKUP($A24,Facility_Name,'EF List'!AA$7:AA$289))=TRUE,0,LOOKUP($A24,Facility_Name,'EF List'!AA$7:AA$289))","v":0}]
["Rows inserted below this message will not be saved in the XML upload"]

{"sheet":"CAISO Sales","index":7,"n_rows":23,"n_cols":56,"rows_kept":23,"cut":false,"hidden":false,"merged":[[10,3,10,4],[11,0,11,2],[11,3,11,4],[16,0,18,6],[18,11,18,12],[12,0,12,6],[13,0,13,6],[14,0,14,6],[10,0,10,2],[2,0,2,2],[5,7,5,8],[6,7,6,8],[7,7,7,8],[8,6,8,8],[5,0,5,4]]}
["CAISO SALES BY ELECTRICAL DISTRIBUTION UTILITIES (EDU) THAT ARE NOT IOUs (95111(a)(12))",null,null,null,null,{"$f":"F12","v":22},{"$f":"F11","v":1}]
[]
["Pursuant to §95892(d)(5) of the Cap-and-Trade Regulation on the prohibited use of allocated allowance value, the reporting entity must purchase allowances equal to the emissions associated with reportable CAISO sales =",null,null,{"$f":"SUM(J22:J23)+SUM(M22:M23)","v":0},"MT CO2e"]
["Sum of MWh associated with reportable CAISO Sales =",{"$f":"SUM(F22:F23)","v":0}]
[]
["Threshold questions to determine whether you must report CAISO sales under 95111(a)(12).\nAll EPEs must answer \"Yes\" or \"No\" to the first question (“POU or CO-OP”) below. Any EPE answering “Yes” to a question must also answer the next question.",null,null,null,null,"REPORTABLE CAISO SALES?","Hourly Resource Data","No Netting"]
["1 - POU or CO-OP\n\nAre you a POU or Co-op? (Yes/No)  If answering “No,” you are not required to report CAISO sales and no additional information is required on this tab. ","2 - ALLOWANCES ALLOCATED TO COMPLIANCE ACCOUNT \n\nDid you have any allocated allowances deposited in your compliance account, or in another electric power entity’s (EPE) compliance account?  If answering “No,” you are not required to report CAISO sales and no additional information is required on this sheet. ","3 - CAISO SALES\n\nDid you sell any power into any CAISO markets during the last calendar year? (Yes/No)","4 - COMPLIANCE OBLIGATION\n\nDo you, or an EPE to whom you allocated allowances to, have a compliance obligation under the Cap-and-Trade Regulation for emissions from electricity sold into CAISO? (Yes/No) ","5 - EXCESS ELECTRICITY SOLD INTO CAISO FOR NON-NATIVE LOAD\n\nWas any electricity from any resource in your portfolio sold into CAISO markets that ultimately served any non-native load?  (Yes/No)","Are you required to report electricity sales into CAISO pursuant to section 95111(a)(12)?\n\nIf \"Yes\", report detailed CAISO Sales information below.","The CAISO sales data reported below is based on a determination of excess (and non-tax-exempt) electricity made on an hourly basis using hourly resource specific generation data and hourly gross load.  (Yes/No)","I understand that netting of electricity across hours is not allowed in the calculation of reportable CAISO sales (e.g, excess electricity sold into the CAISO markets in one hour cannot be used to offset the electricity bought from the CAISO markets in another hour).  (Yes/No)"]
[{"$f":"IF(OR(LEFT(A9,3)=\"POU\",LEFT(A9,3)=\"COO\"),\"Yes\",IF(A9=0,\"\",\"No\"))","v":""},null,null,null,null,"Answer Question 1"]
[{"$f":"'Reporter Info'!$B$7","v":0},null,null,null,null,null,"Note: Netting across hours or intervals is prohibited under MRR §95111(a)(2), which requires separate reporting of imports, exports, and wheels.  References to \"hourly\" data in this tab also apply to interval data. "]
[]
["TO ADD ROW(s) TO THE TABLE USING MACROS, enter the number of rows to be added and click the Add Row(s) button.  ",null,null,"Rows to Add to the table below:",null,1]
["TO DELETE EXTRANEOUS ROWS USING MACROS, specify the row number to be deleted and click the \"Delete Row\" button.",null,null,"Row to Delete from the table below:",null,22]
["NOTE: You will need to enable macros for either button to work.  If you do not wish to enable macros, or are an expert user, please unlock the workbook by right-clicking the active worksheet and selecting \"Unprotect Sheet\". If you unprotect the sheet and then subsequently use the macro, this will reprotect the sheet."]
["TO ADD ROW(s) TO THE TABLE WITHOUT USING MACROS, use one of the following methods:\n  1. Insert a row or rows into the middle of the table, above the last row. WARNING: if you insert a row after the table, it will not properly export to XML.\n  2. Drag the blue marker in the far right corner of the table down."]
["TO DELETE ROW(s) TO THE TABLE WITHOUT USING MACROS, select the row(s) that you wish to delete, right click on and select \"Delete\""]
[]
["PHYSICAL TRANSACTION ATTRIBUTES -- CAISO SALES",null,null,null,null,null,null,null,"MANUAL EMISSIONS FACTOR\nIf the facility is listed as \"Other\" in column A, input the appropriate emission factor in this column \"If Known,\" or use 0.428 for \"Unknown\" or \"Unspecified\" power.","MANUAL EMISSIONS CALCULATION",null,"CALCULATED EMISSIONS FACTOR","CALCULATED EMISSIONS CALCULATION"]
[null,null,null,null,null,null,null,null,"EF CO2e","MT CO2e",null,"EF CO2e","MT CO2e"]
[null,null,null,null,null,null,null,null,"Total","All Manual CO2e",null,"Total Non-Exempt"]
["Facility and Unit ID Name \n\nNote: Select \"Other\" \nif facility is not listed\n\nor select \"Unknown\" if the source of electricity is not known","ARB Facility and Unit ID#\n","If facility is not listed, enter Facility Name \n(if known)\n\nIf unknown, leave blank","Jurisdiction Full Name in which the Facility is Located","Transmission Loss Factor Determination\n\nper 95111(b)(2) ","MWh as measured at the Busbar or at the First Point of Delivery (POD) inside California per 95111(a)(4)(A)(2) on NERC e-tag","[TL] Transmission loss correction factor, = 1.00 or 1.02 (MWh must include transmission loss factor (*1.02) if not measured at busbar or if supplied by BPA)",null,"[EFmanual: CO2e total non-exempt] Facility-specific or unit-specific emission factor, provided manually from ARB (MT CO2e/MWh)","[CO2e manual total non-exempt] Annual CO2 equivalent mass emissions from the specified electricity deliveries for each facility or unit claimed (MT CO2e)",null,"[EFsp : CO2e total] Facility-specific or unit-specific emission factor published on the ARB Mandatory Reporting website, (MT CO2e/MWh)","[CO2e total non-exempt] Annual CO2 equivalent mass emissions from the specified electricity deliveries for each facility or unit claimed (MT CO2e)",null,"Notes"]
["Column1","Column2","Column3","Column15","Column152","Column102","Column11","Column45222","Column13","Column14","Column452222","Column16","Column142","Column4522","Column53","Blank_Column_1","EF_Manual","CO2e_Manual_Total","Blank_Column_2","Blank_Column_4","Are_You_First_Deliverer","First_Deliverer_Listed","First_Deliverer_Unlisted","Relationship_To_Source","Blank_Column_5","RP_Power_Brought_On_Behalf","RP_Owned_Imported_Per_Thresholds","RP_Emissions_Power_Imported_Thresholds","Blank_Column_6","Share_Or_Opposed_Fixed_Amount","Power_From_GPE","GPE_Name","Unlisted_GPE_Name","Blank_Column_7","Power_From_Eligible_Renewable_Energy","REC_Retired_Verified","REC_Status_Subaccount","REC_Compliance_Retirement_Req","REC_Date_Retired_Subaccount","REC_Serial_Number","REC_Not_Loaded_SN_Explain","Blank_Column_8","First_Deliverer_CO2e_Manual","First_Deliverer_CO2e_Calculated","Total_CO2_Biomass_Exempt","Total_CO2_Geothermal_Exempt","Total_CH4_Geothermal_Exempt","Blank_Column_9","Direct_Delivery_Method","Directly_Delivered","Blank_Column_10","CO2e_Exempt_Not_Covered","Linked_Jurisdiction_2","CO2e_Covered_Linked","Blank_Column_11","Spec_Imports_Notes"]
[null,{"$f":"VLOOKUP(A22,EF_List,3,FALSE)","v":{"$error":"#N/A"}},null,{"$f":"INDEX(EF_List,MATCH(Table128682[[#This Row],[Column2]],ARB_ID,0),6)","v":{"$error":"#N/A"}},null,null,{"$f":"IF(ISNUMBER(SEARCH(\"*1.02*\",E22)),1.02,\"1.0\")","v":"1.0"},{"$f":"\">>>\"","v":">>>"},null,{"$f":"IF(A22=\"0ther - not listed\",IF(ISERROR($F22*$G22*I22)=TRUE,0,$F22*$G22*I22),0)","v":0},{"$f":"\">>>\"","v":">>>"},{"$f":"IF(ISERROR(LOOKUP($A22,Facility_Name,'EF List'!AB$7:AB$291))=TRUE,0,LOOKUP($A22,Facility_Name,'EF List'!AB$7:AB$291))","v":0},{"$f":"IF(ISERROR($F22*$G22*L22)=TRUE,0,$F22*$G22*L22)","v":0},{"$f":"\">>>\"","v":">>>"}]
["Rows inserted below this message will not be saved in the XML upload"]

{"sheet":"Unspec Imports","index":8,"n_rows":16,"n_cols":21,"rows_kept":16,"cut":false,"hidden":false,"merged":[[15,0,15,20],[5,0,5,2],[5,3,5,4],[5,6,5,7],[6,0,6,2],[6,3,6,4],[6,6,6,7],[11,9,11,12],[11,14,11,16],[7,0,7,7],[8,0,8,7],[9,0,9,7]]}
["UNSPECIFIED WHOLESALE POWER IMPORTED TO CALIFORNIA ",null,null,null,null,{"$f":"F7","v":15},{"$f":"F6","v":1},{"$f":"F7","v":15},null,null,null,null,null,null,null,null,null,null,"Yes"]
[null,null,null,null,null,null,null,null,null,null,null,null,null,null,null,null,null,null,"No"]
["Sum of CO2e unsp =",{"$f":"SUM(S15:S15)","v":0}]
["Retail Provider Imports on their behalf (MT CO2e)",{"$f":"SUM(Q15:Q15)","v":0}]
[]
["TO ADD ROW(s) TO THE TABLE USING MACROS, enter the number of rows to be added and click the Add Row(s) button.  ",null,null,"Rows to Add to the table below:",null,1]
["TO DELETE EXTRANEOUS ROWS USING MACROS, specify the row number to be deleted and click the \"Delete Row\" button.",null,null,"Row to Delete from the table below:",null,15]
["NOTE: You will need to enable macros for either button to work.  If you do not wish to enable macros, or are an expert user, please unlock the workbook by right-clicking the active worksheet and selecting \"Unprotect Sheet\". If you unprotect the sheet and then subsequently use the macro, this will reprotect the sheet."]
["TO ADD ROW(s) TO THE TABLE WITHOUT USING MACROS, use one of the following methods:\n  1. Insert a row or rows into the middle of the table, above the last row. WARNING: if you insert a row after the table, it will not properly export to XML.\n  2. Drag the blue marker in the far right corner of the table down."]
["TO DELETE ROW(s) TO THE TABLE WITHOUT USING MACROS, select the row(s) that you wish to delete, right click on and select \"Delete\""]
[]
[null,null,null,null,null,null,"UNSPECIFIED","LINKED",null,"First Deliverer Determination",null,null,null,null,"Imports on Behalf of Retail Providers, per Section 95111(c)(4)"]
["Aggregated By First Point of Receipt (POR) on NERC e-tag at, or near, the Source per 95111(a)(3) [Input First POR Code]","Jurisdiction in which the First Point of Receipt (POR) in Column A is located","E-Tagged, Metered, or EIM?","MWh Measured at First Point of Delivery (POD) inside California per 95111(a)(3)(A) on NERC e-tag in the Energy and Transmission Profiles, MWh Total","[TL] Transmission loss correction factor (1.02)","[EFunsp] Default emission factor for unspecified electricity imports, (MT CO2e/MWh)","[CO2e] Annual CO2 equivalent mass emissions from the unspecified electricity deliveries at each point of receipt identified (MT CO2e)","[CO2e] Annual CO2 equivalent mass emissions from the unspecified electricity deliveries at each point of receipt identified (MT CO2e)",null,"Are YOU the PSE on the NERC eTag in the Physical Path table on the last California border crossing?  If yes, then you are the First Deliverer. \n(Required)","Name of the First Deliverer?\n  \nSelect from List, or enter \"Other\"\n(Required)","If you selected \"Other\", who is the First Deliverer?","Your Relationship to the Source Transaction, e.g., \"I am the ___.\"  ",null,"If you are a Retail Provider, was the Power Brought in on Your Behalf?  See 95111(c)(4)","Isp = Imported MWh Imported ON BEHALF of Retail Provider (MWh)","Emissions Associated with Power Imported on Behalf of Retail Provider per Thresholds (MT CO2e)",null,"[CO2e total] Annual CO2 equivalent mass emissions from Unspecified Imports (MT CO2e)",null,"Notes"]
["Column1","Column34","Column49","Column5","Column6","Column7","Column8","Column52","Column53","Column342","Column35","Column36","Column372","Column373","Column355","Column356","Column357","Column358","[CO2e total] Annual CO2 equivalent mass emissions from Imports on behalf of Retail Provider (MT CO2e)","Column9","Column10"]
[null,null,null,null,{"$f":"1.02","v":1.02},{"$f":"0.428","v":0.42799999999999999},{"$f":"D15*E15*F15","v":0},{"$f":"(IF(TRIM(C15)=\"Yes\",G15,0))","v":0},{"$f":"\">>>\"","v":">>>"},null,null,null,null,{"$f":"\">>>\"","v":">>>"},{"$f":"IF(TRIM(J15)=\"No\",\"Yes\",\"No\")","v":"No"},{"$f":"IF(AND(TRIM(J15)=\"No\",TRIM(O15)=\"Yes\"),D15,0)","v":0},{"$f":"P15*E15*F15","v":0},{"$f":"\">>>\"","v":">>>"},{"$f":"IF(TRIM(J15)=\"Yes\",G15,0)","v":0},{"$f":"\">>>\"","v":">>>"}]
["Rows inserted below this message will not be saved in the XML upload"]

{"sheet":"Spec Imports","index":9,"n_rows":21,"n_cols":75,"rows_kept":21,"cut":false,"hidden":false,"merged":[[25,66,27,68],[9,6,9,7],[10,0,10,7],[11,0,11,7],[15,63,15,65],[14,61,14,65],[14,67,16,68],[14,15,14,22],[14,33,16,35],[14,37,16,40],[14,47,16,49],[14,0,16,9],[14,51,16,59],[14,70,16,72],[12,0,12,7],[7,55,10,55],[9,3,9,4],[14,24,14,31],[8,0,8,2],[8,3,8,4],[14,42,16,45],[9,0,9,2],[8,6,8,7]]}
["SPECIFIED WHOLESALE POWER IMPORTED TO CALIFORNIA ",null,null,null,null,{"$f":"F10","v":20},{"$f":"F9","v":1},null,null,{"$f":"#REF!","v":{"$error":"#REF!"}},null,null,null,null,null,null,null,null,null,null,null,null,null,null,null,null,null,null,null,null,null,null,null,null,null,null,null,null,null,null,"Yes"]
[null,null,null,null,null,null,null,null,null,null,null,null,null,null,null,null,null,null,null,null,null,null,null,null,null,null,null,null,null,null,null,null,null,null,null,null,null,null,null,null,"No"]
["Sum of CO2e sp =",{"$f":"SUM(BJ20:BJ21)+SUM(BK20:BK21)+SUM(BL20:BL21)+SUM(BM20:BM21)+SUM(BN20:BN21)","v":0}]
["Sum of CO2e sp -not covered=",{"$f":"SUM(BL20:BL21)+SUM(BM20:BM21)+SUM(BN20:BN21)","v":0}]
["Sum of CO2e Covered and Linked =",{"$f":"SUM(BU20:BU21)","v":0}]
[]
["Retail Provider Imports on their behalf.  Sum of CO2e = ",{"$f":"SUM(AP20:AP21)","v":0}]
[null,null,null,null,null,null,null,null,null,null,null,null,null,null,null,null,null,null,null,null,null,null,null,null,null,null,null,null,null,null,null,null,null,null,null,null,null,null,null,null,null,null,null,null,null,null,null,null,null,null,null,null,null,null,null,"Total Number of Specified Source REC Serial Numbers required"]
["TO ADD ROW(s) TO THE TABLE USING MACROS, enter the number of rows to be added and click the Add Row(s) button.  ",null,null,"Rows to Add to the table below:",null,1]
["TO DELETE EXTRANEOUS ROWS USING MACROS, specify the row number to be deleted and click the \"Delete Row\" button.",null,null,"Row to Delete from the table below:",null,20]
["NOTE: You will need to enable macros for either button to work.  If you do not wish to enable macros, or are an expert user, please unlock the workbook by right-clicking the active worksheet and selecting \"Unprotect Sheet\". If you unprotect the sheet and then subsequently use the macro, this will reprotect the sheet."]
["TO ADD ROW(s) TO THE TABLE WITHOUT USING MACROS, use one of the following methods:\n  1. Insert a row or rows into the middle of the table, above the last row. WARNING: if you insert a row after the table, it will not properly export to XML.\n  2. Drag the blue marker in the far right corner of the table down.",null,null,null,null,null,null,null,null,null,null,null,null,null,null,null,null,null,null,null,null,null,null,null,null,null,null,null,null,null,null,null,null,null,null,null,null,null,null,null,null,null,null,null,null,null,null,null,null,null,null,null,null,null,null,{"$f":"SUM(BC20:BC20)","v":0}]
["TO DELETE ROW(s) TO THE TABLE WITHOUT USING MACROS, select the row(s) that you wish to delete, right click on and select \"Delete\""]
[]
["PHYSICAL TRANSACTION ATTRIBUTES -- IMPORTED POWER",null,null,null,null,null,null,null,null,null,null,"MANUAL EMISSIONS FACTOR","MANUAL EMISSIONS CALCULATION","CARB AUTHORIZATION",null,"ARB EMISSIONS FACTORS from \"EF List\" tab",null,null,null,null,null,null,null,null,"ARB EMISSIONS CALCULATION",null,null,null,null,null,null,null,null,"FIRST DELIVERER DETERMINATION",null,null,null,"For Retail Providers Only:  \nImports By Others on Behalf of Retail Providers, per Section 95111(c)(4)",null,null,null,null,"Generation Providing Entity (GPE) Determination",null,null,null,null,"Retail Provider Tab Reporting Applicability \n\nGPE & High GHG Threshold\nper Section 95111(c)(3)",null,null,null,"Renewable Energy Credit (REC) Serial Numbers, Meter Data, and Lesser of Analysis",null,null,null,null,null,null,null,null,null,"SUMMARY OF CALCULATED EMISSIONS",null,null,null,null,null,"DIRECT DELIVERY",null,null,"LINKAGE ADJUSTMENT SUMMARY"]
[null,null,null,null,null,null,null,null,null,null,null,"EF CO2e",null,null,null,"EF CO2e","EF CO2e","EF CO2e","EF CO2e","EF CO2e","EF CH4 CO2e","EF CH4 CO2e","EF N2O CO2e",null,"CO2e","CO2e","CO2e","CO2e","CO2e","CH4 as CO2e","CH4 as CO2e","N2O as CO2e",null,null,null,null,null,null,null,null,null,null,null,null,null,null,null,null,null,null,null,null,null,null,null,null,null,null,null,null,null,"Manual","Calculated","Calculated Exempt"]
[null,null,null,null,null,null,null,null,null,null,null,"Total","All Manual CO2e","Notes",null,"Total","Fossil & Process","Biomass Exempt","Biomass Non-Exempt","Geothermal Exempt","All Geothermal CH4 Exempt","All Other CH4 NonExempt","All N2O NonExempt",null,"Total","Fossil & Process","Biomass Exempt","Biomass Non-Exempt","Geothermal Exempt","All Geothermal CH4 Exempt","All Other CH4 NonExempt","All N2O NonExempt",null,null,null,null,null,null,null,null,null,null,null,null,null,null,null,null,null,null,null,null,null,null,null,null,null,null,null,null,null,"Total","Total","Total","Total","Total"]
["Facility and Unit ID Name (select \"Other\" if not listed)\n\nFor the drop down list, see the hover note in the cell below.\n","ARB Facility and Unit ID#\n","If facility is un-listed, Facility Name","CEC RPS ID","Aggregated By First Point of Receipt (POR) on NERC e-tag at, or near, the Source per 95111(a)(3) [Input First POR Code]","Jurisdiction Full Name in which the Facility is Located","E-Tagged, Metered, or EIM?","Transmission Loss Factor Determination\n\nper 95111(b)(2) ","MWh as measured at the Busbar or at the First Point of Delivery (POD) inside California per 95111(a)(4)(A)(2) on NERC e-tag","[TL] Transmission loss correction factor, = 1.00 or 1.02 (MWh must include transmission loss factor (*1.02) if not measured at busbar or if supplied by BPA)",null,"[EFmanual: CO2e total non-exempt] Facility-specific or unit-specific emission factor, provided manually from ARB (MT CO2e/MWh)","[CO2e manual total non-exempt] Annual CO2 equivalent mass emissions from the specified electricity deliveries for each facility or unit claimed (MT CO2e)","Written authorization from CARB is required in order to use the Manual Emissions Factor field.  \n\nPlease Explain.",null,"[EFsp : CO2e total] Facility-specific or unit-specific emission factor published on the ARB Mandatory Reporting website, (MT CO2e/MWh)","[EFsp: CO2 fossil fuel combustion and process] (MT CO2/MWh) [new column]","[EFsp :  CO2 biomass exempt] Facility-specific or unit-specific emission factor published on the ARB Mandatory Reporting website, (MT CO2/MWh)","[EFsp :  CO2 biomass non-exempt] Facility-specific or unit-specific emission factor published on the ARB Mandatory Reporting website, (MT CO2/MWh)","[EFsp :  CO2 geothermal exempt] Facility-specific or unit-specific emission factor published on the ARB Mandatory Reporting website, (MT CO2/MWh)","[EFsp: MT CH4 geothermal exempt] Facility-specific or unit-specific emission factor published on the ARB Mandatory Reporting website, (MTCH4/MWh)","[EFsp: MT CH4 non-geothermal] Facility-specific or unit-specific emission factor published on the ARB Mandatory Reporting website, (MTCH4/MWh)","[EFsp: MT N2O] Facility-specific or unit-specific emission factor published on the ARB Mandatory Reporting website, (MTN2O/MWh)",null,"[CO2e total] Annual CO2 equivalent mass emissions from the specified electricity deliveries for each facility or unit claimed (MT CO2e)","[EFsp: CO2 fossil fuel combustion and process] Annual CO2 equivalent mass emissions from the specified electricity deliveries for each facility or unit claimed(MT CO2/MWh)","[CO2 biomass exempt] Annual CO2 equivalent mass emissions from the specified electricity deliveries for each facility or unit claimed (MT CO2)","[CO2 biomass non-exempt] Annual CO2 equivalent mass emissions from the specified electricity deliveries for each facility or unit claimed (MT CO2)","[CO2 geothermal exempt] Annual CO2 equivalent mass emissions from the specified electricity deliveries for each facility or unit claimed (MT CO2)","[CH4 geothermal exempt] Annual CH4  mass emissions from the specified electricity deliveries for each facility or unit claimed (MT CH4)","[CH4 non-geothermal] Annual CH4 mass emissions from the specified electricity deliveries for each facility or unit claimed (MT CH4)","[N2O] Annual N2O mass emissions from the specified electricity deliveries for each facility or unit claimed (MT N2O)",null,"Are YOU the PSE on the NERC eTag in the Physical Path table on the last California border crossing?  If yes, then you are the First Deliverer.\n(Required)","Name of the First Deliverer?\n  \nSelect from List, or enter \"Other\"\n(Required)","If you selected \"Other\", who is the First Deliverer?",null,"Are you a Retail Provider?  \n\n[Answer from Reporter Info tab]","Was the Power Brought in on Your Behalf?  ","Isp = Imported MWh Imported ON BEHALF of Retail Provider (MWh)","Non-exempt Emissions Associated with Power Imported on Behalf of Retail Provider per Thresholds  (MT CO2e)",null,"Are you the OWNER, or is the Specified Source Contract for This Reported Line Item for a SHARE of the Total Capacity or Total Output of the Facility, as opposed to a Fixed MW or MWh Amount?  If \"OWNER\" or \"SHARE,\" then yes, else no.","Power is from a Generation Providing Entity (GPE)","Name the Generation Providing Entity (GPE)","If you selected \"Other\", who is the Generation Providing Entity (GPE)?",null,"Are you (1) a Retail Provider in California, and (2) a Generation Providing Entity (GPE)?  ","This IS or IS NOT considered a High GHG Resource above 0.428 MT CO2e/MWh","Line items marked as \"yes\" MUST be reported in the Retail Provider tab, i.e. if EPE is (1) a Retail Provider in CA, and (2) GPE for the High GHG source listed, then transaction must be reported.",null,"CEC RPS ELIGIBILITY \nADVISORY INFO\n\nSee CEC RPS Eligible List \nat http://rps.energy.ca.gov","Is the power from an Eligible Renewable Energy Resource, per Section 95802(a)\n(Y/N)","Are REC Serial Numbers required for this line item?   ","Number of REC Serial Numbers required?   ","Did you submit the REC Serial Numbers in the “REC Serial” tab of  Workbook 1, per 95111(g)(1)(M)?","Compliance with REC Serial Number Requirements","Meter Data  Requirement, per Section 95111(b)(2)€\n\nIs this a Zero Emission or RPS Eligible Resource?","Meter Data  Requirement, per Section 95111(b)(2)(E)  \n\nIs this resource excluded from the Meter Data Requirement?  If so, select the applicable exclusion.","Meter Data  Requirement, per Section 95111(b)(2)(E)  \n\nAre both (1) Meter Data, and (2) a Lesser of Analysis required?",null,"[CO2e total non-exempt] Annual CO2 equivalent mass emissions from the specified electricity deliveries for each facility or unit claimed  (MT CO2e)","[CO2e total non-exempt] Annual CO2 equivalent mass emissions from the specified electricity deliveries for each facility or unit claimed  (MT CO2e)","[CO2 biomass exempt] Annual CO2 equivalent mass emissions from the specified electricity deliveries for each facility or unit claimed (MT CO2)","[CO2 geothermal exempt] Annual CO2 equivalent mass emissions from the specified electricity deliveries for each facility or unit claimed (MT CO2)","[CH4 geothermal exempt] Annual CH4  mass emissions from the specified electricity deliveries for each facility or unit claimed (MT CH4)",null,"Criteria for Direct Delivery per 95102(a)(108)","Directly Delivered?",null,"Not Covered Exempt Emissions CO2e","Linked Jurisdiction, Yes/No","Linked Excludes Specified not covered.",null,"Notes"]
["Column1","Column2","Column3","Column4","Column15","Column6","Column49","Column8","Column10","Column11","Column45222","Column13","Column14","Column142","Column452222","Column16","Column17","Column18","Column19","Column20","Column21","Column22","Column234","Column4522","Column25","Column26","Column27","Column28","Column29","Column30","Column31","Column32","Column452","Column34","Column35","Column36","Column45","Column454","Column342","Column356","Column357","Column457","Column3432","Relationship_To_Source","Column38","Column382","Column460","Column461","Column462","Column463","Column464","Column465","Column393","Column395","Column3954","Column3942","Column3952","Column40422","Column3922","Column3953","Column467","Column41","Column412","Column413","Column414","Column415","Column453","Column46","Column47","Column45222222","Column492","Column50","Column51","Column52","Column53"]
[" ",{"$f":"VLOOKUP(A20,EF_List,3,FALSE)","v":{"$error":"#N/A"}},null,{"$f":"INDEX(CEC_RPS_List[],MATCH(Table12[[#This Row],[Column2]],ARB_ID_CEC_RPS_table,0),4)","v":{"$error":"#N/A"}},null,{"$f":"INDEX(EF_List,MATCH(Table12[[#This Row],[Column2]],ARB_ID,0),6)","v":{"$error":"#N/A"}},null,null,null,{"$f":"IF(ISNUMBER(SEARCH(\"*1.02*\",H20)),1.02,\"1.0\")","v":"1.0"},{"$f":"\">>>\"","v":">>>"},null,{"$f":"IF(ISERROR($I20*$J20*L20)=TRUE,0,$I20*$J20*L20)","v":0},null,{"$f":"\">>>\"","v":">>>"},{"$f":"IF(ISERROR(LOOKUP($A20,Facility_Name,'EF List'!T$7:T$289))=TRUE,0,LOOKUP($A20,Facility_Name,'EF List'!T$7:T$289))","v":0},{"$f":"IF(ISERROR(LOOKUP($A20,Facility_Name,'EF List'!U$7:U$289))=TRUE,0,LOOKUP($A20,Facility_Name,'EF List'!U$7:U$289))","v":0},{"$f":"IF(ISERROR(LOOKUP($A20,Facility_Name,'EF List'!V$7:V$289))=TRUE,0,LOOKUP($A20,Facility_Name,'EF List'!V$7:V$289))","v":0},{"$f":"IF(ISERROR(LOOKUP($A20,Facility_Name,'EF List'!W$7:W$289))=TRUE,0,LOOKUP($A20,Facility_Name,'EF List'!W$7:W$289))","v":0},{"$f":"IF(ISERROR(LOOKUP($A20,Facility_Name,'EF List'!X$7:X$289))=TRUE,0,LOOKUP($A20,Facility_Name,'EF List'!X$7:X$289))","v":0},{"$f":"IF(ISERROR(LOOKUP($A20,Facility_Name,'EF List'!Y$7:Y$289))=TRUE,0,LOOKUP($A20,Facility_Name,'EF List'!Y$7:Y$289))","v":0},{"$f":"IF(ISERROR(LOOKUP($A20,Facility_Name,'EF List'!Z$7:Z$289))=TRUE,0,LOOKUP($A20,Facility_Name,'EF List'!Z$7:Z$289))","v":0},{"$f":"IF(ISERROR(LOOKUP($A20,Facility_Name,'EF List'!AA$7:AA$289))=TRUE,0,LOOKUP($A20,Facility_Name,'EF List'!AA$7:AA$289))","v":0},{"$f":"\">>>\"","v":">>>"},{"$f":"Z20+AA20+AB20+AC20+AD20+AE20+AF20","v":0},{"$f":"IF(ISERROR($I20*$J20*Q20)=TRUE,0,$I20*$J20*Q20)","v":0},0,0,0,0,0,0,{"$f":"\">>>\"","v":">>>"},null,null,null,{"$f":"\">>>\"","v":">>>"},{"$f":"'Reporter Info'!$B$8","v":0},{"$f":"IF(TRIM(AH20)=\"No\",\"Yes\",\"No\")","v":"No"},{"$f":"IF(TRIM(AM20)=\"Yes\",I20*J20,0)","v":0},{"$f":"IF(TRIM(AM20)=\"Yes\",(MAX(M20,(Z20+AB20+AE20+AF20))),0)","v":0},{"$f":"\">>>\"","v":">>>"},null,{"$f":"IF(TRIM(AQ20)=\"Yes\",\"Yes\",\"No\")","v":"No"},null,null,{"$f":"\">>>\"","v":">>>"},{"$f":"IF(AND(AL20=\"Yes\",AQ20=\"Yes\"),\"Yes\",\"No\")","v":"No"},{"$f":"IF(ISERROR(IF(MAX(L20,(Z20+AB20+AE20+AF20))>0.428,\"High GHG\",\"Low GHG\")),\"\", IF(MAX(L20,(Z20+AB20+AE20+AF20))>0.428,\"High GHG\",\"Low GHG\"))","v":"Low GHG"},{"$f":"IF(AND(AV20=\"Yes\",AW20=\"High GHG\"),\"Yes\",\"No\")","v":"No"},{"$f":"\">>>\"","v":">>>"},{"$f":"INDEX(CEC_RPS_List[],MATCH(B20,ARB_ID_CEC_RPS_table,0),9)","v":{"$error":"#N/A"}},null,{"$f":"IF(AND(TRIM(AH20)=\"Yes\",TRIM(BA20)=\"Yes\"),\"Yes\",\"No\")","v":"No"},{"$f":"IF(TRIM(BB20)=\"Yes\",I20,0)","v":0},null,{"$f":"IF(TRIM(BB20)=\"No\",\"N/A\",IF(AND(TRIM(BB20)=\"Yes\",TRIM(BD20)=\"Yes\"),\"Yes\",\"No\"))","v":"N/A"},null,null,{"$f":"IF(AND((TRIM(BF20)=\"Yes\"),(TRIM(BG20)=\"Not Excluded\")),\"Yes\",\"No\")","v":"No"},{"$f":"\">>>\"","v":">>>"},{"$f":"IF(AND((TRIM(AH20)=\"Yes\"),(Y20=0)),M20,0)","v":0},{"$f":"IF(AND((TRIM(AH20)=\"Yes\"),(Y20>0)),Y20-BL20-BM20-BN20,0)","v":0},{"$f":"IF(AND((TRIM(AH20)=\"Yes\"),(AA20>0)),AA20,0)","v":0},{"$f":"IF(AND((TRIM(AH20)=\"Yes\"),(AC20>0)),AC20,0)","v":0},{"$f":"IF(AND((TRIM(AH20)=\"Yes\"),(AD20>0)),AD20,0)","v":0},{"$f":"\">>>\"","v":">>>"},null,{"$f":"IF(TRIM(BP20)=\"Not Directly Delivered to CA\",\"No\",\"Yes\")","v":"Yes"},{"$f":"\">>>\"","v":">>>"},{"$f":"(IF(TRIM(BT20)=\"Yes\",AC20+AE20,0))","v":0},null,{"$f":"(IF(TRIM(BT20)=\"Yes\",BJ20+BK20-BS20,0))","v":0},{"$f":"\">>>\"","v":">>>"}]
["Rows inserted below this message will not be saved in the XML upload"]

{"sheet":"RPS Adjust","index":10,"n_rows":15,"n_cols":32,"rows_kept":15,"cut":false,"hidden":false,"merged":[[10,28,10,29],[10,23,10,26],[10,10,10,21],[4,6,4,7],[5,0,5,2],[5,3,5,4],[5,6,5,7],[6,0,6,7],[7,0,7,7],[8,0,8,7],[3,24,6,24],[4,0,4,2],[4,3,4,4],[10,0,10,8]]}
["REGISTRATION OF RPS ADJUSTMENT SOURCES, section 95111(g)(1)",null,null,null,null,{"$f":"F6","v":14},{"$f":"F5","v":1}]
[]
["Total RPS Adjustment in CO2e = ",{"$f":"SUM(AD14:AD15)","v":0},"MT of CO2e allowed for RPS Adjustment"]
[null,null,null,null,null,null,null,null,null,null,null,null,null,null,null,null,null,null,null,null,null,null,null,null,"Total Number of RECs required"]
["TO ADD ROW(s) TO THE TABLE USING MACROS, enter the number of rows to be added and click the Add Row(s) button.  ",null,null,"Rows to Add to the table below:",null,1]
["TO DELETE EXTRANEOUS ROWS USING MACROS, specify the row number to be deleted and click the \"Delete Row\" button.",null,null,"Row to Delete from the table below:",null,14]
["NOTE: You will need to enable macros for either button to work.  If you do not wish to enable macros, or are an expert user, please unlock the workbook by right-clicking the active worksheet and selecting \"Unprotect Sheet\". If you unprotect the sheet and then subsequently use the macro, this will reprotect the sheet."]
["TO ADD ROW(s) TO THE TABLE WITHOUT USING MACROS, use one of the following methods:\n  1. Insert a row or rows into the middle of the table, above the last row. WARNING: if you insert a row after the table, it will not properly export to XML.\n  2. Drag the blue marker in the far right corner of the table down.",null,null,null,null,null,null,null,null,null,null,null,null,null,null,null,null,null,null,null,null,null,null,null,{"$f":"SUM(Y14:Y14)","v":0}]
["TO DELETE ROW(s) TO THE TABLE WITHOUT USING MACROS, select the row(s) that you wish to delete, right click on and select \"Delete\""]
[]
["PHYSICAL TRANSACTION ATTRIBUTES -- RPS ADJUSTMENT POWER",null,null,null,null,null,null,null,null,null,"RPS ADJUSTMENT REQUIREMENTS",null,null,null,null,null,null,null,null,null,null,null,null,"REC SERIAL NUMBERS",null,null,null,null,"RPS ADJUSTMENT SUMMARY"]
["Facility and Unit ID Name (select \"Other\" if not listed)\n\nFor the drop down list, see the hover note in the cell below.\n","ARB Facility and Unit ID#\n","If facility is un-listed, Facility Name","CEC RPS ID","Jurisdiction","Linked Jurisdiction, Yes/No","Measured at busbar, Yes/No","If not measured at busbar, reason why, Text","MWh Generated and Procured per 95111(b)(5) and 95852(b)",null,"CEC RPS ELIGIBILITY \nADVISORY INFO\n\nSee CEC RPS Eligible List \nat http://rps.energy.ca.gov","ELIGIBLE RESOURCE\n\nIs the power from an Eligible Renewable Energy Resource, per Section 95802(a)\n(Y/N)","RIGHTS\n\nElectricity Importer Must Have Either of the following, per 95852(b)(4)(A)","REC STATUS\n\nRECs must be used to comply with California RPS requirements during the same year in which the RPS adjustment is claimed, per 95852(b)(4)(B)","REC RETIRED DATE\n\nDate RECs Retired in WREGIS Subaccount?\n\nFormat MM/DD/YYYY","DELIVERY\n\nNo RPS adjustment may be claimed for an eligible renewable energy resource when its electricity is directly delivered, per 95852(b)(4)(D) ","REC Vintage \n\nFormat\nYYYY",{"$f":"L12","v":"ELIGIBLE RESOURCE\n\nIs the power from an Eligible Renewable Energy Resource, per Section 95802(a)\n(Y/N)"},{"$f":"M12","v":"RIGHTS\n\nElectricity Importer Must Have Either of the following, per 95852(b)(4)(A)"},"REC STATUS\n\nRECs must be used to comply with California RPS requirements during the same year in which the RPS adjustment is claimed, per 95852(b)(4)(B)","DELIVERY\n\nNo RPS adjustment may be claimed for an eligible renewable energy resource when its electricity is directly delivered, per 95852(b)(4)(D). ","ELIGIBLE RPS ADJUSTMENT\n\nEligible for RPS Adjustment?",null,"Are REC Serial Numbers required for this line item?","Number of RECs required?   ","REC Serial Numbers must be provided in the “REC Serial” tab of  Workbook 1, in order to comply with 95111(g)(1)(M)  \n\nWill this data be included with your filing?","If REC Serial Numbers will not be uploaded to Cal e-GGRT, please explain.  ",null,"Eligible MWh \nper 95852(b)(4)(C)  ","Eligible \nRPS Adjustments\nCO2e",null,"Notes"]
["Column1","Column2","Column3","Column32","Column6","Column7","Column8","Column9","Column10","Column123","Column124","Column39","Column34","Column35","Column40","Column36","Column37","Column41","Column42","Column422","Column44","Column45","Blank_Column_2","Column4","Column3954","Column392","Column3923","Column477","Column24","Column242","Column25","Column26"]
["",{"$f":"VLOOKUP(A14,EF_List,3,FALSE)","v":{"$error":"#N/A"}},null,{"$f":"INDEX(CEC_RPS_List[],MATCH(Table127[[#This Row],[Column2]],ARB_ID_CEC_RPS_table,0),4)","v":{"$error":"#N/A"}},{"$f":"INDEX(EF_List,MATCH(Table127[[#This Row],[Column2]],ARB_ID,0),6)","v":{"$error":"#N/A"}},{"$f":"IF(ISERROR(LOOKUP(E14,'Other Lookups'!$B$37:$B$58,'Other Lookups'!$C$37:$C$58))=TRUE,\"\",LOOKUP(E14,'Other Lookups'!$B$37:$B$58,'Other Lookups'!$C$37:$C$58))","v":""},null,null,null,{"$f":"\">>>\"","v":">>>"},{"$f":"INDEX(CEC_RPS_List[],MATCH(B14,ARB_ID_CEC_RPS_table,0),9)","v":{"$error":"#N/A"}},null,null,null,null,null,null,{"$f":"IF(TRIM(L14)=\"Yes\",0,1)","v":1},{"$f":"IF(TRIM(M14)=\"Neither\",1,0)","v":0},{"$f":"IF(TRIM(N14)=\"Retired in WREGIS\",0,1)","v":1},{"$f":"IF(TRIM(P14)=\"Not Directly Delivered to CA\",0,1)","v":1},{"$f":"IF((R14+S14+T14+U14)>0,\"No\",\"Eligible\")","v":"No"},{"$f":"\">>>\"","v":">>>"},{"$f":"(IF(TRIM(V14)=\"Eligible\",\"Required\",\"No\"))","v":"No"},{"$f":"IF(ISNUMBER(SEARCH(\"Required\",X14)),I14,0)","v":0},null,null,{"$f":"\">>>\"","v":">>>"},{"$f":"(IF(TRIM(V14)=\"Eligible\",I14,0))","v":0},{"$f":"AC14*0.428","v":0},{"$f":"\">>>\"","v":">>>"}]
["Rows inserted below this message will not be saved in the XML upload"]

{"sheet":"REC Serial","index":11,"n_rows":20,"n_cols":40,"rows_kept":20,"cut":false,"hidden":false,"merged":[[15,13,15,37],[2,2,2,6],[10,0,10,3],[10,4,10,5],[11,0,11,8],[12,0,12,8],[13,0,13,8],[9,0,9,3],[15,5,15,10],[9,4,9,5]]}
["RENEWABLE ENERGY CREDIT (\"REC\") SERIAL NUMBERS, section 95111(g)(1)(M)",null,null,null,null,{"$f":"G11","v":19},{"$f":"G10","v":1}]
[]
[null,null,"REC Serial Number Reporting and Reconcilliation"]
[null,null,"Description","Total RECs  ","RPS Adjustment","Withdrawn RPS Adjustment","Specified Source"]
[null,null,"Reported on this \"REC Serial\" tab",{"$f":"SUM(F19:F19)","v":0},{"$f":"SUM(G19:G19)","v":0},{"$f":"SUM(H19:H19)","v":0},{"$f":"SUM(I19:I19)","v":0}]
[null,null,"Reported in the RPS Adjust & Spec Imports tabs",{"$f":"SUM(E6:G6)","v":0},{"$f":"'RPS Adjust'!Y8","v":0},null,{"$f":"'Spec Imports'!BD12","v":0}]
[null,null,"Difference",{"$f":"D5-D6","v":0},{"$f":"E5-E6","v":0},{"$f":"F5-F6","v":0},{"$f":"G5-G6","v":0}]
[null,null,"Deficiency or Excess",{"$f":"IF(D7<0, \"Deficiency\", IF(D7>0, \"Excess\", 0))","v":0},{"$f":"IF(E7<0, \"Deficiency\", IF(E7>0, \"Excess\", 0))","v":0},{"$f":"IF(F7<0, \"Deficiency\", IF(F7>0, \"Excess\", 0))","v":0},{"$f":"IF(G7<0, \"Deficiency\", IF(G7>0, \"Excess\", 0))","v":0}]
[]
["TO ADD ROW(s) TO THE TABLE USING MACROS, enter the number of rows to be added and click the Add Row(s) button.  ",null,null,null,"Rows to Add to the table below:",null,1]
["TO DELETE EXTRANEOUS ROWS USING MACROS, specify the row number to be deleted and click the \"Delete Row\" button.",null,null,null,"Row to Delete from the table below:",null,19]
["NOTE: You will need to enable macros for either button to work.  If you do not wish to enable macros, or are an expert user, please unlock the workbook by right-clicking the active worksheet and selecting \"Unprotect Sheet\". If you unprotect the sheet and then subsequently use the macro, this will reprotect the sheet."]
["TO ADD ROW(s) TO THE TABLE WITHOUT USING MACROS, use one of the following methods:\n  1. Insert a row or rows into the middle of the table, above the last row. WARNING: if you insert a row after the table, it will not properly export to XML.\n  2. Drag the blue marker in the far right corner of the table down."]
["TO DELETE ROW(s) TO THE TABLE WITHOUT USING MACROS, select the row(s) that you wish to delete, right click on and select \"Delete\""]
[]
[null,null,null,null,null,"Tabulation of REC Quantities",null,null,null,null,null,null,null,"REC Serial Number Data Fields"]
["Facility and Unit ID Name (select \"Other\" if not listed)\n\nFor the drop down list, see the hover note in the cell below.\n\n","ARB Facility and Unit ID#\n","If facility is un-listed, Facility Name","CEC RPS ID","CEC RPS ELIGIBILITY \nADVISORY INFO\n\nSee CEC RPS Eligible List \nat http://rps.energy.ca.gov","Total RECs","RPS Adjustment RECs per Section 95111(g)(1)(M)(1)","Previously Reported But Subseqently Withdrawn RECs Used For A Prior RPS Adjustment  \nper Section 95111(g)(1)(M)(2)","Specified Source RECs \nper Section 95111(g)(1)(M)(3)","MWh Tabulation for Each Line Item","REC Status for Each Line Item","Where did you obtain the information required to report the RECs? ","On-Behalf Of Imports (Y/N)","SubAccount","WREGIS Generating Unit ID","Generator Plant-Unit Name","Fuel Type","Vintage Year/Month","Certificate Serial Numbers\nMUST conform to WREGIS format as follows [AssetID]-[state or province postal abbreviation]-[serial batch #]-[serial block start] to [serial block end]\nAll other formats will result in error messages.","Quantity","AZ","BC","CA","CO","MT","NV","NM","TX","WA","OR","AB","UT","Green-e Energy Eligible","Ecologo Certified","Hydro Certification","SMUD Eligible","eTag Matched","eTag",null,"Notes"]
["Column33","Column34","Column35","Column36","Column37","Column1","Column2","Column3","Column4","Column42","Column5","Column52","Column53","Column6","Column7","Column8","Column9","Column10","Column11","Column12","Column13","Column14","Column15","Column16","Column17","Column18","Column19","Column20","Column21","Column22","Column23","Column24","Column25","Column26","Column27","Column28","Column29","Column30","Column31","Column32"]
[null,{"$f":"VLOOKUP(A19,EF_List,3,FALSE)","v":{"$error":"#N/A"}},null,{"$f":"INDEX(CEC_RPS_List[],MATCH(TableRECSerial[[#This Row],[Column34]],ARB_ID_CEC_RPS_table,0),4)","v":{"$error":"#N/A"}},{"$f":"INDEX(CEC_RPS_List[],MATCH(B19,ARB_ID_CEC_RPS_table,0),9)","v":{"$error":"#N/A"}},{"$f":"IF(SUM('REC Serial'!$G19,'REC Serial'!$H19,'REC Serial'!$I19)>0,IF(SUM('REC Serial'!$G19,'REC Serial'!$H19,'REC Serial'!$I19) = 'REC Serial'!$T19,SUM('REC Serial'!$G19,'REC Serial'!$H19,'REC Serial'!$I19), \"Quantity Column inconsistent with MWh listed in Certificate Serial Number\"),0)","v":0},{"$f":"IF('REC Serial'!$J19 = $E$4,CalcMWh('REC Serial'!$S19),0)","v":0},{"$f":"IF('REC Serial'!$J19 = $F$4,CalcMWh('REC Serial'!$S19),0)","v":0},{"$f":"IF('REC Serial'!$J19 = $G$4,CalcMWh('REC Serial'!$S19),0)","v":0}]
["Rows inserted below this message will not be saved in the XML upload"]

{"sheet":"QE Adjust","index":12,"n_rows":8793,"n_cols":9,"rows_kept":8793,"cut":false,"hidden":false,"merged":[[6,0,6,7]]}
["QUALIFIED EXPORT ADJUSTMENT, section 95111(b)(5)"]
[]
["QE Adjustment = ",{"$f":"SUM(H10:H8793)","v":0},"MT of CO2e allowed for QE Adjustment"]
[]
[null,"Note:  There are 8784 hours below to allow for the Leap Years in 2016, 2020, etc."]
[]
["SUMMARY OF QUALIFIED EXPORT ADJUSTMENTS"]
["Hour in Data Year","Quantity \nof IMPORTS \nin Each Hour\n(MWh)","Quantity \nof EXPORTS \nin Each Hour\n(MWh)","Lowest Emission Factor of any portion of the IMPORT \nin each hour \n(MT CO2e/MWh)","Lowest Emission Factor of any portion of the EXPORT \nin each hour \n(MT CO2e/MWh)","Lowest Quantity \nof Imports or Exports \nin Each Hour\n(MWh)","Lowest Emission Factor of Imports or Exports in each hour\n(MT CO2e/MWh)","QE Adjustment\nMT CO2e","Notes"]
["Column1","Column2","Column25","Column12","Column23","Column33","Column6","Column7","Column8"]
[1,null,null,null,null,{"$f":"MIN(B10:C10)","v":0},{"$f":"MIN(D10:E10)","v":0},{"$f":"F10*G10","v":0}]
[2,null,null,null,null,{"$f":"MIN(B11:C11)","v":0},{"$f":"MIN(D11:E11)","v":0},{"$f":"F11*G11","v":0}]
[3,null,null,null,null,0,0,0]
[4,null,null,null,null,0,0,0]
[5,null,null,null,null,0,0,0]
[6,null,null,null,null,0,0,0]
[7,null,null,null,null,0,0,0]
[8,null,null,null,null,0,0,0]
[9,null,null,null,null,0,0,0]
[10,null,null,null,null,0,0,0]
[11,null,null,null,null,0,0,0]
[12,null,null,null,null,0,0,0]
[13,null,null,null,null,0,0,0]
[14,null,null,null,null,0,0,0]
[15,null,null,null,null,0,0,0]
[16,null,null,null,null,0,0,0]
[17,null,null,null,null,0,0,0]
[18,null,null,null,null,0,0,0]
[19,null,null,null,null,0,0,0]
[20,null,null,null,null,0,0,0]
[21,null,null,null,null,0,0,0]
[22,null,null,null,null,0,0,0]
[23,null,null,null,null,0,0,0]
[24,null,null,null,null,0,0,0]
[25,null,null,null,null,0,0,0]
[26,null,null,null,null,0,0,0]
[27,null,null,null,null,0,0,0]
[28,null,null,null,null,0,0,0]
[29,null,null,null,null,0,0,0]
[30,null,null,null,null,0,0,0]
[31,null,null,null,null,0,0,0]
[32,null,null,null,null,0,0,0]
[33,null,null,null,null,0,0,0]
[34,null,null,null,null,0,0,0]
[35,null,null,null,null,0,0,0]
[36,null,null,null,null,0,0,0]
[37,null,null,null,null,0,0,0]
[38,null,null,null,null,0,0,0]
[39,null,null,null,null,0,0,0]
[40,null,null,null,null,0,0,0]
[41,null,null,null,null,0,0,0]
[42,null,null,null,null,0,0,0]
[43,null,null,null,null,0,0,0]
[44,null,null,null,null,0,0,0]
[45,null,null,null,null,0,0,0]
[46,null,null,null,null,0,0,0]
[47,null,null,null,null,0,0,0]
[48,null,null,null,null,0,0,0]
[49,null,null,null,null,0,0,0]
[50,null,null,null,null,0,0,0]
[51,null,null,null,null,0,0,0]
[52,null,null,null,null,0,0,0]
[53,null,null,null,null,0,0,0]
[54,null,null,null,null,0,0,0]
[55,null,null,null,null,0,0,0]
[56,null,null,null,null,0,0,0]
[57,null,null,null,null,0,0,0]
[58,null,null,null,null,0,0,0]
[59,null,null,null,null,0,0,0]
[60,null,null,null,null,0,0,0]
[61,null,null,null,null,0,0,0]
[62,null,null,null,null,0,0,0]
[63,null,null,null,null,0,0,0]
[64,null,null,null,null,0,0,0]
[65,null,null,null,null,0,0,0]
[66,null,null,null,null,{"$f":"MIN(B75:C75)","v":0},{"$f":"MIN(D75:E75)","v":0},{"$f":"F75*G75","v":0}]
[67,null,null,null,null,0,0,0]
[68,null,null,null,null,0,0,0]
[69,null,null,null,null,0,0,0]
[70,null,null,null,null,0,0,0]
[71,null,null,null,null,0,0,0]
[72,null,null,null,null,0,0,0]
[73,null,null,null,null,0,0,0]
[74,null,null,null,null,0,0,0]
[75,null,null,null,null,0,0,0]
[76,null,null,null,null,0,0,0]
[77,null,null,null,null,0,0,0]
[78,null,null,null,null,0,0,0]
[79,null,null,null,null,0,0,0]
[80,null,null,null,null,0,0,0]
[81,null,null,null,null,0,0,0]
[82,null,null,null,null,0,0,0]
[83,null,null,null,null,0,0,0]
[84,null,null,null,null,0,0,0]
[85,null,null,null,null,0,0,0]
[86,null,null,null,null,0,0,0]
[87,null,null,null,null,0,0,0]
[88,null,null,null,null,0,0,0]
[89,null,null,null,null,0,0,0]
[90,null,null,null,null,0,0,0]
[91,null,null,null,null,0,0,0]
[92,null,null,null,null,0,0,0]
[93,null,null,null,null,0,0,0]
[94,null,null,null,null,0,0,0]
[95,null,null,null,null,0,0,0]
[96,null,null,null,null,0,0,0]
[97,null,null,null,null,0,0,0]
[98,null,null,null,null,0,0,0]
[99,null,null,null,null,0,0,0]
[100,null,null,null,null,0,0,0]
[101,null,null,null,null,0,0,0]
[102,null,null,null,null,0,0,0]
[103,null,null,null,null,0,0,0]
[104,null,null,null,null,0,0,0]
[105,null,null,null,null,0,0,0]
[106,null,null,null,null,0,0,0]
[107,null,null,null,null,0,0,0]
[108,null,null,null,null,0,0,0]
[109,null,null,null,null,0,0,0]
[110,null,null,null,null,0,0,0]
[111,null,null,null,null,0,0,0]
[112,null,null,null,null,0,0,0]
[113,null,null,null,null,0,0,0]
[114,null,null,null,null,0,0,0]
[115,null,null,null,null,0,0,0]
[116,null,null,null,null,0,0,0]
[117,null,null,null,null,0,0,0]
[118,null,null,null,null,0,0,0]
[119,null,null,null,null,0,0,0]
[120,null,null,null,null,0,0,0]
[121,null,null,null,null,0,0,0]
[122,null,null,null,null,0,0,0]
[123,null,null,null,null,0,0,0]
[124,null,null,null,null,0,0,0]
[125,null,null,null,null,0,0,0]
[126,null,null,null,null,0,0,0]
[127,null,null,null,null,0,0,0]
[128,null,null,null,null,0,0,0]
[129,null,null,null,null,0,0,0]
[130,null,null,null,null,{"$f":"MIN(B139:C139)","v":0},{"$f":"MIN(D139:E139)","v":0},{"$f":"F139*G139","v":0}]
[131,null,null,null,null,0,0,0]
[132,null,null,null,null,0,0,0]
[133,null,null,null,null,0,0,0]
[134,null,null,null,null,0,0,0]
[135,null,null,null,null,0,0,0]
[136,null,null,null,null,0,0,0]
[137,null,null,null,null,0,0,0]
[138,null,null,null,null,0,0,0]
[139,null,null,null,null,0,0,0]
[140,null,null,null,null,0,0,0]
[141,null,null,null,null,0,0,0]
[142,null,null,null,null,0,0,0]
[143,null,null,null,null,0,0,0]
[144,null,null,null,null,0,0,0]
[145,null,null,null,null,0,0,0]
[146,null,null,null,null,0,0,0]
[147,null,null,null,null,0,0,0]
[148,null,null,null,null,0,0,0]
[149,null,null,null,null,0,0,0]
[150,null,null,null,null,0,0,0]
[151,null,null,null,null,0,0,0]
[152,null,null,null,null,0,0,0]
[153,null,null,null,null,0,0,0]
[154,null,null,null,null,0,0,0]
[155,null,null,null,null,0,0,0]
[156,null,null,null,null,0,0,0]
[157,null,null,null,null,0,0,0]
[158,null,null,null,null,0,0,0]
[159,null,null,null,null,0,0,0]
[160,null,null,null,null,0,0,0]
[161,null,null,null,null,0,0,0]
[162,null,null,null,null,0,0,0]
[163,null,null,null,null,0,0,0]
[164,null,null,null,null,0,0,0]
[165,null,null,null,null,0,0,0]
[166,null,null,null,null,0,0,0]
[167,null,null,null,null,0,0,0]
[168,null,null,null,null,0,0,0]
[169,null,null,null,null,0,0,0]
[170,null,null,null,null,0,0,0]
[171,null,null,null,null,0,0,0]
[172,null,null,null,null,0,0,0]
[173,null,null,null,null,0,0,0]
[174,null,null,null,null,0,0,0]
[175,null,null,null,null,0,0,0]
[176,null,null,null,null,0,0,0]
[177,null,null,null,null,0,0,0]
[178,null,null,null,null,0,0,0]
[179,null,null,null,null,0,0,0]
[180,null,null,null,null,0,0,0]
[181,null,null,null,null,0,0,0]
[182,null,null,null,null,0,0,0]
[183,null,null,null,null,0,0,0]
[184,null,null,null,null,0,0,0]
[185,null,null,null,null,0,0,0]
[186,null,null,null,null,0,0,0]
[187,null,null,null,null,0,0,0]
[188,null,null,null,null,0,0,0]
[189,null,null,null,null,0,0,0]
[190,null,null,null,null,0,0,0]
[191,null,null,null,null,0,0,0]
[192,null,null,null,null,0,0,0]
[193,null,null,null,null,0,0,0]
[194,null,null,null,null,{"$f":"MIN(B203:C203)","v":0},{"$f":"MIN(D203:E203)","v":0},{"$f":"F203*G203","v":0}]
[195,null,null,null,null,0,0,0]
[196,null,null,null,null,0,0,0]
[197,null,null,null,null,0,0,0]
[198,null,null,null,null,0,0,0]
[199,null,null,null,null,0,0,0]
[200,null,null,null,null,0,0,0]
[201,null,null,null,null,0,0,0]
[202,null,null,null,null,0,0,0]
[203,null,null,null,null,0,0,0]
[204,null,null,null,null,0,0,0]
[205,null,null,null,null,0,0,0]
[206,null,null,null,null,0,0,0]
[207,null,null,null,null,0,0,0]
[208,null,null,null,null,0,0,0]
[209,null,null,null,null,0,0,0]
[210,null,null,null,null,0,0,0]
[211,null,null,null,null,0,0,0]
[212,null,null,null,null,0,0,0]
[213,null,null,null,null,0,0,0]
[214,null,null,null,null,0,0,0]
[215,null,null,null,null,0,0,0]
[216,null,null,null,null,0,0,0]
[217,null,null,null,null,0,0,0]
[218,null,null,null,null,0,0,0]
[219,null,null,null,null,0,0,0]
[220,null,null,null,null,0,0,0]
[221,null,null,null,null,0,0,0]
[222,null,null,null,null,0,0,0]
[223,null,null,null,null,0,0,0]
[224,null,null,null,null,0,0,0]
[225,null,null,null,null,0,0,0]
[226,null,null,null,null,0,0,0]
[227,null,null,null,null,0,0,0]
[228,null,null,null,null,0,0,0]
[229,null,null,null,null,0,0,0]
[230,null,null,null,null,0,0,0]
[231,null,null,null,null,0,0,0]
[232,null,null,null,null,0,0,0]
[233,null,null,null,null,0,0,0]
[234,null,null,null,null,0,0,0]
[235,null,null,null,null,0,0,0]
[236,null,null,null,null,0,0,0]
[237,null,null,null,null,0,0,0]
[238,null,null,null,null,0,0,0]
[239,null,null,null,null,0,0,0]
[240,null,null,null,null,0,0,0]
[241,null,null,null,null,0,0,0]
[242,null,null,null,null,0,0,0]
[243,null,null,null,null,0,0,0]
[244,null,null,null,null,0,0,0]
[245,null,null,null,null,0,0,0]
[246,null,null,null,null,0,0,0]
[247,null,null,null,null,0,0,0]
[248,null,null,null,null,0,0,0]
[249,null,null,null,null,0,0,0]
[250,null,null,null,null,0,0,0]
[251,null,null,null,null,0,0,0]
[252,null,null,null,null,0,0,0]
[253,null,null,null,null,0,0,0]
[254,null,null,null,null,0,0,0]
[255,null,null,null,null,0,0,0]
[256,null,null,null,null,0,0,0]
[257,null,null,null,null,0,0,0]
[258,null,null,null,null,{"$f":"MIN(B267:C267)","v":0},{"$f":"MIN(D267:E267)","v":0},{"$f":"F267*G267","v":0}]
[259,null,null,null,null,0,0,0]
[260,null,null,null,null,0,0,0]
[261,null,null,null,null,0,0,0]
[262,null,null,null,null,0,0,0]
[263,null,null,null,null,0,0,0]
[264,null,null,null,null,0,0,0]
[265,null,null,null,null,0,0,0]
[266,null,null,null,null,0,0,0]
[267,null,null,null,null,0,0,0]
[268,null,null,null,null,0,0,0]
[269,null,null,null,null,0,0,0]
[270,null,null,null,null,0,0,0]
[271,null,null,null,null,0,0,0]
[272,null,null,null,null,0,0,0]
[273,null,null,null,null,0,0,0]
[274,null,null,null,null,0,0,0]
[275,null,null,null,null,0,0,0]
[276,null,null,null,null,0,0,0]
[277,null,null,null,null,0,0,0]
[278,null,null,null,null,0,0,0]
[279,null,null,null,null,0,0,0]
[280,null,null,null,null,0,0,0]
[281,null,null,null,null,0,0,0]
[282,null,null,null,null,0,0,0]
[283,null,null,null,null,0,0,0]
[284,null,null,null,null,0,0,0]
[285,null,null,null,null,0,0,0]
[286,null,null,null,null,0,0,0]
[287,null,null,null,null,0,0,0]
[288,null,null,null,null,0,0,0]
[289,null,null,null,null,0,0,0]
[290,null,null,null,null,0,0,0]
[291,null,null,null,null,0,0,0]
[292,null,null,null,null,0,0,0]
[293,null,null,null,null,0,0,0]
[294,null,null,null,null,0,0,0]
[295,null,null,null,null,0,0,0]
[296,null,null,null,null,0,0,0]
[297,null,null,null,null,0,0,0]
[298,null,null,null,null,0,0,0]
[299,null,null,null,null,0,0,0]
[300,null,null,null,null,0,0,0]
[301,null,null,null,null,0,0,0]
[302,null,null,null,null,0,0,0]
[303,null,null,null,null,0,0,0]
[304,null,null,null,null,0,0,0]
[305,null,null,null,null,0,0,0]
[306,null,null,null,null,0,0,0]
[307,null,null,null,null,0,0,0]
[308,null,null,null,null,0,0,0]
[309,null,null,null,null,0,0,0]
[310,null,null,null,null,0,0,0]
[311,null,null,null,null,0,0,0]
[312,null,null,null,null,0,0,0]
[313,null,null,null,null,0,0,0]
[314,null,null,null,null,0,0,0]
[315,null,null,null,null,0,0,0]
[316,null,null,null,null,0,0,0]
[317,null,null,null,null,0,0,0]
[318,null,null,null,null,0,0,0]
[319,null,null,null,null,0,0,0]
[320,null,null,null,null,0,0,0]
[321,null,null,null,null,0,0,0]
[322,null,null,null,null,{"$f":"MIN(B331:C331)","v":0},{"$f":"MIN(D331:E331)","v":0},{"$f":"F331*G331","v":0}]
[323,null,null,null,null,0,0,0]
[324,null,null,null,null,0,0,0]
[325,null,null,null,null,0,0,0]
[326,null,null,null,null,0,0,0]
[327,null,null,null,null,0,0,0]
[328,null,null,null,null,0,0,0]
[329,null,null,null,null,0,0,0]
[330,null,null,null,null,0,0,0]
[331,null,null,null,null,0,0,0]
[332,null,null,null,null,0,0,0]
[333,null,null,null,null,0,0,0]
[334,null,null,null,null,0,0,0]
[335,null,null,null,null,0,0,0]
[336,null,null,null,null,0,0,0]
[337,null,null,null,null,0,0,0]
[338,null,null,null,null,0,0,0]
[339,null,null,null,null,0,0,0]
[340,null,null,null,null,0,0,0]
[341,null,null,null,null,0,0,0]
[342,null,null,null,null,0,0,0]
[343,null,null,null,null,0,0,0]
[344,null,null,null,null,0,0,0]
[345,null,null,null,null,0,0,0]
[346,null,null,null,null,0,0,0]
[347,null,null,null,null,0,0,0]
[348,null,null,null,null,0,0,0]
[349,null,null,null,null,0,0,0]
[350,null,null,null,null,0,0,0]
[351,null,null,null,null,0,0,0]
[352,null,null,null,null,0,0,0]
[353,null,null,null,null,0,0,0]
[354,null,null,null,null,0,0,0]
[355,null,null,null,null,0,0,0]
[356,null,null,null,null,0,0,0]
[357,null,null,null,null,0,0,0]
[358,null,null,null,null,0,0,0]
[359,null,null,null,null,0,0,0]
[360,null,null,null,null,0,0,0]
[361,null,null,null,null,0,0,0]
[362,null,null,null,null,0,0,0]
[363,null,null,null,null,0,0,0]
[364,null,null,null,null,0,0,0]
[365,null,null,null,null,0,0,0]
[366,null,null,null,null,0,0,0]
[367,null,null,null,null,0,0,0]
[368,null,null,null,null,0,0,0]
[369,null,null,null,null,0,0,0]
[370,null,null,null,null,0,0,0]
[371,null,null,null,null,0,0,0]
[372,null,null,null,null,0,0,0]
[373,null,null,null,null,0,0,0]
[374,null,null,null,null,0,0,0]
[375,null,null,null,null,0,0,0]
[376,null,null,null,null,0,0,0]
[377,null,null,null,null,0,0,0]
[378,null,null,null,null,0,0,0]
[379,null,null,null,null,0,0,0]
[380,null,null,null,null,0,0,0]
[381,null,null,null,null,0,0,0]
[382,null,null,null,null,0,0,0]
[383,null,null,null,null,0,0,0]
[384,null,null,null,null,0,0,0]
[385,null,null,null,null,0,0,0]
[386,null,null,null,null,{"$f":"MIN(B395:C395)","v":0},{"$f":"MIN(D395:E395)","v":0},{"$f":"F395*G395","v":0}]
[387,null,null,null,null,0,0,0]
[388,null,null,null,null,0,0,0]
[389,null,null,null,null,0,0,0]
[390,null,null,null,null,0,0,0]
[391,null,null,null,null,0,0,0]
[392,null,null,null,null,0,0,0]
[393,null,null,null,null,0,0,0]
[394,null,null,null,null,0,0,0]
[395,null,null,null,null,0,0,0]
[396,null,null,null,null,0,0,0]
[397,null,null,null,null,0,0,0]
[398,null,null,null,null,0,0,0]
[399,null,null,null,null,0,0,0]
[400,null,null,null,null,0,0,0]
[401,null,null,null,null,0,0,0]
[402,null,null,null,null,0,0,0]
[403,null,null,null,null,0,0,0]
[404,null,null,null,null,0,0,0]
[405,null,null,null,null,0,0,0]
[406,null,null,null,null,0,0,0]
[407,null,null,null,null,0,0,0]
[408,null,null,null,null,0,0,0]
[409,null,null,null,null,0,0,0]
[410,null,null,null,null,0,0,0]
[411,null,null,null,null,0,0,0]
[412,null,null,null,null,0,0,0]
[413,null,null,null,null,0,0,0]
[414,null,null,null,null,0,0,0]
[415,null,null,null,null,0,0,0]
[416,null,null,null,null,0,0,0]
[417,null,null,null,null,0,0,0]
[418,null,null,null,null,0,0,0]
[419,null,null,null,null,0,0,0]
[420,null,null,null,null,0,0,0]
[421,null,null,null,null,0,0,0]
[422,null,null,null,null,0,0,0]
[423,null,null,null,null,0,0,0]
[424,null,null,null,null,0,0,0]
[425,null,null,null,null,0,0,0]
[426,null,null,null,null,0,0,0]
[427,null,null,null,null,0,0,0]
[428,null,null,null,null,0,0,0]
[429,null,null,null,null,0,0,0]
[430,null,null,null,null,0,0,0]
[431,null,null,null,null,0,0,0]
[432,null,null,null,null,0,0,0]
[433,null,null,null,null,0,0,0]
[434,null,null,null,null,0,0,0]
[435,null,null,null,null,0,0,0]
[436,null,null,null,null,0,0,0]
[437,null,null,null,null,0,0,0]
[438,null,null,null,null,0,0,0]
[439,null,null,null,null,0,0,0]
[440,null,null,null,null,0,0,0]
[441,null,null,null,null,0,0,0]
[442,null,null,null,null,0,0,0]
[443,null,null,null,null,0,0,0]
[444,null,null,null,null,0,0,0]
[445,null,null,null,null,0,0,0]
[446,null,null,null,null,0,0,0]
[447,null,null,null,null,0,0,0]
[448,null,null,null,null,0,0,0]
[449,null,null,null,null,0,0,0]
[450,null,null,null,null,{"$f":"MIN(B459:C459)","v":0},{"$f":"MIN(D459:E459)","v":0},{"$f":"F459*G459","v":0}]
[451,null,null,null,null,0,0,0]
[452,null,null,null,null,0,0,0]
[453,null,null,null,null,0,0,0]
[454,null,null,null,null,0,0,0]
[455,null,null,null,null,0,0,0]
[456,null,null,null,null,0,0,0]
[457,null,null,null,null,0,0,0]
[458,null,null,null,null,0,0,0]
[459,null,null,null,null,0,0,0]
[460,null,null,null,null,0,0,0]
[461,null,null,null,null,0,0,0]
[462,null,null,null,null,0,0,0]
[463,null,null,null,null,0,0,0]
[464,null,null,null,null,0,0,0]
[465,null,null,null,null,0,0,0]
[466,null,null,null,null,0,0,0]
[467,null,null,null,null,0,0,0]
[468,null,null,null,null,0,0,0]
[469,null,null,null,null,0,0,0]
[470,null,null,null,null,0,0,0]
[471,null,null,null,null,0,0,0]
[472,null,null,null,null,0,0,0]
[473,null,null,null,null,0,0,0]
[474,null,null,null,null,0,0,0]
[475,null,null,null,null,0,0,0]
[476,null,null,null,null,0,0,0]
[477,null,null,null,null,0,0,0]
[478,null,null,null,null,0,0,0]
[479,null,null,null,null,0,0,0]
[480,null,null,null,null,0,0,0]
[481,null,null,null,null,0,0,0]
[482,null,null,null,null,0,0,0]
[483,null,null,null,null,0,0,0]
[484,null,null,null,null,0,0,0]
[485,null,null,null,null,0,0,0]
[486,null,null,null,null,0,0,0]
[487,null,null,null,null,0,0,0]
[488,null,null,null,null,0,0,0]
[489,null,null,null,null,0,0,0]
[490,null,null,null,null,0,0,0]
[491,null,null,null,null,0,0,0]
[492,null,null,null,null,0,0,0]
[493,null,null,null,null,0,0,0]
[494,null,null,null,null,0,0,0]
[495,null,null,null,null,0,0,0]
[496,null,null,null,null,0,0,0]
[497,null,null,null,null,0,0,0]
[498,null,null,null,null,0,0,0]
[499,null,null,null,null,0,0,0]
[500,null,null,null,null,0,0,0]
[501,null,null,null,null,0,0,0]
[502,null,null,null,null,0,0,0]
[503,null,null,null,null,0,0,0]
[504,null,null,null,null,0,0,0]
[505,null,null,null,null,0,0,0]
[506,null,null,null,null,0,0,0]
[507,null,null,null,null,0,0,0]
[508,null,null,null,null,0,0,0]
[509,null,null,null,null,0,0,0]
[510,null,null,null,null,0,0,0]
[511,null,null,null,null,0,0,0]
[512,null,null,null,null,0,0,0]
[513,null,null,null,null,0,0,0]
[514,null,null,null,null,{"$f":"MIN(B523:C523)","v":0},{"$f":"MIN(D523:E523)","v":0},{"$f":"F523*G523","v":0}]
[515,null,null,null,null,0,0,0]
[516,null,null,null,null,0,0,0]
[517,null,null,null,null,0,0,0]
[518,null,null,null,null,0,0,0]
[519,null,null,null,null,0,0,0]
[520,null,null,null,null,0,0,0]
[521,null,null,null,null,0,0,0]
[522,null,null,null,null,0,0,0]
[523,null,null,null,null,0,0,0]
[524,null,null,null,null,0,0,0]
[525,null,null,null,null,0,0,0]
[526,null,null,null,null,0,0,0]
[527,null,null,null,null,0,0,0]
[528,null,null,null,null,0,0,0]
[529,null,null,null,null,0,0,0]
[530,null,null,null,null,0,0,0]
[531,null,null,null,null,0,0,0]
[532,null,null,null,null,0,0,0]
[533,null,null,null,null,0,0,0]
[534,null,null,null,null,0,0,0]
[535,null,null,null,null,0,0,0]
[536,null,null,null,null,0,0,0]
[537,null,null,null,null,0,0,0]
[538,null,null,null,null,0,0,0]
[539,null,null,null,null,0,0,0]
[540,null,null,null,null,0,0,0]
[541,null,null,null,null,0,0,0]
[542,null,null,null,null,0,0,0]
[543,null,null,null,null,0,0,0]
[544,null,null,null,null,0,0,0]
[545,null,null,null,null,0,0,0]
[546,null,null,null,null,0,0,0]
[547,null,null,null,null,0,0,0]
[548,null,null,null,null,0,0,0]
[549,null,null,null,null,0,0,0]
[550,null,null,null,null,0,0,0]
[551,null,null,null,null,0,0,0]
[552,null,null,null,null,0,0,0]
[553,null,null,null,null,0,0,0]
[554,null,null,null,null,0,0,0]
[555,null,null,null,null,0,0,0]
[556,null,null,null,null,0,0,0]
[557,null,null,null,null,0,0,0]
[558,null,null,null,null,0,0,0]
[559,null,null,null,null,0,0,0]
[560,null,null,null,null,0,0,0]
[561,null,null,null,null,0,0,0]
[562,null,null,null,null,0,0,0]
[563,null,null,null,null,0,0,0]
[564,null,null,null,null,0,0,0]
[565,null,null,null,null,0,0,0]
[566,null,null,null,null,0,0,0]
[567,null,null,null,null,0,0,0]
[568,null,null,null,null,0,0,0]
[569,null,null,null,null,0,0,0]
[570,null,null,null,null,0,0,0]
[571,null,null,null,null,0,0,0]
[572,null,null,null,null,0,0,0]
[573,null,null,null,null,0,0,0]
[574,null,null,null,null,0,0,0]
[575,null,null,null,null,0,0,0]
[576,null,null,null,null,0,0,0]
[577,null,null,null,null,0,0,0]
[578,null,null,null,null,{"$f":"MIN(B587:C587)","v":0},{"$f":"MIN(D587:E587)","v":0},{"$f":"F587*G587","v":0}]
[579,null,null,null,null,0,0,0]
[580,null,null,null,null,0,0,0]
[581,null,null,null,null,0,0,0]
[582,null,null,null,null,0,0,0]
[583,null,null,null,null,0,0,0]
[584,null,null,null,null,0,0,0]
[585,null,null,null,null,0,0,0]
[586,null,null,null,null,0,0,0]
[587,null,null,null,null,0,0,0]
[588,null,null,null,null,0,0,0]
[589,null,null,null,null,0,0,0]
[590,null,null,null,null,0,0,0]
[591,null,null,null,null,0,0,0]
[592,null,null,null,null,0,0,0]
[593,null,null,null,null,0,0,0]
[594,null,null,null,null,0,0,0]
[595,null,null,null,null,0,0,0]
[596,null,null,null,null,0,0,0]
[597,null,null,null,null,0,0,0]
[598,null,null,null,null,0,0,0]
[599,null,null,null,null,0,0,0]
[600,null,null,null,null,0,0,0]
[601,null,null,null,null,0,0,0]
[602,null,null,null,null,0,0,0]
[603,null,null,null,null,0,0,0]
[604,null,null,null,null,0,0,0]
[605,null,null,null,null,0,0,0]
[606,null,null,null,null,0,0,0]
[607,null,null,null,null,0,0,0]
[608,null,null,null,null,0,0,0]
[609,null,null,null,null,0,0,0]
[610,null,null,null,null,0,0,0]
[611,null,null,null,null,0,0,0]
[612,null,null,null,null,0,0,0]
[613,null,null,null,null,0,0,0]
[614,null,null,null,null,0,0,0]
[615,null,null,null,null,0,0,0]
[616,null,null,null,null,0,0,0]
[617,null,null,null,null,0,0,0]
[618,null,null,null,null,0,0,0]
[619,null,null,null,null,0,0,0]
[620,null,null,null,null,0,0,0]
[621,null,null,null,null,0,0,0]
[622,null,null,null,null,0,0,0]
[623,null,null,null,null,0,0,0]
[624,null,null,null,null,0,0,0]
[625,null,null,null,null,0,0,0]
[626,null,null,null,null,0,0,0]
[627,null,null,null,null,0,0,0]
[628,null,null,null,null,0,0,0]
[629,null,null,null,null,0,0,0]
[630,null,null,null,null,0,0,0]
[631,null,null,null,null,0,0,0]
[632,null,null,null,null,0,0,0]
[633,null,null,null,null,0,0,0]
[634,null,null,null,null,0,0,0]
[635,null,null,null,null,0,0,0]
[636,null,null,null,null,0,0,0]
[637,null,null,null,null,0,0,0]
[638,null,null,null,null,0,0,0]
[639,null,null,null,null,0,0,0]
[640,null,null,null,null,0,0,0]
[641,null,null,null,null,0,0,0]
[642,null,null,null,null,{"$f":"MIN(B651:C651)","v":0},{"$f":"MIN(D651:E651)","v":0},{"$f":"F651*G651","v":0}]
[643,null,null,null,null,0,0,0]
[644,null,null,null,null,0,0,0]
[645,null,null,null,null,0,0,0]
[646,null,null,null,null,0,0,0]
[647,null,null,null,null,0,0,0]
[648,null,null,null,null,0,0,0]
[649,null,null,null,null,0,0,0]
[650,null,null,null,null,0,0,0]
[651,null,null,null,null,0,0,0]
[652,null,null,null,null,0,0,0]
[653,null,null,null,null,0,0,0]
[654,null,null,null,null,0,0,0]
[655,null,null,null,null,0,0,0]
[656,null,null,null,null,0,0,0]
[657,null,null,null,null,0,0,0]
[658,null,null,null,null,0,0,0]
[659,null,null,null,null,0,0,0]
[660,null,null,null,null,0,0,0]
[661,null,null,null,null,0,0,0]
[662,null,null,null,null,0,0,0]
[663,null,null,null,null,0,0,0]
[664,null,null,null,null,0,0,0]
[665,null,null,null,null,0,0,0]
[666,null,null,null,null,0,0,0]
[667,null,null,null,null,0,0,0]
[668,null,null,null,null,0,0,0]
[669,null,null,null,null,0,0,0]
[670,null,null,null,null,0,0,0]
[671,null,null,null,null,0,0,0]
[672,null,null,null,null,0,0,0]
[673,null,null,null,null,0,0,0]
[674,null,null,null,null,0,0,0]
[675,null,null,null,null,0,0,0]
[676,null,null,null,null,0,0,0]
[677,null,null,null,null,0,0,0]
[678,null,null,null,null,0,0,0]
[679,null,null,null,null,0,0,0]
[680,null,null,null,null,0,0,0]
[681,null,null,null,null,0,0,0]
[682,null,null,null,null,0,0,0]
[683,null,null,null,null,0,0,0]
[684,null,null,null,null,0,0,0]
[685,null,null,null,null,0,0,0]
[686,null,null,null,null,0,0,0]
[687,null,null,null,null,0,0,0]
[688,null,null,null,null,0,0,0]
[689,null,null,null,null,0,0,0]
[690,null,null,null,null,0,0,0]
[691,null,null,null,null,0,0,0]
[692,null,null,null,null,0,0,0]
[693,null,null,null,null,0,0,0]
[694,null,null,null,null,0,0,0]
[695,null,null,null,null,0,0,0]
[696,null,null,null,null,0,0,0]
[697,null,null,null,null,0,0,0]
[698,null,null,null,null,0,0,0]
[699,null,null,null,null,0,0,0]
[700,null,null,null,null,0,0,0]
[701,null,null,null,null,0,0,0]
[702,null,null,null,null,0,0,0]
[703,null,null,null,null,0,0,0]
[704,null,null,null,null,0,0,0]
[705,null,null,null,null,0,0,0]
[706,null,null,null,null,{"$f":"MIN(B715:C715)","v":0},{"$f":"MIN(D715:E715)","v":0},{"$f":"F715*G715","v":0}]
[707,null,null,null,null,0,0,0]
[708,null,null,null,null,0,0,0]
[709,null,null,null,null,0,0,0]
[710,null,null,null,null,0,0,0]
[711,null,null,null,null,0,0,0]
[712,null,null,null,null,0,0,0]
[713,null,null,null,null,0,0,0]
[714,null,null,null,null,0,0,0]
[715,null,null,null,null,0,0,0]
[716,null,null,null,null,0,0,0]
[717,null,null,null,null,0,0,0]
[718,null,null,null,null,0,0,0]
[719,null,null,null,null,0,0,0]
[720,null,null,null,null,0,0,0]
[721,null,null,null,null,0,0,0]
[722,null,null,null,null,0,0,0]
[723,null,null,null,null,0,0,0]
[724,null,null,null,null,0,0,0]
[725,null,null,null,null,0,0,0]
[726,null,null,null,null,0,0,0]
[727,null,null,null,null,0,0,0]
[728,null,null,null,null,0,0,0]
[729,null,null,null,null,0,0,0]
[730,null,null,null,null,0,0,0]
[731,null,null,null,null,0,0,0]
[732,null,null,null,null,0,0,0]
[733,null,null,null,null,0,0,0]
[734,null,null,null,null,0,0,0]
[735,null,null,null,null,0,0,0]
[736,null,null,null,null,0,0,0]
[737,null,null,null,null,0,0,0]
[738,null,null,null,null,0,0,0]
[739,null,null,null,null,0,0,0]
[740,null,null,null,null,0,0,0]
[741,null,null,null,null,0,0,0]
[742,null,null,null,null,0,0,0]
[743,null,null,null,null,0,0,0]
[744,null,null,null,null,0,0,0]
[745,null,null,null,null,0,0,0]
[746,null,null,null,null,0,0,0]
[747,null,null,null,null,0,0,0]
[748,null,null,null,null,0,0,0]
[749,null,null,null,null,0,0,0]
[750,null,null,null,null,0,0,0]
[751,null,null,null,null,0,0,0]
[752,null,null,null,null,0,0,0]
[753,null,null,null,null,0,0,0]
[754,null,null,null,null,0,0,0]
[755,null,null,null,null,0,0,0]
[756,null,null,null,null,0,0,0]
[757,null,null,null,null,0,0,0]
[758,null,null,null,null,0,0,0]
[759,null,null,null,null,0,0,0]
[760,null,null,null,null,0,0,0]
[761,null,null,null,null,0,0,0]
[762,null,null,null,null,0,0,0]
[763,null,null,null,null,0,0,0]
[764,null,null,null,null,0,0,0]
[765,null,null,null,null,0,0,0]
[766,null,null,null,null,0,0,0]
[767,null,null,null,null,0,0,0]
[768,null,null,null,null,0,0,0]
[769,null,null,null,null,0,0,0]
[770,null,null,null,null,{"$f":"MIN(B779:C779)","v":0},{"$f":"MIN(D779:E779)","v":0},{"$f":"F779*G779","v":0}]
[771,null,null,null,null,0,0,0]
[772,null,null,null,null,0,0,0]
[773,null,null,null,null,0,0,0]
[774,null,null,null,null,0,0,0]
[775,null,null,null,null,0,0,0]
[776,null,null,null,null,0,0,0]
[777,null,null,null,null,0,0,0]
[778,null,null,null,null,0,0,0]
[779,null,null,null,null,0,0,0]
[780,null,null,null,null,0,0,0]
[781,null,null,null,null,0,0,0]
[782,null,null,null,null,0,0,0]
[783,null,null,null,null,0,0,0]
[784,null,null,null,null,0,0,0]
[785,null,null,null,null,0,0,0]
[786,null,null,null,null,0,0,0]
[787,null,null,null,null,0,0,0]
[788,null,null,null,null,0,0,0]
[789,null,null,null,null,0,0,0]
[790,null,null,null,null,0,0,0]
[791,null,null,null,null,0,0,0]
[792,null,null,null,null,0,0,0]
[793,null,null,null,null,0,0,0]
[794,null,null,null,null,0,0,0]
[795,null,null,null,null,0,0,0]
[796,null,null,null,null,0,0,0]
[797,null,null,null,null,0,0,0]
[798,null,null,null,null,0,0,0]
[799,null,null,null,null,0,0,0]
[800,null,null,null,null,0,0,0]
[801,null,null,null,null,0,0,0]
[802,null,null,null,null,0,0,0]
[803,null,null,null,null,0,0,0]
[804,null,null,null,null,0,0,0]
[805,null,null,null,null,0,0,0]
[806,null,null,null,null,0,0,0]
[807,null,null,null,null,0,0,0]
[808,null,null,null,null,0,0,0]
[809,null,null,null,null,0,0,0]
[810,null,null,null,null,0,0,0]
[811,null,null,null,null,0,0,0]
[812,null,null,null,null,0,0,0]
[813,null,null,null,null,0,0,0]
[814,null,null,null,null,0,0,0]
[815,null,null,null,null,0,0,0]
[816,null,null,null,null,0,0,0]
[817,null,null,null,null,0,0,0]
[818,null,null,null,null,0,0,0]
[819,null,null,null,null,0,0,0]
[820,null,null,null,null,0,0,0]
[821,null,null,null,null,0,0,0]
[822,null,null,null,null,0,0,0]
[823,null,null,null,null,0,0,0]
[824,null,null,null,null,0,0,0]
[825,null,null,null,null,0,0,0]
[826,null,null,null,null,0,0,0]
[827,null,null,null,null,0,0,0]
[828,null,null,null,null,0,0,0]
[829,null,null,null,null,0,0,0]
[830,null,null,null,null,0,0,0]
[831,null,null,null,null,0,0,0]
[832,null,null,null,null,0,0,0]
[833,null,null,null,null,0,0,0]
[834,null,null,null,null,{"$f":"MIN(B843:C843)","v":0},{"$f":"MIN(D843:E843)","v":0},{"$f":"F843*G843","v":0}]
[835,null,null,null,null,0,0,0]
[836,null,null,null,null,0,0,0]
[837,null,null,null,null,0,0,0]
[838,null,null,null,null,0,0,0]
[839,null,null,null,null,0,0,0]
[840,null,null,null,null,0,0,0]
[841,null,null,null,null,0,0,0]
[842,null,null,null,null,0,0,0]
[843,null,null,null,null,0,0,0]
[844,null,null,null,null,0,0,0]
[845,null,null,null,null,0,0,0]
[846,null,null,null,null,0,0,0]
[847,null,null,null,null,0,0,0]
[848,null,null,null,null,0,0,0]
[849,null,null,null,null,0,0,0]
[850,null,null,null,null,0,0,0]
[851,null,null,null,null,0,0,0]
[852,null,null,null,null,0,0,0]
[853,null,null,null,null,0,0,0]
[854,null,null,null,null,0,0,0]
[855,null,null,null,null,0,0,0]
[856,null,null,null,null,0,0,0]
[857,null,null,null,null,0,0,0]
[858,null,null,null,null,0,0,0]
[859,null,null,null,null,0,0,0]
[860,null,null,null,null,0,0,0]
[861,null,null,null,null,0,0,0]
[862,null,null,null,null,0,0,0]
[863,null,null,null,null,0,0,0]
[864,null,null,null,null,0,0,0]
[865,null,null,null,null,0,0,0]
[866,null,null,null,null,0,0,0]
[867,null,null,null,null,0,0,0]
[868,null,null,null,null,0,0,0]
[869,null,null,null,null,0,0,0]
[870,null,null,null,null,0,0,0]
[871,null,null,null,null,0,0,0]
[872,null,null,null,null,0,0,0]
[873,null,null,null,null,0,0,0]
[874,null,null,null,null,0,0,0]
[875,null,null,null,null,0,0,0]
[876,null,null,null,null,0,0,0]
[877,null,null,null,null,0,0,0]
[878,null,null,null,null,0,0,0]
[879,null,null,null,null,0,0,0]
[880,null,null,null,null,0,0,0]
[881,null,null,null,null,0,0,0]
[882,null,null,null,null,0,0,0]
[883,null,null,null,null,0,0,0]
[884,null,null,null,null,0,0,0]
[885,null,null,null,null,0,0,0]
[886,null,null,null,null,0,0,0]
[887,null,null,null,null,0,0,0]
[888,null,null,null,null,0,0,0]
[889,null,null,null,null,0,0,0]
[890,null,null,null,null,0,0,0]
[891,null,null,null,null,0,0,0]
[892,null,null,null,null,0,0,0]
[893,null,null,null,null,0,0,0]
[894,null,null,null,null,0,0,0]
[895,null,null,null,null,0,0,0]
[896,null,null,null,null,0,0,0]
[897,null,null,null,null,0,0,0]
[898,null,null,null,null,{"$f":"MIN(B907:C907)","v":0},{"$f":"MIN(D907:E907)","v":0},{"$f":"F907*G907","v":0}]
[899,null,null,null,null,0,0,0]
[900,null,null,null,null,0,0,0]
[901,null,null,null,null,0,0,0]
[902,null,null,null,null,0,0,0]
[903,null,null,null,null,0,0,0]
[904,null,null,null,null,0,0,0]
[905,null,null,null,null,0,0,0]
[906,null,null,null,null,0,0,0]
[907,null,null,null,null,0,0,0]
[908,null,null,null,null,0,0,0]
[909,null,null,null,null,0,0,0]
[910,null,null,null,null,0,0,0]
[911,null,null,null,null,0,0,0]
[912,null,null,null,null,0,0,0]
[913,null,null,null,null,0,0,0]
[914,null,null,null,null,0,0,0]
[915,null,null,null,null,0,0,0]
[916,null,null,null,null,0,0,0]
[917,null,null,null,null,0,0,0]
[918,null,null,null,null,0,0,0]
[919,null,null,null,null,0,0,0]
[920,null,null,null,null,0,0,0]
[921,null,null,null,null,0,0,0]
[922,null,null,null,null,0,0,0]
[923,null,null,null,null,0,0,0]
[924,null,null,null,null,0,0,0]
[925,null,null,null,null,0,0,0]
[926,null,null,null,null,0,0,0]
[927,null,null,null,null,0,0,0]
[928,null,null,null,null,0,0,0]
[929,null,null,null,null,0,0,0]
[930,null,null,null,null,0,0,0]
[931,null,null,null,null,0,0,0]
[932,null,null,null,null,0,0,0]
[933,null,null,null,null,0,0,0]
[934,null,null,null,null,0,0,0]
[935,null,null,null,null,0,0,0]
[936,null,null,null,null,0,0,0]
[937,null,null,null,null,0,0,0]
[938,null,null,null,null,0,0,0]
[939,null,null,null,null,0,0,0]
[940,null,null,null,null,0,0,0]
[941,null,null,null,null,0,0,0]
[942,null,null,null,null,0,0,0]
[943,null,null,null,null,0,0,0]
[944,null,null,null,null,0,0,0]
[945,null,null,null,null,0,0,0]
[946,null,null,null,null,0,0,0]
[947,null,null,null,null,0,0,0]
[948,null,null,null,null,0,0,0]
[949,null,null,null,null,0,0,0]
[950,null,null,null,null,0,0,0]
[951,null,null,null,null,0,0,0]
[952,null,null,null,null,0,0,0]
[953,null,null,null,null,0,0,0]
[954,null,null,null,null,0,0,0]
[955,null,null,null,null,0,0,0]
[956,null,null,null,null,0,0,0]
[957,null,null,null,null,0,0,0]
[958,null,null,null,null,0,0,0]
[959,null,null,null,null,0,0,0]
[960,null,null,null,null,0,0,0]
[961,null,null,null,null,0,0,0]
[962,null,null,null,null,{"$f":"MIN(B971:C971)","v":0},{"$f":"MIN(D971:E971)","v":0},{"$f":"F971*G971","v":0}]
[963,null,null,null,null,0,0,0]
[964,null,null,null,null,0,0,0]
[965,null,null,null,null,0,0,0]
[966,null,null,null,null,0,0,0]
[967,null,null,null,null,0,0,0]
[968,null,null,null,null,0,0,0]
[969,null,null,null,null,0,0,0]
[970,null,null,null,null,0,0,0]
[971,null,null,null,null,0,0,0]
[972,null,null,null,null,0,0,0]
[973,null,null,null,null,0,0,0]
[974,null,null,null,null,0,0,0]
[975,null,null,null,null,0,0,0]
[976,null,null,null,null,0,0,0]
[977,null,null,null,null,0,0,0]
[978,null,null,null,null,0,0,0]
[979,null,null,null,null,0,0,0]
[980,null,null,null,null,0,0,0]
[981,null,null,null,null,0,0,0]
[982,null,null,null,null,0,0,0]
[983,null,null,null,null,0,0,0]
[984,null,null,null,null,0,0,0]
[985,null,null,null,null,0,0,0]
[986,null,null,null,null,0,0,0]
[987,null,null,null,null,0,0,0]
[988,null,null,null,null,0,0,0]
[989,null,null,null,null,0,0,0]
[990,null,null,null,null,0,0,0]
[991,null,null,null,null,0,0,0]
[992,null,null,null,null,0,0,0]
[993,null,null,null,null,0,0,0]
[994,null,null,null,null,0,0,0]
[995,null,null,null,null,0,0,0]
[996,null,null,null,null,0,0,0]
[997,null,null,null,null,0,0,0]
[998,null,null,null,null,0,0,0]
[999,null,null,null,null,0,0,0]
[1000,null,null,null,null,0,0,0]
[1001,null,null,null,null,0,0,0]
[1002,null,null,null,null,0,0,0]
[1003,null,null,null,null,0,0,0]
[1004,null,null,null,null,0,0,0]
[1005,null,null,null,null,0,0,0]
[1006,null,null,null,null,0,0,0]
[1007,null,null,null,null,0,0,0]
[1008,null,null,null,null,0,0,0]
[1009,null,null,null,null,0,0,0]
[1010,null,null,null,null,0,0,0]
[1011,null,null,null,null,0,0,0]
[1012,null,null,null,null,0,0,0]
[1013,null,null,null,null,0,0,0]
[1014,null,null,null,null,0,0,0]
[1015,null,null,null,null,0,0,0]
[1016,null,null,null,null,0,0,0]
[1017,null,null,null,null,0,0,0]
[1018,null,null,null,null,0,0,0]
[1019,null,null,null,null,0,0,0]
[1020,null,null,null,null,0,0,0]
[1021,null,null,null,null,0,0,0]
[1022,null,null,null,null,0,0,0]
[1023,null,null,null,null,0,0,0]
[1024,null,null,null,null,0,0,0]
[1025,null,null,null,null,0,0,0]
[1026,null,null,null,null,{"$f":"MIN(B1035:C1035)","v":0},{"$f":"MIN(D1035:E1035)","v":0},{"$f":"F1035*G1035","v":0}]
[1027,null,null,null,null,0,0,0]
[1028,null,null,null,null,0,0,0]
[1029,null,null,null,null,0,0,0]
[1030,null,null,null,null,0,0,0]
[1031,null,null,null,null,0,0,0]
[1032,null,null,null,null,0,0,0]
[1033,null,null,null,null,0,0,0]
[1034,null,null,null,null,0,0,0]
[1035,null,null,null,null,0,0,0]
[1036,null,null,null,null,0,0,0]
[1037,null,null,null,null,0,0,0]
[1038,null,null,null,null,0,0,0]
[1039,null,null,null,null,0,0,0]
[1040,null,null,null,null,0,0,0]
[1041,null,null,null,null,0,0,0]
[1042,null,null,null,null,0,0,0]
[1043,null,null,null,null,0,0,0]
[1044,null,null,null,null,0,0,0]
[1045,null,null,null,null,0,0,0]
[1046,null,null,null,null,0,0,0]
[1047,null,null,null,null,0,0,0]
[1048,null,null,null,null,0,0,0]
[1049,null,null,null,null,0,0,0]
[1050,null,null,null,null,0,0,0]
[1051,null,null,null,null,0,0,0]
[1052,null,null,null,null,0,0,0]
[1053,null,null,null,null,0,0,0]
[1054,null,null,null,null,0,0,0]
[1055,null,null,null,null,0,0,0]
[1056,null,null,null,null,0,0,0]
[1057,null,null,null,null,0,0,0]
[1058,null,null,null,null,0,0,0]
[1059,null,null,null,null,0,0,0]
[1060,null,null,null,null,0,0,0]
[1061,null,null,null,null,0,0,0]
[1062,null,null,null,null,0,0,0]
[1063,null,null,null,null,0,0,0]
[1064,null,null,null,null,0,0,0]
[1065,null,null,null,null,0,0,0]
[1066,null,null,null,null,0,0,0]
[1067,null,null,null,null,0,0,0]
[1068,null,null,null,null,0,0,0]
[1069,null,null,null,null,0,0,0]
[1070,null,null,null,null,0,0,0]
[1071,null,null,null,null,0,0,0]
[1072,null,null,null,null,0,0,0]
[1073,null,null,null,null,0,0,0]
[1074,null,null,null,null,0,0,0]
[1075,null,null,null,null,0,0,0]
[1076,null,null,null,null,0,0,0]
[1077,null,null,null,null,0,0,0]
[1078,null,null,null,null,0,0,0]
[1079,null,null,null,null,0,0,0]
[1080,null,null,null,null,0,0,0]
[1081,null,null,null,null,0,0,0]
[1082,null,null,null,null,0,0,0]
[1083,null,null,null,null,0,0,0]
[1084,null,null,null,null,0,0,0]
[1085,null,null,null,null,0,0,0]
[1086,null,null,null,null,0,0,0]
[1087,null,null,null,null,0,0,0]
[1088,null,null,null,null,0,0,0]
[1089,null,null,null,null,0,0,0]
[1090,null,null,null,null,{"$f":"MIN(B1099:C1099)","v":0},{"$f":"MIN(D1099:E1099)","v":0},{"$f":"F1099*G1099","v":0}]
[1091,null,null,null,null,0,0,0]
[1092,null,null,null,null,0,0,0]
[1093,null,null,null,null,0,0,0]
[1094,null,null,null,null,0,0,0]
[1095,null,null,null,null,0,0,0]
[1096,null,null,null,null,0,0,0]
[1097,null,null,null,null,0,0,0]
[1098,null,null,null,null,0,0,0]
[1099,null,null,null,null,0,0,0]
[1100,null,null,null,null,0,0,0]
[1101,null,null,null,null,0,0,0]
[1102,null,null,null,null,0,0,0]
[1103,null,null,null,null,0,0,0]
[1104,null,null,null,null,0,0,0]
[1105,null,null,null,null,0,0,0]
[1106,null,null,null,null,0,0,0]
[1107,null,null,null,null,0,0,0]
[1108,null,null,null,null,0,0,0]
[1109,null,null,null,null,0,0,0]
[1110,null,null,null,null,0,0,0]
[1111,null,null,null,null,0,0,0]
[1112,null,null,null,null,0,0,0]
[1113,null,null,null,null,0,0,0]
[1114,null,null,null,null,0,0,0]
[1115,null,null,null,null,0,0,0]
[1116,null,null,null,null,0,0,0]
[1117,null,null,null,null,0,0,0]
[1118,null,null,null,null,0,0,0]
[1119,null,null,null,null,0,0,0]
[1120,null,null,null,null,0,0,0]
[1121,null,null,null,null,0,0,0]
[1122,null,null,null,null,0,0,0]
[1123,null,null,null,null,0,0,0]
[1124,null,null,null,null,0,0,0]
[1125,null,null,null,null,0,0,0]
[1126,null,null,null,null,0,0,0]
[1127,null,null,null,null,0,0,0]
[1128,null,null,null,null,0,0,0]
[1129,null,null,null,null,0,0,0]
[1130,null,null,null,null,0,0,0]
[1131,null,null,null,null,0,0,0]
[1132,null,null,null,null,0,0,0]
[1133,null,null,null,null,0,0,0]
[1134,null,null,null,null,0,0,0]
[1135,null,null,null,null,0,0,0]
[1136,null,null,null,null,0,0,0]
[1137,null,null,null,null,0,0,0]
[1138,null,null,null,null,0,0,0]
[1139,null,null,null,null,0,0,0]
[1140,null,null,null,null,0,0,0]
[1141,null,null,null,null,0,0,0]
[1142,null,null,null,null,0,0,0]
[1143,null,null,null,null,0,0,0]
[1144,null,null,null,null,0,0,0]
[1145,null,null,null,null,0,0,0]
[1146,null,null,null,null,0,0,0]
[1147,null,null,null,null,0,0,0]
[1148,null,null,null,null,0,0,0]
[1149,null,null,null,null,0,0,0]
[1150,null,null,null,null,0,0,0]
[1151,null,null,null,null,0,0,0]
[1152,null,null,null,null,0,0,0]
[1153,null,null,null,null,0,0,0]
[1154,null,null,null,null,{"$f":"MIN(B1163:C1163)","v":0},{"$f":"MIN(D1163:E1163)","v":0},{"$f":"F1163*G1163","v":0}]
[1155,null,null,null,null,0,0,0]
[1156,null,null,null,null,0,0,0]
[1157,null,null,null,null,0,0,0]
[1158,null,null,null,null,0,0,0]
[1159,null,null,null,null,0,0,0]
[1160,null,null,null,null,0,0,0]
[1161,null,null,null,null,0,0,0]
[1162,null,null,null,null,0,0,0]
[1163,null,null,null,null,0,0,0]
[1164,null,null,null,null,0,0,0]
[1165,null,null,null,null,0,0,0]
[1166,null,null,null,null,0,0,0]
[1167,null,null,null,null,0,0,0]
[1168,null,null,null,null,0,0,0]
[1169,null,null,null,null,0,0,0]
[1170,null,null,null,null,0,0,0]
[1171,null,null,null,null,0,0,0]
[1172,null,null,null,null,0,0,0]
[1173,null,null,null,null,0,0,0]
[1174,null,null,null,null,0,0,0]
[1175,null,null,null,null,0,0,0]
[1176,null,null,null,null,0,0,0]
[1177,null,null,null,null,0,0,0]
[1178,null,null,null,null,0,0,0]
[1179,null,null,null,null,0,0,0]
[1180,null,null,null,null,0,0,0]
[1181,null,null,null,null,0,0,0]
[1182,null,null,null,null,0,0,0]
[1183,null,null,null,null,0,0,0]
[1184,null,null,null,null,0,0,0]
[1185,null,null,null,null,0,0,0]
[1186,null,null,null,null,0,0,0]
[1187,null,null,null,null,0,0,0]
[1188,null,null,null,null,0,0,0]
[1189,null,null,null,null,0,0,0]
[1190,null,null,null,null,0,0,0]
[1191,null,null,null,null,0,0,0]
[1192,null,null,null,null,0,0,0]
[1193,null,null,null,null,0,0,0]
[1194,null,null,null,null,0,0,0]
[1195,null,null,null,null,0,0,0]
[1196,null,null,null,null,0,0,0]
[1197,null,null,null,null,0,0,0]
[1198,null,null,null,null,0,0,0]
[1199,null,null,null,null,0,0,0]
[1200,null,null,null,null,0,0,0]
[1201,null,null,null,null,0,0,0]
[1202,null,null,null,null,0,0,0]
[1203,null,null,null,null,0,0,0]
[1204,null,null,null,null,0,0,0]
[1205,null,null,null,null,0,0,0]
[1206,null,null,null,null,0,0,0]
[1207,null,null,null,null,0,0,0]
[1208,null,null,null,null,0,0,0]
[1209,null,null,null,null,0,0,0]
[1210,null,null,null,null,0,0,0]
[1211,null,null,null,null,0,0,0]
[1212,null,null,null,null,0,0,0]
[1213,null,null,null,null,0,0,0]
[1214,null,null,null,null,0,0,0]
[1215,null,null,null,null,0,0,0]
[1216,null,null,null,null,0,0,0]
[1217,null,null,null,null,0,0,0]
[1218,null,null,null,null,{"$f":"MIN(B1227:C1227)","v":0},{"$f":"MIN(D1227:E1227)","v":0},{"$f":"F1227*G1227","v":0}]
[1219,null,null,null,null,0,0,0]
[1220,null,null,null,null,0,0,0]
[1221,null,null,null,null,0,0,0]
[1222,null,null,null,null,0,0,0]
[1223,null,null,null,null,0,0,0]
[1224,null,null,null,null,0,0,0]
[1225,null,null,null,null,0,0,0]
[1226,null,null,null,null,0,0,0]
[1227,null,null,null,null,0,0,0]
[1228,null,null,null,null,0,0,0]
[1229,null,null,null,null,0,0,0]
[1230,null,null,null,null,0,0,0]
[1231,null,null,null,null,0,0,0]
[1232,null,null,null,null,0,0,0]
[1233,null,null,null,null,0,0,0]
[1234,null,null,null,null,0,0,0]
[1235,null,null,null,null,0,0,0]
[1236,null,null,null,null,0,0,0]
[1237,null,null,null,null,0,0,0]
[1238,null,null,null,null,0,0,0]
[1239,null,null,null,null,0,0,0]
[1240,null,null,null,null,0,0,0]
[1241,null,null,null,null,0,0,0]
[1242,null,null,null,null,0,0,0]
[1243,null,null,null,null,0,0,0]
[1244,null,null,null,null,0,0,0]
[1245,null,null,null,null,0,0,0]
[1246,null,null,null,null,0,0,0]
[1247,null,null,null,null,0,0,0]
[1248,null,null,null,null,0,0,0]
[1249,null,null,null,null,0,0,0]
[1250,null,null,null,null,0,0,0]
[1251,null,null,null,null,0,0,0]
[1252,null,null,null,null,0,0,0]
[1253,null,null,null,null,0,0,0]
[1254,null,null,null,null,0,0,0]
[1255,null,null,null,null,0,0,0]
[1256,null,null,null,null,0,0,0]
[1257,null,null,null,null,0,0,0]
[1258,null,null,null,null,0,0,0]
[1259,null,null,null,null,0,0,0]
[1260,null,null,null,null,0,0,0]
[1261,null,null,null,null,0,0,0]
[1262,null,null,null,null,0,0,0]
[1263,null,null,null,null,0,0,0]
[1264,null,null,null,null,0,0,0]
[1265,null,null,null,null,0,0,0]
[1266,null,null,null,null,0,0,0]
[1267,null,null,null,null,0,0,0]
[1268,null,null,null,null,0,0,0]
[1269,null,null,null,null,0,0,0]
[1270,null,null,null,null,0,0,0]
[1271,null,null,null,null,0,0,0]
[1272,null,null,null,null,0,0,0]
[1273,null,null,null,null,0,0,0]
[1274,null,null,null,null,0,0,0]
[1275,null,null,null,null,0,0,0]
[1276,null,null,null,null,0,0,0]
[1277,null,null,null,null,0,0,0]
[1278,null,null,null,null,0,0,0]
[1279,null,null,null,null,0,0,0]
[1280,null,null,null,null,0,0,0]
[1281,null,null,null,null,0,0,0]
[1282,null,null,null,null,{"$f":"MIN(B1291:C1291)","v":0},{"$f":"MIN(D1291:E1291)","v":0},{"$f":"F1291*G1291","v":0}]
[1283,null,null,null,null,0,0,0]
[1284,null,null,null,null,0,0,0]
[1285,null,null,null,null,0,0,0]
[1286,null,null,null,null,0,0,0]
[1287,null,null,null,null,0,0,0]
[1288,null,null,null,null,0,0,0]
[1289,null,null,null,null,0,0,0]
[1290,null,null,null,null,0,0,0]
[1291,null,null,null,null,0,0,0]
[1292,null,null,null,null,0,0,0]
[1293,null,null,null,null,0,0,0]
[1294,null,null,null,null,0,0,0]
[1295,null,null,null,null,0,0,0]
[1296,null,null,null,null,0,0,0]
[1297,null,null,null,null,0,0,0]
[1298,null,null,null,null,0,0,0]
[1299,null,null,null,null,0,0,0]
[1300,null,null,null,null,0,0,0]
[1301,null,null,null,null,0,0,0]
[1302,null,null,null,null,0,0,0]
[1303,null,null,null,null,0,0,0]
[1304,null,null,null,null,0,0,0]
[1305,null,null,null,null,0,0,0]
[1306,null,null,null,null,0,0,0]
[1307,null,null,null,null,0,0,0]
[1308,null,null,null,null,0,0,0]
[1309,null,null,null,null,0,0,0]
[1310,null,null,null,null,0,0,0]
[1311,null,null,null,null,0,0,0]
[1312,null,null,null,null,0,0,0]
[1313,null,null,null,null,0,0,0]
[1314,null,null,null,null,0,0,0]
[1315,null,null,null,null,0,0,0]
[1316,null,null,null,null,0,0,0]
[1317,null,null,null,null,0,0,0]
[1318,null,null,null,null,0,0,0]
[1319,null,null,null,null,0,0,0]
[1320,null,null,null,null,0,0,0]
[1321,null,null,null,null,0,0,0]
[1322,null,null,null,null,0,0,0]
[1323,null,null,null,null,0,0,0]
[1324,null,null,null,null,0,0,0]
[1325,null,null,null,null,0,0,0]
[1326,null,null,null,null,0,0,0]
[1327,null,null,null,null,0,0,0]
[1328,null,null,null,null,0,0,0]
[1329,null,null,null,null,0,0,0]
[1330,null,null,null,null,0,0,0]
[1331,null,null,null,null,0,0,0]
[1332,null,null,null,null,0,0,0]
[1333,null,null,null,null,0,0,0]
[1334,null,null,null,null,0,0,0]
[1335,null,null,null,null,0,0,0]
[1336,null,null,null,null,0,0,0]
[1337,null,null,null,null,0,0,0]
[1338,null,null,null,null,0,0,0]
[1339,null,null,null,null,0,0,0]
[1340,null,null,null,null,0,0,0]
[1341,null,null,null,null,0,0,0]
[1342,null,null,null,null,0,0,0]
[1343,null,null,null,null,0,0,0]
[1344,null,null,null,null,0,0,0]
[1345,null,null,null,null,0,0,0]
[1346,null,null,null,null,{"$f":"MIN(B1355:C1355)","v":0},{"$f":"MIN(D1355:E1355)","v":0},{"$f":"F1355*G1355","v":0}]
[1347,null,null,null,null,0,0,0]
[1348,null,null,null,null,0,0,0]
[1349,null,null,null,null,0,0,0]
[1350,null,null,null,null,0,0,0]
[1351,null,null,null,null,0,0,0]
[1352,null,null,null,null,0,0,0]
[1353,null,null,null,null,0,0,0]
[1354,null,null,null,null,0,0,0]
[1355,null,null,null,null,0,0,0]
[1356,null,null,null,null,0,0,0]
[1357,null,null,null,null,0,0,0]
[1358,null,null,null,null,0,0,0]
[1359,null,null,null,null,0,0,0]
[1360,null,null,null,null,0,0,0]
[1361,null,null,null,null,0,0,0]
[1362,null,null,null,null,0,0,0]
[1363,null,null,null,null,0,0,0]
[1364,null,null,null,null,0,0,0]
[1365,null,null,null,null,0,0,0]
[1366,null,null,null,null,0,0,0]
[1367,null,null,null,null,0,0,0]
[1368,null,null,null,null,0,0,0]
[1369,null,null,null,null,0,0,0]
[1370,null,null,null,null,0,0,0]
[1371,null,null,null,null,0,0,0]
[1372,null,null,null,null,0,0,0]
[1373,null,null,null,null,0,0,0]
[1374,null,null,null,null,0,0,0]
[1375,null,null,null,null,0,0,0]
[1376,null,null,null,null,0,0,0]
[1377,null,null,null,null,0,0,0]
[1378,null,null,null,null,0,0,0]
[1379,null,null,null,null,0,0,0]
[1380,null,null,null,null,0,0,0]
[1381,null,null,null,null,0,0,0]
[1382,null,null,null,null,0,0,0]
[1383,null,null,null,null,0,0,0]
[1384,null,null,null,null,0,0,0]
[1385,null,null,null,null,0,0,0]
[1386,null,null,null,null,0,0,0]
[1387,null,null,null,null,0,0,0]
[1388,null,null,null,null,0,0,0]
[1389,null,null,null,null,0,0,0]
[1390,null,null,null,null,0,0,0]
[1391,null,null,null,null,0,0,0]
[1392,null,null,null,null,0,0,0]
[1393,null,null,null,null,0,0,0]
[1394,null,null,null,null,0,0,0]
[1395,null,null,null,null,0,0,0]
[1396,null,null,null,null,0,0,0]
[1397,null,null,null,null,0,0,0]
[1398,null,null,null,null,0,0,0]
[1399,null,null,null,null,0,0,0]
[1400,null,null,null,null,0,0,0]
[1401,null,null,null,null,0,0,0]
[1402,null,null,null,null,0,0,0]
[1403,null,null,null,null,0,0,0]
[1404,null,null,null,null,0,0,0]
[1405,null,null,null,null,0,0,0]
[1406,null,null,null,null,0,0,0]
[1407,null,null,null,null,0,0,0]
[1408,null,null,null,null,0,0,0]
[1409,null,null,null,null,0,0,0]
[1410,null,null,null,null,{"$f":"MIN(B1419:C1419)","v":0},{"$f":"MIN(D1419:E1419)","v":0},{"$f":"F1419*G1419","v":0}]
[1411,null,null,null,null,0,0,0]
[1412,null,null,null,null,0,0,0]
[1413,null,null,null,null,0,0,0]
[1414,null,null,null,null,0,0,0]
[1415,null,null,null,null,0,0,0]
[1416,null,null,null,null,0,0,0]
[1417,null,null,null,null,0,0,0]
[1418,null,null,null,null,0,0,0]
[1419,null,null,null,null,0,0,0]
[1420,null,null,null,null,0,0,0]
[1421,null,null,null,null,0,0,0]
[1422,null,null,null,null,0,0,0]
[1423,null,null,null,null,0,0,0]
[1424,null,null,null,null,0,0,0]
[1425,null,null,null,null,0,0,0]
[1426,null,null,null,null,0,0,0]
[1427,null,null,null,null,0,0,0]
[1428,null,null,null,null,0,0,0]
[1429,null,null,null,null,0,0,0]
[1430,null,null,null,null,0,0,0]
[1431,null,null,null,null,0,0,0]
[1432,null,null,null,null,0,0,0]
[1433,null,null,null,null,0,0,0]
[1434,null,null,null,null,0,0,0]
[1435,null,null,null,null,0,0,0]
[1436,null,null,null,null,0,0,0]
[1437,null,null,null,null,0,0,0]
[1438,null,null,null,null,0,0,0]
[1439,null,null,null,null,0,0,0]
[1440,null,null,null,null,0,0,0]
[1441,null,null,null,null,0,0,0]
[1442,null,null,null,null,0,0,0]
[1443,null,null,null,null,0,0,0]
[1444,null,null,null,null,0,0,0]
[1445,null,null,null,null,0,0,0]
[1446,null,null,null,null,0,0,0]
[1447,null,null,null,null,0,0,0]
[1448,null,null,null,null,0,0,0]
[1449,null,null,null,null,0,0,0]
[1450,null,null,null,null,0,0,0]
[1451,null,null,null,null,0,0,0]
[1452,null,null,null,null,0,0,0]
[1453,null,null,null,null,0,0,0]
[1454,null,null,null,null,0,0,0]
[1455,null,null,null,null,0,0,0]
[1456,null,null,null,null,0,0,0]
[1457,null,null,null,null,0,0,0]
[1458,null,null,null,null,0,0,0]
[1459,null,null,null,null,0,0,0]
[1460,null,null,null,null,0,0,0]
[1461,null,null,null,null,0,0,0]
[1462,null,null,null,null,0,0,0]
[1463,null,null,null,null,0,0,0]
[1464,null,null,null,null,0,0,0]
[1465,null,null,null,null,0,0,0]
[1466,null,null,null,null,0,0,0]
[1467,null,null,null,null,0,0,0]
[1468,null,null,null,null,0,0,0]
[1469,null,null,null,null,0,0,0]
[1470,null,null,null,null,0,0,0]
[1471,null,null,null,null,0,0,0]
[1472,null,null,null,null,0,0,0]
[1473,null,null,null,null,0,0,0]
[1474,null,null,null,null,{"$f":"MIN(B1483:C1483)","v":0},{"$f":"MIN(D1483:E1483)","v":0},{"$f":"F1483*G1483","v":0}]
[1475,null,null,null,null,0,0,0]
[1476,null,null,null,null,0,0,0]
[1477,null,null,null,null,0,0,0]
[1478,null,null,null,null,0,0,0]
[1479,null,null,null,null,0,0,0]
[1480,null,null,null,null,0,0,0]
[1481,null,null,null,null,0,0,0]
[1482,null,null,null,null,0,0,0]
[1483,null,null,null,null,0,0,0]
[1484,null,null,null,null,0,0,0]
[1485,null,null,null,null,0,0,0]
[1486,null,null,null,null,0,0,0]
[1487,null,null,null,null,0,0,0]
[1488,null,null,null,null,0,0,0]
[1489,null,null,null,null,0,0,0]
[1490,null,null,null,null,0,0,0]
[1491,null,null,null,null,0,0,0]
[1492,null,null,null,null,0,0,0]
[1493,null,null,null,null,0,0,0]
[1494,null,null,null,null,0,0,0]
[1495,null,null,null,null,0,0,0]
[1496,null,null,null,null,0,0,0]
[1497,null,null,null,null,0,0,0]
[1498,null,null,null,null,0,0,0]
[1499,null,null,null,null,0,0,0]
[1500,null,null,null,null,0,0,0]
[1501,null,null,null,null,0,0,0]
[1502,null,null,null,null,0,0,0]
[1503,null,null,null,null,0,0,0]
[1504,null,null,null,null,0,0,0]
[1505,null,null,null,null,0,0,0]
[1506,null,null,null,null,0,0,0]
[1507,null,null,null,null,0,0,0]
[1508,null,null,null,null,0,0,0]
[1509,null,null,null,null,0,0,0]
[1510,null,null,null,null,0,0,0]
[1511,null,null,null,null,0,0,0]
[1512,null,null,null,null,0,0,0]
[1513,null,null,null,null,0,0,0]
[1514,null,null,null,null,0,0,0]
[1515,null,null,null,null,0,0,0]
[1516,null,null,null,null,0,0,0]
[1517,null,null,null,null,0,0,0]
[1518,null,null,null,null,0,0,0]
[1519,null,null,null,null,0,0,0]
[1520,null,null,null,null,0,0,0]
[1521,null,null,null,null,0,0,0]
[1522,null,null,null,null,0,0,0]
[1523,null,null,null,null,0,0,0]
[1524,null,null,null,null,0,0,0]
[1525,null,null,null,null,0,0,0]
[1526,null,null,null,null,0,0,0]
[1527,null,null,null,null,0,0,0]
[1528,null,null,null,null,0,0,0]
[1529,null,null,null,null,0,0,0]
[1530,null,null,null,null,0,0,0]
[1531,null,null,null,null,0,0,0]
[1532,null,null,null,null,0,0,0]
[1533,null,null,null,null,0,0,0]
[1534,null,null,null,null,0,0,0]
[1535,null,null,null,null,0,0,0]
[1536,null,null,null,null,0,0,0]
[1537,null,null,null,null,0,0,0]
[1538,null,null,null,null,{"$f":"MIN(B1547:C1547)","v":0},{"$f":"MIN(D1547:E1547)","v":0},{"$f":"F1547*G1547","v":0}]
[1539,null,null,null,null,0,0,0]
[1540,null,null,null,null,0,0,0]
[1541,null,null,null,null,0,0,0]
[1542,null,null,null,null,0,0,0]
[1543,null,null,null,null,0,0,0]
[1544,null,null,null,null,0,0,0]
[1545,null,null,null,null,0,0,0]
[1546,null,null,null,null,0,0,0]
[1547,null,null,null,null,0,0,0]
[1548,null,null,null,null,0,0,0]
[1549,null,null,null,null,0,0,0]
[1550,null,null,null,null,0,0,0]
[1551,null,null,null,null,0,0,0]
[1552,null,null,null,null,0,0,0]
[1553,null,null,null,null,0,0,0]
[1554,null,null,null,null,0,0,0]
[1555,null,null,null,null,0,0,0]
[1556,null,null,null,null,0,0,0]
[1557,null,null,null,null,0,0,0]
[1558,null,null,null,null,0,0,0]
[1559,null,null,null,null,0,0,0]
[1560,null,null,null,null,0,0,0]
[1561,null,null,null,null,0,0,0]
[1562,null,null,null,null,0,0,0]
[1563,null,null,null,null,0,0,0]
[1564,null,null,null,null,0,0,0]
[1565,null,null,null,null,0,0,0]
[1566,null,null,null,null,0,0,0]
[1567,null,null,null,null,0,0,0]
[1568,null,null,null,null,0,0,0]
[1569,null,null,null,null,0,0,0]
[1570,null,null,null,null,0,0,0]
[1571,null,null,null,null,0,0,0]
[1572,null,null,null,null,0,0,0]
[1573,null,null,null,null,0,0,0]
[1574,null,null,null,null,0,0,0]
[1575,null,null,null,null,0,0,0]
[1576,null,null,null,null,0,0,0]
[1577,null,null,null,null,0,0,0]
[1578,null,null,null,null,0,0,0]
[1579,null,null,null,null,0,0,0]
[1580,null,null,null,null,0,0,0]
[1581,null,null,null,null,0,0,0]
[1582,null,null,null,null,0,0,0]
[1583,null,null,null,null,0,0,0]
[1584,null,null,null,null,0,0,0]
[1585,null,null,null,null,0,0,0]
[1586,null,null,null,null,0,0,0]
[1587,null,null,null,null,0,0,0]
[1588,null,null,null,null,0,0,0]
[1589,null,null,null,null,0,0,0]
[1590,null,null,null,null,0,0,0]
[1591,null,null,null,null,0,0,0]
[1592,null,null,null,null,0,0,0]
[1593,null,null,null,null,0,0,0]
[1594,null,null,null,null,0,0,0]
[1595,null,null,null,null,0,0,0]
[1596,null,null,null,null,0,0,0]
[1597,null,null,null,null,0,0,0]
[1598,null,null,null,null,0,0,0]
[1599,null,null,null,null,0,0,0]
[1600,null,null,null,null,0,0,0]
[1601,null,null,null,null,0,0,0]
[1602,null,null,null,null,{"$f":"MIN(B1611:C1611)","v":0},{"$f":"MIN(D1611:E1611)","v":0},{"$f":"F1611*G1611","v":0}]
[1603,null,null,null,null,0,0,0]
[1604,null,null,null,null,0,0,0]
[1605,null,null,null,null,0,0,0]
[1606,null,null,null,null,0,0,0]
[1607,null,null,null,null,0,0,0]
[1608,null,null,null,null,0,0,0]
[1609,null,null,null,null,0,0,0]
[1610,null,null,null,null,0,0,0]
[1611,null,null,null,null,0,0,0]
[1612,null,null,null,null,0,0,0]
[1613,null,null,null,null,0,0,0]
[1614,null,null,null,null,0,0,0]
[1615,null,null,null,null,0,0,0]
[1616,null,null,null,null,0,0,0]
[1617,null,null,null,null,0,0,0]
[1618,null,null,null,null,0,0,0]
[1619,null,null,null,null,0,0,0]
[1620,null,null,null,null,0,0,0]
[1621,null,null,null,null,0,0,0]
[1622,null,null,null,null,0,0,0]
[1623,null,null,null,null,0,0,0]
[1624,null,null,null,null,0,0,0]
[1625,null,null,null,null,0,0,0]
[1626,null,null,null,null,0,0,0]
[1627,null,null,null,null,0,0,0]
[1628,null,null,null,null,0,0,0]
[1629,null,null,null,null,0,0,0]
[1630,null,null,null,null,0,0,0]
[1631,null,null,null,null,0,0,0]
[1632,null,null,null,null,0,0,0]
[1633,null,null,null,null,0,0,0]
[1634,null,null,null,null,0,0,0]
[1635,null,null,null,null,0,0,0]
[1636,null,null,null,null,0,0,0]
[1637,null,null,null,null,0,0,0]
[1638,null,null,null,null,0,0,0]
[1639,null,null,null,null,0,0,0]
[1640,null,null,null,null,0,0,0]
[1641,null,null,null,null,0,0,0]
[1642,null,null,null,null,0,0,0]
[1643,null,null,null,null,0,0,0]
[1644,null,null,null,null,0,0,0]
[1645,null,null,null,null,0,0,0]
[1646,null,null,null,null,0,0,0]
[1647,null,null,null,null,0,0,0]
[1648,null,null,null,null,0,0,0]
[1649,null,null,null,null,0,0,0]
[1650,null,null,null,null,0,0,0]
[1651,null,null,null,null,0,0,0]
[1652,null,null,null,null,0,0,0]
[1653,null,null,null,null,0,0,0]
[1654,null,null,null,null,0,0,0]
[1655,null,null,null,null,0,0,0]
[1656,null,null,null,null,0,0,0]
[1657,null,null,null,null,0,0,0]
[1658,null,null,null,null,0,0,0]
[1659,null,null,null,null,0,0,0]
[1660,null,null,null,null,0,0,0]
[1661,null,null,null,null,0,0,0]
[1662,null,null,null,null,0,0,0]
[1663,null,null,null,null,0,0,0]
[1664,null,null,null,null,0,0,0]
[1665,null,null,null,null,0,0,0]
[1666,null,null,null,null,{"$f":"MIN(B1675:C1675)","v":0},{"$f":"MIN(D1675:E1675)","v":0},{"$f":"F1675*G1675","v":0}]
[1667,null,null,null,null,0,0,0]
[1668,null,null,null,null,0,0,0]
[1669,null,null,null,null,0,0,0]
[1670,null,null,null,null,0,0,0]
[1671,null,null,null,null,0,0,0]
[1672,null,null,null,null,0,0,0]
[1673,null,null,null,null,0,0,0]
[1674,null,null,null,null,0,0,0]
[1675,null,null,null,null,0,0,0]
[1676,null,null,null,null,0,0,0]
[1677,null,null,null,null,0,0,0]
[1678,null,null,null,null,0,0,0]
[1679,null,null,null,null,0,0,0]
[1680,null,null,null,null,0,0,0]
[1681,null,null,null,null,0,0,0]
[1682,null,null,null,null,0,0,0]
[1683,null,null,null,null,0,0,0]
[1684,null,null,null,null,0,0,0]
[1685,null,null,null,null,0,0,0]
[1686,null,null,null,null,0,0,0]
[1687,null,null,null,null,0,0,0]
[1688,null,null,null,null,0,0,0]
[1689,null,null,null,null,0,0,0]
[1690,null,null,null,null,0,0,0]
[1691,null,null,null,null,0,0,0]
[1692,null,null,null,null,0,0,0]
[1693,null,null,null,null,0,0,0]
[1694,null,null,null,null,0,0,0]
[1695,null,null,null,null,0,0,0]
[1696,null,null,null,null,0,0,0]
[1697,null,null,null,null,0,0,0]
[1698,null,null,null,null,0,0,0]
[1699,null,null,null,null,0,0,0]
[1700,null,null,null,null,0,0,0]
[1701,null,null,null,null,0,0,0]
[1702,null,null,null,null,0,0,0]
[1703,null,null,null,null,0,0,0]
[1704,null,null,null,null,0,0,0]
[1705,null,null,null,null,0,0,0]
[1706,null,null,null,null,0,0,0]
[1707,null,null,null,null,0,0,0]
[1708,null,null,null,null,0,0,0]
[1709,null,null,null,null,0,0,0]
[1710,null,null,null,null,0,0,0]
[1711,null,null,null,null,0,0,0]
[1712,null,null,null,null,0,0,0]
[1713,null,null,null,null,0,0,0]
[1714,null,null,null,null,0,0,0]
[1715,null,null,null,null,0,0,0]
[1716,null,null,null,null,0,0,0]
[1717,null,null,null,null,0,0,0]
[1718,null,null,null,null,0,0,0]
[1719,null,null,null,null,0,0,0]
[1720,null,null,null,null,0,0,0]
[1721,null,null,null,null,0,0,0]
[1722,null,null,null,null,0,0,0]
[1723,null,null,null,null,0,0,0]
[1724,null,null,null,null,0,0,0]
[1725,null,null,null,null,0,0,0]
[1726,null,null,null,null,0,0,0]
[1727,null,null,null,null,0,0,0]
[1728,null,null,null,null,0,0,0]
[1729,null,null,null,null,0,0,0]
[1730,null,null,null,null,{"$f":"MIN(B1739:C1739)","v":0},{"$f":"MIN(D1739:E1739)","v":0},{"$f":"F1739*G1739","v":0}]
[1731,null,null,null,null,0,0,0]
[1732,null,null,null,null,0,0,0]
[1733,null,null,null,null,0,0,0]
[1734,null,null,null,null,0,0,0]
[1735,null,null,null,null,0,0,0]
[1736,null,null,null,null,0,0,0]
[1737,null,null,null,null,0,0,0]
[1738,null,null,null,null,0,0,0]
[1739,null,null,null,null,0,0,0]
[1740,null,null,null,null,0,0,0]
[1741,null,null,null,null,0,0,0]
[1742,null,null,null,null,0,0,0]
[1743,null,null,null,null,0,0,0]
[1744,null,null,null,null,0,0,0]
[1745,null,null,null,null,0,0,0]
[1746,null,null,null,null,0,0,0]
[1747,null,null,null,null,0,0,0]
[1748,null,null,null,null,0,0,0]
[1749,null,null,null,null,0,0,0]
[1750,null,null,null,null,0,0,0]
[1751,null,null,null,null,0,0,0]
[1752,null,null,null,null,0,0,0]
[1753,null,null,null,null,0,0,0]
[1754,null,null,null,null,0,0,0]
[1755,null,null,null,null,0,0,0]
[1756,null,null,null,null,0,0,0]
[1757,null,null,null,null,0,0,0]
[1758,null,null,null,null,0,0,0]
[1759,null,null,null,null,0,0,0]
[1760,null,null,null,null,0,0,0]
[1761,null,null,null,null,0,0,0]
[1762,null,null,null,null,0,0,0]
[1763,null,null,null,null,0,0,0]
[1764,null,null,null,null,0,0,0]
[1765,null,null,null,null,0,0,0]
[1766,null,null,null,null,0,0,0]
[1767,null,null,null,null,0,0,0]
[1768,null,null,null,null,0,0,0]
[1769,null,null,null,null,0,0,0]
[1770,null,null,null,null,0,0,0]
[1771,null,null,null,null,0,0,0]
[1772,null,null,null,null,0,0,0]
[1773,null,null,null,null,0,0,0]
[1774,null,null,null,null,0,0,0]
[1775,null,null,null,null,0,0,0]
[1776,null,null,null,null,0,0,0]
[1777,null,null,null,null,0,0,0]
[1778,null,null,null,null,0,0,0]
[1779,null,null,null,null,0,0,0]
[1780,null,null,null,null,0,0,0]
[1781,null,null,null,null,0,0,0]
[1782,null,null,null,null,0,0,0]
[1783,null,null,null,null,0,0,0]
[1784,null,null,null,null,0,0,0]
[1785,null,null,null,null,0,0,0]
[1786,null,null,null,null,0,0,0]
[1787,null,null,null,null,0,0,0]
[1788,null,null,null,null,0,0,0]
[1789,null,null,null,null,0,0,0]
[1790,null,null,null,null,0,0,0]
[1791,null,null,null,null,0,0,0]
[1792,null,null,null,null,0,0,0]
[1793,null,null,null,null,0,0,0]
[1794,null,null,null,null,{"$f":"MIN(B1803:C1803)","v":0},{"$f":"MIN(D1803:E1803)","v":0},{"$f":"F1803*G1803","v":0}]
[1795,null,null,null,null,0,0,0]
[1796,null,null,null,null,0,0,0]
[1797,null,null,null,null,0,0,0]
[1798,null,null,null,null,0,0,0]
[1799,null,null,null,null,0,0,0]
[1800,null,null,null,null,0,0,0]
[1801,null,null,null,null,0,0,0]
[1802,null,null,null,null,0,0,0]
[1803,null,null,null,null,0,0,0]
[1804,null,null,null,null,0,0,0]
[1805,null,null,null,null,0,0,0]
[1806,null,null,null,null,0,0,0]
[1807,null,null,null,null,0,0,0]
[1808,null,null,null,null,0,0,0]
[1809,null,null,null,null,0,0,0]
[1810,null,null,null,null,0,0,0]
[1811,null,null,null,null,0,0,0]
[1812,null,null,null,null,0,0,0]
[1813,null,null,null,null,0,0,0]
[1814,null,null,null,null,0,0,0]
[1815,null,null,null,null,0,0,0]
[1816,null,null,null,null,0,0,0]
[1817,null,null,null,null,0,0,0]
[1818,null,null,null,null,0,0,0]
[1819,null,null,null,null,0,0,0]
[1820,null,null,null,null,0,0,0]
[1821,null,null,null,null,0,0,0]
[1822,null,null,null,null,0,0,0]
[1823,null,null,null,null,0,0,0]
[1824,null,null,null,null,0,0,0]
[1825,null,null,null,null,0,0,0]
[1826,null,null,null,null,0,0,0]
[1827,null,null,null,null,0,0,0]
[1828,null,null,null,null,0,0,0]
[1829,null,null,null,null,0,0,0]
[1830,null,null,null,null,0,0,0]
[1831,null,null,null,null,0,0,0]
[1832,null,null,null,null,0,0,0]
[1833,null,null,null,null,0,0,0]
[1834,null,null,null,null,0,0,0]
[1835,null,null,null,null,0,0,0]
[1836,null,null,null,null,0,0,0]
[1837,null,null,null,null,0,0,0]
[1838,null,null,null,null,0,0,0]
[1839,null,null,null,null,0,0,0]
[1840,null,null,null,null,0,0,0]
[1841,null,null,null,null,0,0,0]
[1842,null,null,null,null,0,0,0]
[1843,null,null,null,null,0,0,0]
[1844,null,null,null,null,0,0,0]
[1845,null,null,null,null,0,0,0]
[1846,null,null,null,null,0,0,0]
[1847,null,null,null,null,0,0,0]
[1848,null,null,null,null,0,0,0]
[1849,null,null,null,null,0,0,0]
[1850,null,null,null,null,0,0,0]
[1851,null,null,null,null,0,0,0]
[1852,null,null,null,null,0,0,0]
[1853,null,null,null,null,0,0,0]
[1854,null,null,null,null,0,0,0]
[1855,null,null,null,null,0,0,0]
[1856,null,null,null,null,0,0,0]
[1857,null,null,null,null,0,0,0]
[1858,null,null,null,null,{"$f":"MIN(B1867:C1867)","v":0},{"$f":"MIN(D1867:E1867)","v":0},{"$f":"F1867*G1867","v":0}]
[1859,null,null,null,null,0,0,0]
[1860,null,null,null,null,0,0,0]
[1861,null,null,null,null,0,0,0]
[1862,null,null,null,null,0,0,0]
[1863,null,null,null,null,0,0,0]
[1864,null,null,null,null,0,0,0]
[1865,null,null,null,null,0,0,0]
[1866,null,null,null,null,0,0,0]
[1867,null,null,null,null,0,0,0]
[1868,null,null,null,null,0,0,0]
[1869,null,null,null,null,0,0,0]
[1870,null,null,null,null,0,0,0]
[1871,null,null,null,null,0,0,0]
[1872,null,null,null,null,0,0,0]
[1873,null,null,null,null,0,0,0]
[1874,null,null,null,null,0,0,0]
[1875,null,null,null,null,0,0,0]
[1876,null,null,null,null,0,0,0]
[1877,null,null,null,null,0,0,0]
[1878,null,null,null,null,0,0,0]
[1879,null,null,null,null,0,0,0]
[1880,null,null,null,null,0,0,0]
[1881,null,null,null,null,0,0,0]
[1882,null,null,null,null,0,0,0]
[1883,null,null,null,null,0,0,0]
[1884,null,null,null,null,0,0,0]
[1885,null,null,null,null,0,0,0]
[1886,null,null,null,null,0,0,0]
[1887,null,null,null,null,0,0,0]
[1888,null,null,null,null,0,0,0]
[1889,null,null,null,null,0,0,0]
[1890,null,null,null,null,0,0,0]
[1891,null,null,null,null,0,0,0]
[1892,null,null,null,null,0,0,0]
[1893,null,null,null,null,0,0,0]
[1894,null,null,null,null,0,0,0]
[1895,null,null,null,null,0,0,0]
[1896,null,null,null,null,0,0,0]
[1897,null,null,null,null,0,0,0]
[1898,null,null,null,null,0,0,0]
[1899,null,null,null,null,0,0,0]
[1900,null,null,null,null,0,0,0]
[1901,null,null,null,null,0,0,0]
[1902,null,null,null,null,0,0,0]
[1903,null,null,null,null,0,0,0]
[1904,null,null,null,null,0,0,0]
[1905,null,null,null,null,0,0,0]
[1906,null,null,null,null,0,0,0]
[1907,null,null,null,null,0,0,0]
[1908,null,null,null,null,0,0,0]
[1909,null,null,null,null,0,0,0]
[1910,null,null,null,null,0,0,0]
[1911,null,null,null,null,0,0,0]
[1912,null,null,null,null,0,0,0]
[1913,null,null,null,null,0,0,0]
[1914,null,null,null,null,0,0,0]
[1915,null,null,null,null,0,0,0]
[1916,null,null,null,null,0,0,0]
[1917,null,null,null,null,0,0,0]
[1918,null,null,null,null,0,0,0]
[1919,null,null,null,null,0,0,0]
[1920,null,null,null,null,0,0,0]
[1921,null,null,null,null,0,0,0]
[1922,null,null,null,null,{"$f":"MIN(B1931:C1931)","v":0},{"$f":"MIN(D1931:E1931)","v":0},{"$f":"F1931*G1931","v":0}]
[1923,null,null,null,null,0,0,0]
[1924,null,null,null,null,0,0,0]
[1925,null,null,null,null,0,0,0]
[1926,null,null,null,null,0,0,0]
[1927,null,null,null,null,0,0,0]
[1928,null,null,null,null,0,0,0]
[1929,null,null,null,null,0,0,0]
[1930,null,null,null,null,0,0,0]
[1931,null,null,null,null,0,0,0]
[1932,null,null,null,null,0,0,0]
[1933,null,null,null,null,0,0,0]
[1934,null,null,null,null,0,0,0]
[1935,null,null,null,null,0,0,0]
[1936,null,null,null,null,0,0,0]
[1937,null,null,null,null,0,0,0]
[1938,null,null,null,null,0,0,0]
[1939,null,null,null,null,0,0,0]
[1940,null,null,null,null,0,0,0]
[1941,null,null,null,null,0,0,0]
[1942,null,null,null,null,0,0,0]
[1943,null,null,null,null,0,0,0]
[1944,null,null,null,null,0,0,0]
[1945,null,null,null,null,0,0,0]
[1946,null,null,null,null,0,0,0]
[1947,null,null,null,null,0,0,0]
[1948,null,null,null,null,0,0,0]
[1949,null,null,null,null,0,0,0]
[1950,null,null,null,null,0,0,0]
[1951,null,null,null,null,0,0,0]
[1952,null,null,null,null,0,0,0]
[1953,null,null,null,null,0,0,0]
[1954,null,null,null,null,0,0,0]
[1955,null,null,null,null,0,0,0]
[1956,null,null,null,null,0,0,0]
[1957,null,null,null,null,0,0,0]
[1958,null,null,null,null,0,0,0]
[1959,null,null,null,null,0,0,0]
[1960,null,null,null,null,0,0,0]
[1961,null,null,null,null,0,0,0]
[1962,null,null,null,null,0,0,0]
[1963,null,null,null,null,0,0,0]
[1964,null,null,null,null,0,0,0]
[1965,null,null,null,null,0,0,0]
[1966,null,null,null,null,0,0,0]
[1967,null,null,null,null,0,0,0]
[1968,null,null,null,null,0,0,0]
[1969,null,null,null,null,0,0,0]
[1970,null,null,null,null,0,0,0]
[1971,null,null,null,null,0,0,0]
[1972,null,null,null,null,0,0,0]
[1973,null,null,null,null,0,0,0]
[1974,null,null,null,null,0,0,0]
[1975,null,null,null,null,0,0,0]
[1976,null,null,null,null,0,0,0]
[1977,null,null,null,null,0,0,0]
[1978,null,null,null,null,0,0,0]
[1979,null,null,null,null,0,0,0]
[1980,null,null,null,null,0,0,0]
[1981,null,null,null,null,0,0,0]
[1982,null,null,null,null,0,0,0]
[1983,null,null,null,null,0,0,0]
[1984,null,null,null,null,0,0,0]
[1985,null,null,null,null,0,0,0]
[1986,null,null,null,null,{"$f":"MIN(B1995:C1995)","v":0},{"$f":"MIN(D1995:E1995)","v":0},{"$f":"F1995*G1995","v":0}]
[1987,null,null,null,null,0,0,0]
[1988,null,null,null,null,0,0,0]
[1989,null,null,null,null,0,0,0]
[1990,null,null,null,null,0,0,0]
[1991,null,null,null,null,0,0,0]
[1992,null,null,null,null,0,0,0]
[1993,null,null,null,null,0,0,0]
[1994,null,null,null,null,0,0,0]
[1995,null,null,null,null,0,0,0]
[1996,null,null,null,null,0,0,0]
[1997,null,null,null,null,0,0,0]
[1998,null,null,null,null,0,0,0]
[1999,null,null,null,null,0,0,0]
[2000,null,null,null,null,0,0,0]
[2001,null,null,null,null,0,0,0]
[2002,null,null,null,null,0,0,0]
[2003,null,null,null,null,0,0,0]
[2004,null,null,null,null,0,0,0]
[2005,null,null,null,null,0,0,0]
[2006,null,null,null,null,0,0,0]
[2007,null,null,null,null,0,0,0]
[2008,null,null,null,null,0,0,0]
[2009,null,null,null,null,0,0,0]
[2010,null,null,null,null,0,0,0]
[2011,null,null,null,null,0,0,0]
[2012,null,null,null,null,0,0,0]
[2013,null,null,null,null,0,0,0]
[2014,null,null,null,null,0,0,0]
[2015,null,null,null,null,0,0,0]
[2016,null,null,null,null,0,0,0]
[2017,null,null,null,null,0,0,0]
[2018,null,null,null,null,0,0,0]
[2019,null,null,null,null,0,0,0]
[2020,null,null,null,null,0,0,0]
[2021,null,null,null,null,0,0,0]
[2022,null,null,null,null,0,0,0]
[2023,null,null,null,null,0,0,0]
[2024,null,null,null,null,0,0,0]
[2025,null,null,null,null,0,0,0]
[2026,null,null,null,null,0,0,0]
[2027,null,null,null,null,0,0,0]
[2028,null,null,null,null,0,0,0]
[2029,null,null,null,null,0,0,0]
[2030,null,null,null,null,0,0,0]
[2031,null,null,null,null,0,0,0]
[2032,null,null,null,null,0,0,0]
[2033,null,null,null,null,0,0,0]
[2034,null,null,null,null,0,0,0]
[2035,null,null,null,null,0,0,0]
[2036,null,null,null,null,0,0,0]
[2037,null,null,null,null,0,0,0]
[2038,null,null,null,null,0,0,0]
[2039,null,null,null,null,0,0,0]
[2040,null,null,null,null,0,0,0]
[2041,null,null,null,null,0,0,0]
[2042,null,null,null,null,0,0,0]
[2043,null,null,null,null,0,0,0]
[2044,null,null,null,null,0,0,0]
[2045,null,null,null,null,0,0,0]
[2046,null,null,null,null,0,0,0]
[2047,null,null,null,null,0,0,0]
[2048,null,null,null,null,0,0,0]
[2049,null,null,null,null,0,0,0]
[2050,null,null,null,null,{"$f":"MIN(B2059:C2059)","v":0},{"$f":"MIN(D2059:E2059)","v":0},{"$f":"F2059*G2059","v":0}]
[2051,null,null,null,null,0,0,0]
[2052,null,null,null,null,0,0,0]
[2053,null,null,null,null,0,0,0]
[2054,null,null,null,null,0,0,0]
[2055,null,null,null,null,0,0,0]
[2056,null,null,null,null,0,0,0]
[2057,null,null,null,null,0,0,0]
[2058,null,null,null,null,0,0,0]
[2059,null,null,null,null,0,0,0]
[2060,null,null,null,null,0,0,0]
[2061,null,null,null,null,0,0,0]
[2062,null,null,null,null,0,0,0]
[2063,null,null,null,null,0,0,0]
[2064,null,null,null,null,0,0,0]
[2065,null,null,null,null,0,0,0]
[2066,null,null,null,null,0,0,0]
[2067,null,null,null,null,0,0,0]
[2068,null,null,null,null,0,0,0]
[2069,null,null,null,null,0,0,0]
[2070,null,null,null,null,0,0,0]
[2071,null,null,null,null,0,0,0]
[2072,null,null,null,null,0,0,0]
[2073,null,null,null,null,0,0,0]
[2074,null,null,null,null,0,0,0]
[2075,null,null,null,null,0,0,0]
[2076,null,null,null,null,0,0,0]
[2077,null,null,null,null,0,0,0]
[2078,null,null,null,null,0,0,0]
[2079,null,null,null,null,0,0,0]
[2080,null,null,null,null,0,0,0]
[2081,null,null,null,null,0,0,0]
[2082,null,null,null,null,0,0,0]
[2083,null,null,null,null,0,0,0]
[2084,null,null,null,null,0,0,0]
[2085,null,null,null,null,0,0,0]
[2086,null,null,null,null,0,0,0]
[2087,null,null,null,null,0,0,0]
[2088,null,null,null,null,0,0,0]
[2089,null,null,null,null,0,0,0]
[2090,null,null,null,null,0,0,0]
[2091,null,null,null,null,0,0,0]
[2092,null,null,null,null,0,0,0]
[2093,null,null,null,null,0,0,0]
[2094,null,null,null,null,0,0,0]
[2095,null,null,null,null,0,0,0]
[2096,null,null,null,null,0,0,0]
[2097,null,null,null,null,0,0,0]
[2098,null,null,null,null,0,0,0]
[2099,null,null,null,null,0,0,0]
[2100,null,null,null,null,0,0,0]
[2101,null,null,null,null,0,0,0]
[2102,null,null,null,null,0,0,0]
[2103,null,null,null,null,0,0,0]
[2104,null,null,null,null,0,0,0]
[2105,null,null,null,null,0,0,0]
[2106,null,null,null,null,0,0,0]
[2107,null,null,null,null,0,0,0]
[2108,null,null,null,null,0,0,0]
[2109,null,null,null,null,0,0,0]
[2110,null,null,null,null,0,0,0]
[2111,null,null,null,null,0,0,0]
[2112,null,null,null,null,0,0,0]
[2113,null,null,null,null,0,0,0]
[2114,null,null,null,null,{"$f":"MIN(B2123:C2123)","v":0},{"$f":"MIN(D2123:E2123)","v":0},{"$f":"F2123*G2123","v":0}]
[2115,null,null,null,null,0,0,0]
[2116,null,null,null,null,0,0,0]
[2117,null,null,null,null,0,0,0]
[2118,null,null,null,null,0,0,0]
[2119,null,null,null,null,0,0,0]
[2120,null,null,null,null,0,0,0]
[2121,null,null,null,null,0,0,0]
[2122,null,null,null,null,0,0,0]
[2123,null,null,null,null,0,0,0]
[2124,null,null,null,null,0,0,0]
[2125,null,null,null,null,0,0,0]
[2126,null,null,null,null,0,0,0]
[2127,null,null,null,null,0,0,0]
[2128,null,null,null,null,0,0,0]
[2129,null,null,null,null,0,0,0]
[2130,null,null,null,null,0,0,0]
[2131,null,null,null,null,0,0,0]
[2132,null,null,null,null,0,0,0]
[2133,null,null,null,null,0,0,0]
[2134,null,null,null,null,0,0,0]
[2135,null,null,null,null,0,0,0]
[2136,null,null,null,null,0,0,0]
[2137,null,null,null,null,0,0,0]
[2138,null,null,null,null,0,0,0]
[2139,null,null,null,null,0,0,0]
[2140,null,null,null,null,0,0,0]
[2141,null,null,null,null,0,0,0]
[2142,null,null,null,null,0,0,0]
[2143,null,null,null,null,0,0,0]
[2144,null,null,null,null,0,0,0]
[2145,null,null,null,null,0,0,0]
[2146,null,null,null,null,0,0,0]
[2147,null,null,null,null,0,0,0]
[2148,null,null,null,null,0,0,0]
[2149,null,null,null,null,0,0,0]
[2150,null,null,null,null,0,0,0]
[2151,null,null,null,null,0,0,0]
[2152,null,null,null,null,0,0,0]
[2153,null,null,null,null,0,0,0]
[2154,null,null,null,null,0,0,0]
[2155,null,null,null,null,0,0,0]
[2156,null,null,null,null,0,0,0]
[2157,null,null,null,null,0,0,0]
[2158,null,null,null,null,0,0,0]
[2159,null,null,null,null,0,0,0]
[2160,null,null,null,null,0,0,0]
[2161,null,null,null,null,0,0,0]
[2162,null,null,null,null,0,0,0]
[2163,null,null,null,null,0,0,0]
[2164,null,null,null,null,0,0,0]
[2165,null,null,null,null,0,0,0]
[2166,null,null,null,null,0,0,0]
[2167,null,null,null,null,0,0,0]
[2168,null,null,null,null,0,0,0]
[2169,null,null,null,null,0,0,0]
[2170,null,null,null,null,0,0,0]
[2171,null,null,null,null,0,0,0]
[2172,null,null,null,null,0,0,0]
[2173,null,null,null,null,0,0,0]
[2174,null,null,null,null,0,0,0]
[2175,null,null,null,null,0,0,0]
[2176,null,null,null,null,0,0,0]
[2177,null,null,null,null,0,0,0]
[2178,null,null,null,null,{"$f":"MIN(B2187:C2187)","v":0},{"$f":"MIN(D2187:E2187)","v":0},{"$f":"F2187*G2187","v":0}]
[2179,null,null,null,null,0,0,0]
[2180,null,null,null,null,0,0,0]
[2181,null,null,null,null,0,0,0]
[2182,null,null,null,null,0,0,0]
[2183,null,null,null,null,0,0,0]
[2184,null,null,null,null,0,0,0]
[2185,null,null,null,null,0,0,0]
[2186,null,null,null,null,0,0,0]
[2187,null,null,null,null,0,0,0]
[2188,null,null,null,null,0,0,0]
[2189,null,null,null,null,0,0,0]
[2190,null,null,null,null,0,0,0]
[2191,null,null,null,null,0,0,0]
[2192,null,null,null,null,0,0,0]
[2193,null,null,null,null,0,0,0]
[2194,null,null,null,null,0,0,0]
[2195,null,null,null,null,0,0,0]
[2196,null,null,null,null,0,0,0]
[2197,null,null,null,null,0,0,0]
[2198,null,null,null,null,0,0,0]
[2199,null,null,null,null,0,0,0]
[2200,null,null,null,null,0,0,0]
[2201,null,null,null,null,0,0,0]
[2202,null,null,null,null,0,0,0]
[2203,null,null,null,null,0,0,0]
[2204,null,null,null,null,0,0,0]
[2205,null,null,null,null,0,0,0]
[2206,null,null,null,null,0,0,0]
[2207,null,null,null,null,0,0,0]
[2208,null,null,null,null,0,0,0]
[2209,null,null,null,null,0,0,0]
[2210,null,null,null,null,0,0,0]
[2211,null,null,null,null,0,0,0]
[2212,null,null,null,null,0,0,0]
[2213,null,null,null,null,0,0,0]
[2214,null,null,null,null,0,0,0]
[2215,null,null,null,null,0,0,0]
[2216,null,null,null,null,0,0,0]
[2217,null,null,null,null,0,0,0]
[2218,null,null,null,null,0,0,0]
[2219,null,null,null,null,0,0,0]
[2220,null,null,null,null,0,0,0]
[2221,null,null,null,null,0,0,0]
[2222,null,null,null,null,0,0,0]
[2223,null,null,null,null,0,0,0]
[2224,null,null,null,null,0,0,0]
[2225,null,null,null,null,0,0,0]
[2226,null,null,null,null,0,0,0]
[2227,null,null,null,null,0,0,0]
[2228,null,null,null,null,0,0,0]
[2229,null,null,null,null,0,0,0]
[2230,null,null,null,null,0,0,0]
[2231,null,null,null,null,0,0,0]
[2232,null,null,null,null,0,0,0]
[2233,null,null,null,null,0,0,0]
[2234,null,null,null,null,0,0,0]
[2235,null,null,null,null,0,0,0]
[2236,null,null,null,null,0,0,0]
[2237,null,null,null,null,0,0,0]
[2238,null,null,null,null,0,0,0]
[2239,null,null,null,null,0,0,0]
[2240,null,null,null,null,0,0,0]
[2241,null,null,null,null,0,0,0]
[2242,null,null,null,null,{"$f":"MIN(B2251:C2251)","v":0},{"$f":"MIN(D2251:E2251)","v":0},{"$f":"F2251*G2251","v":0}]
[2243,null,null,null,null,0,0,0]
[2244,null,null,null,null,0,0,0]
[2245,null,null,null,null,0,0,0]
[2246,null,null,null,null,0,0,0]
[2247,null,null,null,null,0,0,0]
[2248,null,null,null,null,0,0,0]
[2249,null,null,null,null,0,0,0]
[2250,null,null,null,null,0,0,0]
[2251,null,null,null,null,0,0,0]
[2252,null,null,null,null,0,0,0]
[2253,null,null,null,null,0,0,0]
[2254,null,null,null,null,0,0,0]
[2255,null,null,null,null,0,0,0]
[2256,null,null,null,null,0,0,0]
[2257,null,null,null,null,0,0,0]
[2258,null,null,null,null,0,0,0]
[2259,null,null,null,null,0,0,0]
[2260,null,null,null,null,0,0,0]
[2261,null,null,null,null,0,0,0]
[2262,null,null,null,null,0,0,0]
[2263,null,null,null,null,0,0,0]
[2264,null,null,null,null,0,0,0]
[2265,null,null,null,null,0,0,0]
[2266,null,null,null,null,0,0,0]
[2267,null,null,null,null,0,0,0]
[2268,null,null,null,null,0,0,0]
[2269,null,null,null,null,0,0,0]
[2270,null,null,null,null,0,0,0]
[2271,null,null,null,null,0,0,0]
[2272,null,null,null,null,0,0,0]
[2273,null,null,null,null,0,0,0]
[2274,null,null,null,null,0,0,0]
[2275,null,null,null,null,0,0,0]
[2276,null,null,null,null,0,0,0]
[2277,null,null,null,null,0,0,0]
[2278,null,null,null,null,0,0,0]
[2279,null,null,null,null,0,0,0]
[2280,null,null,null,null,0,0,0]
[2281,null,null,null,null,0,0,0]
[2282,null,null,null,null,0,0,0]
[2283,null,null,null,null,0,0,0]
[2284,null,null,null,null,0,0,0]
[2285,null,null,null,null,0,0,0]
[2286,null,null,null,null,0,0,0]
[2287,null,null,null,null,0,0,0]
[2288,null,null,null,null,0,0,0]
[2289,null,null,null,null,0,0,0]
[2290,null,null,null,null,0,0,0]
[2291,null,null,null,null,0,0,0]
[2292,null,null,null,null,0,0,0]
[2293,null,null,null,null,0,0,0]
[2294,null,null,null,null,0,0,0]
[2295,null,null,null,null,0,0,0]
[2296,null,null,null,null,0,0,0]
[2297,null,null,null,null,0,0,0]
[2298,null,null,null,null,0,0,0]
[2299,null,null,null,null,0,0,0]
[2300,null,null,null,null,0,0,0]
[2301,null,null,null,null,0,0,0]
[2302,null,null,null,null,0,0,0]
[2303,null,null,null,null,0,0,0]
[2304,null,null,null,null,0,0,0]
[2305,null,null,null,null,0,0,0]
[2306,null,null,null,null,{"$f":"MIN(B2315:C2315)","v":0},{"$f":"MIN(D2315:E2315)","v":0},{"$f":"F2315*G2315","v":0}]
[2307,null,null,null,null,0,0,0]
[2308,null,null,null,null,0,0,0]
[2309,null,null,null,null,0,0,0]
[2310,null,null,null,null,0,0,0]
[2311,null,null,null,null,0,0,0]
[2312,null,null,null,null,0,0,0]
[2313,null,null,null,null,0,0,0]
[2314,null,null,null,null,0,0,0]
[2315,null,null,null,null,0,0,0]
[2316,null,null,null,null,0,0,0]
[2317,null,null,null,null,0,0,0]
[2318,null,null,null,null,0,0,0]
[2319,null,null,null,null,0,0,0]
[2320,null,null,null,null,0,0,0]
[2321,null,null,null,null,0,0,0]
[2322,null,null,null,null,0,0,0]
[2323,null,null,null,null,0,0,0]
[2324,null,null,null,null,0,0,0]
[2325,null,null,null,null,0,0,0]
[2326,null,null,null,null,0,0,0]
[2327,null,null,null,null,0,0,0]
[2328,null,null,null,null,0,0,0]
[2329,null,null,null,null,0,0,0]
[2330,null,null,null,null,0,0,0]
[2331,null,null,null,null,0,0,0]
[2332,null,null,null,null,0,0,0]
[2333,null,null,null,null,0,0,0]
[2334,null,null,null,null,0,0,0]
[2335,null,null,null,null,0,0,0]
[2336,null,null,null,null,0,0,0]
[2337,null,null,null,null,0,0,0]
[2338,null,null,null,null,0,0,0]
[2339,null,null,null,null,0,0,0]
[2340,null,null,null,null,0,0,0]
[2341,null,null,null,null,0,0,0]
[2342,null,null,null,null,0,0,0]
[2343,null,null,null,null,0,0,0]
[2344,null,null,null,null,0,0,0]
[2345,null,null,null,null,0,0,0]
[2346,null,null,null,null,0,0,0]
[2347,null,null,null,null,0,0,0]
[2348,null,null,null,null,0,0,0]
[2349,null,null,null,null,0,0,0]
[2350,null,null,null,null,0,0,0]
[2351,null,null,null,null,0,0,0]
[2352,null,null,null,null,0,0,0]
[2353,null,null,null,null,0,0,0]
[2354,null,null,null,null,0,0,0]
[2355,null,null,null,null,0,0,0]
[2356,null,null,null,null,0,0,0]
[2357,null,null,null,null,0,0,0]
[2358,null,null,null,null,0,0,0]
[2359,null,null,null,null,0,0,0]
[2360,null,null,null,null,0,0,0]
[2361,null,null,null,null,0,0,0]
[2362,null,null,null,null,0,0,0]
[2363,null,null,null,null,0,0,0]
[2364,null,null,null,null,0,0,0]
[2365,null,null,null,null,0,0,0]
[2366,null,null,null,null,0,0,0]
[2367,null,null,null,null,0,0,0]
[2368,null,null,null,null,0,0,0]
[2369,null,null,null,null,0,0,0]
[2370,null,null,null,null,{"$f":"MIN(B2379:C2379)","v":0},{"$f":"MIN(D2379:E2379)","v":0},{"$f":"F2379*G2379","v":0}]
[2371,null,null,null,null,0,0,0]
[2372,null,null,null,null,0,0,0]
[2373,null,null,null,null,0,0,0]
[2374,null,null,null,null,0,0,0]
[2375,null,null,null,null,0,0,0]
[2376,null,null,null,null,0,0,0]
[2377,null,null,null,null,0,0,0]
[2378,null,null,null,null,0,0,0]
[2379,null,null,null,null,0,0,0]
[2380,null,null,null,null,0,0,0]
[2381,null,null,null,null,0,0,0]
[2382,null,null,null,null,0,0,0]
[2383,null,null,null,null,0,0,0]
[2384,null,null,null,null,0,0,0]
[2385,null,null,null,null,0,0,0]
[2386,null,null,null,null,0,0,0]
[2387,null,null,null,null,0,0,0]
[2388,null,null,null,null,0,0,0]
[2389,null,null,null,null,0,0,0]
[2390,null,null,null,null,0,0,0]
[2391,null,null,null,null,0,0,0]
[2392,null,null,null,null,0,0,0]
[2393,null,null,null,null,0,0,0]
[2394,null,null,null,null,0,0,0]
[2395,null,null,null,null,0,0,0]
[2396,null,null,null,null,0,0,0]
[2397,null,null,null,null,0,0,0]
[2398,null,null,null,null,0,0,0]
[2399,null,null,null,null,0,0,0]
[2400,null,null,null,null,0,0,0]
[2401,null,null,null,null,0,0,0]
[2402,null,null,null,null,0,0,0]
[2403,null,null,null,null,0,0,0]
[2404,null,null,null,null,0,0,0]
[2405,null,null,null,null,0,0,0]
[2406,null,null,null,null,0,0,0]
[2407,null,null,null,null,0,0,0]
[2408,null,null,null,null,0,0,0]
[2409,null,null,null,null,0,0,0]
[2410,null,null,null,null,0,0,0]
[2411,null,null,null,null,0,0,0]
[2412,null,null,null,null,0,0,0]
[2413,null,null,null,null,0,0,0]
[2414,null,null,null,null,0,0,0]
[2415,null,null,null,null,0,0,0]
[2416,null,null,null,null,0,0,0]
[2417,null,null,null,null,0,0,0]
[2418,null,null,null,null,0,0,0]
[2419,null,null,null,null,0,0,0]
[2420,null,null,null,null,0,0,0]
[2421,null,null,null,null,0,0,0]
[2422,null,null,null,null,0,0,0]
[2423,null,null,null,null,0,0,0]
[2424,null,null,null,null,0,0,0]
[2425,null,null,null,null,0,0,0]
[2426,null,null,null,null,0,0,0]
[2427,null,null,null,null,0,0,0]
[2428,null,null,null,null,0,0,0]
[2429,null,null,null,null,0,0,0]
[2430,null,null,null,null,0,0,0]
[2431,null,null,null,null,0,0,0]
[2432,null,null,null,null,0,0,0]
[2433,null,null,null,null,0,0,0]
[2434,null,null,null,null,{"$f":"MIN(B2443:C2443)","v":0},{"$f":"MIN(D2443:E2443)","v":0},{"$f":"F2443*G2443","v":0}]
[2435,null,null,null,null,0,0,0]
[2436,null,null,null,null,0,0,0]
[2437,null,null,null,null,0,0,0]
[2438,null,null,null,null,0,0,0]
[2439,null,null,null,null,0,0,0]
[2440,null,null,null,null,0,0,0]
[2441,null,null,null,null,0,0,0]
[2442,null,null,null,null,0,0,0]
[2443,null,null,null,null,0,0,0]
[2444,null,null,null,null,0,0,0]
[2445,null,null,null,null,0,0,0]
[2446,null,null,null,null,0,0,0]
[2447,null,null,null,null,0,0,0]
[2448,null,null,null,null,0,0,0]
[2449,null,null,null,null,0,0,0]
[2450,null,null,null,null,0,0,0]
[2451,null,null,null,null,0,0,0]
[2452,null,null,null,null,0,0,0]
[2453,null,null,null,null,0,0,0]
[2454,null,null,null,null,0,0,0]
[2455,null,null,null,null,0,0,0]
[2456,null,null,null,null,0,0,0]
[2457,null,null,null,null,0,0,0]
[2458,null,null,null,null,0,0,0]
[2459,null,null,null,null,0,0,0]
[2460,null,null,null,null,0,0,0]
[2461,null,null,null,null,0,0,0]
[2462,null,null,null,null,0,0,0]
[2463,null,null,null,null,0,0,0]
[2464,null,null,null,null,0,0,0]
[2465,null,null,null,null,0,0,0]
[2466,null,null,null,null,0,0,0]
[2467,null,null,null,null,0,0,0]
[2468,null,null,null,null,0,0,0]
[2469,null,null,null,null,0,0,0]
[2470,null,null,null,null,0,0,0]
[2471,null,null,null,null,0,0,0]
[2472,null,null,null,null,0,0,0]
[2473,null,null,null,null,0,0,0]
[2474,null,null,null,null,0,0,0]
[2475,null,null,null,null,0,0,0]
[2476,null,null,null,null,0,0,0]
[2477,null,null,null,null,0,0,0]
[2478,null,null,null,null,0,0,0]
[2479,null,null,null,null,0,0,0]
[2480,null,null,null,null,0,0,0]
[2481,null,null,null,null,0,0,0]
[2482,null,null,null,null,0,0,0]
[2483,null,null,null,null,0,0,0]
[2484,null,null,null,null,0,0,0]
[2485,null,null,null,null,0,0,0]
[2486,null,null,null,null,0,0,0]
[2487,null,null,null,null,0,0,0]
[2488,null,null,null,null,0,0,0]
[2489,null,null,null,null,0,0,0]
[2490,null,null,null,null,0,0,0]
[2491,null,null,null,null,0,0,0]
[2492,null,null,null,null,0,0,0]
[2493,null,null,null,null,0,0,0]
[2494,null,null,null,null,0,0,0]
[2495,null,null,null,null,0,0,0]
[2496,null,null,null,null,0,0,0]
[2497,null,null,null,null,0,0,0]
[2498,null,null,null,null,{"$f":"MIN(B2507:C2507)","v":0},{"$f":"MIN(D2507:E2507)","v":0},{"$f":"F2507*G2507","v":0}]
[2499,null,null,null,null,0,0,0]
[2500,null,null,null,null,0,0,0]
[2501,null,null,null,null,0,0,0]
[2502,null,null,null,null,0,0,0]
[2503,null,null,null,null,0,0,0]
[2504,null,null,null,null,0,0,0]
[2505,null,null,null,null,0,0,0]
[2506,null,null,null,null,0,0,0]
[2507,null,null,null,null,0,0,0]
[2508,null,null,null,null,0,0,0]
[2509,null,null,null,null,0,0,0]
[2510,null,null,null,null,0,0,0]
[2511,null,null,null,null,0,0,0]
[2512,null,null,null,null,0,0,0]
[2513,null,null,null,null,0,0,0]
[2514,null,null,null,null,0,0,0]
[2515,null,null,null,null,0,0,0]
[2516,null,null,null,null,0,0,0]
[2517,null,null,null,null,0,0,0]
[2518,null,null,null,null,0,0,0]
[2519,null,null,null,null,0,0,0]
[2520,null,null,null,null,0,0,0]
[2521,null,null,null,null,0,0,0]
[2522,null,null,null,null,0,0,0]
[2523,null,null,null,null,0,0,0]
[2524,null,null,null,null,0,0,0]
[2525,null,null,null,null,0,0,0]
[2526,null,null,null,null,0,0,0]
[2527,null,null,null,null,0,0,0]
[2528,null,null,null,null,0,0,0]
[2529,null,null,null,null,0,0,0]
[2530,null,null,null,null,0,0,0]
[2531,null,null,null,null,0,0,0]
[2532,null,null,null,null,0,0,0]
[2533,null,null,null,null,0,0,0]
[2534,null,null,null,null,0,0,0]
[2535,null,null,null,null,0,0,0]
[2536,null,null,null,null,0,0,0]
[2537,null,null,null,null,0,0,0]
[2538,null,null,null,null,0,0,0]
[2539,null,null,null,null,0,0,0]
[2540,null,null,null,null,0,0,0]
[2541,null,null,null,null,0,0,0]
[2542,null,null,null,null,0,0,0]
[2543,null,null,null,null,0,0,0]
[2544,null,null,null,null,0,0,0]
[2545,null,null,null,null,0,0,0]
[2546,null,null,null,null,0,0,0]
[2547,null,null,null,null,0,0,0]
[2548,null,null,null,null,0,0,0]
[2549,null,null,null,null,0,0,0]
[2550,null,null,null,null,0,0,0]
[2551,null,null,null,null,0,0,0]
[2552,null,null,null,null,0,0,0]
[2553,null,null,null,null,0,0,0]
[2554,null,null,null,null,0,0,0]
[2555,null,null,null,null,0,0,0]
[2556,null,null,null,null,0,0,0]
[2557,null,null,null,null,0,0,0]
[2558,null,null,null,null,0,0,0]
[2559,null,null,null,null,0,0,0]
[2560,null,null,null,null,0,0,0]
[2561,null,null,null,null,0,0,0]
[2562,null,null,null,null,{"$f":"MIN(B2571:C2571)","v":0},{"$f":"MIN(D2571:E2571)","v":0},{"$f":"F2571*G2571","v":0}]
[2563,null,null,null,null,0,0,0]
[2564,null,null,null,null,0,0,0]
[2565,null,null,null,null,0,0,0]
[2566,null,null,null,null,0,0,0]
[2567,null,null,null,null,0,0,0]
[2568,null,null,null,null,0,0,0]
[2569,null,null,null,null,0,0,0]
[2570,null,null,null,null,0,0,0]
[2571,null,null,null,null,0,0,0]
[2572,null,null,null,null,0,0,0]
[2573,null,null,null,null,0,0,0]
[2574,null,null,null,null,0,0,0]
[2575,null,null,null,null,0,0,0]
[2576,null,null,null,null,0,0,0]
[2577,null,null,null,null,0,0,0]
[2578,null,null,null,null,0,0,0]
[2579,null,null,null,null,0,0,0]
[2580,null,null,null,null,0,0,0]
[2581,null,null,null,null,0,0,0]
[2582,null,null,null,null,0,0,0]
[2583,null,null,null,null,0,0,0]
[2584,null,null,null,null,0,0,0]
[2585,null,null,null,null,0,0,0]
[2586,null,null,null,null,0,0,0]
[2587,null,null,null,null,0,0,0]
[2588,null,null,null,null,0,0,0]
[2589,null,null,null,null,0,0,0]
[2590,null,null,null,null,0,0,0]
[2591,null,null,null,null,0,0,0]
[2592,null,null,null,null,0,0,0]
[2593,null,null,null,null,0,0,0]
[2594,null,null,null,null,0,0,0]
[2595,null,null,null,null,0,0,0]
[2596,null,null,null,null,0,0,0]
[2597,null,null,null,null,0,0,0]
[2598,null,null,null,null,0,0,0]
[2599,null,null,null,null,0,0,0]
[2600,null,null,null,null,0,0,0]
[2601,null,null,null,null,0,0,0]
[2602,null,null,null,null,0,0,0]
[2603,null,null,null,null,0,0,0]
[2604,null,null,null,null,0,0,0]
[2605,null,null,null,null,0,0,0]
[2606,null,null,null,null,0,0,0]
[2607,null,null,null,null,0,0,0]
[2608,null,null,null,null,0,0,0]
[2609,null,null,null,null,0,0,0]
[2610,null,null,null,null,0,0,0]
[2611,null,null,null,null,0,0,0]
[2612,null,null,null,null,0,0,0]
[2613,null,null,null,null,0,0,0]
[2614,null,null,null,null,0,0,0]
[2615,null,null,null,null,0,0,0]
[2616,null,null,null,null,0,0,0]
[2617,null,null,null,null,0,0,0]
[2618,null,null,null,null,0,0,0]
[2619,null,null,null,null,0,0,0]
[2620,null,null,null,null,0,0,0]
[2621,null,null,null,null,0,0,0]
[2622,null,null,null,null,0,0,0]
[2623,null,null,null,null,0,0,0]
[2624,null,null,null,null,0,0,0]
[2625,null,null,null,null,0,0,0]
[2626,null,null,null,null,{"$f":"MIN(B2635:C2635)","v":0},{"$f":"MIN(D2635:E2635)","v":0},{"$f":"F2635*G2635","v":0}]
[2627,null,null,null,null,0,0,0]
[2628,null,null,null,null,0,0,0]
[2629,null,null,null,null,0,0,0]
[2630,null,null,null,null,0,0,0]
[2631,null,null,null,null,0,0,0]
[2632,null,null,null,null,0,0,0]
[2633,null,null,null,null,0,0,0]
[2634,null,null,null,null,0,0,0]
[2635,null,null,null,null,0,0,0]
[2636,null,null,null,null,0,0,0]
[2637,null,null,null,null,0,0,0]
[2638,null,null,null,null,0,0,0]
[2639,null,null,null,null,0,0,0]
[2640,null,null,null,null,0,0,0]
[2641,null,null,null,null,0,0,0]
[2642,null,null,null,null,0,0,0]
[2643,null,null,null,null,0,0,0]
[2644,null,null,null,null,0,0,0]
[2645,null,null,null,null,0,0,0]
[2646,null,null,null,null,0,0,0]
[2647,null,null,null,null,0,0,0]
[2648,null,null,null,null,0,0,0]
[2649,null,null,null,null,0,0,0]
[2650,null,null,null,null,0,0,0]
[2651,null,null,null,null,0,0,0]
[2652,null,null,null,null,0,0,0]
[2653,null,null,null,null,0,0,0]
[2654,null,null,null,null,0,0,0]
[2655,null,null,null,null,0,0,0]
[2656,null,null,null,null,0,0,0]
[2657,null,null,null,null,0,0,0]
[2658,null,null,null,null,0,0,0]
[2659,null,null,null,null,0,0,0]
[2660,null,null,null,null,0,0,0]
[2661,null,null,null,null,0,0,0]
[2662,null,null,null,null,0,0,0]
[2663,null,null,null,null,0,0,0]
[2664,null,null,null,null,0,0,0]
[2665,null,null,null,null,0,0,0]
[2666,null,null,null,null,0,0,0]
[2667,null,null,null,null,0,0,0]
[2668,null,null,null,null,0,0,0]
[2669,null,null,null,null,0,0,0]
[2670,null,null,null,null,0,0,0]
[2671,null,null,null,null,0,0,0]
[2672,null,null,null,null,0,0,0]
[2673,null,null,null,null,0,0,0]
[2674,null,null,null,null,0,0,0]
[2675,null,null,null,null,0,0,0]
[2676,null,null,null,null,0,0,0]
[2677,null,null,null,null,0,0,0]
[2678,null,null,null,null,0,0,0]
[2679,null,null,null,null,0,0,0]
[2680,null,null,null,null,0,0,0]
[2681,null,null,null,null,0,0,0]
[2682,null,null,null,null,0,0,0]
[2683,null,null,null,null,0,0,0]
[2684,null,null,null,null,0,0,0]
[2685,null,null,null,null,0,0,0]
[2686,null,null,null,null,0,0,0]
[2687,null,null,null,null,0,0,0]
[2688,null,null,null,null,0,0,0]
[2689,null,null,null,null,0,0,0]
[2690,null,null,null,null,{"$f":"MIN(B2699:C2699)","v":0},{"$f":"MIN(D2699:E2699)","v":0},{"$f":"F2699*G2699","v":0}]
[2691,null,null,null,null,0,0,0]
[2692,null,null,null,null,0,0,0]
[2693,null,null,null,null,0,0,0]
[2694,null,null,null,null,0,0,0]
[2695,null,null,null,null,0,0,0]
[2696,null,null,null,null,0,0,0]
[2697,null,null,null,null,0,0,0]
[2698,null,null,null,null,0,0,0]
[2699,null,null,null,null,0,0,0]
[2700,null,null,null,null,0,0,0]
[2701,null,null,null,null,0,0,0]
[2702,null,null,null,null,0,0,0]
[2703,null,null,null,null,0,0,0]
[2704,null,null,null,null,0,0,0]
[2705,null,null,null,null,0,0,0]
[2706,null,null,null,null,0,0,0]
[2707,null,null,null,null,0,0,0]
[2708,null,null,null,null,0,0,0]
[2709,null,null,null,null,0,0,0]
[2710,null,null,null,null,0,0,0]
[2711,null,null,null,null,0,0,0]
[2712,null,null,null,null,0,0,0]
[2713,null,null,null,null,0,0,0]
[2714,null,null,null,null,0,0,0]
[2715,null,null,null,null,0,0,0]
[2716,null,null,null,null,0,0,0]
[2717,null,null,null,null,0,0,0]
[2718,null,null,null,null,0,0,0]
[2719,null,null,null,null,0,0,0]
[2720,null,null,null,null,0,0,0]
[2721,null,null,null,null,0,0,0]
[2722,null,null,null,null,0,0,0]
[2723,null,null,null,null,0,0,0]
[2724,null,null,null,null,0,0,0]
[2725,null,null,null,null,0,0,0]
[2726,null,null,null,null,0,0,0]
[2727,null,null,null,null,0,0,0]
[2728,null,null,null,null,0,0,0]
[2729,null,null,null,null,0,0,0]
[2730,null,null,null,null,0,0,0]
[2731,null,null,null,null,0,0,0]
[2732,null,null,null,null,0,0,0]
[2733,null,null,null,null,0,0,0]
[2734,null,null,null,null,0,0,0]
[2735,null,null,null,null,0,0,0]
[2736,null,null,null,null,0,0,0]
[2737,null,null,null,null,0,0,0]
[2738,null,null,null,null,0,0,0]
[2739,null,null,null,null,0,0,0]
[2740,null,null,null,null,0,0,0]
[2741,null,null,null,null,0,0,0]
[2742,null,null,null,null,0,0,0]
[2743,null,null,null,null,0,0,0]
[2744,null,null,null,null,0,0,0]
[2745,null,null,null,null,0,0,0]
[2746,null,null,null,null,0,0,0]
[2747,null,null,null,null,0,0,0]
[2748,null,null,null,null,0,0,0]
[2749,null,null,null,null,0,0,0]
[2750,null,null,null,null,0,0,0]
[2751,null,null,null,null,0,0,0]
[2752,null,null,null,null,0,0,0]
[2753,null,null,null,null,0,0,0]
[2754,null,null,null,null,{"$f":"MIN(B2763:C2763)","v":0},{"$f":"MIN(D2763:E2763)","v":0},{"$f":"F2763*G2763","v":0}]
[2755,null,null,null,null,0,0,0]
[2756,null,null,null,null,0,0,0]
[2757,null,null,null,null,0,0,0]
[2758,null,null,null,null,0,0,0]
[2759,null,null,null,null,0,0,0]
[2760,null,null,null,null,0,0,0]
[2761,null,null,null,null,0,0,0]
[2762,null,null,null,null,0,0,0]
[2763,null,null,null,null,0,0,0]
[2764,null,null,null,null,0,0,0]
[2765,null,null,null,null,0,0,0]
[2766,null,null,null,null,0,0,0]
[2767,null,null,null,null,0,0,0]
[2768,null,null,null,null,0,0,0]
[2769,null,null,null,null,0,0,0]
[2770,null,null,null,null,0,0,0]
[2771,null,null,null,null,0,0,0]
[2772,null,null,null,null,0,0,0]
[2773,null,null,null,null,0,0,0]
[2774,null,null,null,null,0,0,0]
[2775,null,null,null,null,0,0,0]
[2776,null,null,null,null,0,0,0]
[2777,null,null,null,null,0,0,0]
[2778,null,null,null,null,0,0,0]
[2779,null,null,null,null,0,0,0]
[2780,null,null,null,null,0,0,0]
[2781,null,null,null,null,0,0,0]
[2782,null,null,null,null,0,0,0]
[2783,null,null,null,null,0,0,0]
[2784,null,null,null,null,0,0,0]
[2785,null,null,null,null,0,0,0]
[2786,null,null,null,null,0,0,0]
[2787,null,null,null,null,0,0,0]
[2788,null,null,null,null,0,0,0]
[2789,null,null,null,null,0,0,0]
[2790,null,null,null,null,0,0,0]
[2791,null,null,null,null,0,0,0]
[2792,null,null,null,null,0,0,0]
[2793,null,null,null,null,0,0,0]
[2794,null,null,null,null,0,0,0]
[2795,null,null,null,null,0,0,0]
[2796,null,null,null,null,0,0,0]
[2797,null,null,null,null,0,0,0]
[2798,null,null,null,null,0,0,0]
[2799,null,null,null,null,0,0,0]
[2800,null,null,null,null,0,0,0]
[2801,null,null,null,null,0,0,0]
[2802,null,null,null,null,0,0,0]
[2803,null,null,null,null,0,0,0]
[2804,null,null,null,null,0,0,0]
[2805,null,null,null,null,0,0,0]
[2806,null,null,null,null,0,0,0]
[2807,null,null,null,null,0,0,0]
[2808,null,null,null,null,0,0,0]
[2809,null,null,null,null,0,0,0]
[2810,null,null,null,null,0,0,0]
[2811,null,null,null,null,0,0,0]
[2812,null,null,null,null,0,0,0]
[2813,null,null,null,null,0,0,0]
[2814,null,null,null,null,0,0,0]
[2815,null,null,null,null,0,0,0]
[2816,null,null,null,null,0,0,0]
[2817,null,null,null,null,0,0,0]
[2818,null,null,null,null,{"$f":"MIN(B2827:C2827)","v":0},{"$f":"MIN(D2827:E2827)","v":0},{"$f":"F2827*G2827","v":0}]
[2819,null,null,null,null,0,0,0]
[2820,null,null,null,null,0,0,0]
[2821,null,null,null,null,0,0,0]
[2822,null,null,null,null,0,0,0]
[2823,null,null,null,null,0,0,0]
[2824,null,null,null,null,0,0,0]
[2825,null,null,null,null,0,0,0]
[2826,null,null,null,null,0,0,0]
[2827,null,null,null,null,0,0,0]
[2828,null,null,null,null,0,0,0]
[2829,null,null,null,null,0,0,0]
[2830,null,null,null,null,0,0,0]
[2831,null,null,null,null,0,0,0]
[2832,null,null,null,null,0,0,0]
[2833,null,null,null,null,0,0,0]
[2834,null,null,null,null,0,0,0]
[2835,null,null,null,null,0,0,0]
[2836,null,null,null,null,0,0,0]
[2837,null,null,null,null,0,0,0]
[2838,null,null,null,null,0,0,0]
[2839,null,null,null,null,0,0,0]
[2840,null,null,null,null,0,0,0]
[2841,null,null,null,null,0,0,0]
[2842,null,null,null,null,0,0,0]
[2843,null,null,null,null,0,0,0]
[2844,null,null,null,null,0,0,0]
[2845,null,null,null,null,0,0,0]
[2846,null,null,null,null,0,0,0]
[2847,null,null,null,null,0,0,0]
[2848,null,null,null,null,0,0,0]
[2849,null,null,null,null,0,0,0]
[2850,null,null,null,null,0,0,0]
[2851,null,null,null,null,0,0,0]
[2852,null,null,null,null,0,0,0]
[2853,null,null,null,null,0,0,0]
[2854,null,null,null,null,0,0,0]
[2855,null,null,null,null,0,0,0]
[2856,null,null,null,null,0,0,0]
[2857,null,null,null,null,0,0,0]
[2858,null,null,null,null,0,0,0]
[2859,null,null,null,null,0,0,0]
[2860,null,null,null,null,0,0,0]
[2861,null,null,null,null,0,0,0]
[2862,null,null,null,null,0,0,0]
[2863,null,null,null,null,0,0,0]
[2864,null,null,null,null,0,0,0]
[2865,null,null,null,null,0,0,0]
[2866,null,null,null,null,0,0,0]
[2867,null,null,null,null,0,0,0]
[2868,null,null,null,null,0,0,0]
[2869,null,null,null,null,0,0,0]
[2870,null,null,null,null,0,0,0]
[2871,null,null,null,null,0,0,0]
[2872,null,null,null,null,0,0,0]
[2873,null,null,null,null,0,0,0]
[2874,null,null,null,null,0,0,0]
[2875,null,null,null,null,0,0,0]
[2876,null,null,null,null,0,0,0]
[2877,null,null,null,null,0,0,0]
[2878,null,null,null,null,0,0,0]
[2879,null,null,null,null,0,0,0]
[2880,null,null,null,null,0,0,0]
[2881,null,null,null,null,0,0,0]
[2882,null,null,null,null,{"$f":"MIN(B2891:C2891)","v":0},{"$f":"MIN(D2891:E2891)","v":0},{"$f":"F2891*G2891","v":0}]
[2883,null,null,null,null,0,0,0]
[2884,null,null,null,null,0,0,0]
[2885,null,null,null,null,0,0,0]
[2886,null,null,null,null,0,0,0]
[2887,null,null,null,null,0,0,0]
[2888,null,null,null,null,0,0,0]
[2889,null,null,null,null,0,0,0]
[2890,null,null,null,null,0,0,0]
[2891,null,null,null,null,0,0,0]
[2892,null,null,null,null,0,0,0]
[2893,null,null,null,null,0,0,0]
[2894,null,null,null,null,0,0,0]
[2895,null,null,null,null,0,0,0]
[2896,null,null,null,null,0,0,0]
[2897,null,null,null,null,0,0,0]
[2898,null,null,null,null,0,0,0]
[2899,null,null,null,null,0,0,0]
[2900,null,null,null,null,0,0,0]
[2901,null,null,null,null,0,0,0]
[2902,null,null,null,null,0,0,0]
[2903,null,null,null,null,0,0,0]
[2904,null,null,null,null,0,0,0]
[2905,null,null,null,null,0,0,0]
[2906,null,null,null,null,0,0,0]
[2907,null,null,null,null,0,0,0]
[2908,null,null,null,null,0,0,0]
[2909,null,null,null,null,0,0,0]
[2910,null,null,null,null,0,0,0]
[2911,null,null,null,null,0,0,0]
[2912,null,null,null,null,0,0,0]
[2913,null,null,null,null,0,0,0]
[2914,null,null,null,null,0,0,0]
[2915,null,null,null,null,0,0,0]
[2916,null,null,null,null,0,0,0]
[2917,null,null,null,null,0,0,0]
[2918,null,null,null,null,0,0,0]
[2919,null,null,null,null,0,0,0]
[2920,null,null,null,null,0,0,0]
[2921,null,null,null,null,0,0,0]
[2922,null,null,null,null,0,0,0]
[2923,null,null,null,null,0,0,0]
[2924,null,null,null,null,0,0,0]
[2925,null,null,null,null,0,0,0]
[2926,null,null,null,null,0,0,0]
[2927,null,null,null,null,0,0,0]
[2928,null,null,null,null,0,0,0]
[2929,null,null,null,null,0,0,0]
[2930,null,null,null,null,0,0,0]
[2931,null,null,null,null,0,0,0]
[2932,null,null,null,null,0,0,0]
[2933,null,null,null,null,0,0,0]
[2934,null,null,null,null,0,0,0]
[2935,null,null,null,null,0,0,0]
[2936,null,null,null,null,0,0,0]
[2937,null,null,null,null,0,0,0]
[2938,null,null,null,null,0,0,0]
[2939,null,null,null,null,0,0,0]
[2940,null,null,null,null,0,0,0]
[2941,null,null,null,null,0,0,0]
[2942,null,null,null,null,0,0,0]
[2943,null,null,null,null,0,0,0]
[2944,null,null,null,null,0,0,0]
[2945,null,null,null,null,0,0,0]
[2946,null,null,null,null,{"$f":"MIN(B2955:C2955)","v":0},{"$f":"MIN(D2955:E2955)","v":0},{"$f":"F2955*G2955","v":0}]
[2947,null,null,null,null,0,0,0]
[2948,null,null,null,null,0,0,0]
[2949,null,null,null,null,0,0,0]
[2950,null,null,null,null,0,0,0]
[2951,null,null,null,null,0,0,0]
[2952,null,null,null,null,0,0,0]
[2953,null,null,null,null,0,0,0]
[2954,null,null,null,null,0,0,0]
[2955,null,null,null,null,0,0,0]
[2956,null,null,null,null,0,0,0]
[2957,null,null,null,null,0,0,0]
[2958,null,null,null,null,0,0,0]
[2959,null,null,null,null,0,0,0]
[2960,null,null,null,null,0,0,0]
[2961,null,null,null,null,0,0,0]
[2962,null,null,null,null,0,0,0]
[2963,null,null,null,null,0,0,0]
[2964,null,null,null,null,0,0,0]
[2965,null,null,null,null,0,0,0]
[2966,null,null,null,null,0,0,0]
[2967,null,null,null,null,0,0,0]
[2968,null,null,null,null,0,0,0]
[2969,null,null,null,null,0,0,0]
[2970,null,null,null,null,0,0,0]
[2971,null,null,null,null,0,0,0]
[2972,null,null,null,null,0,0,0]
[2973,null,null,null,null,0,0,0]
[2974,null,null,null,null,0,0,0]
[2975,null,null,null,null,0,0,0]
[2976,null,null,null,null,0,0,0]
[2977,null,null,null,null,0,0,0]
[2978,null,null,null,null,0,0,0]
[2979,null,null,null,null,0,0,0]
[2980,null,null,null,null,0,0,0]
[2981,null,null,null,null,0,0,0]
[2982,null,null,null,null,0,0,0]
[2983,null,null,null,null,0,0,0]
[2984,null,null,null,null,0,0,0]
[2985,null,null,null,null,0,0,0]
[2986,null,null,null,null,0,0,0]
[2987,null,null,null,null,0,0,0]
[2988,null,null,null,null,0,0,0]
[2989,null,null,null,null,0,0,0]
[2990,null,null,null,null,0,0,0]
[2991,null,null,null,null,0,0,0]
[2992,null,null,null,null,0,0,0]
[2993,null,null,null,null,0,0,0]
[2994,null,null,null,null,0,0,0]
[2995,null,null,null,null,0,0,0]
[2996,null,null,null,null,0,0,0]
[2997,null,null,null,null,0,0,0]
[2998,null,null,null,null,0,0,0]
[2999,null,null,null,null,0,0,0]
[3000,null,null,null,null,0,0,0]
[3001,null,null,null,null,0,0,0]
[3002,null,null,null,null,0,0,0]
[3003,null,null,null,null,0,0,0]
[3004,null,null,null,null,0,0,0]
[3005,null,null,null,null,0,0,0]
[3006,null,null,null,null,0,0,0]
[3007,null,null,null,null,0,0,0]
[3008,null,null,null,null,0,0,0]
[3009,null,null,null,null,0,0,0]
[3010,null,null,null,null,{"$f":"MIN(B3019:C3019)","v":0},{"$f":"MIN(D3019:E3019)","v":0},{"$f":"F3019*G3019","v":0}]
[3011,null,null,null,null,0,0,0]
[3012,null,null,null,null,0,0,0]
[3013,null,null,null,null,0,0,0]
[3014,null,null,null,null,0,0,0]
[3015,null,null,null,null,0,0,0]
[3016,null,null,null,null,0,0,0]
[3017,null,null,null,null,0,0,0]
[3018,null,null,null,null,0,0,0]
[3019,null,null,null,null,0,0,0]
[3020,null,null,null,null,0,0,0]
[3021,null,null,null,null,0,0,0]
[3022,null,null,null,null,0,0,0]
[3023,null,null,null,null,0,0,0]
[3024,null,null,null,null,0,0,0]
[3025,null,null,null,null,0,0,0]
[3026,null,null,null,null,0,0,0]
[3027,null,null,null,null,0,0,0]
[3028,null,null,null,null,0,0,0]
[3029,null,null,null,null,0,0,0]
[3030,null,null,null,null,0,0,0]
[3031,null,null,null,null,0,0,0]
[3032,null,null,null,null,0,0,0]
[3033,null,null,null,null,0,0,0]
[3034,null,null,null,null,0,0,0]
[3035,null,null,null,null,0,0,0]
[3036,null,null,null,null,0,0,0]
[3037,null,null,null,null,0,0,0]
[3038,null,null,null,null,0,0,0]
[3039,null,null,null,null,0,0,0]
[3040,null,null,null,null,0,0,0]
[3041,null,null,null,null,0,0,0]
[3042,null,null,null,null,0,0,0]
[3043,null,null,null,null,0,0,0]
[3044,null,null,null,null,0,0,0]
[3045,null,null,null,null,0,0,0]
[3046,null,null,null,null,0,0,0]
[3047,null,null,null,null,0,0,0]
[3048,null,null,null,null,0,0,0]
[3049,null,null,null,null,0,0,0]
[3050,null,null,null,null,0,0,0]
[3051,null,null,null,null,0,0,0]
[3052,null,null,null,null,0,0,0]
[3053,null,null,null,null,0,0,0]
[3054,null,null,null,null,0,0,0]
[3055,null,null,null,null,0,0,0]
[3056,null,null,null,null,0,0,0]
[3057,null,null,null,null,0,0,0]
[3058,null,null,null,null,0,0,0]
[3059,null,null,null,null,0,0,0]
[3060,null,null,null,null,0,0,0]
[3061,null,null,null,null,0,0,0]
[3062,null,null,null,null,0,0,0]
[3063,null,null,null,null,0,0,0]
[3064,null,null,null,null,0,0,0]
[3065,null,null,null,null,0,0,0]
[3066,null,null,null,null,0,0,0]
[3067,null,null,null,null,0,0,0]
[3068,null,null,null,null,0,0,0]
[3069,null,null,null,null,0,0,0]
[3070,null,null,null,null,0,0,0]
[3071,null,null,null,null,0,0,0]
[3072,null,null,null,null,0,0,0]
[3073,null,null,null,null,0,0,0]
[3074,null,null,null,null,{"$f":"MIN(B3083:C3083)","v":0},{"$f":"MIN(D3083:E3083)","v":0},{"$f":"F3083*G3083","v":0}]
[3075,null,null,null,null,0,0,0]
[3076,null,null,null,null,0,0,0]
[3077,null,null,null,null,0,0,0]
[3078,null,null,null,null,0,0,0]
[3079,null,null,null,null,0,0,0]
[3080,null,null,null,null,0,0,0]
[3081,null,null,null,null,0,0,0]
[3082,null,null,null,null,0,0,0]
[3083,null,null,null,null,0,0,0]
[3084,null,null,null,null,0,0,0]
[3085,null,null,null,null,0,0,0]
[3086,null,null,null,null,0,0,0]
[3087,null,null,null,null,0,0,0]
[3088,null,null,null,null,0,0,0]
[3089,null,null,null,null,0,0,0]
[3090,null,null,null,null,0,0,0]
[3091,null,null,null,null,0,0,0]
[3092,null,null,null,null,0,0,0]
[3093,null,null,null,null,0,0,0]
[3094,null,null,null,null,0,0,0]
[3095,null,null,null,null,0,0,0]
[3096,null,null,null,null,0,0,0]
[3097,null,null,null,null,0,0,0]
[3098,null,null,null,null,0,0,0]
[3099,null,null,null,null,0,0,0]
[3100,null,null,null,null,0,0,0]
[3101,null,null,null,null,0,0,0]
[3102,null,null,null,null,0,0,0]
[3103,null,null,null,null,0,0,0]
[3104,null,null,null,null,0,0,0]
[3105,null,null,null,null,0,0,0]
[3106,null,null,null,null,0,0,0]
[3107,null,null,null,null,0,0,0]
[3108,null,null,null,null,0,0,0]
[3109,null,null,null,null,0,0,0]
[3110,null,null,null,null,0,0,0]
[3111,null,null,null,null,0,0,0]
[3112,null,null,null,null,0,0,0]
[3113,null,null,null,null,0,0,0]
[3114,null,null,null,null,0,0,0]
[3115,null,null,null,null,0,0,0]
[3116,null,null,null,null,0,0,0]
[3117,null,null,null,null,0,0,0]
[3118,null,null,null,null,0,0,0]
[3119,null,null,null,null,0,0,0]
[3120,null,null,null,null,0,0,0]
[3121,null,null,null,null,0,0,0]
[3122,null,null,null,null,0,0,0]
[3123,null,null,null,null,0,0,0]
[3124,null,null,null,null,0,0,0]
[3125,null,null,null,null,0,0,0]
[3126,null,null,null,null,0,0,0]
[3127,null,null,null,null,0,0,0]
[3128,null,null,null,null,0,0,0]
[3129,null,null,null,null,0,0,0]
[3130,null,null,null,null,0,0,0]
[3131,null,null,null,null,0,0,0]
[3132,null,null,null,null,0,0,0]
[3133,null,null,null,null,0,0,0]
[3134,null,null,null,null,0,0,0]
[3135,null,null,null,null,0,0,0]
[3136,null,null,null,null,0,0,0]
[3137,null,null,null,null,0,0,0]
[3138,null,null,null,null,{"$f":"MIN(B3147:C3147)","v":0},{"$f":"MIN(D3147:E3147)","v":0},{"$f":"F3147*G3147","v":0}]
[3139,null,null,null,null,0,0,0]
[3140,null,null,null,null,0,0,0]
[3141,null,null,null,null,0,0,0]
[3142,null,null,null,null,0,0,0]
[3143,null,null,null,null,0,0,0]
[3144,null,null,null,null,0,0,0]
[3145,null,null,null,null,0,0,0]
[3146,null,null,null,null,0,0,0]
[3147,null,null,null,null,0,0,0]
[3148,null,null,null,null,0,0,0]
[3149,null,null,null,null,0,0,0]
[3150,null,null,null,null,0,0,0]
[3151,null,null,null,null,0,0,0]
[3152,null,null,null,null,0,0,0]
[3153,null,null,null,null,0,0,0]
[3154,null,null,null,null,0,0,0]
[3155,null,null,null,null,0,0,0]
[3156,null,null,null,null,0,0,0]
[3157,null,null,null,null,0,0,0]
[3158,null,null,null,null,0,0,0]
[3159,null,null,null,null,0,0,0]
[3160,null,null,null,null,0,0,0]
[3161,null,null,null,null,0,0,0]
[3162,null,null,null,null,0,0,0]
[3163,null,null,null,null,0,0,0]
[3164,null,null,null,null,0,0,0]
[3165,null,null,null,null,0,0,0]
[3166,null,null,null,null,0,0,0]
[3167,null,null,null,null,0,0,0]
[3168,null,null,null,null,0,0,0]
[3169,null,null,null,null,0,0,0]
[3170,null,null,null,null,0,0,0]
[3171,null,null,null,null,0,0,0]
[3172,null,null,null,null,0,0,0]
[3173,null,null,null,null,0,0,0]
[3174,null,null,null,null,0,0,0]
[3175,null,null,null,null,0,0,0]
[3176,null,null,null,null,0,0,0]
[3177,null,null,null,null,0,0,0]
[3178,null,null,null,null,0,0,0]
[3179,null,null,null,null,0,0,0]
[3180,null,null,null,null,0,0,0]
[3181,null,null,null,null,0,0,0]
[3182,null,null,null,null,0,0,0]
[3183,null,null,null,null,0,0,0]
[3184,null,null,null,null,0,0,0]
[3185,null,null,null,null,0,0,0]
[3186,null,null,null,null,0,0,0]
[3187,null,null,null,null,0,0,0]
[3188,null,null,null,null,0,0,0]
[3189,null,null,null,null,0,0,0]
[3190,null,null,null,null,0,0,0]
[3191,null,null,null,null,0,0,0]
[3192,null,null,null,null,0,0,0]
[3193,null,null,null,null,0,0,0]
[3194,null,null,null,null,0,0,0]
[3195,null,null,null,null,0,0,0]
[3196,null,null,null,null,0,0,0]
[3197,null,null,null,null,0,0,0]
[3198,null,null,null,null,0,0,0]
[3199,null,null,null,null,0,0,0]
[3200,null,null,null,null,0,0,0]
[3201,null,null,null,null,0,0,0]
[3202,null,null,null,null,{"$f":"MIN(B3211:C3211)","v":0},{"$f":"MIN(D3211:E3211)","v":0},{"$f":"F3211*G3211","v":0}]
[3203,null,null,null,null,0,0,0]
[3204,null,null,null,null,0,0,0]
[3205,null,null,null,null,0,0,0]
[3206,null,null,null,null,0,0,0]
[3207,null,null,null,null,0,0,0]
[3208,null,null,null,null,0,0,0]
[3209,null,null,null,null,0,0,0]
[3210,null,null,null,null,0,0,0]
[3211,null,null,null,null,0,0,0]
[3212,null,null,null,null,0,0,0]
[3213,null,null,null,null,0,0,0]
[3214,null,null,null,null,0,0,0]
[3215,null,null,null,null,0,0,0]
[3216,null,null,null,null,0,0,0]
[3217,null,null,null,null,0,0,0]
[3218,null,null,null,null,0,0,0]
[3219,null,null,null,null,0,0,0]
[3220,null,null,null,null,0,0,0]
[3221,null,null,null,null,0,0,0]
[3222,null,null,null,null,0,0,0]
[3223,null,null,null,null,0,0,0]
[3224,null,null,null,null,0,0,0]
[3225,null,null,null,null,0,0,0]
[3226,null,null,null,null,0,0,0]
[3227,null,null,null,null,0,0,0]
[3228,null,null,null,null,0,0,0]
[3229,null,null,null,null,0,0,0]
[3230,null,null,null,null,0,0,0]
[3231,null,null,null,null,0,0,0]
[3232,null,null,null,null,0,0,0]
[3233,null,null,null,null,0,0,0]
[3234,null,null,null,null,0,0,0]
[3235,null,null,null,null,0,0,0]
[3236,null,null,null,null,0,0,0]
[3237,null,null,null,null,0,0,0]
[3238,null,null,null,null,0,0,0]
[3239,null,null,null,null,0,0,0]
[3240,null,null,null,null,0,0,0]
[3241,null,null,null,null,0,0,0]
[3242,null,null,null,null,0,0,0]
[3243,null,null,null,null,0,0,0]
[3244,null,null,null,null,0,0,0]
[3245,null,null,null,null,0,0,0]
[3246,null,null,null,null,0,0,0]
[3247,null,null,null,null,0,0,0]
[3248,null,null,null,null,0,0,0]
[3249,null,null,null,null,0,0,0]
[3250,null,null,null,null,0,0,0]
[3251,null,null,null,null,0,0,0]
[3252,null,null,null,null,0,0,0]
[3253,null,null,null,null,0,0,0]
[3254,null,null,null,null,0,0,0]
[3255,null,null,null,null,0,0,0]
[3256,null,null,null,null,0,0,0]
[3257,null,null,null,null,0,0,0]
[3258,null,null,null,null,0,0,0]
[3259,null,null,null,null,0,0,0]
[3260,null,null,null,null,0,0,0]
[3261,null,null,null,null,0,0,0]
[3262,null,null,null,null,0,0,0]
[3263,null,null,null,null,0,0,0]
[3264,null,null,null,null,0,0,0]
[3265,null,null,null,null,0,0,0]
[3266,null,null,null,null,{"$f":"MIN(B3275:C3275)","v":0},{"$f":"MIN(D3275:E3275)","v":0},{"$f":"F3275*G3275","v":0}]
[3267,null,null,null,null,0,0,0]
[3268,null,null,null,null,0,0,0]
[3269,null,null,null,null,0,0,0]
[3270,null,null,null,null,0,0,0]
[3271,null,null,null,null,0,0,0]
[3272,null,null,null,null,0,0,0]
[3273,null,null,null,null,0,0,0]
[3274,null,null,null,null,0,0,0]
[3275,null,null,null,null,0,0,0]
[3276,null,null,null,null,0,0,0]
[3277,null,null,null,null,0,0,0]
[3278,null,null,null,null,0,0,0]
[3279,null,null,null,null,0,0,0]
[3280,null,null,null,null,0,0,0]
[3281,null,null,null,null,0,0,0]
[3282,null,null,null,null,0,0,0]
[3283,null,null,null,null,0,0,0]
[3284,null,null,null,null,0,0,0]
[3285,null,null,null,null,0,0,0]
[3286,null,null,null,null,0,0,0]
[3287,null,null,null,null,0,0,0]
[3288,null,null,null,null,0,0,0]
[3289,null,null,null,null,0,0,0]
[3290,null,null,null,null,0,0,0]
[3291,null,null,null,null,0,0,0]
[3292,null,null,null,null,0,0,0]
[3293,null,null,null,null,0,0,0]
[3294,null,null,null,null,0,0,0]
[3295,null,null,null,null,0,0,0]
[3296,null,null,null,null,0,0,0]
[3297,null,null,null,null,0,0,0]
[3298,null,null,null,null,0,0,0]
[3299,null,null,null,null,0,0,0]
[3300,null,null,null,null,0,0,0]
[3301,null,null,null,null,0,0,0]
[3302,null,null,null,null,0,0,0]
[3303,null,null,null,null,0,0,0]
[3304,null,null,null,null,0,0,0]
[3305,null,null,null,null,0,0,0]
[3306,null,null,null,null,0,0,0]
[3307,null,null,null,null,0,0,0]
[3308,null,null,null,null,0,0,0]
[3309,null,null,null,null,0,0,0]
[3310,null,null,null,null,0,0,0]
[3311,null,null,null,null,0,0,0]
[3312,null,null,null,null,0,0,0]
[3313,null,null,null,null,0,0,0]
[3314,null,null,null,null,0,0,0]
[3315,null,null,null,null,0,0,0]
[3316,null,null,null,null,0,0,0]
[3317,null,null,null,null,0,0,0]
[3318,null,null,null,null,0,0,0]
[3319,null,null,null,null,0,0,0]
[3320,null,null,null,null,0,0,0]
[3321,null,null,null,null,0,0,0]
[3322,null,null,null,null,0,0,0]
[3323,null,null,null,null,0,0,0]
[3324,null,null,null,null,0,0,0]
[3325,null,null,null,null,0,0,0]
[3326,null,null,null,null,0,0,0]
[3327,null,null,null,null,0,0,0]
[3328,null,null,null,null,0,0,0]
[3329,null,null,null,null,0,0,0]
[3330,null,null,null,null,{"$f":"MIN(B3339:C3339)","v":0},{"$f":"MIN(D3339:E3339)","v":0},{"$f":"F3339*G3339","v":0}]
[3331,null,null,null,null,0,0,0]
[3332,null,null,null,null,0,0,0]
[3333,null,null,null,null,0,0,0]
[3334,null,null,null,null,0,0,0]
[3335,null,null,null,null,0,0,0]
[3336,null,null,null,null,0,0,0]
[3337,null,null,null,null,0,0,0]
[3338,null,null,null,null,0,0,0]
[3339,null,null,null,null,0,0,0]
[3340,null,null,null,null,0,0,0]
[3341,null,null,null,null,0,0,0]
[3342,null,null,null,null,0,0,0]
[3343,null,null,null,null,0,0,0]
[3344,null,null,null,null,0,0,0]
[3345,null,null,null,null,0,0,0]
[3346,null,null,null,null,0,0,0]
[3347,null,null,null,null,0,0,0]
[3348,null,null,null,null,0,0,0]
[3349,null,null,null,null,0,0,0]
[3350,null,null,null,null,0,0,0]
[3351,null,null,null,null,0,0,0]
[3352,null,null,null,null,0,0,0]
[3353,null,null,null,null,0,0,0]
[3354,null,null,null,null,0,0,0]
[3355,null,null,null,null,0,0,0]
[3356,null,null,null,null,0,0,0]
[3357,null,null,null,null,0,0,0]
[3358,null,null,null,null,0,0,0]
[3359,null,null,null,null,0,0,0]
[3360,null,null,null,null,0,0,0]
[3361,null,null,null,null,0,0,0]
[3362,null,null,null,null,0,0,0]
[3363,null,null,null,null,0,0,0]
[3364,null,null,null,null,0,0,0]
[3365,null,null,null,null,0,0,0]
[3366,null,null,null,null,0,0,0]
[3367,null,null,null,null,0,0,0]
[3368,null,null,null,null,0,0,0]
[3369,null,null,null,null,0,0,0]
[3370,null,null,null,null,0,0,0]
[3371,null,null,null,null,0,0,0]
[3372,null,null,null,null,0,0,0]
[3373,null,null,null,null,0,0,0]
[3374,null,null,null,null,0,0,0]
[3375,null,null,null,null,0,0,0]
[3376,null,null,null,null,0,0,0]
[3377,null,null,null,null,0,0,0]
[3378,null,null,null,null,0,0,0]
[3379,null,null,null,null,0,0,0]
[3380,null,null,null,null,0,0,0]
[3381,null,null,null,null,0,0,0]
[3382,null,null,null,null,0,0,0]
[3383,null,null,null,null,0,0,0]
[3384,null,null,null,null,0,0,0]
[3385,null,null,null,null,0,0,0]
[3386,null,null,null,null,0,0,0]
[3387,null,null,null,null,0,0,0]
[3388,null,null,null,null,0,0,0]
[3389,null,null,null,null,0,0,0]
[3390,null,null,null,null,0,0,0]
[3391,null,null,null,null,0,0,0]
[3392,null,null,null,null,0,0,0]
[3393,null,null,null,null,0,0,0]
[3394,null,null,null,null,{"$f":"MIN(B3403:C3403)","v":0},{"$f":"MIN(D3403:E3403)","v":0},{"$f":"F3403*G3403","v":0}]
[3395,null,null,null,null,0,0,0]
[3396,null,null,null,null,0,0,0]
[3397,null,null,null,null,0,0,0]
[3398,null,null,null,null,0,0,0]
[3399,null,null,null,null,0,0,0]
[3400,null,null,null,null,0,0,0]
[3401,null,null,null,null,0,0,0]
[3402,null,null,null,null,0,0,0]
[3403,null,null,null,null,0,0,0]
[3404,null,null,null,null,0,0,0]
[3405,null,null,null,null,0,0,0]
[3406,null,null,null,null,0,0,0]
[3407,null,null,null,null,0,0,0]
[3408,null,null,null,null,0,0,0]
[3409,null,null,null,null,0,0,0]
[3410,null,null,null,null,0,0,0]
[3411,null,null,null,null,0,0,0]
[3412,null,null,null,null,0,0,0]
[3413,null,null,null,null,0,0,0]
[3414,null,null,null,null,0,0,0]
[3415,null,null,null,null,0,0,0]
[3416,null,null,null,null,0,0,0]
[3417,null,null,null,null,0,0,0]
[3418,null,null,null,null,0,0,0]
[3419,null,null,null,null,0,0,0]
[3420,null,null,null,null,0,0,0]
[3421,null,null,null,null,0,0,0]
[3422,null,null,null,null,0,0,0]
[3423,null,null,null,null,0,0,0]
[3424,null,null,null,null,0,0,0]
[3425,null,null,null,null,0,0,0]
[3426,null,null,null,null,0,0,0]
[3427,null,null,null,null,0,0,0]
[3428,null,null,null,null,0,0,0]
[3429,null,null,null,null,0,0,0]
[3430,null,null,null,null,0,0,0]
[3431,null,null,null,null,0,0,0]
[3432,null,null,null,null,0,0,0]
[3433,null,null,null,null,0,0,0]
[3434,null,null,null,null,0,0,0]
[3435,null,null,null,null,0,0,0]
[3436,null,null,null,null,0,0,0]
[3437,null,null,null,null,0,0,0]
[3438,null,null,null,null,0,0,0]
[3439,null,null,null,null,0,0,0]
[3440,null,null,null,null,0,0,0]
[3441,null,null,null,null,0,0,0]
[3442,null,null,null,null,0,0,0]
[3443,null,null,null,null,0,0,0]
[3444,null,null,null,null,0,0,0]
[3445,null,null,null,null,0,0,0]
[3446,null,null,null,null,0,0,0]
[3447,null,null,null,null,0,0,0]
[3448,null,null,null,null,0,0,0]
[3449,null,null,null,null,0,0,0]
[3450,null,null,null,null,0,0,0]
[3451,null,null,null,null,0,0,0]
[3452,null,null,null,null,0,0,0]
[3453,null,null,null,null,0,0,0]
[3454,null,null,null,null,0,0,0]
[3455,null,null,null,null,0,0,0]
[3456,null,null,null,null,0,0,0]
[3457,null,null,null,null,0,0,0]
[3458,null,null,null,null,{"$f":"MIN(B3467:C3467)","v":0},{"$f":"MIN(D3467:E3467)","v":0},{"$f":"F3467*G3467","v":0}]
[3459,null,null,null,null,0,0,0]
[3460,null,null,null,null,0,0,0]
[3461,null,null,null,null,0,0,0]
[3462,null,null,null,null,0,0,0]
[3463,null,null,null,null,0,0,0]
[3464,null,null,null,null,0,0,0]
[3465,null,null,null,null,0,0,0]
[3466,null,null,null,null,0,0,0]
[3467,null,null,null,null,0,0,0]
[3468,null,null,null,null,0,0,0]
[3469,null,null,null,null,0,0,0]
[3470,null,null,null,null,0,0,0]
[3471,null,null,null,null,0,0,0]
[3472,null,null,null,null,0,0,0]
[3473,null,null,null,null,0,0,0]
[3474,null,null,null,null,0,0,0]
[3475,null,null,null,null,0,0,0]
[3476,null,null,null,null,0,0,0]
[3477,null,null,null,null,0,0,0]
[3478,null,null,null,null,0,0,0]
[3479,null,null,null,null,0,0,0]
[3480,null,null,null,null,0,0,0]
[3481,null,null,null,null,0,0,0]
[3482,null,null,null,null,0,0,0]
[3483,null,null,null,null,0,0,0]
[3484,null,null,null,null,0,0,0]
[3485,null,null,null,null,0,0,0]
[3486,null,null,null,null,0,0,0]
[3487,null,null,null,null,0,0,0]
[3488,null,null,null,null,0,0,0]
[3489,null,null,null,null,0,0,0]
[3490,null,null,null,null,0,0,0]
[3491,null,null,null,null,0,0,0]
[3492,null,null,null,null,0,0,0]
[3493,null,null,null,null,0,0,0]
[3494,null,null,null,null,0,0,0]
[3495,null,null,null,null,0,0,0]
[3496,null,null,null,null,0,0,0]
[3497,null,null,null,null,0,0,0]
[3498,null,null,null,null,0,0,0]
[3499,null,null,null,null,0,0,0]
[3500,null,null,null,null,0,0,0]
[3501,null,null,null,null,0,0,0]
[3502,null,null,null,null,0,0,0]
[3503,null,null,null,null,0,0,0]
[3504,null,null,null,null,0,0,0]
[3505,null,null,null,null,0,0,0]
[3506,null,null,null,null,0,0,0]
[3507,null,null,null,null,0,0,0]
[3508,null,null,null,null,0,0,0]
[3509,null,null,null,null,0,0,0]
[3510,null,null,null,null,0,0,0]
[3511,null,null,null,null,0,0,0]
[3512,null,null,null,null,0,0,0]
[3513,null,null,null,null,0,0,0]
[3514,null,null,null,null,0,0,0]
[3515,null,null,null,null,0,0,0]
[3516,null,null,null,null,0,0,0]
[3517,null,null,null,null,0,0,0]
[3518,null,null,null,null,0,0,0]
[3519,null,null,null,null,0,0,0]
[3520,null,null,null,null,0,0,0]
[3521,null,null,null,null,0,0,0]
[3522,null,null,null,null,{"$f":"MIN(B3531:C3531)","v":0},{"$f":"MIN(D3531:E3531)","v":0},{"$f":"F3531*G3531","v":0}]
[3523,null,null,null,null,0,0,0]
[3524,null,null,null,null,0,0,0]
[3525,null,null,null,null,0,0,0]
[3526,null,null,null,null,0,0,0]
[3527,null,null,null,null,0,0,0]
[3528,null,null,null,null,0,0,0]
[3529,null,null,null,null,0,0,0]
[3530,null,null,null,null,0,0,0]
[3531,null,null,null,null,0,0,0]
[3532,null,null,null,null,0,0,0]
[3533,null,null,null,null,0,0,0]
[3534,null,null,null,null,0,0,0]
[3535,null,null,null,null,0,0,0]
[3536,null,null,null,null,0,0,0]
[3537,null,null,null,null,0,0,0]
[3538,null,null,null,null,0,0,0]
[3539,null,null,null,null,0,0,0]
[3540,null,null,null,null,0,0,0]
[3541,null,null,null,null,0,0,0]
[3542,null,null,null,null,0,0,0]
[3543,null,null,null,null,0,0,0]
[3544,null,null,null,null,0,0,0]
[3545,null,null,null,null,0,0,0]
[3546,null,null,null,null,0,0,0]
[3547,null,null,null,null,0,0,0]
[3548,null,null,null,null,0,0,0]
[3549,null,null,null,null,0,0,0]
[3550,null,null,null,null,0,0,0]
[3551,null,null,null,null,0,0,0]
[3552,null,null,null,null,0,0,0]
[3553,null,null,null,null,0,0,0]
[3554,null,null,null,null,0,0,0]
[3555,null,null,null,null,0,0,0]
[3556,null,null,null,null,0,0,0]
[3557,null,null,null,null,0,0,0]
[3558,null,null,null,null,0,0,0]
[3559,null,null,null,null,0,0,0]
[3560,null,null,null,null,0,0,0]
[3561,null,null,null,null,0,0,0]
[3562,null,null,null,null,0,0,0]
[3563,null,null,null,null,0,0,0]
[3564,null,null,null,null,0,0,0]
[3565,null,null,null,null,0,0,0]
[3566,null,null,null,null,0,0,0]
[3567,null,null,null,null,0,0,0]
[3568,null,null,null,null,0,0,0]
[3569,null,null,null,null,0,0,0]
[3570,null,null,null,null,0,0,0]
[3571,null,null,null,null,0,0,0]
[3572,null,null,null,null,0,0,0]
[3573,null,null,null,null,0,0,0]
[3574,null,null,null,null,0,0,0]
[3575,null,null,null,null,0,0,0]
[3576,null,null,null,null,0,0,0]
[3577,null,null,null,null,0,0,0]
[3578,null,null,null,null,0,0,0]
[3579,null,null,null,null,0,0,0]
[3580,null,null,null,null,0,0,0]
[3581,null,null,null,null,0,0,0]
[3582,null,null,null,null,0,0,0]
[3583,null,null,null,null,0,0,0]
[3584,null,null,null,null,0,0,0]
[3585,null,null,null,null,0,0,0]
[3586,null,null,null,null,{"$f":"MIN(B3595:C3595)","v":0},{"$f":"MIN(D3595:E3595)","v":0},{"$f":"F3595*G3595","v":0}]
[3587,null,null,null,null,0,0,0]
[3588,null,null,null,null,0,0,0]
[3589,null,null,null,null,0,0,0]
[3590,null,null,null,null,0,0,0]
[3591,null,null,null,null,0,0,0]
[3592,null,null,null,null,0,0,0]
[3593,null,null,null,null,0,0,0]
[3594,null,null,null,null,0,0,0]
[3595,null,null,null,null,0,0,0]
[3596,null,null,null,null,0,0,0]
[3597,null,null,null,null,0,0,0]
[3598,null,null,null,null,0,0,0]
[3599,null,null,null,null,0,0,0]
[3600,null,null,null,null,0,0,0]
[3601,null,null,null,null,0,0,0]
[3602,null,null,null,null,0,0,0]
[3603,null,null,null,null,0,0,0]
[3604,null,null,null,null,0,0,0]
[3605,null,null,null,null,0,0,0]
[3606,null,null,null,null,0,0,0]
[3607,null,null,null,null,0,0,0]
[3608,null,null,null,null,0,0,0]
[3609,null,null,null,null,0,0,0]
[3610,null,null,null,null,0,0,0]
[3611,null,null,null,null,0,0,0]
[3612,null,null,null,null,0,0,0]
[3613,null,null,null,null,0,0,0]
[3614,null,null,null,null,0,0,0]
[3615,null,null,null,null,0,0,0]
[3616,null,null,null,null,0,0,0]
[3617,null,null,null,null,0,0,0]
[3618,null,null,null,null,0,0,0]
[3619,null,null,null,null,0,0,0]
[3620,null,null,null,null,0,0,0]
[3621,null,null,null,null,0,0,0]
[3622,null,null,null,null,0,0,0]
[3623,null,null,null,null,0,0,0]
[3624,null,null,null,null,0,0,0]
[3625,null,null,null,null,0,0,0]
[3626,null,null,null,null,0,0,0]
[3627,null,null,null,null,0,0,0]
[3628,null,null,null,null,0,0,0]
[3629,null,null,null,null,0,0,0]
[3630,null,null,null,null,0,0,0]
[3631,null,null,null,null,0,0,0]
[3632,null,null,null,null,0,0,0]
[3633,null,null,null,null,0,0,0]
[3634,null,null,null,null,0,0,0]
[3635,null,null,null,null,0,0,0]
[3636,null,null,null,null,0,0,0]
[3637,null,null,null,null,0,0,0]
[3638,null,null,null,null,0,0,0]
[3639,null,null,null,null,0,0,0]
[3640,null,null,null,null,0,0,0]
[3641,null,null,null,null,0,0,0]
[3642,null,null,null,null,0,0,0]
[3643,null,null,null,null,0,0,0]
[3644,null,null,null,null,0,0,0]
[3645,null,null,null,null,0,0,0]
[3646,null,null,null,null,0,0,0]
[3647,null,null,null,null,0,0,0]
[3648,null,null,null,null,0,0,0]
[3649,null,null,null,null,0,0,0]
[3650,null,null,null,null,{"$f":"MIN(B3659:C3659)","v":0},{"$f":"MIN(D3659:E3659)","v":0},{"$f":"F3659*G3659","v":0}]
[3651,null,null,null,null,0,0,0]
[3652,null,null,null,null,0,0,0]
[3653,null,null,null,null,0,0,0]
[3654,null,null,null,null,0,0,0]
[3655,null,null,null,null,0,0,0]
[3656,null,null,null,null,0,0,0]
[3657,null,null,null,null,0,0,0]
[3658,null,null,null,null,0,0,0]
[3659,null,null,null,null,0,0,0]
[3660,null,null,null,null,0,0,0]
[3661,null,null,null,null,0,0,0]
[3662,null,null,null,null,0,0,0]
[3663,null,null,null,null,0,0,0]
[3664,null,null,null,null,0,0,0]
[3665,null,null,null,null,0,0,0]
[3666,null,null,null,null,0,0,0]
[3667,null,null,null,null,0,0,0]
[3668,null,null,null,null,0,0,0]
[3669,null,null,null,null,0,0,0]
[3670,null,null,null,null,0,0,0]
[3671,null,null,null,null,0,0,0]
[3672,null,null,null,null,0,0,0]
[3673,null,null,null,null,0,0,0]
[3674,null,null,null,null,0,0,0]
[3675,null,null,null,null,0,0,0]
[3676,null,null,null,null,0,0,0]
[3677,null,null,null,null,0,0,0]
[3678,null,null,null,null,0,0,0]
[3679,null,null,null,null,0,0,0]
[3680,null,null,null,null,0,0,0]
[3681,null,null,null,null,0,0,0]
[3682,null,null,null,null,0,0,0]
[3683,null,null,null,null,0,0,0]
[3684,null,null,null,null,0,0,0]
[3685,null,null,null,null,0,0,0]
[3686,null,null,null,null,0,0,0]
[3687,null,null,null,null,0,0,0]
[3688,null,null,null,null,0,0,0]
[3689,null,null,null,null,0,0,0]
[3690,null,null,null,null,0,0,0]
[3691,null,null,null,null,0,0,0]
[3692,null,null,null,null,0,0,0]
[3693,null,null,null,null,0,0,0]
[3694,null,null,null,null,0,0,0]
[3695,null,null,null,null,0,0,0]
[3696,null,null,null,null,0,0,0]
[3697,null,null,null,null,0,0,0]
[3698,null,null,null,null,0,0,0]
[3699,null,null,null,null,0,0,0]
[3700,null,null,null,null,0,0,0]
[3701,null,null,null,null,0,0,0]
[3702,null,null,null,null,0,0,0]
[3703,null,null,null,null,0,0,0]
[3704,null,null,null,null,0,0,0]
[3705,null,null,null,null,0,0,0]
[3706,null,null,null,null,0,0,0]
[3707,null,null,null,null,0,0,0]
[3708,null,null,null,null,0,0,0]
[3709,null,null,null,null,0,0,0]
[3710,null,null,null,null,0,0,0]
[3711,null,null,null,null,0,0,0]
[3712,null,null,null,null,0,0,0]
[3713,null,null,null,null,0,0,0]
[3714,null,null,null,null,{"$f":"MIN(B3723:C3723)","v":0},{"$f":"MIN(D3723:E3723)","v":0},{"$f":"F3723*G3723","v":0}]
[3715,null,null,null,null,0,0,0]
[3716,null,null,null,null,0,0,0]
[3717,null,null,null,null,0,0,0]
[3718,null,null,null,null,0,0,0]
[3719,null,null,null,null,0,0,0]
[3720,null,null,null,null,0,0,0]
[3721,null,null,null,null,0,0,0]
[3722,null,null,null,null,0,0,0]
[3723,null,null,null,null,0,0,0]
[3724,null,null,null,null,0,0,0]
[3725,null,null,null,null,0,0,0]
[3726,null,null,null,null,0,0,0]
[3727,null,null,null,null,0,0,0]
[3728,null,null,null,null,0,0,0]
[3729,null,null,null,null,0,0,0]
[3730,null,null,null,null,0,0,0]
[3731,null,null,null,null,0,0,0]
[3732,null,null,null,null,0,0,0]
[3733,null,null,null,null,0,0,0]
[3734,null,null,null,null,0,0,0]
[3735,null,null,null,null,0,0,0]
[3736,null,null,null,null,0,0,0]
[3737,null,null,null,null,0,0,0]
[3738,null,null,null,null,0,0,0]
[3739,null,null,null,null,0,0,0]
[3740,null,null,null,null,0,0,0]
[3741,null,null,null,null,0,0,0]
[3742,null,null,null,null,0,0,0]
[3743,null,null,null,null,0,0,0]
[3744,null,null,null,null,0,0,0]
[3745,null,null,null,null,0,0,0]
[3746,null,null,null,null,0,0,0]
[3747,null,null,null,null,0,0,0]
[3748,null,null,null,null,0,0,0]
[3749,null,null,null,null,0,0,0]
[3750,null,null,null,null,0,0,0]
[3751,null,null,null,null,0,0,0]
[3752,null,null,null,null,0,0,0]
[3753,null,null,null,null,0,0,0]
[3754,null,null,null,null,0,0,0]
[3755,null,null,null,null,0,0,0]
[3756,null,null,null,null,0,0,0]
[3757,null,null,null,null,0,0,0]
[3758,null,null,null,null,0,0,0]
[3759,null,null,null,null,0,0,0]
[3760,null,null,null,null,0,0,0]
[3761,null,null,null,null,0,0,0]
[3762,null,null,null,null,0,0,0]
[3763,null,null,null,null,0,0,0]
[3764,null,null,null,null,0,0,0]
[3765,null,null,null,null,0,0,0]
[3766,null,null,null,null,0,0,0]
[3767,null,null,null,null,0,0,0]
[3768,null,null,null,null,0,0,0]
[3769,null,null,null,null,0,0,0]
[3770,null,null,null,null,0,0,0]
[3771,null,null,null,null,0,0,0]
[3772,null,null,null,null,0,0,0]
[3773,null,null,null,null,0,0,0]
[3774,null,null,null,null,0,0,0]
[3775,null,null,null,null,0,0,0]
[3776,null,null,null,null,0,0,0]
[3777,null,null,null,null,0,0,0]
[3778,null,null,null,null,{"$f":"MIN(B3787:C3787)","v":0},{"$f":"MIN(D3787:E3787)","v":0},{"$f":"F3787*G3787","v":0}]
[3779,null,null,null,null,0,0,0]
[3780,null,null,null,null,0,0,0]
[3781,null,null,null,null,0,0,0]
[3782,null,null,null,null,0,0,0]
[3783,null,null,null,null,0,0,0]
[3784,null,null,null,null,0,0,0]
[3785,null,null,null,null,0,0,0]
[3786,null,null,null,null,0,0,0]
[3787,null,null,null,null,0,0,0]
[3788,null,null,null,null,0,0,0]
[3789,null,null,null,null,0,0,0]
[3790,null,null,null,null,0,0,0]
[3791,null,null,null,null,0,0,0]
[3792,null,null,null,null,0,0,0]
[3793,null,null,null,null,0,0,0]
[3794,null,null,null,null,0,0,0]
[3795,null,null,null,null,0,0,0]
[3796,null,null,null,null,0,0,0]
[3797,null,null,null,null,0,0,0]
[3798,null,null,null,null,0,0,0]
[3799,null,null,null,null,0,0,0]
[3800,null,null,null,null,0,0,0]
[3801,null,null,null,null,0,0,0]
[3802,null,null,null,null,0,0,0]
[3803,null,null,null,null,0,0,0]
[3804,null,null,null,null,0,0,0]
[3805,null,null,null,null,0,0,0]
[3806,null,null,null,null,0,0,0]
[3807,null,null,null,null,0,0,0]
[3808,null,null,null,null,0,0,0]
[3809,null,null,null,null,0,0,0]
[3810,null,null,null,null,0,0,0]
[3811,null,null,null,null,0,0,0]
[3812,null,null,null,null,0,0,0]
[3813,null,null,null,null,0,0,0]
[3814,null,null,null,null,0,0,0]
[3815,null,null,null,null,0,0,0]
[3816,null,null,null,null,0,0,0]
[3817,null,null,null,null,0,0,0]
[3818,null,null,null,null,0,0,0]
[3819,null,null,null,null,0,0,0]
[3820,null,null,null,null,0,0,0]
[3821,null,null,null,null,0,0,0]
[3822,null,null,null,null,0,0,0]
[3823,null,null,null,null,0,0,0]
[3824,null,null,null,null,0,0,0]
[3825,null,null,null,null,0,0,0]
[3826,null,null,null,null,0,0,0]
[3827,null,null,null,null,0,0,0]
[3828,null,null,null,null,0,0,0]
[3829,null,null,null,null,0,0,0]
[3830,null,null,null,null,0,0,0]
[3831,null,null,null,null,0,0,0]
[3832,null,null,null,null,0,0,0]
[3833,null,null,null,null,0,0,0]
[3834,null,null,null,null,0,0,0]
[3835,null,null,null,null,0,0,0]
[3836,null,null,null,null,0,0,0]
[3837,null,null,null,null,0,0,0]
[3838,null,null,null,null,0,0,0]
[3839,null,null,null,null,0,0,0]
[3840,null,null,null,null,0,0,0]
[3841,null,null,null,null,0,0,0]
[3842,null,null,null,null,{"$f":"MIN(B3851:C3851)","v":0},{"$f":"MIN(D3851:E3851)","v":0},{"$f":"F3851*G3851","v":0}]
[3843,null,null,null,null,0,0,0]
[3844,null,null,null,null,0,0,0]
[3845,null,null,null,null,0,0,0]
[3846,null,null,null,null,0,0,0]
[3847,null,null,null,null,0,0,0]
[3848,null,null,null,null,0,0,0]
[3849,null,null,null,null,0,0,0]
[3850,null,null,null,null,0,0,0]
[3851,null,null,null,null,0,0,0]
[3852,null,null,null,null,0,0,0]
[3853,null,null,null,null,0,0,0]
[3854,null,null,null,null,0,0,0]
[3855,null,null,null,null,0,0,0]
[3856,null,null,null,null,0,0,0]
[3857,null,null,null,null,0,0,0]
[3858,null,null,null,null,0,0,0]
[3859,null,null,null,null,0,0,0]
[3860,null,null,null,null,0,0,0]
[3861,null,null,null,null,0,0,0]
[3862,null,null,null,null,0,0,0]
[3863,null,null,null,null,0,0,0]
[3864,null,null,null,null,0,0,0]
[3865,null,null,null,null,0,0,0]
[3866,null,null,null,null,0,0,0]
[3867,null,null,null,null,0,0,0]
[3868,null,null,null,null,0,0,0]
[3869,null,null,null,null,0,0,0]
[3870,null,null,null,null,0,0,0]
[3871,null,null,null,null,0,0,0]
[3872,null,null,null,null,0,0,0]
[3873,null,null,null,null,0,0,0]
[3874,null,null,null,null,0,0,0]
[3875,null,null,null,null,0,0,0]
[3876,null,null,null,null,0,0,0]
[3877,null,null,null,null,0,0,0]
[3878,null,null,null,null,0,0,0]
[3879,null,null,null,null,0,0,0]
[3880,null,null,null,null,0,0,0]
[3881,null,null,null,null,0,0,0]
[3882,null,null,null,null,0,0,0]
[3883,null,null,null,null,0,0,0]
[3884,null,null,null,null,0,0,0]
[3885,null,null,null,null,0,0,0]
[3886,null,null,null,null,0,0,0]
[3887,null,null,null,null,0,0,0]
[3888,null,null,null,null,0,0,0]
[3889,null,null,null,null,0,0,0]
[3890,null,null,null,null,0,0,0]
[3891,null,null,null,null,0,0,0]
[3892,null,null,null,null,0,0,0]
[3893,null,null,null,null,0,0,0]
[3894,null,null,null,null,0,0,0]
[3895,null,null,null,null,0,0,0]
[3896,null,null,null,null,0,0,0]
[3897,null,null,null,null,0,0,0]
[3898,null,null,null,null,0,0,0]
[3899,null,null,null,null,0,0,0]
[3900,null,null,null,null,0,0,0]
[3901,null,null,null,null,0,0,0]
[3902,null,null,null,null,0,0,0]
[3903,null,null,null,null,0,0,0]
[3904,null,null,null,null,0,0,0]
[3905,null,null,null,null,0,0,0]
[3906,null,null,null,null,{"$f":"MIN(B3915:C3915)","v":0},{"$f":"MIN(D3915:E3915)","v":0},{"$f":"F3915*G3915","v":0}]
[3907,null,null,null,null,0,0,0]
[3908,null,null,null,null,0,0,0]
[3909,null,null,null,null,0,0,0]
[3910,null,null,null,null,0,0,0]
[3911,null,null,null,null,0,0,0]
[3912,null,null,null,null,0,0,0]
[3913,null,null,null,null,0,0,0]
[3914,null,null,null,null,0,0,0]
[3915,null,null,null,null,0,0,0]
[3916,null,null,null,null,0,0,0]
[3917,null,null,null,null,0,0,0]
[3918,null,null,null,null,0,0,0]
[3919,null,null,null,null,0,0,0]
[3920,null,null,null,null,0,0,0]
[3921,null,null,null,null,0,0,0]
[3922,null,null,null,null,0,0,0]
[3923,null,null,null,null,0,0,0]
[3924,null,null,null,null,0,0,0]
[3925,null,null,null,null,0,0,0]
[3926,null,null,null,null,0,0,0]
[3927,null,null,null,null,0,0,0]
[3928,null,null,null,null,0,0,0]
[3929,null,null,null,null,0,0,0]
[3930,null,null,null,null,0,0,0]
[3931,null,null,null,null,0,0,0]
[3932,null,null,null,null,0,0,0]
[3933,null,null,null,null,0,0,0]
[3934,null,null,null,null,0,0,0]
[3935,null,null,null,null,0,0,0]
[3936,null,null,null,null,0,0,0]
[3937,null,null,null,null,0,0,0]
[3938,null,null,null,null,0,0,0]
[3939,null,null,null,null,0,0,0]
[3940,null,null,null,null,0,0,0]
[3941,null,null,null,null,0,0,0]
[3942,null,null,null,null,0,0,0]
[3943,null,null,null,null,0,0,0]
[3944,null,null,null,null,0,0,0]
[3945,null,null,null,null,0,0,0]
[3946,null,null,null,null,0,0,0]
[3947,null,null,null,null,0,0,0]
[3948,null,null,null,null,0,0,0]
[3949,null,null,null,null,0,0,0]
[3950,null,null,null,null,0,0,0]
[3951,null,null,null,null,0,0,0]
[3952,null,null,null,null,0,0,0]
[3953,null,null,null,null,0,0,0]
[3954,null,null,null,null,0,0,0]
[3955,null,null,null,null,0,0,0]
[3956,null,null,null,null,0,0,0]
[3957,null,null,null,null,0,0,0]
[3958,null,null,null,null,0,0,0]
[3959,null,null,null,null,0,0,0]
[3960,null,null,null,null,0,0,0]
[3961,null,null,null,null,0,0,0]
[3962,null,null,null,null,0,0,0]
[3963,null,null,null,null,0,0,0]
[3964,null,null,null,null,0,0,0]
[3965,null,null,null,null,0,0,0]
[3966,null,null,null,null,0,0,0]
[3967,null,null,null,null,0,0,0]
[3968,null,null,null,null,0,0,0]
[3969,null,null,null,null,0,0,0]
[3970,null,null,null,null,{"$f":"MIN(B3979:C3979)","v":0},{"$f":"MIN(D3979:E3979)","v":0},{"$f":"F3979*G3979","v":0}]
[3971,null,null,null,null,0,0,0]
[3972,null,null,null,null,0,0,0]
[3973,null,null,null,null,0,0,0]
[3974,null,null,null,null,0,0,0]
[3975,null,null,null,null,0,0,0]
[3976,null,null,null,null,0,0,0]
[3977,null,null,null,null,0,0,0]
[3978,null,null,null,null,0,0,0]
[3979,null,null,null,null,0,0,0]
[3980,null,null,null,null,0,0,0]
[3981,null,null,null,null,0,0,0]
[3982,null,null,null,null,0,0,0]
[3983,null,null,null,null,0,0,0]
[3984,null,null,null,null,0,0,0]
[3985,null,null,null,null,0,0,0]
[3986,null,null,null,null,0,0,0]
[3987,null,null,null,null,0,0,0]
[3988,null,null,null,null,0,0,0]
[3989,null,null,null,null,0,0,0]
[3990,null,null,null,null,0,0,0]
[3991,null,null,null,null,0,0,0]
[3992,null,null,null,null,0,0,0]
[3993,null,null,null,null,0,0,0]
[3994,null,null,null,null,0,0,0]
[3995,null,null,null,null,0,0,0]
[3996,null,null,null,null,0,0,0]
[3997,null,null,null,null,0,0,0]
[3998,null,null,null,null,0,0,0]
[3999,null,null,null,null,0,0,0]
[4000,null,null,null,null,0,0,0]
[4001,null,null,null,null,0,0,0]
[4002,null,null,null,null,0,0,0]
[4003,null,null,null,null,0,0,0]
[4004,null,null,null,null,0,0,0]
[4005,null,null,null,null,0,0,0]
[4006,null,null,null,null,0,0,0]
[4007,null,null,null,null,0,0,0]
[4008,null,null,null,null,0,0,0]
[4009,null,null,null,null,0,0,0]
[4010,null,null,null,null,0,0,0]
[4011,null,null,null,null,0,0,0]
[4012,null,null,null,null,0,0,0]
[4013,null,null,null,null,0,0,0]
[4014,null,null,null,null,0,0,0]
[4015,null,null,null,null,0,0,0]
[4016,null,null,null,null,0,0,0]
[4017,null,null,null,null,0,0,0]
[4018,null,null,null,null,0,0,0]
[4019,null,null,null,null,0,0,0]
[4020,null,null,null,null,0,0,0]
[4021,null,null,null,null,0,0,0]
[4022,null,null,null,null,0,0,0]
[4023,null,null,null,null,0,0,0]
[4024,null,null,null,null,0,0,0]
[4025,null,null,null,null,0,0,0]
[4026,null,null,null,null,0,0,0]
[4027,null,null,null,null,0,0,0]
[4028,null,null,null,null,0,0,0]
[4029,null,null,null,null,0,0,0]
[4030,null,null,null,null,0,0,0]
[4031,null,null,null,null,0,0,0]
[4032,null,null,null,null,0,0,0]
[4033,null,null,null,null,0,0,0]
[4034,null,null,null,null,{"$f":"MIN(B4043:C4043)","v":0},{"$f":"MIN(D4043:E4043)","v":0},{"$f":"F4043*G4043","v":0}]
[4035,null,null,null,null,0,0,0]
[4036,null,null,null,null,0,0,0]
[4037,null,null,null,null,0,0,0]
[4038,null,null,null,null,0,0,0]
[4039,null,null,null,null,0,0,0]
[4040,null,null,null,null,0,0,0]
[4041,null,null,null,null,0,0,0]
[4042,null,null,null,null,0,0,0]
[4043,null,null,null,null,0,0,0]
[4044,null,null,null,null,0,0,0]
[4045,null,null,null,null,0,0,0]
[4046,null,null,null,null,0,0,0]
[4047,null,null,null,null,0,0,0]
[4048,null,null,null,null,0,0,0]
[4049,null,null,null,null,0,0,0]
[4050,null,null,null,null,0,0,0]
[4051,null,null,null,null,0,0,0]
[4052,null,null,null,null,0,0,0]
[4053,null,null,null,null,0,0,0]
[4054,null,null,null,null,0,0,0]
[4055,null,null,null,null,0,0,0]
[4056,null,null,null,null,0,0,0]
[4057,null,null,null,null,0,0,0]
[4058,null,null,null,null,0,0,0]
[4059,null,null,null,null,0,0,0]
[4060,null,null,null,null,0,0,0]
[4061,null,null,null,null,0,0,0]
[4062,null,null,null,null,0,0,0]
[4063,null,null,null,null,0,0,0]
[4064,null,null,null,null,0,0,0]
[4065,null,null,null,null,0,0,0]
[4066,null,null,null,null,0,0,0]
[4067,null,null,null,null,0,0,0]
[4068,null,null,null,null,0,0,0]
[4069,null,null,null,null,0,0,0]
[4070,null,null,null,null,0,0,0]
[4071,null,null,null,null,0,0,0]
[4072,null,null,null,null,0,0,0]
[4073,null,null,null,null,0,0,0]
[4074,null,null,null,null,0,0,0]
[4075,null,null,null,null,0,0,0]
[4076,null,null,null,null,0,0,0]
[4077,null,null,null,null,0,0,0]
[4078,null,null,null,null,0,0,0]
[4079,null,null,null,null,0,0,0]
[4080,null,null,null,null,0,0,0]
[4081,null,null,null,null,0,0,0]
[4082,null,null,null,null,0,0,0]
[4083,null,null,null,null,0,0,0]
[4084,null,null,null,null,0,0,0]
[4085,null,null,null,null,0,0,0]
[4086,null,null,null,null,0,0,0]
[4087,null,null,null,null,0,0,0]
[4088,null,null,null,null,0,0,0]
[4089,null,null,null,null,0,0,0]
[4090,null,null,null,null,0,0,0]
[4091,null,null,null,null,0,0,0]
[4092,null,null,null,null,0,0,0]
[4093,null,null,null,null,0,0,0]
[4094,null,null,null,null,0,0,0]
[4095,null,null,null,null,0,0,0]
[4096,null,null,null,null,0,0,0]
[4097,null,null,null,null,0,0,0]
[4098,null,null,null,null,{"$f":"MIN(B4107:C4107)","v":0},{"$f":"MIN(D4107:E4107)","v":0},{"$f":"F4107*G4107","v":0}]
[4099,null,null,null,null,0,0,0]
[4100,null,null,null,null,0,0,0]
[4101,null,null,null,null,0,0,0]
[4102,null,null,null,null,0,0,0]
[4103,null,null,null,null,0,0,0]
[4104,null,null,null,null,0,0,0]
[4105,null,null,null,null,0,0,0]
[4106,null,null,null,null,0,0,0]
[4107,null,null,null,null,0,0,0]
[4108,null,null,null,null,0,0,0]
[4109,null,null,null,null,0,0,0]
[4110,null,null,null,null,0,0,0]
[4111,null,null,null,null,0,0,0]
[4112,null,null,null,null,0,0,0]
[4113,null,null,null,null,0,0,0]
[4114,null,null,null,null,0,0,0]
[4115,null,null,null,null,0,0,0]
[4116,null,null,null,null,0,0,0]
[4117,null,null,null,null,0,0,0]
[4118,null,null,null,null,0,0,0]
[4119,null,null,null,null,0,0,0]
[4120,null,null,null,null,0,0,0]
[4121,null,null,null,null,0,0,0]
[4122,null,null,null,null,0,0,0]
[4123,null,null,null,null,0,0,0]
[4124,null,null,null,null,0,0,0]
[4125,null,null,null,null,0,0,0]
[4126,null,null,null,null,0,0,0]
[4127,null,null,null,null,0,0,0]
[4128,null,null,null,null,0,0,0]
[4129,null,null,null,null,0,0,0]
[4130,null,null,null,null,0,0,0]
[4131,null,null,null,null,0,0,0]
[4132,null,null,null,null,0,0,0]
[4133,null,null,null,null,0,0,0]
[4134,null,null,null,null,0,0,0]
[4135,null,null,null,null,0,0,0]
[4136,null,null,null,null,0,0,0]
[4137,null,null,null,null,0,0,0]
[4138,null,null,null,null,0,0,0]
[4139,null,null,null,null,0,0,0]
[4140,null,null,null,null,0,0,0]
[4141,null,null,null,null,0,0,0]
[4142,null,null,null,null,0,0,0]
[4143,null,null,null,null,0,0,0]
[4144,null,null,null,null,0,0,0]
[4145,null,null,null,null,0,0,0]
[4146,null,null,null,null,0,0,0]
[4147,null,null,null,null,0,0,0]
[4148,null,null,null,null,0,0,0]
[4149,null,null,null,null,0,0,0]
[4150,null,null,null,null,0,0,0]
[4151,null,null,null,null,0,0,0]
[4152,null,null,null,null,0,0,0]
[4153,null,null,null,null,0,0,0]
[4154,null,null,null,null,0,0,0]
[4155,null,null,null,null,0,0,0]
[4156,null,null,null,null,0,0,0]
[4157,null,null,null,null,0,0,0]
[4158,null,null,null,null,0,0,0]
[4159,null,null,null,null,0,0,0]
[4160,null,null,null,null,0,0,0]
[4161,null,null,null,null,0,0,0]
[4162,null,null,null,null,{"$f":"MIN(B4171:C4171)","v":0},{"$f":"MIN(D4171:E4171)","v":0},{"$f":"F4171*G4171","v":0}]
[4163,null,null,null,null,0,0,0]
[4164,null,null,null,null,0,0,0]
[4165,null,null,null,null,0,0,0]
[4166,null,null,null,null,0,0,0]
[4167,null,null,null,null,0,0,0]
[4168,null,null,null,null,0,0,0]
[4169,null,null,null,null,0,0,0]
[4170,null,null,null,null,0,0,0]
[4171,null,null,null,null,0,0,0]
[4172,null,null,null,null,0,0,0]
[4173,null,null,null,null,0,0,0]
[4174,null,null,null,null,0,0,0]
[4175,null,null,null,null,0,0,0]
[4176,null,null,null,null,0,0,0]
[4177,null,null,null,null,0,0,0]
[4178,null,null,null,null,0,0,0]
[4179,null,null,null,null,0,0,0]
[4180,null,null,null,null,0,0,0]
[4181,null,null,null,null,0,0,0]
[4182,null,null,null,null,0,0,0]
[4183,null,null,null,null,0,0,0]
[4184,null,null,null,null,0,0,0]
[4185,null,null,null,null,0,0,0]
[4186,null,null,null,null,0,0,0]
[4187,null,null,null,null,0,0,0]
[4188,null,null,null,null,0,0,0]
[4189,null,null,null,null,0,0,0]
[4190,null,null,null,null,0,0,0]
[4191,null,null,null,null,0,0,0]
[4192,null,null,null,null,0,0,0]
[4193,null,null,null,null,0,0,0]
[4194,null,null,null,null,0,0,0]
[4195,null,null,null,null,0,0,0]
[4196,null,null,null,null,0,0,0]
[4197,null,null,null,null,0,0,0]
[4198,null,null,null,null,0,0,0]
[4199,null,null,null,null,0,0,0]
[4200,null,null,null,null,0,0,0]
[4201,null,null,null,null,0,0,0]
[4202,null,null,null,null,0,0,0]
[4203,null,null,null,null,0,0,0]
[4204,null,null,null,null,0,0,0]
[4205,null,null,null,null,0,0,0]
[4206,null,null,null,null,0,0,0]
[4207,null,null,null,null,0,0,0]
[4208,null,null,null,null,0,0,0]
[4209,null,null,null,null,0,0,0]
[4210,null,null,null,null,0,0,0]
[4211,null,null,null,null,0,0,0]
[4212,null,null,null,null,0,0,0]
[4213,null,null,null,null,0,0,0]
[4214,null,null,null,null,0,0,0]
[4215,null,null,null,null,0,0,0]
[4216,null,null,null,null,0,0,0]
[4217,null,null,null,null,0,0,0]
[4218,null,null,null,null,0,0,0]
[4219,null,null,null,null,0,0,0]
[4220,null,null,null,null,0,0,0]
[4221,null,null,null,null,0,0,0]
[4222,null,null,null,null,0,0,0]
[4223,null,null,null,null,0,0,0]
[4224,null,null,null,null,0,0,0]
[4225,null,null,null,null,0,0,0]
[4226,null,null,null,null,{"$f":"MIN(B4235:C4235)","v":0},{"$f":"MIN(D4235:E4235)","v":0},{"$f":"F4235*G4235","v":0}]
[4227,null,null,null,null,0,0,0]
[4228,null,null,null,null,0,0,0]
[4229,null,null,null,null,0,0,0]
[4230,null,null,null,null,0,0,0]
[4231,null,null,null,null,0,0,0]
[4232,null,null,null,null,0,0,0]
[4233,null,null,null,null,0,0,0]
[4234,null,null,null,null,0,0,0]
[4235,null,null,null,null,0,0,0]
[4236,null,null,null,null,0,0,0]
[4237,null,null,null,null,0,0,0]
[4238,null,null,null,null,0,0,0]
[4239,null,null,null,null,0,0,0]
[4240,null,null,null,null,0,0,0]
[4241,null,null,null,null,0,0,0]
[4242,null,null,null,null,0,0,0]
[4243,null,null,null,null,0,0,0]
[4244,null,null,null,null,0,0,0]
[4245,null,null,null,null,0,0,0]
[4246,null,null,null,null,0,0,0]
[4247,null,null,null,null,0,0,0]
[4248,null,null,null,null,0,0,0]
[4249,null,null,null,null,0,0,0]
[4250,null,null,null,null,0,0,0]
[4251,null,null,null,null,0,0,0]
[4252,null,null,null,null,0,0,0]
[4253,null,null,null,null,0,0,0]
[4254,null,null,null,null,0,0,0]
[4255,null,null,null,null,0,0,0]
[4256,null,null,null,null,0,0,0]
[4257,null,null,null,null,0,0,0]
[4258,null,null,null,null,0,0,0]
[4259,null,null,null,null,0,0,0]
[4260,null,null,null,null,0,0,0]
[4261,null,null,null,null,0,0,0]
[4262,null,null,null,null,0,0,0]
[4263,null,null,null,null,0,0,0]
[4264,null,null,null,null,0,0,0]
[4265,null,null,null,null,0,0,0]
[4266,null,null,null,null,0,0,0]
[4267,null,null,null,null,0,0,0]
[4268,null,null,null,null,0,0,0]
[4269,null,null,null,null,0,0,0]
[4270,null,null,null,null,0,0,0]
[4271,null,null,null,null,0,0,0]
[4272,null,null,null,null,0,0,0]
[4273,null,null,null,null,0,0,0]
[4274,null,null,null,null,0,0,0]
[4275,null,null,null,null,0,0,0]
[4276,null,null,null,null,0,0,0]
[4277,null,null,null,null,0,0,0]
[4278,null,null,null,null,0,0,0]
[4279,null,null,null,null,0,0,0]
[4280,null,null,null,null,0,0,0]
[4281,null,null,null,null,0,0,0]
[4282,null,null,null,null,0,0,0]
[4283,null,null,null,null,0,0,0]
[4284,null,null,null,null,0,0,0]
[4285,null,null,null,null,0,0,0]
[4286,null,null,null,null,0,0,0]
[4287,null,null,null,null,0,0,0]
[4288,null,null,null,null,0,0,0]
[4289,null,null,null,null,0,0,0]
[4290,null,null,null,null,{"$f":"MIN(B4299:C4299)","v":0},{"$f":"MIN(D4299:E4299)","v":0},{"$f":"F4299*G4299","v":0}]
[4291,null,null,null,null,0,0,0]
[4292,null,null,null,null,0,0,0]
[4293,null,null,null,null,0,0,0]
[4294,null,null,null,null,0,0,0]
[4295,null,null,null,null,0,0,0]
[4296,null,null,null,null,0,0,0]
[4297,null,null,null,null,0,0,0]
[4298,null,null,null,null,0,0,0]
[4299,null,null,null,null,0,0,0]
[4300,null,null,null,null,0,0,0]
[4301,null,null,null,null,0,0,0]
[4302,null,null,null,null,0,0,0]
[4303,null,null,null,null,0,0,0]
[4304,null,null,null,null,0,0,0]
[4305,null,null,null,null,0,0,0]
[4306,null,null,null,null,0,0,0]
[4307,null,null,null,null,0,0,0]
[4308,null,null,null,null,0,0,0]
[4309,null,null,null,null,0,0,0]
[4310,null,null,null,null,0,0,0]
[4311,null,null,null,null,0,0,0]
[4312,null,null,null,null,0,0,0]
[4313,null,null,null,null,0,0,0]
[4314,null,null,null,null,0,0,0]
[4315,null,null,null,null,0,0,0]
[4316,null,null,null,null,0,0,0]
[4317,null,null,null,null,0,0,0]
[4318,null,null,null,null,0,0,0]
[4319,null,null,null,null,0,0,0]
[4320,null,null,null,null,0,0,0]
[4321,null,null,null,null,0,0,0]
[4322,null,null,null,null,0,0,0]
[4323,null,null,null,null,0,0,0]
[4324,null,null,null,null,0,0,0]
[4325,null,null,null,null,0,0,0]
[4326,null,null,null,null,0,0,0]
[4327,null,null,null,null,0,0,0]
[4328,null,null,null,null,0,0,0]
[4329,null,null,null,null,0,0,0]
[4330,null,null,null,null,0,0,0]
[4331,null,null,null,null,0,0,0]
[4332,null,null,null,null,0,0,0]
[4333,null,null,null,null,0,0,0]
[4334,null,null,null,null,0,0,0]
[4335,null,null,null,null,0,0,0]
[4336,null,null,null,null,0,0,0]
[4337,null,null,null,null,0,0,0]
[4338,null,null,null,null,0,0,0]
[4339,null,null,null,null,0,0,0]
[4340,null,null,null,null,0,0,0]
[4341,null,null,null,null,0,0,0]
[4342,null,null,null,null,0,0,0]
[4343,null,null,null,null,0,0,0]
[4344,null,null,null,null,0,0,0]
[4345,null,null,null,null,0,0,0]
[4346,null,null,null,null,0,0,0]
[4347,null,null,null,null,0,0,0]
[4348,null,null,null,null,0,0,0]
[4349,null,null,null,null,0,0,0]
[4350,null,null,null,null,0,0,0]
[4351,null,null,null,null,0,0,0]
[4352,null,null,null,null,0,0,0]
[4353,null,null,null,null,0,0,0]
[4354,null,null,null,null,{"$f":"MIN(B4363:C4363)","v":0},{"$f":"MIN(D4363:E4363)","v":0},{"$f":"F4363*G4363","v":0}]
[4355,null,null,null,null,0,0,0]
[4356,null,null,null,null,0,0,0]
[4357,null,null,null,null,0,0,0]
[4358,null,null,null,null,0,0,0]
[4359,null,null,null,null,0,0,0]
[4360,null,null,null,null,0,0,0]
[4361,null,null,null,null,0,0,0]
[4362,null,null,null,null,0,0,0]
[4363,null,null,null,null,0,0,0]
[4364,null,null,null,null,0,0,0]
[4365,null,null,null,null,0,0,0]
[4366,null,null,null,null,0,0,0]
[4367,null,null,null,null,0,0,0]
[4368,null,null,null,null,0,0,0]
[4369,null,null,null,null,0,0,0]
[4370,null,null,null,null,0,0,0]
[4371,null,null,null,null,0,0,0]
[4372,null,null,null,null,0,0,0]
[4373,null,null,null,null,0,0,0]
[4374,null,null,null,null,0,0,0]
[4375,null,null,null,null,0,0,0]
[4376,null,null,null,null,0,0,0]
[4377,null,null,null,null,0,0,0]
[4378,null,null,null,null,0,0,0]
[4379,null,null,null,null,0,0,0]
[4380,null,null,null,null,0,0,0]
[4381,null,null,null,null,0,0,0]
[4382,null,null,null,null,0,0,0]
[4383,null,null,null,null,0,0,0]
[4384,null,null,null,null,0,0,0]
[4385,null,null,null,null,0,0,0]
[4386,null,null,null,null,0,0,0]
[4387,null,null,null,null,0,0,0]
[4388,null,null,null,null,0,0,0]
[4389,null,null,null,null,0,0,0]
[4390,null,null,null,null,0,0,0]
[4391,null,null,null,null,0,0,0]
[4392,null,null,null,null,0,0,0]
[4393,null,null,null,null,0,0,0]
[4394,null,null,null,null,0,0,0]
[4395,null,null,null,null,0,0,0]
[4396,null,null,null,null,0,0,0]
[4397,null,null,null,null,0,0,0]
[4398,null,null,null,null,0,0,0]
[4399,null,null,null,null,0,0,0]
[4400,null,null,null,null,0,0,0]
[4401,null,null,null,null,0,0,0]
[4402,null,null,null,null,0,0,0]
[4403,null,null,null,null,0,0,0]
[4404,null,null,null,null,0,0,0]
[4405,null,null,null,null,0,0,0]
[4406,null,null,null,null,0,0,0]
[4407,null,null,null,null,0,0,0]
[4408,null,null,null,null,0,0,0]
[4409,null,null,null,null,0,0,0]
[4410,null,null,null,null,0,0,0]
[4411,null,null,null,null,0,0,0]
[4412,null,null,null,null,0,0,0]
[4413,null,null,null,null,0,0,0]
[4414,null,null,null,null,0,0,0]
[4415,null,null,null,null,0,0,0]
[4416,null,null,null,null,0,0,0]
[4417,null,null,null,null,0,0,0]
[4418,null,null,null,null,{"$f":"MIN(B4427:C4427)","v":0},{"$f":"MIN(D4427:E4427)","v":0},{"$f":"F4427*G4427","v":0}]
[4419,null,null,null,null,0,0,0]
[4420,null,null,null,null,0,0,0]
[4421,null,null,null,null,0,0,0]
[4422,null,null,null,null,0,0,0]
[4423,null,null,null,null,0,0,0]
[4424,null,null,null,null,0,0,0]
[4425,null,null,null,null,0,0,0]
[4426,null,null,null,null,0,0,0]
[4427,null,null,null,null,0,0,0]
[4428,null,null,null,null,0,0,0]
[4429,null,null,null,null,0,0,0]
[4430,null,null,null,null,0,0,0]
[4431,null,null,null,null,0,0,0]
[4432,null,null,null,null,0,0,0]
[4433,null,null,null,null,0,0,0]
[4434,null,null,null,null,0,0,0]
[4435,null,null,null,null,0,0,0]
[4436,null,null,null,null,0,0,0]
[4437,null,null,null,null,0,0,0]
[4438,null,null,null,null,0,0,0]
[4439,null,null,null,null,0,0,0]
[4440,null,null,null,null,0,0,0]
[4441,null,null,null,null,0,0,0]
[4442,null,null,null,null,0,0,0]
[4443,null,null,null,null,0,0,0]
[4444,null,null,null,null,0,0,0]
[4445,null,null,null,null,0,0,0]
[4446,null,null,null,null,0,0,0]
[4447,null,null,null,null,0,0,0]
[4448,null,null,null,null,0,0,0]
[4449,null,null,null,null,0,0,0]
[4450,null,null,null,null,0,0,0]
[4451,null,null,null,null,0,0,0]
[4452,null,null,null,null,0,0,0]
[4453,null,null,null,null,0,0,0]
[4454,null,null,null,null,0,0,0]
[4455,null,null,null,null,0,0,0]
[4456,null,null,null,null,0,0,0]
[4457,null,null,null,null,0,0,0]
[4458,null,null,null,null,0,0,0]
[4459,null,null,null,null,0,0,0]
[4460,null,null,null,null,0,0,0]
[4461,null,null,null,null,0,0,0]
[4462,null,null,null,null,0,0,0]
[4463,null,null,null,null,0,0,0]
[4464,null,null,null,null,0,0,0]
[4465,null,null,null,null,0,0,0]
[4466,null,null,null,null,0,0,0]
[4467,null,null,null,null,0,0,0]
[4468,null,null,null,null,0,0,0]
[4469,null,null,null,null,0,0,0]
[4470,null,null,null,null,0,0,0]
[4471,null,null,null,null,0,0,0]
[4472,null,null,null,null,0,0,0]
[4473,null,null,null,null,0,0,0]
[4474,null,null,null,null,0,0,0]
[4475,null,null,null,null,0,0,0]
[4476,null,null,null,null,0,0,0]
[4477,null,null,null,null,0,0,0]
[4478,null,null,null,null,0,0,0]
[4479,null,null,null,null,0,0,0]
[4480,null,null,null,null,0,0,0]
[4481,null,null,null,null,0,0,0]
[4482,null,null,null,null,{"$f":"MIN(B4491:C4491)","v":0},{"$f":"MIN(D4491:E4491)","v":0},{"$f":"F4491*G4491","v":0}]
[4483,null,null,null,null,0,0,0]
[4484,null,null,null,null,0,0,0]
[4485,null,null,null,null,0,0,0]
[4486,null,null,null,null,0,0,0]
[4487,null,null,null,null,0,0,0]
[4488,null,null,null,null,0,0,0]
[4489,null,null,null,null,0,0,0]
[4490,null,null,null,null,0,0,0]
[4491,null,null,null,null,0,0,0]
[4492,null,null,null,null,0,0,0]
[4493,null,null,null,null,0,0,0]
[4494,null,null,null,null,0,0,0]
[4495,null,null,null,null,0,0,0]
[4496,null,null,null,null,0,0,0]
[4497,null,null,null,null,0,0,0]
[4498,null,null,null,null,0,0,0]
[4499,null,null,null,null,0,0,0]
[4500,null,null,null,null,0,0,0]
[4501,null,null,null,null,0,0,0]
[4502,null,null,null,null,0,0,0]
[4503,null,null,null,null,0,0,0]
[4504,null,null,null,null,0,0,0]
[4505,null,null,null,null,0,0,0]
[4506,null,null,null,null,0,0,0]
[4507,null,null,null,null,0,0,0]
[4508,null,null,null,null,0,0,0]
[4509,null,null,null,null,0,0,0]
[4510,null,null,null,null,0,0,0]
[4511,null,null,null,null,0,0,0]
[4512,null,null,null,null,0,0,0]
[4513,null,null,null,null,0,0,0]
[4514,null,null,null,null,0,0,0]
[4515,null,null,null,null,0,0,0]
[4516,null,null,null,null,0,0,0]
[4517,null,null,null,null,0,0,0]
[4518,null,null,null,null,0,0,0]
[4519,null,null,null,null,0,0,0]
[4520,null,null,null,null,0,0,0]
[4521,null,null,null,null,0,0,0]
[4522,null,null,null,null,0,0,0]
[4523,null,null,null,null,0,0,0]
[4524,null,null,null,null,0,0,0]
[4525,null,null,null,null,0,0,0]
[4526,null,null,null,null,0,0,0]
[4527,null,null,null,null,0,0,0]
[4528,null,null,null,null,0,0,0]
[4529,null,null,null,null,0,0,0]
[4530,null,null,null,null,0,0,0]
[4531,null,null,null,null,0,0,0]
[4532,null,null,null,null,0,0,0]
[4533,null,null,null,null,0,0,0]
[4534,null,null,null,null,0,0,0]
[4535,null,null,null,null,0,0,0]
[4536,null,null,null,null,0,0,0]
[4537,null,null,null,null,0,0,0]
[4538,null,null,null,null,0,0,0]
[4539,null,null,null,null,0,0,0]
[4540,null,null,null,null,0,0,0]
[4541,null,null,null,null,0,0,0]
[4542,null,null,null,null,0,0,0]
[4543,null,null,null,null,0,0,0]
[4544,null,null,null,null,0,0,0]
[4545,null,null,null,null,0,0,0]
[4546,null,null,null,null,{"$f":"MIN(B4555:C4555)","v":0},{"$f":"MIN(D4555:E4555)","v":0},{"$f":"F4555*G4555","v":0}]
[4547,null,null,null,null,0,0,0]
[4548,null,null,null,null,0,0,0]
[4549,null,null,null,null,0,0,0]
[4550,null,null,null,null,0,0,0]
[4551,null,null,null,null,0,0,0]
[4552,null,null,null,null,0,0,0]
[4553,null,null,null,null,0,0,0]
[4554,null,null,null,null,0,0,0]
[4555,null,null,null,null,0,0,0]
[4556,null,null,null,null,0,0,0]
[4557,null,null,null,null,0,0,0]
[4558,null,null,null,null,0,0,0]
[4559,null,null,null,null,0,0,0]
[4560,null,null,null,null,0,0,0]
[4561,null,null,null,null,0,0,0]
[4562,null,null,null,null,0,0,0]
[4563,null,null,null,null,0,0,0]
[4564,null,null,null,null,0,0,0]
[4565,null,null,null,null,0,0,0]
[4566,null,null,null,null,0,0,0]
[4567,null,null,null,null,0,0,0]
[4568,null,null,null,null,0,0,0]
[4569,null,null,null,null,0,0,0]
[4570,null,null,null,null,0,0,0]
[4571,null,null,null,null,0,0,0]
[4572,null,null,null,null,0,0,0]
[4573,null,null,null,null,0,0,0]
[4574,null,null,null,null,0,0,0]
[4575,null,null,null,null,0,0,0]
[4576,null,null,null,null,0,0,0]
[4577,null,null,null,null,0,0,0]
[4578,null,null,null,null,0,0,0]
[4579,null,null,null,null,0,0,0]
[4580,null,null,null,null,0,0,0]
[4581,null,null,null,null,0,0,0]
[4582,null,null,null,null,0,0,0]
[4583,null,null,null,null,0,0,0]
[4584,null,null,null,null,0,0,0]
[4585,null,null,null,null,0,0,0]
[4586,null,null,null,null,0,0,0]
[4587,null,null,null,null,0,0,0]
[4588,null,null,null,null,0,0,0]
[4589,null,null,null,null,0,0,0]
[4590,null,null,null,null,0,0,0]
[4591,null,null,null,null,0,0,0]
[4592,null,null,null,null,0,0,0]
[4593,null,null,null,null,0,0,0]
[4594,null,null,null,null,0,0,0]
[4595,null,null,null,null,0,0,0]
[4596,null,null,null,null,0,0,0]
[4597,null,null,null,null,0,0,0]
[4598,null,null,null,null,0,0,0]
[4599,null,null,null,null,0,0,0]
[4600,null,null,null,null,0,0,0]
[4601,null,null,null,null,0,0,0]
[4602,null,null,null,null,0,0,0]
[4603,null,null,null,null,0,0,0]
[4604,null,null,null,null,0,0,0]
[4605,null,null,null,null,0,0,0]
[4606,null,null,null,null,0,0,0]
[4607,null,null,null,null,0,0,0]
[4608,null,null,null,null,0,0,0]
[4609,null,null,null,null,0,0,0]
[4610,null,null,null,null,{"$f":"MIN(B4619:C4619)","v":0},{"$f":"MIN(D4619:E4619)","v":0},{"$f":"F4619*G4619","v":0}]
[4611,null,null,null,null,0,0,0]
[4612,null,null,null,null,0,0,0]
[4613,null,null,null,null,0,0,0]
[4614,null,null,null,null,0,0,0]
[4615,null,null,null,null,0,0,0]
[4616,null,null,null,null,0,0,0]
[4617,null,null,null,null,0,0,0]
[4618,null,null,null,null,0,0,0]
[4619,null,null,null,null,0,0,0]
[4620,null,null,null,null,0,0,0]
[4621,null,null,null,null,0,0,0]
[4622,null,null,null,null,0,0,0]
[4623,null,null,null,null,0,0,0]
[4624,null,null,null,null,0,0,0]
[4625,null,null,null,null,0,0,0]
[4626,null,null,null,null,0,0,0]
[4627,null,null,null,null,0,0,0]
[4628,null,null,null,null,0,0,0]
[4629,null,null,null,null,0,0,0]
[4630,null,null,null,null,0,0,0]
[4631,null,null,null,null,0,0,0]
[4632,null,null,null,null,0,0,0]
[4633,null,null,null,null,0,0,0]
[4634,null,null,null,null,0,0,0]
[4635,null,null,null,null,0,0,0]
[4636,null,null,null,null,0,0,0]
[4637,null,null,null,null,0,0,0]
[4638,null,null,null,null,0,0,0]
[4639,null,null,null,null,0,0,0]
[4640,null,null,null,null,0,0,0]
[4641,null,null,null,null,0,0,0]
[4642,null,null,null,null,0,0,0]
[4643,null,null,null,null,0,0,0]
[4644,null,null,null,null,0,0,0]
[4645,null,null,null,null,0,0,0]
[4646,null,null,null,null,0,0,0]
[4647,null,null,null,null,0,0,0]
[4648,null,null,null,null,0,0,0]
[4649,null,null,null,null,0,0,0]
[4650,null,null,null,null,0,0,0]
[4651,null,null,null,null,0,0,0]
[4652,null,null,null,null,0,0,0]
[4653,null,null,null,null,0,0,0]
[4654,null,null,null,null,0,0,0]
[4655,null,null,null,null,0,0,0]
[4656,null,null,null,null,0,0,0]
[4657,null,null,null,null,0,0,0]
[4658,null,null,null,null,0,0,0]
[4659,null,null,null,null,0,0,0]
[4660,null,null,null,null,0,0,0]
[4661,null,null,null,null,0,0,0]
[4662,null,null,null,null,0,0,0]
[4663,null,null,null,null,0,0,0]
[4664,null,null,null,null,0,0,0]
[4665,null,null,null,null,0,0,0]
[4666,null,null,null,null,0,0,0]
[4667,null,null,null,null,0,0,0]
[4668,null,null,null,null,0,0,0]
[4669,null,null,null,null,0,0,0]
[4670,null,null,null,null,0,0,0]
[4671,null,null,null,null,0,0,0]
[4672,null,null,null,null,0,0,0]
[4673,null,null,null,null,0,0,0]
[4674,null,null,null,null,{"$f":"MIN(B4683:C4683)","v":0},{"$f":"MIN(D4683:E4683)","v":0},{"$f":"F4683*G4683","v":0}]
[4675,null,null,null,null,0,0,0]
[4676,null,null,null,null,0,0,0]
[4677,null,null,null,null,0,0,0]
[4678,null,null,null,null,0,0,0]
[4679,null,null,null,null,0,0,0]
[4680,null,null,null,null,0,0,0]
[4681,null,null,null,null,0,0,0]
[4682,null,null,null,null,0,0,0]
[4683,null,null,null,null,0,0,0]
[4684,null,null,null,null,0,0,0]
[4685,null,null,null,null,0,0,0]
[4686,null,null,null,null,0,0,0]
[4687,null,null,null,null,0,0,0]
[4688,null,null,null,null,0,0,0]
[4689,null,null,null,null,0,0,0]
[4690,null,null,null,null,0,0,0]
[4691,null,null,null,null,0,0,0]
[4692,null,null,null,null,0,0,0]
[4693,null,null,null,null,0,0,0]
[4694,null,null,null,null,0,0,0]
[4695,null,null,null,null,0,0,0]
[4696,null,null,null,null,0,0,0]
[4697,null,null,null,null,0,0,0]
[4698,null,null,null,null,0,0,0]
[4699,null,null,null,null,0,0,0]
[4700,null,null,null,null,0,0,0]
[4701,null,null,null,null,0,0,0]
[4702,null,null,null,null,0,0,0]
[4703,null,null,null,null,0,0,0]
[4704,null,null,null,null,0,0,0]
[4705,null,null,null,null,0,0,0]
[4706,null,null,null,null,0,0,0]
[4707,null,null,null,null,0,0,0]
[4708,null,null,null,null,0,0,0]
[4709,null,null,null,null,0,0,0]
[4710,null,null,null,null,0,0,0]
[4711,null,null,null,null,0,0,0]
[4712,null,null,null,null,0,0,0]
[4713,null,null,null,null,0,0,0]
[4714,null,null,null,null,0,0,0]
[4715,null,null,null,null,0,0,0]
[4716,null,null,null,null,0,0,0]
[4717,null,null,null,null,0,0,0]
[4718,null,null,null,null,0,0,0]
[4719,null,null,null,null,0,0,0]
[4720,null,null,null,null,0,0,0]
[4721,null,null,null,null,0,0,0]
[4722,null,null,null,null,0,0,0]
[4723,null,null,null,null,0,0,0]
[4724,null,null,null,null,0,0,0]
[4725,null,null,null,null,0,0,0]
[4726,null,null,null,null,0,0,0]
[4727,null,null,null,null,0,0,0]
[4728,null,null,null,null,0,0,0]
[4729,null,null,null,null,0,0,0]
[4730,null,null,null,null,0,0,0]
[4731,null,null,null,null,0,0,0]
[4732,null,null,null,null,0,0,0]
[4733,null,null,null,null,0,0,0]
[4734,null,null,null,null,0,0,0]
[4735,null,null,null,null,0,0,0]
[4736,null,null,null,null,0,0,0]
[4737,null,null,null,null,0,0,0]
[4738,null,null,null,null,{"$f":"MIN(B4747:C4747)","v":0},{"$f":"MIN(D4747:E4747)","v":0},{"$f":"F4747*G4747","v":0}]
[4739,null,null,null,null,0,0,0]
[4740,null,null,null,null,0,0,0]
[4741,null,null,null,null,0,0,0]
[4742,null,null,null,null,0,0,0]
[4743,null,null,null,null,0,0,0]
[4744,null,null,null,null,0,0,0]
[4745,null,null,null,null,0,0,0]
[4746,null,null,null,null,0,0,0]
[4747,null,null,null,null,0,0,0]
[4748,null,null,null,null,0,0,0]
[4749,null,null,null,null,0,0,0]
[4750,null,null,null,null,0,0,0]
[4751,null,null,null,null,0,0,0]
[4752,null,null,null,null,0,0,0]
[4753,null,null,null,null,0,0,0]
[4754,null,null,null,null,0,0,0]
[4755,null,null,null,null,0,0,0]
[4756,null,null,null,null,0,0,0]
[4757,null,null,null,null,0,0,0]
[4758,null,null,null,null,0,0,0]
[4759,null,null,null,null,0,0,0]
[4760,null,null,null,null,0,0,0]
[4761,null,null,null,null,0,0,0]
[4762,null,null,null,null,0,0,0]
[4763,null,null,null,null,0,0,0]
[4764,null,null,null,null,0,0,0]
[4765,null,null,null,null,0,0,0]
[4766,null,null,null,null,0,0,0]
[4767,null,null,null,null,0,0,0]
[4768,null,null,null,null,0,0,0]
[4769,null,null,null,null,0,0,0]
[4770,null,null,null,null,0,0,0]
[4771,null,null,null,null,0,0,0]
[4772,null,null,null,null,0,0,0]
[4773,null,null,null,null,0,0,0]
[4774,null,null,null,null,0,0,0]
[4775,null,null,null,null,0,0,0]
[4776,null,null,null,null,0,0,0]
[4777,null,null,null,null,0,0,0]
[4778,null,null,null,null,0,0,0]
[4779,null,null,null,null,0,0,0]
[4780,null,null,null,null,0,0,0]
[4781,null,null,null,null,0,0,0]
[4782,null,null,null,null,0,0,0]
[4783,null,null,null,null,0,0,0]
[4784,null,null,null,null,0,0,0]
[4785,null,null,null,null,0,0,0]
[4786,null,null,null,null,0,0,0]
[4787,null,null,null,null,0,0,0]
[4788,null,null,null,null,0,0,0]
[4789,null,null,null,null,0,0,0]
[4790,null,null,null,null,0,0,0]
[4791,null,null,null,null,0,0,0]
[4792,null,null,null,null,0,0,0]
[4793,null,null,null,null,0,0,0]
[4794,null,null,null,null,0,0,0]
[4795,null,null,null,null,0,0,0]
[4796,null,null,null,null,0,0,0]
[4797,null,null,null,null,0,0,0]
[4798,null,null,null,null,0,0,0]
[4799,null,null,null,null,0,0,0]
[4800,null,null,null,null,0,0,0]
[4801,null,null,null,null,0,0,0]
[4802,null,null,null,null,{"$f":"MIN(B4811:C4811)","v":0},{"$f":"MIN(D4811:E4811)","v":0},{"$f":"F4811*G4811","v":0}]
[4803,null,null,null,null,0,0,0]
[4804,null,null,null,null,0,0,0]
[4805,null,null,null,null,0,0,0]
[4806,null,null,null,null,0,0,0]
[4807,null,null,null,null,0,0,0]
[4808,null,null,null,null,0,0,0]
[4809,null,null,null,null,0,0,0]
[4810,null,null,null,null,0,0,0]
[4811,null,null,null,null,0,0,0]
[4812,null,null,null,null,0,0,0]
[4813,null,null,null,null,0,0,0]
[4814,null,null,null,null,0,0,0]
[4815,null,null,null,null,0,0,0]
[4816,null,null,null,null,0,0,0]
[4817,null,null,null,null,0,0,0]
[4818,null,null,null,null,0,0,0]
[4819,null,null,null,null,0,0,0]
[4820,null,null,null,null,0,0,0]
[4821,null,null,null,null,0,0,0]
[4822,null,null,null,null,0,0,0]
[4823,null,null,null,null,0,0,0]
[4824,null,null,null,null,0,0,0]
[4825,null,null,null,null,0,0,0]
[4826,null,null,null,null,0,0,0]
[4827,null,null,null,null,0,0,0]
[4828,null,null,null,null,0,0,0]
[4829,null,null,null,null,0,0,0]
[4830,null,null,null,null,0,0,0]
[4831,null,null,null,null,0,0,0]
[4832,null,null,null,null,0,0,0]
[4833,null,null,null,null,0,0,0]
[4834,null,null,null,null,0,0,0]
[4835,null,null,null,null,0,0,0]
[4836,null,null,null,null,0,0,0]
[4837,null,null,null,null,0,0,0]
[4838,null,null,null,null,0,0,0]
[4839,null,null,null,null,0,0,0]
[4840,null,null,null,null,0,0,0]
[4841,null,null,null,null,0,0,0]
[4842,null,null,null,null,0,0,0]
[4843,null,null,null,null,0,0,0]
[4844,null,null,null,null,0,0,0]
[4845,null,null,null,null,0,0,0]
[4846,null,null,null,null,0,0,0]
[4847,null,null,null,null,0,0,0]
[4848,null,null,null,null,0,0,0]
[4849,null,null,null,null,0,0,0]
[4850,null,null,null,null,0,0,0]
[4851,null,null,null,null,0,0,0]
[4852,null,null,null,null,0,0,0]
[4853,null,null,null,null,0,0,0]
[4854,null,null,null,null,0,0,0]
[4855,null,null,null,null,0,0,0]
[4856,null,null,null,null,0,0,0]
[4857,null,null,null,null,0,0,0]
[4858,null,null,null,null,0,0,0]
[4859,null,null,null,null,0,0,0]
[4860,null,null,null,null,0,0,0]
[4861,null,null,null,null,0,0,0]
[4862,null,null,null,null,0,0,0]
[4863,null,null,null,null,0,0,0]
[4864,null,null,null,null,0,0,0]
[4865,null,null,null,null,0,0,0]
[4866,null,null,null,null,{"$f":"MIN(B4875:C4875)","v":0},{"$f":"MIN(D4875:E4875)","v":0},{"$f":"F4875*G4875","v":0}]
[4867,null,null,null,null,0,0,0]
[4868,null,null,null,null,0,0,0]
[4869,null,null,null,null,0,0,0]
[4870,null,null,null,null,0,0,0]
[4871,null,null,null,null,0,0,0]
[4872,null,null,null,null,0,0,0]
[4873,null,null,null,null,0,0,0]
[4874,null,null,null,null,0,0,0]
[4875,null,null,null,null,0,0,0]
[4876,null,null,null,null,0,0,0]
[4877,null,null,null,null,0,0,0]
[4878,null,null,null,null,0,0,0]
[4879,null,null,null,null,0,0,0]
[4880,null,null,null,null,0,0,0]
[4881,null,null,null,null,0,0,0]
[4882,null,null,null,null,0,0,0]
[4883,null,null,null,null,0,0,0]
[4884,null,null,null,null,0,0,0]
[4885,null,null,null,null,0,0,0]
[4886,null,null,null,null,0,0,0]
[4887,null,null,null,null,0,0,0]
[4888,null,null,null,null,0,0,0]
[4889,null,null,null,null,0,0,0]
[4890,null,null,null,null,0,0,0]
[4891,null,null,null,null,0,0,0]
[4892,null,null,null,null,0,0,0]
[4893,null,null,null,null,0,0,0]
[4894,null,null,null,null,0,0,0]
[4895,null,null,null,null,0,0,0]
[4896,null,null,null,null,0,0,0]
[4897,null,null,null,null,0,0,0]
[4898,null,null,null,null,0,0,0]
[4899,null,null,null,null,0,0,0]
[4900,null,null,null,null,0,0,0]
[4901,null,null,null,null,0,0,0]
[4902,null,null,null,null,0,0,0]
[4903,null,null,null,null,0,0,0]
[4904,null,null,null,null,0,0,0]
[4905,null,null,null,null,0,0,0]
[4906,null,null,null,null,0,0,0]
[4907,null,null,null,null,0,0,0]
[4908,null,null,null,null,0,0,0]
[4909,null,null,null,null,0,0,0]
[4910,null,null,null,null,0,0,0]
[4911,null,null,null,null,0,0,0]
[4912,null,null,null,null,0,0,0]
[4913,null,null,null,null,0,0,0]
[4914,null,null,null,null,0,0,0]
[4915,null,null,null,null,0,0,0]
[4916,null,null,null,null,0,0,0]
[4917,null,null,null,null,0,0,0]
[4918,null,null,null,null,0,0,0]
[4919,null,null,null,null,0,0,0]
[4920,null,null,null,null,0,0,0]
[4921,null,null,null,null,0,0,0]
[4922,null,null,null,null,0,0,0]
[4923,null,null,null,null,0,0,0]
[4924,null,null,null,null,0,0,0]
[4925,null,null,null,null,0,0,0]
[4926,null,null,null,null,0,0,0]
[4927,null,null,null,null,0,0,0]
[4928,null,null,null,null,0,0,0]
[4929,null,null,null,null,0,0,0]
[4930,null,null,null,null,{"$f":"MIN(B4939:C4939)","v":0},{"$f":"MIN(D4939:E4939)","v":0},{"$f":"F4939*G4939","v":0}]
[4931,null,null,null,null,0,0,0]
[4932,null,null,null,null,0,0,0]
[4933,null,null,null,null,0,0,0]
[4934,null,null,null,null,0,0,0]
[4935,null,null,null,null,0,0,0]
[4936,null,null,null,null,0,0,0]
[4937,null,null,null,null,0,0,0]
[4938,null,null,null,null,0,0,0]
[4939,null,null,null,null,0,0,0]
[4940,null,null,null,null,0,0,0]
[4941,null,null,null,null,0,0,0]
[4942,null,null,null,null,0,0,0]
[4943,null,null,null,null,0,0,0]
[4944,null,null,null,null,0,0,0]
[4945,null,null,null,null,0,0,0]
[4946,null,null,null,null,0,0,0]
[4947,null,null,null,null,0,0,0]
[4948,null,null,null,null,0,0,0]
[4949,null,null,null,null,0,0,0]
[4950,null,null,null,null,0,0,0]
[4951,null,null,null,null,0,0,0]
[4952,null,null,null,null,0,0,0]
[4953,null,null,null,null,0,0,0]
[4954,null,null,null,null,0,0,0]
[4955,null,null,null,null,0,0,0]
[4956,null,null,null,null,0,0,0]
[4957,null,null,null,null,0,0,0]
[4958,null,null,null,null,0,0,0]
[4959,null,null,null,null,0,0,0]
[4960,null,null,null,null,0,0,0]
[4961,null,null,null,null,0,0,0]
[4962,null,null,null,null,0,0,0]
[4963,null,null,null,null,0,0,0]
[4964,null,null,null,null,0,0,0]
[4965,null,null,null,null,0,0,0]
[4966,null,null,null,null,0,0,0]
[4967,null,null,null,null,0,0,0]
[4968,null,null,null,null,0,0,0]
[4969,null,null,null,null,0,0,0]
[4970,null,null,null,null,0,0,0]
[4971,null,null,null,null,0,0,0]
[4972,null,null,null,null,0,0,0]
[4973,null,null,null,null,0,0,0]
[4974,null,null,null,null,0,0,0]
[4975,null,null,null,null,0,0,0]
[4976,null,null,null,null,0,0,0]
[4977,null,null,null,null,0,0,0]
[4978,null,null,null,null,0,0,0]
[4979,null,null,null,null,0,0,0]
[4980,null,null,null,null,0,0,0]
[4981,null,null,null,null,0,0,0]
[4982,null,null,null,null,0,0,0]
[4983,null,null,null,null,0,0,0]
[4984,null,null,null,null,0,0,0]
[4985,null,null,null,null,0,0,0]
[4986,null,null,null,null,0,0,0]
[4987,null,null,null,null,0,0,0]
[4988,null,null,null,null,0,0,0]
[4989,null,null,null,null,0,0,0]
[4990,null,null,null,null,0,0,0]
[4991,null,null,null,null,0,0,0]
[4992,null,null,null,null,0,0,0]
[4993,null,null,null,null,0,0,0]
[4994,null,null,null,null,{"$f":"MIN(B5003:C5003)","v":0},{"$f":"MIN(D5003:E5003)","v":0},{"$f":"F5003*G5003","v":0}]
[4995,null,null,null,null,0,0,0]
[4996,null,null,null,null,0,0,0]
[4997,null,null,null,null,0,0,0]
[4998,null,null,null,null,0,0,0]
[4999,null,null,null,null,0,0,0]
[5000,null,null,null,null,0,0,0]
[5001,null,null,null,null,0,0,0]
[5002,null,null,null,null,0,0,0]
[5003,null,null,null,null,0,0,0]
[5004,null,null,null,null,0,0,0]
[5005,null,null,null,null,0,0,0]
[5006,null,null,null,null,0,0,0]
[5007,null,null,null,null,0,0,0]
[5008,null,null,null,null,0,0,0]
[5009,null,null,null,null,0,0,0]
[5010,null,null,null,null,0,0,0]
[5011,null,null,null,null,0,0,0]
[5012,null,null,null,null,0,0,0]
[5013,null,null,null,null,0,0,0]
[5014,null,null,null,null,0,0,0]
[5015,null,null,null,null,0,0,0]
[5016,null,null,null,null,0,0,0]
[5017,null,null,null,null,0,0,0]
[5018,null,null,null,null,0,0,0]
[5019,null,null,null,null,0,0,0]
[5020,null,null,null,null,0,0,0]
[5021,null,null,null,null,0,0,0]
[5022,null,null,null,null,0,0,0]
[5023,null,null,null,null,0,0,0]
[5024,null,null,null,null,0,0,0]
[5025,null,null,null,null,0,0,0]
[5026,null,null,null,null,0,0,0]
[5027,null,null,null,null,0,0,0]
[5028,null,null,null,null,0,0,0]
[5029,null,null,null,null,0,0,0]
[5030,null,null,null,null,0,0,0]
[5031,null,null,null,null,0,0,0]
[5032,null,null,null,null,0,0,0]
[5033,null,null,null,null,0,0,0]
[5034,null,null,null,null,0,0,0]
[5035,null,null,null,null,0,0,0]
[5036,null,null,null,null,0,0,0]
[5037,null,null,null,null,0,0,0]
[5038,null,null,null,null,0,0,0]
[5039,null,null,null,null,0,0,0]
[5040,null,null,null,null,0,0,0]
[5041,null,null,null,null,0,0,0]
[5042,null,null,null,null,0,0,0]
[5043,null,null,null,null,0,0,0]
[5044,null,null,null,null,0,0,0]
[5045,null,null,null,null,0,0,0]
[5046,null,null,null,null,0,0,0]
[5047,null,null,null,null,0,0,0]
[5048,null,null,null,null,0,0,0]
[5049,null,null,null,null,0,0,0]
[5050,null,null,null,null,0,0,0]
[5051,null,null,null,null,0,0,0]
[5052,null,null,null,null,0,0,0]
[5053,null,null,null,null,0,0,0]
[5054,null,null,null,null,0,0,0]
[5055,null,null,null,null,0,0,0]
[5056,null,null,null,null,0,0,0]
[5057,null,null,null,null,0,0,0]
[5058,null,null,null,null,{"$f":"MIN(B5067:C5067)","v":0},{"$f":"MIN(D5067:E5067)","v":0},{"$f":"F5067*G5067","v":0}]
[5059,null,null,null,null,0,0,0]
[5060,null,null,null,null,0,0,0]
[5061,null,null,null,null,0,0,0]
[5062,null,null,null,null,0,0,0]
[5063,null,null,null,null,0,0,0]
[5064,null,null,null,null,0,0,0]
[5065,null,null,null,null,0,0,0]
[5066,null,null,null,null,0,0,0]
[5067,null,null,null,null,0,0,0]
[5068,null,null,null,null,0,0,0]
[5069,null,null,null,null,0,0,0]
[5070,null,null,null,null,0,0,0]
[5071,null,null,null,null,0,0,0]
[5072,null,null,null,null,0,0,0]
[5073,null,null,null,null,0,0,0]
[5074,null,null,null,null,0,0,0]
[5075,null,null,null,null,0,0,0]
[5076,null,null,null,null,0,0,0]
[5077,null,null,null,null,0,0,0]
[5078,null,null,null,null,0,0,0]
[5079,null,null,null,null,0,0,0]
[5080,null,null,null,null,0,0,0]
[5081,null,null,null,null,0,0,0]
[5082,null,null,null,null,0,0,0]
[5083,null,null,null,null,0,0,0]
[5084,null,null,null,null,0,0,0]
[5085,null,null,null,null,0,0,0]
[5086,null,null,null,null,0,0,0]
[5087,null,null,null,null,0,0,0]
[5088,null,null,null,null,0,0,0]
[5089,null,null,null,null,0,0,0]
[5090,null,null,null,null,0,0,0]
[5091,null,null,null,null,0,0,0]
[5092,null,null,null,null,0,0,0]
[5093,null,null,null,null,0,0,0]
[5094,null,null,null,null,0,0,0]
[5095,null,null,null,null,0,0,0]
[5096,null,null,null,null,0,0,0]
[5097,null,null,null,null,0,0,0]
[5098,null,null,null,null,0,0,0]
[5099,null,null,null,null,0,0,0]
[5100,null,null,null,null,0,0,0]
[5101,null,null,null,null,0,0,0]
[5102,null,null,null,null,0,0,0]
[5103,null,null,null,null,0,0,0]
[5104,null,null,null,null,0,0,0]
[5105,null,null,null,null,0,0,0]
[5106,null,null,null,null,0,0,0]
[5107,null,null,null,null,0,0,0]
[5108,null,null,null,null,0,0,0]
[5109,null,null,null,null,0,0,0]
[5110,null,null,null,null,0,0,0]
[5111,null,null,null,null,0,0,0]
[5112,null,null,null,null,0,0,0]
[5113,null,null,null,null,0,0,0]
[5114,null,null,null,null,0,0,0]
[5115,null,null,null,null,0,0,0]
[5116,null,null,null,null,0,0,0]
[5117,null,null,null,null,0,0,0]
[5118,null,null,null,null,0,0,0]
[5119,null,null,null,null,0,0,0]
[5120,null,null,null,null,0,0,0]
[5121,null,null,null,null,0,0,0]
[5122,null,null,null,null,{"$f":"MIN(B5131:C5131)","v":0},{"$f":"MIN(D5131:E5131)","v":0},{"$f":"F5131*G5131","v":0}]
[5123,null,null,null,null,0,0,0]
[5124,null,null,null,null,0,0,0]
[5125,null,null,null,null,0,0,0]
[5126,null,null,null,null,0,0,0]
[5127,null,null,null,null,0,0,0]
[5128,null,null,null,null,0,0,0]
[5129,null,null,null,null,0,0,0]
[5130,null,null,null,null,0,0,0]
[5131,null,null,null,null,0,0,0]
[5132,null,null,null,null,0,0,0]
[5133,null,null,null,null,0,0,0]
[5134,null,null,null,null,0,0,0]
[5135,null,null,null,null,0,0,0]
[5136,null,null,null,null,0,0,0]
[5137,null,null,null,null,0,0,0]
[5138,null,null,null,null,0,0,0]
[5139,null,null,null,null,0,0,0]
[5140,null,null,null,null,0,0,0]
[5141,null,null,null,null,0,0,0]
[5142,null,null,null,null,0,0,0]
[5143,null,null,null,null,0,0,0]
[5144,null,null,null,null,0,0,0]
[5145,null,null,null,null,0,0,0]
[5146,null,null,null,null,0,0,0]
[5147,null,null,null,null,0,0,0]
[5148,null,null,null,null,0,0,0]
[5149,null,null,null,null,0,0,0]
[5150,null,null,null,null,0,0,0]
[5151,null,null,null,null,0,0,0]
[5152,null,null,null,null,0,0,0]
[5153,null,null,null,null,0,0,0]
[5154,null,null,null,null,0,0,0]
[5155,null,null,null,null,0,0,0]
[5156,null,null,null,null,0,0,0]
[5157,null,null,null,null,0,0,0]
[5158,null,null,null,null,0,0,0]
[5159,null,null,null,null,0,0,0]
[5160,null,null,null,null,0,0,0]
[5161,null,null,null,null,0,0,0]
[5162,null,null,null,null,0,0,0]
[5163,null,null,null,null,0,0,0]
[5164,null,null,null,null,0,0,0]
[5165,null,null,null,null,0,0,0]
[5166,null,null,null,null,0,0,0]
[5167,null,null,null,null,0,0,0]
[5168,null,null,null,null,0,0,0]
[5169,null,null,null,null,0,0,0]
[5170,null,null,null,null,0,0,0]
[5171,null,null,null,null,0,0,0]
[5172,null,null,null,null,0,0,0]
[5173,null,null,null,null,0,0,0]
[5174,null,null,null,null,0,0,0]
[5175,null,null,null,null,0,0,0]
[5176,null,null,null,null,0,0,0]
[5177,null,null,null,null,0,0,0]
[5178,null,null,null,null,0,0,0]
[5179,null,null,null,null,0,0,0]
[5180,null,null,null,null,0,0,0]
[5181,null,null,null,null,0,0,0]
[5182,null,null,null,null,0,0,0]
[5183,null,null,null,null,0,0,0]
[5184,null,null,null,null,0,0,0]
[5185,null,null,null,null,0,0,0]
[5186,null,null,null,null,{"$f":"MIN(B5195:C5195)","v":0},{"$f":"MIN(D5195:E5195)","v":0},{"$f":"F5195*G5195","v":0}]
[5187,null,null,null,null,0,0,0]
[5188,null,null,null,null,0,0,0]
[5189,null,null,null,null,0,0,0]
[5190,null,null,null,null,0,0,0]
[5191,null,null,null,null,0,0,0]
[5192,null,null,null,null,0,0,0]
[5193,null,null,null,null,0,0,0]
[5194,null,null,null,null,0,0,0]
[5195,null,null,null,null,0,0,0]
[5196,null,null,null,null,0,0,0]
[5197,null,null,null,null,0,0,0]
[5198,null,null,null,null,0,0,0]
[5199,null,null,null,null,0,0,0]
[5200,null,null,null,null,0,0,0]
[5201,null,null,null,null,0,0,0]
[5202,null,null,null,null,0,0,0]
[5203,null,null,null,null,0,0,0]
[5204,null,null,null,null,0,0,0]
[5205,null,null,null,null,0,0,0]
[5206,null,null,null,null,0,0,0]
[5207,null,null,null,null,0,0,0]
[5208,null,null,null,null,0,0,0]
[5209,null,null,null,null,0,0,0]
[5210,null,null,null,null,0,0,0]
[5211,null,null,null,null,0,0,0]
[5212,null,null,null,null,0,0,0]
[5213,null,null,null,null,0,0,0]
[5214,null,null,null,null,0,0,0]
[5215,null,null,null,null,0,0,0]
[5216,null,null,null,null,0,0,0]
[5217,null,null,null,null,0,0,0]
[5218,null,null,null,null,0,0,0]
[5219,null,null,null,null,0,0,0]
[5220,null,null,null,null,0,0,0]
[5221,null,null,null,null,0,0,0]
[5222,null,null,null,null,0,0,0]
[5223,null,null,null,null,0,0,0]
[5224,null,null,null,null,0,0,0]
[5225,null,null,null,null,0,0,0]
[5226,null,null,null,null,0,0,0]
[5227,null,null,null,null,0,0,0]
[5228,null,null,null,null,0,0,0]
[5229,null,null,null,null,0,0,0]
[5230,null,null,null,null,0,0,0]
[5231,null,null,null,null,0,0,0]
[5232,null,null,null,null,0,0,0]
[5233,null,null,null,null,0,0,0]
[5234,null,null,null,null,0,0,0]
[5235,null,null,null,null,0,0,0]
[5236,null,null,null,null,0,0,0]
[5237,null,null,null,null,0,0,0]
[5238,null,null,null,null,0,0,0]
[5239,null,null,null,null,0,0,0]
[5240,null,null,null,null,0,0,0]
[5241,null,null,null,null,0,0,0]
[5242,null,null,null,null,0,0,0]
[5243,null,null,null,null,0,0,0]
[5244,null,null,null,null,0,0,0]
[5245,null,null,null,null,0,0,0]
[5246,null,null,null,null,0,0,0]
[5247,null,null,null,null,0,0,0]
[5248,null,null,null,null,0,0,0]
[5249,null,null,null,null,0,0,0]
[5250,null,null,null,null,{"$f":"MIN(B5259:C5259)","v":0},{"$f":"MIN(D5259:E5259)","v":0},{"$f":"F5259*G5259","v":0}]
[5251,null,null,null,null,0,0,0]
[5252,null,null,null,null,0,0,0]
[5253,null,null,null,null,0,0,0]
[5254,null,null,null,null,0,0,0]
[5255,null,null,null,null,0,0,0]
[5256,null,null,null,null,0,0,0]
[5257,null,null,null,null,0,0,0]
[5258,null,null,null,null,0,0,0]
[5259,null,null,null,null,0,0,0]
[5260,null,null,null,null,0,0,0]
[5261,null,null,null,null,0,0,0]
[5262,null,null,null,null,0,0,0]
[5263,null,null,null,null,0,0,0]
[5264,null,null,null,null,0,0,0]
[5265,null,null,null,null,0,0,0]
[5266,null,null,null,null,0,0,0]
[5267,null,null,null,null,0,0,0]
[5268,null,null,null,null,0,0,0]
[5269,null,null,null,null,0,0,0]
[5270,null,null,null,null,0,0,0]
[5271,null,null,null,null,0,0,0]
[5272,null,null,null,null,0,0,0]
[5273,null,null,null,null,0,0,0]
[5274,null,null,null,null,0,0,0]
[5275,null,null,null,null,0,0,0]
[5276,null,null,null,null,0,0,0]
[5277,null,null,null,null,0,0,0]
[5278,null,null,null,null,0,0,0]
[5279,null,null,null,null,0,0,0]
[5280,null,null,null,null,0,0,0]
[5281,null,null,null,null,0,0,0]
[5282,null,null,null,null,0,0,0]
[5283,null,null,null,null,0,0,0]
[5284,null,null,null,null,0,0,0]
[5285,null,null,null,null,0,0,0]
[5286,null,null,null,null,0,0,0]
[5287,null,null,null,null,0,0,0]
[5288,null,null,null,null,0,0,0]
[5289,null,null,null,null,0,0,0]
[5290,null,null,null,null,0,0,0]
[5291,null,null,null,null,0,0,0]
[5292,null,null,null,null,0,0,0]
[5293,null,null,null,null,0,0,0]
[5294,null,null,null,null,0,0,0]
[5295,null,null,null,null,0,0,0]
[5296,null,null,null,null,0,0,0]
[5297,null,null,null,null,0,0,0]
[5298,null,null,null,null,0,0,0]
[5299,null,null,null,null,0,0,0]
[5300,null,null,null,null,0,0,0]
[5301,null,null,null,null,0,0,0]
[5302,null,null,null,null,0,0,0]
[5303,null,null,null,null,0,0,0]
[5304,null,null,null,null,0,0,0]
[5305,null,null,null,null,0,0,0]
[5306,null,null,null,null,0,0,0]
[5307,null,null,null,null,0,0,0]
[5308,null,null,null,null,0,0,0]
[5309,null,null,null,null,0,0,0]
[5310,null,null,null,null,0,0,0]
[5311,null,null,null,null,0,0,0]
[5312,null,null,null,null,0,0,0]
[5313,null,null,null,null,0,0,0]
[5314,null,null,null,null,{"$f":"MIN(B5323:C5323)","v":0},{"$f":"MIN(D5323:E5323)","v":0},{"$f":"F5323*G5323","v":0}]
[5315,null,null,null,null,0,0,0]
[5316,null,null,null,null,0,0,0]
[5317,null,null,null,null,0,0,0]
[5318,null,null,null,null,0,0,0]
[5319,null,null,null,null,0,0,0]
[5320,null,null,null,null,0,0,0]
[5321,null,null,null,null,0,0,0]
[5322,null,null,null,null,0,0,0]
[5323,null,null,null,null,0,0,0]
[5324,null,null,null,null,0,0,0]
[5325,null,null,null,null,0,0,0]
[5326,null,null,null,null,0,0,0]
[5327,null,null,null,null,0,0,0]
[5328,null,null,null,null,0,0,0]
[5329,null,null,null,null,0,0,0]
[5330,null,null,null,null,0,0,0]
[5331,null,null,null,null,0,0,0]
[5332,null,null,null,null,0,0,0]
[5333,null,null,null,null,0,0,0]
[5334,null,null,null,null,0,0,0]
[5335,null,null,null,null,0,0,0]
[5336,null,null,null,null,0,0,0]
[5337,null,null,null,null,0,0,0]
[5338,null,null,null,null,0,0,0]
[5339,null,null,null,null,0,0,0]
[5340,null,null,null,null,0,0,0]
[5341,null,null,null,null,0,0,0]
[5342,null,null,null,null,0,0,0]
[5343,null,null,null,null,0,0,0]
[5344,null,null,null,null,0,0,0]
[5345,null,null,null,null,0,0,0]
[5346,null,null,null,null,0,0,0]
[5347,null,null,null,null,0,0,0]
[5348,null,null,null,null,0,0,0]
[5349,null,null,null,null,0,0,0]
[5350,null,null,null,null,0,0,0]
[5351,null,null,null,null,0,0,0]
[5352,null,null,null,null,0,0,0]
[5353,null,null,null,null,0,0,0]
[5354,null,null,null,null,0,0,0]
[5355,null,null,null,null,0,0,0]
[5356,null,null,null,null,0,0,0]
[5357,null,null,null,null,0,0,0]
[5358,null,null,null,null,0,0,0]
[5359,null,null,null,null,0,0,0]
[5360,null,null,null,null,0,0,0]
[5361,null,null,null,null,0,0,0]
[5362,null,null,null,null,0,0,0]
[5363,null,null,null,null,0,0,0]
[5364,null,null,null,null,0,0,0]
[5365,null,null,null,null,0,0,0]
[5366,null,null,null,null,0,0,0]
[5367,null,null,null,null,0,0,0]
[5368,null,null,null,null,0,0,0]
[5369,null,null,null,null,0,0,0]
[5370,null,null,null,null,0,0,0]
[5371,null,null,null,null,0,0,0]
[5372,null,null,null,null,0,0,0]
[5373,null,null,null,null,0,0,0]
[5374,null,null,null,null,0,0,0]
[5375,null,null,null,null,0,0,0]
[5376,null,null,null,null,0,0,0]
[5377,null,null,null,null,0,0,0]
[5378,null,null,null,null,{"$f":"MIN(B5387:C5387)","v":0},{"$f":"MIN(D5387:E5387)","v":0},{"$f":"F5387*G5387","v":0}]
[5379,null,null,null,null,0,0,0]
[5380,null,null,null,null,0,0,0]
[5381,null,null,null,null,0,0,0]
[5382,null,null,null,null,0,0,0]
[5383,null,null,null,null,0,0,0]
[5384,null,null,null,null,0,0,0]
[5385,null,null,null,null,0,0,0]
[5386,null,null,null,null,0,0,0]
[5387,null,null,null,null,0,0,0]
[5388,null,null,null,null,0,0,0]
[5389,null,null,null,null,0,0,0]
[5390,null,null,null,null,0,0,0]
[5391,null,null,null,null,0,0,0]
[5392,null,null,null,null,0,0,0]
[5393,null,null,null,null,0,0,0]
[5394,null,null,null,null,0,0,0]
[5395,null,null,null,null,0,0,0]
[5396,null,null,null,null,0,0,0]
[5397,null,null,null,null,0,0,0]
[5398,null,null,null,null,0,0,0]
[5399,null,null,null,null,0,0,0]
[5400,null,null,null,null,0,0,0]
[5401,null,null,null,null,0,0,0]
[5402,null,null,null,null,0,0,0]
[5403,null,null,null,null,0,0,0]
[5404,null,null,null,null,0,0,0]
[5405,null,null,null,null,0,0,0]
[5406,null,null,null,null,0,0,0]
[5407,null,null,null,null,0,0,0]
[5408,null,null,null,null,0,0,0]
[5409,null,null,null,null,0,0,0]
[5410,null,null,null,null,0,0,0]
[5411,null,null,null,null,0,0,0]
[5412,null,null,null,null,0,0,0]
[5413,null,null,null,null,0,0,0]
[5414,null,null,null,null,0,0,0]
[5415,null,null,null,null,0,0,0]
[5416,null,null,null,null,0,0,0]
[5417,null,null,null,null,0,0,0]
[5418,null,null,null,null,0,0,0]
[5419,null,null,null,null,0,0,0]
[5420,null,null,null,null,0,0,0]
[5421,null,null,null,null,0,0,0]
[5422,null,null,null,null,0,0,0]
[5423,null,null,null,null,0,0,0]
[5424,null,null,null,null,0,0,0]
[5425,null,null,null,null,0,0,0]
[5426,null,null,null,null,0,0,0]
[5427,null,null,null,null,0,0,0]
[5428,null,null,null,null,0,0,0]
[5429,null,null,null,null,0,0,0]
[5430,null,null,null,null,0,0,0]
[5431,null,null,null,null,0,0,0]
[5432,null,null,null,null,0,0,0]
[5433,null,null,null,null,0,0,0]
[5434,null,null,null,null,0,0,0]
[5435,null,null,null,null,0,0,0]
[5436,null,null,null,null,0,0,0]
[5437,null,null,null,null,0,0,0]
[5438,null,null,null,null,0,0,0]
[5439,null,null,null,null,0,0,0]
[5440,null,null,null,null,0,0,0]
[5441,null,null,null,null,0,0,0]
[5442,null,null,null,null,{"$f":"MIN(B5451:C5451)","v":0},{"$f":"MIN(D5451:E5451)","v":0},{"$f":"F5451*G5451","v":0}]
[5443,null,null,null,null,0,0,0]
[5444,null,null,null,null,0,0,0]
[5445,null,null,null,null,0,0,0]
[5446,null,null,null,null,0,0,0]
[5447,null,null,null,null,0,0,0]
[5448,null,null,null,null,0,0,0]
[5449,null,null,null,null,0,0,0]
[5450,null,null,null,null,0,0,0]
[5451,null,null,null,null,0,0,0]
[5452,null,null,null,null,0,0,0]
[5453,null,null,null,null,0,0,0]
[5454,null,null,null,null,0,0,0]
[5455,null,null,null,null,0,0,0]
[5456,null,null,null,null,0,0,0]
[5457,null,null,null,null,0,0,0]
[5458,null,null,null,null,0,0,0]
[5459,null,null,null,null,0,0,0]
[5460,null,null,null,null,0,0,0]
[5461,null,null,null,null,0,0,0]
[5462,null,null,null,null,0,0,0]
[5463,null,null,null,null,0,0,0]
[5464,null,null,null,null,0,0,0]
[5465,null,null,null,null,0,0,0]
[5466,null,null,null,null,0,0,0]
[5467,null,null,null,null,0,0,0]
[5468,null,null,null,null,0,0,0]
[5469,null,null,null,null,0,0,0]
[5470,null,null,null,null,0,0,0]
[5471,null,null,null,null,0,0,0]
[5472,null,null,null,null,0,0,0]
[5473,null,null,null,null,0,0,0]
[5474,null,null,null,null,0,0,0]
[5475,null,null,null,null,0,0,0]
[5476,null,null,null,null,0,0,0]
[5477,null,null,null,null,0,0,0]
[5478,null,null,null,null,0,0,0]
[5479,null,null,null,null,0,0,0]
[5480,null,null,null,null,0,0,0]
[5481,null,null,null,null,0,0,0]
[5482,null,null,null,null,0,0,0]
[5483,null,null,null,null,0,0,0]
[5484,null,null,null,null,0,0,0]
[5485,null,null,null,null,0,0,0]
[5486,null,null,null,null,0,0,0]
[5487,null,null,null,null,0,0,0]
[5488,null,null,null,null,0,0,0]
[5489,null,null,null,null,0,0,0]
[5490,null,null,null,null,0,0,0]
[5491,null,null,null,null,0,0,0]
[5492,null,null,null,null,0,0,0]
[5493,null,null,null,null,0,0,0]
[5494,null,null,null,null,0,0,0]
[5495,null,null,null,null,0,0,0]
[5496,null,null,null,null,0,0,0]
[5497,null,null,null,null,0,0,0]
[5498,null,null,null,null,0,0,0]
[5499,null,null,null,null,0,0,0]
[5500,null,null,null,null,0,0,0]
[5501,null,null,null,null,0,0,0]
[5502,null,null,null,null,0,0,0]
[5503,null,null,null,null,0,0,0]
[5504,null,null,null,null,0,0,0]
[5505,null,null,null,null,0,0,0]
[5506,null,null,null,null,{"$f":"MIN(B5515:C5515)","v":0},{"$f":"MIN(D5515:E5515)","v":0},{"$f":"F5515*G5515","v":0}]
[5507,null,null,null,null,0,0,0]
[5508,null,null,null,null,0,0,0]
[5509,null,null,null,null,0,0,0]
[5510,null,null,null,null,0,0,0]
[5511,null,null,null,null,0,0,0]
[5512,null,null,null,null,0,0,0]
[5513,null,null,null,null,0,0,0]
[5514,null,null,null,null,0,0,0]
[5515,null,null,null,null,0,0,0]
[5516,null,null,null,null,0,0,0]
[5517,null,null,null,null,0,0,0]
[5518,null,null,null,null,0,0,0]
[5519,null,null,null,null,0,0,0]
[5520,null,null,null,null,0,0,0]
[5521,null,null,null,null,0,0,0]
[5522,null,null,null,null,0,0,0]
[5523,null,null,null,null,0,0,0]
[5524,null,null,null,null,0,0,0]
[5525,null,null,null,null,0,0,0]
[5526,null,null,null,null,0,0,0]
[5527,null,null,null,null,0,0,0]
[5528,null,null,null,null,0,0,0]
[5529,null,null,null,null,0,0,0]
[5530,null,null,null,null,0,0,0]
[5531,null,null,null,null,0,0,0]
[5532,null,null,null,null,0,0,0]
[5533,null,null,null,null,0,0,0]
[5534,null,null,null,null,0,0,0]
[5535,null,null,null,null,0,0,0]
[5536,null,null,null,null,0,0,0]
[5537,null,null,null,null,0,0,0]
[5538,null,null,null,null,0,0,0]
[5539,null,null,null,null,0,0,0]
[5540,null,null,null,null,0,0,0]
[5541,null,null,null,null,0,0,0]
[5542,null,null,null,null,0,0,0]
[5543,null,null,null,null,0,0,0]
[5544,null,null,null,null,0,0,0]
[5545,null,null,null,null,0,0,0]
[5546,null,null,null,null,0,0,0]
[5547,null,null,null,null,0,0,0]
[5548,null,null,null,null,0,0,0]
[5549,null,null,null,null,0,0,0]
[5550,null,null,null,null,0,0,0]
[5551,null,null,null,null,0,0,0]
[5552,null,null,null,null,0,0,0]
[5553,null,null,null,null,0,0,0]
[5554,null,null,null,null,0,0,0]
[5555,null,null,null,null,0,0,0]
[5556,null,null,null,null,0,0,0]
[5557,null,null,null,null,0,0,0]
[5558,null,null,null,null,0,0,0]
[5559,null,null,null,null,0,0,0]
[5560,null,null,null,null,0,0,0]
[5561,null,null,null,null,0,0,0]
[5562,null,null,null,null,0,0,0]
[5563,null,null,null,null,0,0,0]
[5564,null,null,null,null,0,0,0]
[5565,null,null,null,null,0,0,0]
[5566,null,null,null,null,0,0,0]
[5567,null,null,null,null,0,0,0]
[5568,null,null,null,null,0,0,0]
[5569,null,null,null,null,0,0,0]
[5570,null,null,null,null,{"$f":"MIN(B5579:C5579)","v":0},{"$f":"MIN(D5579:E5579)","v":0},{"$f":"F5579*G5579","v":0}]
[5571,null,null,null,null,0,0,0]
[5572,null,null,null,null,0,0,0]
[5573,null,null,null,null,0,0,0]
[5574,null,null,null,null,0,0,0]
[5575,null,null,null,null,0,0,0]
[5576,null,null,null,null,0,0,0]
[5577,null,null,null,null,0,0,0]
[5578,null,null,null,null,0,0,0]
[5579,null,null,null,null,0,0,0]
[5580,null,null,null,null,0,0,0]
[5581,null,null,null,null,0,0,0]
[5582,null,null,null,null,0,0,0]
[5583,null,null,null,null,0,0,0]
[5584,null,null,null,null,0,0,0]
[5585,null,null,null,null,0,0,0]
[5586,null,null,null,null,0,0,0]
[5587,null,null,null,null,0,0,0]
[5588,null,null,null,null,0,0,0]
[5589,null,null,null,null,0,0,0]
[5590,null,null,null,null,0,0,0]
[5591,null,null,null,null,0,0,0]
[5592,null,null,null,null,0,0,0]
[5593,null,null,null,null,0,0,0]
[5594,null,null,null,null,0,0,0]
[5595,null,null,null,null,0,0,0]
[5596,null,null,null,null,0,0,0]
[5597,null,null,null,null,0,0,0]
[5598,null,null,null,null,0,0,0]
[5599,null,null,null,null,0,0,0]
[5600,null,null,null,null,0,0,0]
[5601,null,null,null,null,0,0,0]
[5602,null,null,null,null,0,0,0]
[5603,null,null,null,null,0,0,0]
[5604,null,null,null,null,0,0,0]
[5605,null,null,null,null,0,0,0]
[5606,null,null,null,null,0,0,0]
[5607,null,null,null,null,0,0,0]
[5608,null,null,null,null,0,0,0]
[5609,null,null,null,null,0,0,0]
[5610,null,null,null,null,0,0,0]
[5611,null,null,null,null,0,0,0]
[5612,null,null,null,null,0,0,0]
[5613,null,null,null,null,0,0,0]
[5614,null,null,null,null,0,0,0]
[5615,null,null,null,null,0,0,0]
[5616,null,null,null,null,0,0,0]
[5617,null,null,null,null,0,0,0]
[5618,null,null,null,null,0,0,0]
[5619,null,null,null,null,0,0,0]
[5620,null,null,null,null,0,0,0]
[5621,null,null,null,null,0,0,0]
[5622,null,null,null,null,0,0,0]
[5623,null,null,null,null,0,0,0]
[5624,null,null,null,null,0,0,0]
[5625,null,null,null,null,0,0,0]
[5626,null,null,null,null,0,0,0]
[5627,null,null,null,null,0,0,0]
[5628,null,null,null,null,0,0,0]
[5629,null,null,null,null,0,0,0]
[5630,null,null,null,null,0,0,0]
[5631,null,null,null,null,0,0,0]
[5632,null,null,null,null,0,0,0]
[5633,null,null,null,null,0,0,0]
[5634,null,null,null,null,{"$f":"MIN(B5643:C5643)","v":0},{"$f":"MIN(D5643:E5643)","v":0},{"$f":"F5643*G5643","v":0}]
[5635,null,null,null,null,0,0,0]
[5636,null,null,null,null,0,0,0]
[5637,null,null,null,null,0,0,0]
[5638,null,null,null,null,0,0,0]
[5639,null,null,null,null,0,0,0]
[5640,null,null,null,null,0,0,0]
[5641,null,null,null,null,0,0,0]
[5642,null,null,null,null,0,0,0]
[5643,null,null,null,null,0,0,0]
[5644,null,null,null,null,0,0,0]
[5645,null,null,null,null,0,0,0]
[5646,null,null,null,null,0,0,0]
[5647,null,null,null,null,0,0,0]
[5648,null,null,null,null,0,0,0]
[5649,null,null,null,null,0,0,0]
[5650,null,null,null,null,0,0,0]
[5651,null,null,null,null,0,0,0]
[5652,null,null,null,null,0,0,0]
[5653,null,null,null,null,0,0,0]
[5654,null,null,null,null,0,0,0]
[5655,null,null,null,null,0,0,0]
[5656,null,null,null,null,0,0,0]
[5657,null,null,null,null,0,0,0]
[5658,null,null,null,null,0,0,0]
[5659,null,null,null,null,0,0,0]
[5660,null,null,null,null,0,0,0]
[5661,null,null,null,null,0,0,0]
[5662,null,null,null,null,0,0,0]
[5663,null,null,null,null,0,0,0]
[5664,null,null,null,null,0,0,0]
[5665,null,null,null,null,0,0,0]
[5666,null,null,null,null,0,0,0]
[5667,null,null,null,null,0,0,0]
[5668,null,null,null,null,0,0,0]
[5669,null,null,null,null,0,0,0]
[5670,null,null,null,null,0,0,0]
[5671,null,null,null,null,0,0,0]
[5672,null,null,null,null,0,0,0]
[5673,null,null,null,null,0,0,0]
[5674,null,null,null,null,0,0,0]
[5675,null,null,null,null,0,0,0]
[5676,null,null,null,null,0,0,0]
[5677,null,null,null,null,0,0,0]
[5678,null,null,null,null,0,0,0]
[5679,null,null,null,null,0,0,0]
[5680,null,null,null,null,0,0,0]
[5681,null,null,null,null,0,0,0]
[5682,null,null,null,null,0,0,0]
[5683,null,null,null,null,0,0,0]
[5684,null,null,null,null,0,0,0]
[5685,null,null,null,null,0,0,0]
[5686,null,null,null,null,0,0,0]
[5687,null,null,null,null,0,0,0]
[5688,null,null,null,null,0,0,0]
[5689,null,null,null,null,0,0,0]
[5690,null,null,null,null,0,0,0]
[5691,null,null,null,null,0,0,0]
[5692,null,null,null,null,0,0,0]
[5693,null,null,null,null,0,0,0]
[5694,null,null,null,null,0,0,0]
[5695,null,null,null,null,0,0,0]
[5696,null,null,null,null,0,0,0]
[5697,null,null,null,null,0,0,0]
[5698,null,null,null,null,{"$f":"MIN(B5707:C5707)","v":0},{"$f":"MIN(D5707:E5707)","v":0},{"$f":"F5707*G5707","v":0}]
[5699,null,null,null,null,0,0,0]
[5700,null,null,null,null,0,0,0]
[5701,null,null,null,null,0,0,0]
[5702,null,null,null,null,0,0,0]
[5703,null,null,null,null,0,0,0]
[5704,null,null,null,null,0,0,0]
[5705,null,null,null,null,0,0,0]
[5706,null,null,null,null,0,0,0]
[5707,null,null,null,null,0,0,0]
[5708,null,null,null,null,0,0,0]
[5709,null,null,null,null,0,0,0]
[5710,null,null,null,null,0,0,0]
[5711,null,null,null,null,0,0,0]
[5712,null,null,null,null,0,0,0]
[5713,null,null,null,null,0,0,0]
[5714,null,null,null,null,0,0,0]
[5715,null,null,null,null,0,0,0]
[5716,null,null,null,null,0,0,0]
[5717,null,null,null,null,0,0,0]
[5718,null,null,null,null,0,0,0]
[5719,null,null,null,null,0,0,0]
[5720,null,null,null,null,0,0,0]
[5721,null,null,null,null,0,0,0]
[5722,null,null,null,null,0,0,0]
[5723,null,null,null,null,0,0,0]
[5724,null,null,null,null,0,0,0]
[5725,null,null,null,null,0,0,0]
[5726,null,null,null,null,0,0,0]
[5727,null,null,null,null,0,0,0]
[5728,null,null,null,null,0,0,0]
[5729,null,null,null,null,0,0,0]
[5730,null,null,null,null,0,0,0]
[5731,null,null,null,null,0,0,0]
[5732,null,null,null,null,0,0,0]
[5733,null,null,null,null,0,0,0]
[5734,null,null,null,null,0,0,0]
[5735,null,null,null,null,0,0,0]
[5736,null,null,null,null,0,0,0]
[5737,null,null,null,null,0,0,0]
[5738,null,null,null,null,0,0,0]
[5739,null,null,null,null,0,0,0]
[5740,null,null,null,null,0,0,0]
[5741,null,null,null,null,0,0,0]
[5742,null,null,null,null,0,0,0]
[5743,null,null,null,null,0,0,0]
[5744,null,null,null,null,0,0,0]
[5745,null,null,null,null,0,0,0]
[5746,null,null,null,null,0,0,0]
[5747,null,null,null,null,0,0,0]
[5748,null,null,null,null,0,0,0]
[5749,null,null,null,null,0,0,0]
[5750,null,null,null,null,0,0,0]
[5751,null,null,null,null,0,0,0]
[5752,null,null,null,null,0,0,0]
[5753,null,null,null,null,0,0,0]
[5754,null,null,null,null,0,0,0]
[5755,null,null,null,null,0,0,0]
[5756,null,null,null,null,0,0,0]
[5757,null,null,null,null,0,0,0]
[5758,null,null,null,null,0,0,0]
[5759,null,null,null,null,0,0,0]
[5760,null,null,null,null,0,0,0]
[5761,null,null,null,null,0,0,0]
[5762,null,null,null,null,{"$f":"MIN(B5771:C5771)","v":0},{"$f":"MIN(D5771:E5771)","v":0},{"$f":"F5771*G5771","v":0}]
[5763,null,null,null,null,0,0,0]
[5764,null,null,null,null,0,0,0]
[5765,null,null,null,null,0,0,0]
[5766,null,null,null,null,0,0,0]
[5767,null,null,null,null,0,0,0]
[5768,null,null,null,null,0,0,0]
[5769,null,null,null,null,0,0,0]
[5770,null,null,null,null,0,0,0]
[5771,null,null,null,null,0,0,0]
[5772,null,null,null,null,0,0,0]
[5773,null,null,null,null,0,0,0]
[5774,null,null,null,null,0,0,0]
[5775,null,null,null,null,0,0,0]
[5776,null,null,null,null,0,0,0]
[5777,null,null,null,null,0,0,0]
[5778,null,null,null,null,0,0,0]
[5779,null,null,null,null,0,0,0]
[5780,null,null,null,null,0,0,0]
[5781,null,null,null,null,0,0,0]
[5782,null,null,null,null,0,0,0]
[5783,null,null,null,null,0,0,0]
[5784,null,null,null,null,0,0,0]
[5785,null,null,null,null,0,0,0]
[5786,null,null,null,null,0,0,0]
[5787,null,null,null,null,0,0,0]
[5788,null,null,null,null,0,0,0]
[5789,null,null,null,null,0,0,0]
[5790,null,null,null,null,0,0,0]
[5791,null,null,null,null,0,0,0]
[5792,null,null,null,null,0,0,0]
[5793,null,null,null,null,0,0,0]
[5794,null,null,null,null,0,0,0]
[5795,null,null,null,null,0,0,0]
[5796,null,null,null,null,0,0,0]
[5797,null,null,null,null,0,0,0]
[5798,null,null,null,null,0,0,0]
[5799,null,null,null,null,0,0,0]
[5800,null,null,null,null,0,0,0]
[5801,null,null,null,null,0,0,0]
[5802,null,null,null,null,0,0,0]
[5803,null,null,null,null,0,0,0]
[5804,null,null,null,null,0,0,0]
[5805,null,null,null,null,0,0,0]
[5806,null,null,null,null,0,0,0]
[5807,null,null,null,null,0,0,0]
[5808,null,null,null,null,0,0,0]
[5809,null,null,null,null,0,0,0]
[5810,null,null,null,null,0,0,0]
[5811,null,null,null,null,0,0,0]
[5812,null,null,null,null,0,0,0]
[5813,null,null,null,null,0,0,0]
[5814,null,null,null,null,0,0,0]
[5815,null,null,null,null,0,0,0]
[5816,null,null,null,null,0,0,0]
[5817,null,null,null,null,0,0,0]
[5818,null,null,null,null,0,0,0]
[5819,null,null,null,null,0,0,0]
[5820,null,null,null,null,0,0,0]
[5821,null,null,null,null,0,0,0]
[5822,null,null,null,null,0,0,0]
[5823,null,null,null,null,0,0,0]
[5824,null,null,null,null,0,0,0]
[5825,null,null,null,null,0,0,0]
[5826,null,null,null,null,{"$f":"MIN(B5835:C5835)","v":0},{"$f":"MIN(D5835:E5835)","v":0},{"$f":"F5835*G5835","v":0}]
[5827,null,null,null,null,0,0,0]
[5828,null,null,null,null,0,0,0]
[5829,null,null,null,null,0,0,0]
[5830,null,null,null,null,0,0,0]
[5831,null,null,null,null,0,0,0]
[5832,null,null,null,null,0,0,0]
[5833,null,null,null,null,0,0,0]
[5834,null,null,null,null,0,0,0]
[5835,null,null,null,null,0,0,0]
[5836,null,null,null,null,0,0,0]
[5837,null,null,null,null,0,0,0]
[5838,null,null,null,null,0,0,0]
[5839,null,null,null,null,0,0,0]
[5840,null,null,null,null,0,0,0]
[5841,null,null,null,null,0,0,0]
[5842,null,null,null,null,0,0,0]
[5843,null,null,null,null,0,0,0]
[5844,null,null,null,null,0,0,0]
[5845,null,null,null,null,0,0,0]
[5846,null,null,null,null,0,0,0]
[5847,null,null,null,null,0,0,0]
[5848,null,null,null,null,0,0,0]
[5849,null,null,null,null,0,0,0]
[5850,null,null,null,null,0,0,0]
[5851,null,null,null,null,0,0,0]
[5852,null,null,null,null,0,0,0]
[5853,null,null,null,null,0,0,0]
[5854,null,null,null,null,0,0,0]
[5855,null,null,null,null,0,0,0]
[5856,null,null,null,null,0,0,0]
[5857,null,null,null,null,0,0,0]
[5858,null,null,null,null,0,0,0]
[5859,null,null,null,null,0,0,0]
[5860,null,null,null,null,0,0,0]
[5861,null,null,null,null,0,0,0]
[5862,null,null,null,null,0,0,0]
[5863,null,null,null,null,0,0,0]
[5864,null,null,null,null,0,0,0]
[5865,null,null,null,null,0,0,0]
[5866,null,null,null,null,0,0,0]
[5867,null,null,null,null,0,0,0]
[5868,null,null,null,null,0,0,0]
[5869,null,null,null,null,0,0,0]
[5870,null,null,null,null,0,0,0]
[5871,null,null,null,null,0,0,0]
[5872,null,null,null,null,0,0,0]
[5873,null,null,null,null,0,0,0]
[5874,null,null,null,null,0,0,0]
[5875,null,null,null,null,0,0,0]
[5876,null,null,null,null,0,0,0]
[5877,null,null,null,null,0,0,0]
[5878,null,null,null,null,0,0,0]
[5879,null,null,null,null,0,0,0]
[5880,null,null,null,null,0,0,0]
[5881,null,null,null,null,0,0,0]
[5882,null,null,null,null,0,0,0]
[5883,null,null,null,null,0,0,0]
[5884,null,null,null,null,0,0,0]
[5885,null,null,null,null,0,0,0]
[5886,null,null,null,null,0,0,0]
[5887,null,null,null,null,0,0,0]
[5888,null,null,null,null,0,0,0]
[5889,null,null,null,null,0,0,0]
[5890,null,null,null,null,{"$f":"MIN(B5899:C5899)","v":0},{"$f":"MIN(D5899:E5899)","v":0},{"$f":"F5899*G5899","v":0}]
[5891,null,null,null,null,0,0,0]
[5892,null,null,null,null,0,0,0]
[5893,null,null,null,null,0,0,0]
[5894,null,null,null,null,0,0,0]
[5895,null,null,null,null,0,0,0]
[5896,null,null,null,null,0,0,0]
[5897,null,null,null,null,0,0,0]
[5898,null,null,null,null,0,0,0]
[5899,null,null,null,null,0,0,0]
[5900,null,null,null,null,0,0,0]
[5901,null,null,null,null,0,0,0]
[5902,null,null,null,null,0,0,0]
[5903,null,null,null,null,0,0,0]
[5904,null,null,null,null,0,0,0]
[5905,null,null,null,null,0,0,0]
[5906,null,null,null,null,0,0,0]
[5907,null,null,null,null,0,0,0]
[5908,null,null,null,null,0,0,0]
[5909,null,null,null,null,0,0,0]
[5910,null,null,null,null,0,0,0]
[5911,null,null,null,null,0,0,0]
[5912,null,null,null,null,0,0,0]
[5913,null,null,null,null,0,0,0]
[5914,null,null,null,null,0,0,0]
[5915,null,null,null,null,0,0,0]
[5916,null,null,null,null,0,0,0]
[5917,null,null,null,null,0,0,0]
[5918,null,null,null,null,0,0,0]
[5919,null,null,null,null,0,0,0]
[5920,null,null,null,null,0,0,0]
[5921,null,null,null,null,0,0,0]
[5922,null,null,null,null,0,0,0]
[5923,null,null,null,null,0,0,0]
[5924,null,null,null,null,0,0,0]
[5925,null,null,null,null,0,0,0]
[5926,null,null,null,null,0,0,0]
[5927,null,null,null,null,0,0,0]
[5928,null,null,null,null,0,0,0]
[5929,null,null,null,null,0,0,0]
[5930,null,null,null,null,0,0,0]
[5931,null,null,null,null,0,0,0]
[5932,null,null,null,null,0,0,0]
[5933,null,null,null,null,0,0,0]
[5934,null,null,null,null,0,0,0]
[5935,null,null,null,null,0,0,0]
[5936,null,null,null,null,0,0,0]
[5937,null,null,null,null,0,0,0]
[5938,null,null,null,null,0,0,0]
[5939,null,null,null,null,0,0,0]
[5940,null,null,null,null,0,0,0]
[5941,null,null,null,null,0,0,0]
[5942,null,null,null,null,0,0,0]
[5943,null,null,null,null,0,0,0]
[5944,null,null,null,null,0,0,0]
[5945,null,null,null,null,0,0,0]
[5946,null,null,null,null,0,0,0]
[5947,null,null,null,null,0,0,0]
[5948,null,null,null,null,0,0,0]
[5949,null,null,null,null,0,0,0]
[5950,null,null,null,null,0,0,0]
[5951,null,null,null,null,0,0,0]
[5952,null,null,null,null,0,0,0]
[5953,null,null,null,null,0,0,0]
[5954,null,null,null,null,{"$f":"MIN(B5963:C5963)","v":0},{"$f":"MIN(D5963:E5963)","v":0},{"$f":"F5963*G5963","v":0}]
[5955,null,null,null,null,0,0,0]
[5956,null,null,null,null,0,0,0]
[5957,null,null,null,null,0,0,0]
[5958,null,null,null,null,0,0,0]
[5959,null,null,null,null,0,0,0]
[5960,null,null,null,null,0,0,0]
[5961,null,null,null,null,0,0,0]
[5962,null,null,null,null,0,0,0]
[5963,null,null,null,null,0,0,0]
[5964,null,null,null,null,0,0,0]
[5965,null,null,null,null,0,0,0]
[5966,null,null,null,null,0,0,0]
[5967,null,null,null,null,0,0,0]
[5968,null,null,null,null,0,0,0]
[5969,null,null,null,null,0,0,0]
[5970,null,null,null,null,0,0,0]
[5971,null,null,null,null,0,0,0]
[5972,null,null,null,null,0,0,0]
[5973,null,null,null,null,0,0,0]
[5974,null,null,null,null,0,0,0]
[5975,null,null,null,null,0,0,0]
[5976,null,null,null,null,0,0,0]
[5977,null,null,null,null,0,0,0]
[5978,null,null,null,null,0,0,0]
[5979,null,null,null,null,0,0,0]
[5980,null,null,null,null,0,0,0]
[5981,null,null,null,null,0,0,0]
[5982,null,null,null,null,0,0,0]
[5983,null,null,null,null,0,0,0]
[5984,null,null,null,null,0,0,0]
[5985,null,null,null,null,0,0,0]
[5986,null,null,null,null,0,0,0]
[5987,null,null,null,null,0,0,0]
[5988,null,null,null,null,0,0,0]
[5989,null,null,null,null,0,0,0]
[5990,null,null,null,null,0,0,0]
[5991,null,null,null,null,0,0,0]
[5992,null,null,null,null,0,0,0]
[5993,null,null,null,null,0,0,0]
[5994,null,null,null,null,0,0,0]
[5995,null,null,null,null,0,0,0]
[5996,null,null,null,null,0,0,0]
[5997,null,null,null,null,0,0,0]
[5998,null,null,null,null,0,0,0]
[5999,null,null,null,null,0,0,0]
[6000,null,null,null,null,0,0,0]
[6001,null,null,null,null,0,0,0]
[6002,null,null,null,null,0,0,0]
[6003,null,null,null,null,0,0,0]
[6004,null,null,null,null,0,0,0]
[6005,null,null,null,null,0,0,0]
[6006,null,null,null,null,0,0,0]
[6007,null,null,null,null,0,0,0]
[6008,null,null,null,null,0,0,0]
[6009,null,null,null,null,0,0,0]
[6010,null,null,null,null,0,0,0]
[6011,null,null,null,null,0,0,0]
[6012,null,null,null,null,0,0,0]
[6013,null,null,null,null,0,0,0]
[6014,null,null,null,null,0,0,0]
[6015,null,null,null,null,0,0,0]
[6016,null,null,null,null,0,0,0]
[6017,null,null,null,null,0,0,0]
[6018,null,null,null,null,{"$f":"MIN(B6027:C6027)","v":0},{"$f":"MIN(D6027:E6027)","v":0},{"$f":"F6027*G6027","v":0}]
[6019,null,null,null,null,0,0,0]
[6020,null,null,null,null,0,0,0]
[6021,null,null,null,null,0,0,0]
[6022,null,null,null,null,0,0,0]
[6023,null,null,null,null,0,0,0]
[6024,null,null,null,null,0,0,0]
[6025,null,null,null,null,0,0,0]
[6026,null,null,null,null,0,0,0]
[6027,null,null,null,null,0,0,0]
[6028,null,null,null,null,0,0,0]
[6029,null,null,null,null,0,0,0]
[6030,null,null,null,null,0,0,0]
[6031,null,null,null,null,0,0,0]
[6032,null,null,null,null,0,0,0]
[6033,null,null,null,null,0,0,0]
[6034,null,null,null,null,0,0,0]
[6035,null,null,null,null,0,0,0]
[6036,null,null,null,null,0,0,0]
[6037,null,null,null,null,0,0,0]
[6038,null,null,null,null,0,0,0]
[6039,null,null,null,null,0,0,0]
[6040,null,null,null,null,0,0,0]
[6041,null,null,null,null,0,0,0]
[6042,null,null,null,null,0,0,0]
[6043,null,null,null,null,0,0,0]
[6044,null,null,null,null,0,0,0]
[6045,null,null,null,null,0,0,0]
[6046,null,null,null,null,0,0,0]
[6047,null,null,null,null,0,0,0]
[6048,null,null,null,null,0,0,0]
[6049,null,null,null,null,0,0,0]
[6050,null,null,null,null,0,0,0]
[6051,null,null,null,null,0,0,0]
[6052,null,null,null,null,0,0,0]
[6053,null,null,null,null,0,0,0]
[6054,null,null,null,null,0,0,0]
[6055,null,null,null,null,0,0,0]
[6056,null,null,null,null,0,0,0]
[6057,null,null,null,null,0,0,0]
[6058,null,null,null,null,0,0,0]
[6059,null,null,null,null,0,0,0]
[6060,null,null,null,null,0,0,0]
[6061,null,null,null,null,0,0,0]
[6062,null,null,null,null,0,0,0]
[6063,null,null,null,null,0,0,0]
[6064,null,null,null,null,0,0,0]
[6065,null,null,null,null,0,0,0]
[6066,null,null,null,null,0,0,0]
[6067,null,null,null,null,0,0,0]
[6068,null,null,null,null,0,0,0]
[6069,null,null,null,null,0,0,0]
[6070,null,null,null,null,0,0,0]
[6071,null,null,null,null,0,0,0]
[6072,null,null,null,null,0,0,0]
[6073,null,null,null,null,0,0,0]
[6074,null,null,null,null,0,0,0]
[6075,null,null,null,null,0,0,0]
[6076,null,null,null,null,0,0,0]
[6077,null,null,null,null,0,0,0]
[6078,null,null,null,null,0,0,0]
[6079,null,null,null,null,0,0,0]
[6080,null,null,null,null,0,0,0]
[6081,null,null,null,null,0,0,0]
[6082,null,null,null,null,{"$f":"MIN(B6091:C6091)","v":0},{"$f":"MIN(D6091:E6091)","v":0},{"$f":"F6091*G6091","v":0}]
[6083,null,null,null,null,0,0,0]
[6084,null,null,null,null,0,0,0]
[6085,null,null,null,null,0,0,0]
[6086,null,null,null,null,0,0,0]
[6087,null,null,null,null,0,0,0]
[6088,null,null,null,null,0,0,0]
[6089,null,null,null,null,0,0,0]
[6090,null,null,null,null,0,0,0]
[6091,null,null,null,null,0,0,0]
[6092,null,null,null,null,0,0,0]
[6093,null,null,null,null,0,0,0]
[6094,null,null,null,null,0,0,0]
[6095,null,null,null,null,0,0,0]
[6096,null,null,null,null,0,0,0]
[6097,null,null,null,null,0,0,0]
[6098,null,null,null,null,0,0,0]
[6099,null,null,null,null,0,0,0]
[6100,null,null,null,null,0,0,0]
[6101,null,null,null,null,0,0,0]
[6102,null,null,null,null,0,0,0]
[6103,null,null,null,null,0,0,0]
[6104,null,null,null,null,0,0,0]
[6105,null,null,null,null,0,0,0]
[6106,null,null,null,null,0,0,0]
[6107,null,null,null,null,0,0,0]
[6108,null,null,null,null,0,0,0]
[6109,null,null,null,null,0,0,0]
[6110,null,null,null,null,0,0,0]
[6111,null,null,null,null,0,0,0]
[6112,null,null,null,null,0,0,0]
[6113,null,null,null,null,0,0,0]
[6114,null,null,null,null,0,0,0]
[6115,null,null,null,null,0,0,0]
[6116,null,null,null,null,0,0,0]
[6117,null,null,null,null,0,0,0]
[6118,null,null,null,null,0,0,0]
[6119,null,null,null,null,0,0,0]
[6120,null,null,null,null,0,0,0]
[6121,null,null,null,null,0,0,0]
[6122,null,null,null,null,0,0,0]
[6123,null,null,null,null,0,0,0]
[6124,null,null,null,null,0,0,0]
[6125,null,null,null,null,0,0,0]
[6126,null,null,null,null,0,0,0]
[6127,null,null,null,null,0,0,0]
[6128,null,null,null,null,0,0,0]
[6129,null,null,null,null,0,0,0]
[6130,null,null,null,null,0,0,0]
[6131,null,null,null,null,0,0,0]
[6132,null,null,null,null,0,0,0]
[6133,null,null,null,null,0,0,0]
[6134,null,null,null,null,0,0,0]
[6135,null,null,null,null,0,0,0]
[6136,null,null,null,null,0,0,0]
[6137,null,null,null,null,0,0,0]
[6138,null,null,null,null,0,0,0]
[6139,null,null,null,null,0,0,0]
[6140,null,null,null,null,0,0,0]
[6141,null,null,null,null,0,0,0]
[6142,null,null,null,null,0,0,0]
[6143,null,null,null,null,0,0,0]
[6144,null,null,null,null,0,0,0]
[6145,null,null,null,null,0,0,0]
[6146,null,null,null,null,{"$f":"MIN(B6155:C6155)","v":0},{"$f":"MIN(D6155:E6155)","v":0},{"$f":"F6155*G6155","v":0}]
[6147,null,null,null,null,0,0,0]
[6148,null,null,null,null,0,0,0]
[6149,null,null,null,null,0,0,0]
[6150,null,null,null,null,0,0,0]
[6151,null,null,null,null,0,0,0]
[6152,null,null,null,null,0,0,0]
[6153,null,null,null,null,0,0,0]
[6154,null,null,null,null,0,0,0]
[6155,null,null,null,null,0,0,0]
[6156,null,null,null,null,0,0,0]
[6157,null,null,null,null,0,0,0]
[6158,null,null,null,null,0,0,0]
[6159,null,null,null,null,0,0,0]
[6160,null,null,null,null,0,0,0]
[6161,null,null,null,null,0,0,0]
[6162,null,null,null,null,0,0,0]
[6163,null,null,null,null,0,0,0]
[6164,null,null,null,null,0,0,0]
[6165,null,null,null,null,0,0,0]
[6166,null,null,null,null,0,0,0]
[6167,null,null,null,null,0,0,0]
[6168,null,null,null,null,0,0,0]
[6169,null,null,null,null,0,0,0]
[6170,null,null,null,null,0,0,0]
[6171,null,null,null,null,0,0,0]
[6172,null,null,null,null,0,0,0]
[6173,null,null,null,null,0,0,0]
[6174,null,null,null,null,0,0,0]
[6175,null,null,null,null,0,0,0]
[6176,null,null,null,null,0,0,0]
[6177,null,null,null,null,0,0,0]
[6178,null,null,null,null,0,0,0]
[6179,null,null,null,null,0,0,0]
[6180,null,null,null,null,0,0,0]
[6181,null,null,null,null,0,0,0]
[6182,null,null,null,null,0,0,0]
[6183,null,null,null,null,0,0,0]
[6184,null,null,null,null,0,0,0]
[6185,null,null,null,null,0,0,0]
[6186,null,null,null,null,0,0,0]
[6187,null,null,null,null,0,0,0]
[6188,null,null,null,null,0,0,0]
[6189,null,null,null,null,0,0,0]
[6190,null,null,null,null,0,0,0]
[6191,null,null,null,null,0,0,0]
[6192,null,null,null,null,0,0,0]
[6193,null,null,null,null,0,0,0]
[6194,null,null,null,null,0,0,0]
[6195,null,null,null,null,0,0,0]
[6196,null,null,null,null,0,0,0]
[6197,null,null,null,null,0,0,0]
[6198,null,null,null,null,0,0,0]
[6199,null,null,null,null,0,0,0]
[6200,null,null,null,null,0,0,0]
[6201,null,null,null,null,0,0,0]
[6202,null,null,null,null,0,0,0]
[6203,null,null,null,null,0,0,0]
[6204,null,null,null,null,0,0,0]
[6205,null,null,null,null,0,0,0]
[6206,null,null,null,null,0,0,0]
[6207,null,null,null,null,0,0,0]
[6208,null,null,null,null,0,0,0]
[6209,null,null,null,null,0,0,0]
[6210,null,null,null,null,{"$f":"MIN(B6219:C6219)","v":0},{"$f":"MIN(D6219:E6219)","v":0},{"$f":"F6219*G6219","v":0}]
[6211,null,null,null,null,0,0,0]
[6212,null,null,null,null,0,0,0]
[6213,null,null,null,null,0,0,0]
[6214,null,null,null,null,0,0,0]
[6215,null,null,null,null,0,0,0]
[6216,null,null,null,null,0,0,0]
[6217,null,null,null,null,0,0,0]
[6218,null,null,null,null,0,0,0]
[6219,null,null,null,null,0,0,0]
[6220,null,null,null,null,0,0,0]
[6221,null,null,null,null,0,0,0]
[6222,null,null,null,null,0,0,0]
[6223,null,null,null,null,0,0,0]
[6224,null,null,null,null,0,0,0]
[6225,null,null,null,null,0,0,0]
[6226,null,null,null,null,0,0,0]
[6227,null,null,null,null,0,0,0]
[6228,null,null,null,null,0,0,0]
[6229,null,null,null,null,0,0,0]
[6230,null,null,null,null,0,0,0]
[6231,null,null,null,null,0,0,0]
[6232,null,null,null,null,0,0,0]
[6233,null,null,null,null,0,0,0]
[6234,null,null,null,null,0,0,0]
[6235,null,null,null,null,0,0,0]
[6236,null,null,null,null,0,0,0]
[6237,null,null,null,null,0,0,0]
[6238,null,null,null,null,0,0,0]
[6239,null,null,null,null,0,0,0]
[6240,null,null,null,null,0,0,0]
[6241,null,null,null,null,0,0,0]
[6242,null,null,null,null,0,0,0]
[6243,null,null,null,null,0,0,0]
[6244,null,null,null,null,0,0,0]
[6245,null,null,null,null,0,0,0]
[6246,null,null,null,null,0,0,0]
[6247,null,null,null,null,0,0,0]
[6248,null,null,null,null,0,0,0]
[6249,null,null,null,null,0,0,0]
[6250,null,null,null,null,0,0,0]
[6251,null,null,null,null,0,0,0]
[6252,null,null,null,null,0,0,0]
[6253,null,null,null,null,0,0,0]
[6254,null,null,null,null,0,0,0]
[6255,null,null,null,null,0,0,0]
[6256,null,null,null,null,0,0,0]
[6257,null,null,null,null,0,0,0]
[6258,null,null,null,null,0,0,0]
[6259,null,null,null,null,0,0,0]
[6260,null,null,null,null,0,0,0]
[6261,null,null,null,null,0,0,0]
[6262,null,null,null,null,0,0,0]
[6263,null,null,null,null,0,0,0]
[6264,null,null,null,null,0,0,0]
[6265,null,null,null,null,0,0,0]
[6266,null,null,null,null,0,0,0]
[6267,null,null,null,null,0,0,0]
[6268,null,null,null,null,0,0,0]
[6269,null,null,null,null,0,0,0]
[6270,null,null,null,null,0,0,0]
[6271,null,null,null,null,0,0,0]
[6272,null,null,null,null,0,0,0]
[6273,null,null,null,null,0,0,0]
[6274,null,null,null,null,{"$f":"MIN(B6283:C6283)","v":0},{"$f":"MIN(D6283:E6283)","v":0},{"$f":"F6283*G6283","v":0}]
[6275,null,null,null,null,0,0,0]
[6276,null,null,null,null,0,0,0]
[6277,null,null,null,null,0,0,0]
[6278,null,null,null,null,0,0,0]
[6279,null,null,null,null,0,0,0]
[6280,null,null,null,null,0,0,0]
[6281,null,null,null,null,0,0,0]
[6282,null,null,null,null,0,0,0]
[6283,null,null,null,null,0,0,0]
[6284,null,null,null,null,0,0,0]
[6285,null,null,null,null,0,0,0]
[6286,null,null,null,null,0,0,0]
[6287,null,null,null,null,0,0,0]
[6288,null,null,null,null,0,0,0]
[6289,null,null,null,null,0,0,0]
[6290,null,null,null,null,0,0,0]
[6291,null,null,null,null,0,0,0]
[6292,null,null,null,null,0,0,0]
[6293,null,null,null,null,0,0,0]
[6294,null,null,null,null,0,0,0]
[6295,null,null,null,null,0,0,0]
[6296,null,null,null,null,0,0,0]
[6297,null,null,null,null,0,0,0]
[6298,null,null,null,null,0,0,0]
[6299,null,null,null,null,0,0,0]
[6300,null,null,null,null,0,0,0]
[6301,null,null,null,null,0,0,0]
[6302,null,null,null,null,0,0,0]
[6303,null,null,null,null,0,0,0]
[6304,null,null,null,null,0,0,0]
[6305,null,null,null,null,0,0,0]
[6306,null,null,null,null,0,0,0]
[6307,null,null,null,null,0,0,0]
[6308,null,null,null,null,0,0,0]
[6309,null,null,null,null,0,0,0]
[6310,null,null,null,null,0,0,0]
[6311,null,null,null,null,0,0,0]
[6312,null,null,null,null,0,0,0]
[6313,null,null,null,null,0,0,0]
[6314,null,null,null,null,0,0,0]
[6315,null,null,null,null,0,0,0]
[6316,null,null,null,null,0,0,0]
[6317,null,null,null,null,0,0,0]
[6318,null,null,null,null,0,0,0]
[6319,null,null,null,null,0,0,0]
[6320,null,null,null,null,0,0,0]
[6321,null,null,null,null,0,0,0]
[6322,null,null,null,null,0,0,0]
[6323,null,null,null,null,0,0,0]
[6324,null,null,null,null,0,0,0]
[6325,null,null,null,null,0,0,0]
[6326,null,null,null,null,0,0,0]
[6327,null,null,null,null,0,0,0]
[6328,null,null,null,null,0,0,0]
[6329,null,null,null,null,0,0,0]
[6330,null,null,null,null,0,0,0]
[6331,null,null,null,null,0,0,0]
[6332,null,null,null,null,0,0,0]
[6333,null,null,null,null,0,0,0]
[6334,null,null,null,null,0,0,0]
[6335,null,null,null,null,0,0,0]
[6336,null,null,null,null,0,0,0]
[6337,null,null,null,null,0,0,0]
[6338,null,null,null,null,{"$f":"MIN(B6347:C6347)","v":0},{"$f":"MIN(D6347:E6347)","v":0},{"$f":"F6347*G6347","v":0}]
[6339,null,null,null,null,0,0,0]
[6340,null,null,null,null,0,0,0]
[6341,null,null,null,null,0,0,0]
[6342,null,null,null,null,0,0,0]
[6343,null,null,null,null,0,0,0]
[6344,null,null,null,null,0,0,0]
[6345,null,null,null,null,0,0,0]
[6346,null,null,null,null,0,0,0]
[6347,null,null,null,null,0,0,0]
[6348,null,null,null,null,0,0,0]
[6349,null,null,null,null,0,0,0]
[6350,null,null,null,null,0,0,0]
[6351,null,null,null,null,0,0,0]
[6352,null,null,null,null,0,0,0]
[6353,null,null,null,null,0,0,0]
[6354,null,null,null,null,0,0,0]
[6355,null,null,null,null,0,0,0]
[6356,null,null,null,null,0,0,0]
[6357,null,null,null,null,0,0,0]
[6358,null,null,null,null,0,0,0]
[6359,null,null,null,null,0,0,0]
[6360,null,null,null,null,0,0,0]
[6361,null,null,null,null,0,0,0]
[6362,null,null,null,null,0,0,0]
[6363,null,null,null,null,0,0,0]
[6364,null,null,null,null,0,0,0]
[6365,null,null,null,null,0,0,0]
[6366,null,null,null,null,0,0,0]
[6367,null,null,null,null,0,0,0]
[6368,null,null,null,null,0,0,0]
[6369,null,null,null,null,0,0,0]
[6370,null,null,null,null,0,0,0]
[6371,null,null,null,null,0,0,0]
[6372,null,null,null,null,0,0,0]
[6373,null,null,null,null,0,0,0]
[6374,null,null,null,null,0,0,0]
[6375,null,null,null,null,0,0,0]
[6376,null,null,null,null,0,0,0]
[6377,null,null,null,null,0,0,0]
[6378,null,null,null,null,0,0,0]
[6379,null,null,null,null,0,0,0]
[6380,null,null,null,null,0,0,0]
[6381,null,null,null,null,0,0,0]
[6382,null,null,null,null,0,0,0]
[6383,null,null,null,null,0,0,0]
[6384,null,null,null,null,0,0,0]
[6385,null,null,null,null,0,0,0]
[6386,null,null,null,null,0,0,0]
[6387,null,null,null,null,0,0,0]
[6388,null,null,null,null,0,0,0]
[6389,null,null,null,null,0,0,0]
[6390,null,null,null,null,0,0,0]
[6391,null,null,null,null,0,0,0]
[6392,null,null,null,null,0,0,0]
[6393,null,null,null,null,0,0,0]
[6394,null,null,null,null,0,0,0]
[6395,null,null,null,null,0,0,0]
[6396,null,null,null,null,0,0,0]
[6397,null,null,null,null,0,0,0]
[6398,null,null,null,null,0,0,0]
[6399,null,null,null,null,0,0,0]
[6400,null,null,null,null,0,0,0]
[6401,null,null,null,null,0,0,0]
[6402,null,null,null,null,{"$f":"MIN(B6411:C6411)","v":0},{"$f":"MIN(D6411:E6411)","v":0},{"$f":"F6411*G6411","v":0}]
[6403,null,null,null,null,0,0,0]
[6404,null,null,null,null,0,0,0]
[6405,null,null,null,null,0,0,0]
[6406,null,null,null,null,0,0,0]
[6407,null,null,null,null,0,0,0]
[6408,null,null,null,null,0,0,0]
[6409,null,null,null,null,0,0,0]
[6410,null,null,null,null,0,0,0]
[6411,null,null,null,null,0,0,0]
[6412,null,null,null,null,0,0,0]
[6413,null,null,null,null,0,0,0]
[6414,null,null,null,null,0,0,0]
[6415,null,null,null,null,0,0,0]
[6416,null,null,null,null,0,0,0]
[6417,null,null,null,null,0,0,0]
[6418,null,null,null,null,0,0,0]
[6419,null,null,null,null,0,0,0]
[6420,null,null,null,null,0,0,0]
[6421,null,null,null,null,0,0,0]
[6422,null,null,null,null,0,0,0]
[6423,null,null,null,null,0,0,0]
[6424,null,null,null,null,0,0,0]
[6425,null,null,null,null,0,0,0]
[6426,null,null,null,null,0,0,0]
[6427,null,null,null,null,0,0,0]
[6428,null,null,null,null,0,0,0]
[6429,null,null,null,null,0,0,0]
[6430,null,null,null,null,0,0,0]
[6431,null,null,null,null,0,0,0]
[6432,null,null,null,null,0,0,0]
[6433,null,null,null,null,0,0,0]
[6434,null,null,null,null,0,0,0]
[6435,null,null,null,null,0,0,0]
[6436,null,null,null,null,0,0,0]
[6437,null,null,null,null,0,0,0]
[6438,null,null,null,null,0,0,0]
[6439,null,null,null,null,0,0,0]
[6440,null,null,null,null,0,0,0]
[6441,null,null,null,null,0,0,0]
[6442,null,null,null,null,0,0,0]
[6443,null,null,null,null,0,0,0]
[6444,null,null,null,null,0,0,0]
[6445,null,null,null,null,0,0,0]
[6446,null,null,null,null,0,0,0]
[6447,null,null,null,null,0,0,0]
[6448,null,null,null,null,0,0,0]
[6449,null,null,null,null,0,0,0]
[6450,null,null,null,null,0,0,0]
[6451,null,null,null,null,0,0,0]
[6452,null,null,null,null,0,0,0]
[6453,null,null,null,null,0,0,0]
[6454,null,null,null,null,0,0,0]
[6455,null,null,null,null,0,0,0]
[6456,null,null,null,null,0,0,0]
[6457,null,null,null,null,0,0,0]
[6458,null,null,null,null,0,0,0]
[6459,null,null,null,null,0,0,0]
[6460,null,null,null,null,0,0,0]
[6461,null,null,null,null,0,0,0]
[6462,null,null,null,null,0,0,0]
[6463,null,null,null,null,0,0,0]
[6464,null,null,null,null,0,0,0]
[6465,null,null,null,null,0,0,0]
[6466,null,null,null,null,{"$f":"MIN(B6475:C6475)","v":0},{"$f":"MIN(D6475:E6475)","v":0},{"$f":"F6475*G6475","v":0}]
[6467,null,null,null,null,0,0,0]
[6468,null,null,null,null,0,0,0]
[6469,null,null,null,null,0,0,0]
[6470,null,null,null,null,0,0,0]
[6471,null,null,null,null,0,0,0]
[6472,null,null,null,null,0,0,0]
[6473,null,null,null,null,0,0,0]
[6474,null,null,null,null,0,0,0]
[6475,null,null,null,null,0,0,0]
[6476,null,null,null,null,0,0,0]
[6477,null,null,null,null,0,0,0]
[6478,null,null,null,null,0,0,0]
[6479,null,null,null,null,0,0,0]
[6480,null,null,null,null,0,0,0]
[6481,null,null,null,null,0,0,0]
[6482,null,null,null,null,0,0,0]
[6483,null,null,null,null,0,0,0]
[6484,null,null,null,null,0,0,0]
[6485,null,null,null,null,0,0,0]
[6486,null,null,null,null,0,0,0]
[6487,null,null,null,null,0,0,0]
[6488,null,null,null,null,0,0,0]
[6489,null,null,null,null,0,0,0]
[6490,null,null,null,null,0,0,0]
[6491,null,null,null,null,0,0,0]
[6492,null,null,null,null,0,0,0]
[6493,null,null,null,null,0,0,0]
[6494,null,null,null,null,0,0,0]
[6495,null,null,null,null,0,0,0]
[6496,null,null,null,null,0,0,0]
[6497,null,null,null,null,0,0,0]
[6498,null,null,null,null,0,0,0]
[6499,null,null,null,null,0,0,0]
[6500,null,null,null,null,0,0,0]
[6501,null,null,null,null,0,0,0]
[6502,null,null,null,null,0,0,0]
[6503,null,null,null,null,0,0,0]
[6504,null,null,null,null,0,0,0]
[6505,null,null,null,null,0,0,0]
[6506,null,null,null,null,0,0,0]
[6507,null,null,null,null,0,0,0]
[6508,null,null,null,null,0,0,0]
[6509,null,null,null,null,0,0,0]
[6510,null,null,null,null,0,0,0]
[6511,null,null,null,null,0,0,0]
[6512,null,null,null,null,0,0,0]
[6513,null,null,null,null,0,0,0]
[6514,null,null,null,null,0,0,0]
[6515,null,null,null,null,0,0,0]
[6516,null,null,null,null,0,0,0]
[6517,null,null,null,null,0,0,0]
[6518,null,null,null,null,0,0,0]
[6519,null,null,null,null,0,0,0]
[6520,null,null,null,null,0,0,0]
[6521,null,null,null,null,0,0,0]
[6522,null,null,null,null,0,0,0]
[6523,null,null,null,null,0,0,0]
[6524,null,null,null,null,0,0,0]
[6525,null,null,null,null,0,0,0]
[6526,null,null,null,null,0,0,0]
[6527,null,null,null,null,0,0,0]
[6528,null,null,null,null,0,0,0]
[6529,null,null,null,null,0,0,0]
[6530,null,null,null,null,{"$f":"MIN(B6539:C6539)","v":0},{"$f":"MIN(D6539:E6539)","v":0},{"$f":"F6539*G6539","v":0}]
[6531,null,null,null,null,0,0,0]
[6532,null,null,null,null,0,0,0]
[6533,null,null,null,null,0,0,0]
[6534,null,null,null,null,0,0,0]
[6535,null,null,null,null,0,0,0]
[6536,null,null,null,null,0,0,0]
[6537,null,null,null,null,0,0,0]
[6538,null,null,null,null,0,0,0]
[6539,null,null,null,null,0,0,0]
[6540,null,null,null,null,0,0,0]
[6541,null,null,null,null,0,0,0]
[6542,null,null,null,null,0,0,0]
[6543,null,null,null,null,0,0,0]
[6544,null,null,null,null,0,0,0]
[6545,null,null,null,null,0,0,0]
[6546,null,null,null,null,0,0,0]
[6547,null,null,null,null,0,0,0]
[6548,null,null,null,null,0,0,0]
[6549,null,null,null,null,0,0,0]
[6550,null,null,null,null,0,0,0]
[6551,null,null,null,null,0,0,0]
[6552,null,null,null,null,0,0,0]
[6553,null,null,null,null,0,0,0]
[6554,null,null,null,null,0,0,0]
[6555,null,null,null,null,0,0,0]
[6556,null,null,null,null,0,0,0]
[6557,null,null,null,null,0,0,0]
[6558,null,null,null,null,0,0,0]
[6559,null,null,null,null,0,0,0]
[6560,null,null,null,null,0,0,0]
[6561,null,null,null,null,0,0,0]
[6562,null,null,null,null,0,0,0]
[6563,null,null,null,null,0,0,0]
[6564,null,null,null,null,0,0,0]
[6565,null,null,null,null,0,0,0]
[6566,null,null,null,null,0,0,0]
[6567,null,null,null,null,0,0,0]
[6568,null,null,null,null,0,0,0]
[6569,null,null,null,null,0,0,0]
[6570,null,null,null,null,0,0,0]
[6571,null,null,null,null,0,0,0]
[6572,null,null,null,null,0,0,0]
[6573,null,null,null,null,0,0,0]
[6574,null,null,null,null,0,0,0]
[6575,null,null,null,null,0,0,0]
[6576,null,null,null,null,0,0,0]
[6577,null,null,null,null,0,0,0]
[6578,null,null,null,null,0,0,0]
[6579,null,null,null,null,0,0,0]
[6580,null,null,null,null,0,0,0]
[6581,null,null,null,null,0,0,0]
[6582,null,null,null,null,0,0,0]
[6583,null,null,null,null,0,0,0]
[6584,null,null,null,null,0,0,0]
[6585,null,null,null,null,0,0,0]
[6586,null,null,null,null,0,0,0]
[6587,null,null,null,null,0,0,0]
[6588,null,null,null,null,0,0,0]
[6589,null,null,null,null,0,0,0]
[6590,null,null,null,null,0,0,0]
[6591,null,null,null,null,0,0,0]
[6592,null,null,null,null,0,0,0]
[6593,null,null,null,null,0,0,0]
[6594,null,null,null,null,{"$f":"MIN(B6603:C6603)","v":0},{"$f":"MIN(D6603:E6603)","v":0},{"$f":"F6603*G6603","v":0}]
[6595,null,null,null,null,0,0,0]
[6596,null,null,null,null,0,0,0]
[6597,null,null,null,null,0,0,0]
[6598,null,null,null,null,0,0,0]
[6599,null,null,null,null,0,0,0]
[6600,null,null,null,null,0,0,0]
[6601,null,null,null,null,0,0,0]
[6602,null,null,null,null,0,0,0]
[6603,null,null,null,null,0,0,0]
[6604,null,null,null,null,0,0,0]
[6605,null,null,null,null,0,0,0]
[6606,null,null,null,null,0,0,0]
[6607,null,null,null,null,0,0,0]
[6608,null,null,null,null,0,0,0]
[6609,null,null,null,null,0,0,0]
[6610,null,null,null,null,0,0,0]
[6611,null,null,null,null,0,0,0]
[6612,null,null,null,null,0,0,0]
[6613,null,null,null,null,0,0,0]
[6614,null,null,null,null,0,0,0]
[6615,null,null,null,null,0,0,0]
[6616,null,null,null,null,0,0,0]
[6617,null,null,null,null,0,0,0]
[6618,null,null,null,null,0,0,0]
[6619,null,null,null,null,0,0,0]
[6620,null,null,null,null,0,0,0]
[6621,null,null,null,null,0,0,0]
[6622,null,null,null,null,0,0,0]
[6623,null,null,null,null,0,0,0]
[6624,null,null,null,null,0,0,0]
[6625,null,null,null,null,0,0,0]
[6626,null,null,null,null,0,0,0]
[6627,null,null,null,null,0,0,0]
[6628,null,null,null,null,0,0,0]
[6629,null,null,null,null,0,0,0]
[6630,null,null,null,null,0,0,0]
[6631,null,null,null,null,0,0,0]
[6632,null,null,null,null,0,0,0]
[6633,null,null,null,null,0,0,0]
[6634,null,null,null,null,0,0,0]
[6635,null,null,null,null,0,0,0]
[6636,null,null,null,null,0,0,0]
[6637,null,null,null,null,0,0,0]
[6638,null,null,null,null,0,0,0]
[6639,null,null,null,null,0,0,0]
[6640,null,null,null,null,0,0,0]
[6641,null,null,null,null,0,0,0]
[6642,null,null,null,null,0,0,0]
[6643,null,null,null,null,0,0,0]
[6644,null,null,null,null,0,0,0]
[6645,null,null,null,null,0,0,0]
[6646,null,null,null,null,0,0,0]
[6647,null,null,null,null,0,0,0]
[6648,null,null,null,null,0,0,0]
[6649,null,null,null,null,0,0,0]
[6650,null,null,null,null,0,0,0]
[6651,null,null,null,null,0,0,0]
[6652,null,null,null,null,0,0,0]
[6653,null,null,null,null,0,0,0]
[6654,null,null,null,null,0,0,0]
[6655,null,null,null,null,0,0,0]
[6656,null,null,null,null,0,0,0]
[6657,null,null,null,null,0,0,0]
[6658,null,null,null,null,{"$f":"MIN(B6667:C6667)","v":0},{"$f":"MIN(D6667:E6667)","v":0},{"$f":"F6667*G6667","v":0}]
[6659,null,null,null,null,0,0,0]
[6660,null,null,null,null,0,0,0]
[6661,null,null,null,null,0,0,0]
[6662,null,null,null,null,0,0,0]
[6663,null,null,null,null,0,0,0]
[6664,null,null,null,null,0,0,0]
[6665,null,null,null,null,0,0,0]
[6666,null,null,null,null,0,0,0]
[6667,null,null,null,null,0,0,0]
[6668,null,null,null,null,0,0,0]
[6669,null,null,null,null,0,0,0]
[6670,null,null,null,null,0,0,0]
[6671,null,null,null,null,0,0,0]
[6672,null,null,null,null,0,0,0]
[6673,null,null,null,null,0,0,0]
[6674,null,null,null,null,0,0,0]
[6675,null,null,null,null,0,0,0]
[6676,null,null,null,null,0,0,0]
[6677,null,null,null,null,0,0,0]
[6678,null,null,null,null,0,0,0]
[6679,null,null,null,null,0,0,0]
[6680,null,null,null,null,0,0,0]
[6681,null,null,null,null,0,0,0]
[6682,null,null,null,null,0,0,0]
[6683,null,null,null,null,0,0,0]
[6684,null,null,null,null,0,0,0]
[6685,null,null,null,null,0,0,0]
[6686,null,null,null,null,0,0,0]
[6687,null,null,null,null,0,0,0]
[6688,null,null,null,null,0,0,0]
[6689,null,null,null,null,0,0,0]
[6690,null,null,null,null,0,0,0]
[6691,null,null,null,null,0,0,0]
[6692,null,null,null,null,0,0,0]
[6693,null,null,null,null,0,0,0]
[6694,null,null,null,null,0,0,0]
[6695,null,null,null,null,0,0,0]
[6696,null,null,null,null,0,0,0]
[6697,null,null,null,null,0,0,0]
[6698,null,null,null,null,0,0,0]
[6699,null,null,null,null,0,0,0]
[6700,null,null,null,null,0,0,0]
[6701,null,null,null,null,0,0,0]
[6702,null,null,null,null,0,0,0]
[6703,null,null,null,null,0,0,0]
[6704,null,null,null,null,0,0,0]
[6705,null,null,null,null,0,0,0]
[6706,null,null,null,null,0,0,0]
[6707,null,null,null,null,0,0,0]
[6708,null,null,null,null,0,0,0]
[6709,null,null,null,null,0,0,0]
[6710,null,null,null,null,0,0,0]
[6711,null,null,null,null,0,0,0]
[6712,null,null,null,null,0,0,0]
[6713,null,null,null,null,0,0,0]
[6714,null,null,null,null,0,0,0]
[6715,null,null,null,null,0,0,0]
[6716,null,null,null,null,0,0,0]
[6717,null,null,null,null,0,0,0]
[6718,null,null,null,null,0,0,0]
[6719,null,null,null,null,0,0,0]
[6720,null,null,null,null,0,0,0]
[6721,null,null,null,null,0,0,0]
[6722,null,null,null,null,{"$f":"MIN(B6731:C6731)","v":0},{"$f":"MIN(D6731:E6731)","v":0},{"$f":"F6731*G6731","v":0}]
[6723,null,null,null,null,0,0,0]
[6724,null,null,null,null,0,0,0]
[6725,null,null,null,null,0,0,0]
[6726,null,null,null,null,0,0,0]
[6727,null,null,null,null,0,0,0]
[6728,null,null,null,null,0,0,0]
[6729,null,null,null,null,0,0,0]
[6730,null,null,null,null,0,0,0]
[6731,null,null,null,null,0,0,0]
[6732,null,null,null,null,0,0,0]
[6733,null,null,null,null,0,0,0]
[6734,null,null,null,null,0,0,0]
[6735,null,null,null,null,0,0,0]
[6736,null,null,null,null,0,0,0]
[6737,null,null,null,null,0,0,0]
[6738,null,null,null,null,0,0,0]
[6739,null,null,null,null,0,0,0]
[6740,null,null,null,null,0,0,0]
[6741,null,null,null,null,0,0,0]
[6742,null,null,null,null,0,0,0]
[6743,null,null,null,null,0,0,0]
[6744,null,null,null,null,0,0,0]
[6745,null,null,null,null,0,0,0]
[6746,null,null,null,null,0,0,0]
[6747,null,null,null,null,0,0,0]
[6748,null,null,null,null,0,0,0]
[6749,null,null,null,null,0,0,0]
[6750,null,null,null,null,0,0,0]
[6751,null,null,null,null,0,0,0]
[6752,null,null,null,null,0,0,0]
[6753,null,null,null,null,0,0,0]
[6754,null,null,null,null,0,0,0]
[6755,null,null,null,null,0,0,0]
[6756,null,null,null,null,0,0,0]
[6757,null,null,null,null,0,0,0]
[6758,null,null,null,null,0,0,0]
[6759,null,null,null,null,0,0,0]
[6760,null,null,null,null,0,0,0]
[6761,null,null,null,null,0,0,0]
[6762,null,null,null,null,0,0,0]
[6763,null,null,null,null,0,0,0]
[6764,null,null,null,null,0,0,0]
[6765,null,null,null,null,0,0,0]
[6766,null,null,null,null,0,0,0]
[6767,null,null,null,null,0,0,0]
[6768,null,null,null,null,0,0,0]
[6769,null,null,null,null,0,0,0]
[6770,null,null,null,null,0,0,0]
[6771,null,null,null,null,0,0,0]
[6772,null,null,null,null,0,0,0]
[6773,null,null,null,null,0,0,0]
[6774,null,null,null,null,0,0,0]
[6775,null,null,null,null,0,0,0]
[6776,null,null,null,null,0,0,0]
[6777,null,null,null,null,0,0,0]
[6778,null,null,null,null,0,0,0]
[6779,null,null,null,null,0,0,0]
[6780,null,null,null,null,0,0,0]
[6781,null,null,null,null,0,0,0]
[6782,null,null,null,null,0,0,0]
[6783,null,null,null,null,0,0,0]
[6784,null,null,null,null,0,0,0]
[6785,null,null,null,null,0,0,0]
[6786,null,null,null,null,{"$f":"MIN(B6795:C6795)","v":0},{"$f":"MIN(D6795:E6795)","v":0},{"$f":"F6795*G6795","v":0}]
[6787,null,null,null,null,0,0,0]
[6788,null,null,null,null,0,0,0]
[6789,null,null,null,null,0,0,0]
[6790,null,null,null,null,0,0,0]
[6791,null,null,null,null,0,0,0]
[6792,null,null,null,null,0,0,0]
[6793,null,null,null,null,0,0,0]
[6794,null,null,null,null,0,0,0]
[6795,null,null,null,null,0,0,0]
[6796,null,null,null,null,0,0,0]
[6797,null,null,null,null,0,0,0]
[6798,null,null,null,null,0,0,0]
[6799,null,null,null,null,0,0,0]
[6800,null,null,null,null,0,0,0]
[6801,null,null,null,null,0,0,0]
[6802,null,null,null,null,0,0,0]
[6803,null,null,null,null,0,0,0]
[6804,null,null,null,null,0,0,0]
[6805,null,null,null,null,0,0,0]
[6806,null,null,null,null,0,0,0]
[6807,null,null,null,null,0,0,0]
[6808,null,null,null,null,0,0,0]
[6809,null,null,null,null,0,0,0]
[6810,null,null,null,null,0,0,0]
[6811,null,null,null,null,0,0,0]
[6812,null,null,null,null,0,0,0]
[6813,null,null,null,null,0,0,0]
[6814,null,null,null,null,0,0,0]
[6815,null,null,null,null,0,0,0]
[6816,null,null,null,null,0,0,0]
[6817,null,null,null,null,0,0,0]
[6818,null,null,null,null,0,0,0]
[6819,null,null,null,null,0,0,0]
[6820,null,null,null,null,0,0,0]
[6821,null,null,null,null,0,0,0]
[6822,null,null,null,null,0,0,0]
[6823,null,null,null,null,0,0,0]
[6824,null,null,null,null,0,0,0]
[6825,null,null,null,null,0,0,0]
[6826,null,null,null,null,0,0,0]
[6827,null,null,null,null,0,0,0]
[6828,null,null,null,null,0,0,0]
[6829,null,null,null,null,0,0,0]
[6830,null,null,null,null,0,0,0]
[6831,null,null,null,null,0,0,0]
[6832,null,null,null,null,0,0,0]
[6833,null,null,null,null,0,0,0]
[6834,null,null,null,null,0,0,0]
[6835,null,null,null,null,0,0,0]
[6836,null,null,null,null,0,0,0]
[6837,null,null,null,null,0,0,0]
[6838,null,null,null,null,0,0,0]
[6839,null,null,null,null,0,0,0]
[6840,null,null,null,null,0,0,0]
[6841,null,null,null,null,0,0,0]
[6842,null,null,null,null,0,0,0]
[6843,null,null,null,null,0,0,0]
[6844,null,null,null,null,0,0,0]
[6845,null,null,null,null,0,0,0]
[6846,null,null,null,null,0,0,0]
[6847,null,null,null,null,0,0,0]
[6848,null,null,null,null,0,0,0]
[6849,null,null,null,null,0,0,0]
[6850,null,null,null,null,{"$f":"MIN(B6859:C6859)","v":0},{"$f":"MIN(D6859:E6859)","v":0},{"$f":"F6859*G6859","v":0}]
[6851,null,null,null,null,0,0,0]
[6852,null,null,null,null,0,0,0]
[6853,null,null,null,null,0,0,0]
[6854,null,null,null,null,0,0,0]
[6855,null,null,null,null,0,0,0]
[6856,null,null,null,null,0,0,0]
[6857,null,null,null,null,0,0,0]
[6858,null,null,null,null,0,0,0]
[6859,null,null,null,null,0,0,0]
[6860,null,null,null,null,0,0,0]
[6861,null,null,null,null,0,0,0]
[6862,null,null,null,null,0,0,0]
[6863,null,null,null,null,0,0,0]
[6864,null,null,null,null,0,0,0]
[6865,null,null,null,null,0,0,0]
[6866,null,null,null,null,0,0,0]
[6867,null,null,null,null,0,0,0]
[6868,null,null,null,null,0,0,0]
[6869,null,null,null,null,0,0,0]
[6870,null,null,null,null,0,0,0]
[6871,null,null,null,null,0,0,0]
[6872,null,null,null,null,0,0,0]
[6873,null,null,null,null,0,0,0]
[6874,null,null,null,null,0,0,0]
[6875,null,null,null,null,0,0,0]
[6876,null,null,null,null,0,0,0]
[6877,null,null,null,null,0,0,0]
[6878,null,null,null,null,0,0,0]
[6879,null,null,null,null,0,0,0]
[6880,null,null,null,null,0,0,0]
[6881,null,null,null,null,0,0,0]
[6882,null,null,null,null,0,0,0]
[6883,null,null,null,null,0,0,0]
[6884,null,null,null,null,0,0,0]
[6885,null,null,null,null,0,0,0]
[6886,null,null,null,null,0,0,0]
[6887,null,null,null,null,0,0,0]
[6888,null,null,null,null,0,0,0]
[6889,null,null,null,null,0,0,0]
[6890,null,null,null,null,0,0,0]
[6891,null,null,null,null,0,0,0]
[6892,null,null,null,null,0,0,0]
[6893,null,null,null,null,0,0,0]
[6894,null,null,null,null,0,0,0]
[6895,null,null,null,null,0,0,0]
[6896,null,null,null,null,0,0,0]
[6897,null,null,null,null,0,0,0]
[6898,null,null,null,null,0,0,0]
[6899,null,null,null,null,0,0,0]
[6900,null,null,null,null,0,0,0]
[6901,null,null,null,null,0,0,0]
[6902,null,null,null,null,0,0,0]
[6903,null,null,null,null,0,0,0]
[6904,null,null,null,null,0,0,0]
[6905,null,null,null,null,0,0,0]
[6906,null,null,null,null,0,0,0]
[6907,null,null,null,null,0,0,0]
[6908,null,null,null,null,0,0,0]
[6909,null,null,null,null,0,0,0]
[6910,null,null,null,null,0,0,0]
[6911,null,null,null,null,0,0,0]
[6912,null,null,null,null,0,0,0]
[6913,null,null,null,null,0,0,0]
[6914,null,null,null,null,{"$f":"MIN(B6923:C6923)","v":0},{"$f":"MIN(D6923:E6923)","v":0},{"$f":"F6923*G6923","v":0}]
[6915,null,null,null,null,0,0,0]
[6916,null,null,null,null,0,0,0]
[6917,null,null,null,null,0,0,0]
[6918,null,null,null,null,0,0,0]
[6919,null,null,null,null,0,0,0]
[6920,null,null,null,null,0,0,0]
[6921,null,null,null,null,0,0,0]
[6922,null,null,null,null,0,0,0]
[6923,null,null,null,null,0,0,0]
[6924,null,null,null,null,0,0,0]
[6925,null,null,null,null,0,0,0]
[6926,null,null,null,null,0,0,0]
[6927,null,null,null,null,0,0,0]
[6928,null,null,null,null,0,0,0]
[6929,null,null,null,null,0,0,0]
[6930,null,null,null,null,0,0,0]
[6931,null,null,null,null,0,0,0]
[6932,null,null,null,null,0,0,0]
[6933,null,null,null,null,0,0,0]
[6934,null,null,null,null,0,0,0]
[6935,null,null,null,null,0,0,0]
[6936,null,null,null,null,0,0,0]
[6937,null,null,null,null,0,0,0]
[6938,null,null,null,null,0,0,0]
[6939,null,null,null,null,0,0,0]
[6940,null,null,null,null,0,0,0]
[6941,null,null,null,null,0,0,0]
[6942,null,null,null,null,0,0,0]
[6943,null,null,null,null,0,0,0]
[6944,null,null,null,null,0,0,0]
[6945,null,null,null,null,0,0,0]
[6946,null,null,null,null,0,0,0]
[6947,null,null,null,null,0,0,0]
[6948,null,null,null,null,0,0,0]
[6949,null,null,null,null,0,0,0]
[6950,null,null,null,null,0,0,0]
[6951,null,null,null,null,0,0,0]
[6952,null,null,null,null,0,0,0]
[6953,null,null,null,null,0,0,0]
[6954,null,null,null,null,0,0,0]
[6955,null,null,null,null,0,0,0]
[6956,null,null,null,null,0,0,0]
[6957,null,null,null,null,0,0,0]
[6958,null,null,null,null,0,0,0]
[6959,null,null,null,null,0,0,0]
[6960,null,null,null,null,0,0,0]
[6961,null,null,null,null,0,0,0]
[6962,null,null,null,null,0,0,0]
[6963,null,null,null,null,0,0,0]
[6964,null,null,null,null,0,0,0]
[6965,null,null,null,null,0,0,0]
[6966,null,null,null,null,0,0,0]
[6967,null,null,null,null,0,0,0]
[6968,null,null,null,null,0,0,0]
[6969,null,null,null,null,0,0,0]
[6970,null,null,null,null,0,0,0]
[6971,null,null,null,null,0,0,0]
[6972,null,null,null,null,0,0,0]
[6973,null,null,null,null,0,0,0]
[6974,null,null,null,null,0,0,0]
[6975,null,null,null,null,0,0,0]
[6976,null,null,null,null,0,0,0]
[6977,null,null,null,null,0,0,0]
[6978,null,null,null,null,{"$f":"MIN(B6987:C6987)","v":0},{"$f":"MIN(D6987:E6987)","v":0},{"$f":"F6987*G6987","v":0}]
[6979,null,null,null,null,0,0,0]
[6980,null,null,null,null,0,0,0]
[6981,null,null,null,null,0,0,0]
[6982,null,null,null,null,0,0,0]
[6983,null,null,null,null,0,0,0]
[6984,null,null,null,null,0,0,0]
[6985,null,null,null,null,0,0,0]
[6986,null,null,null,null,0,0,0]
[6987,null,null,null,null,0,0,0]
[6988,null,null,null,null,0,0,0]
[6989,null,null,null,null,0,0,0]
[6990,null,null,null,null,0,0,0]
[6991,null,null,null,null,0,0,0]
[6992,null,null,null,null,0,0,0]
[6993,null,null,null,null,0,0,0]
[6994,null,null,null,null,0,0,0]
[6995,null,null,null,null,0,0,0]
[6996,null,null,null,null,0,0,0]
[6997,null,null,null,null,0,0,0]
[6998,null,null,null,null,0,0,0]
[6999,null,null,null,null,0,0,0]
[7000,null,null,null,null,0,0,0]
[7001,null,null,null,null,0,0,0]
[7002,null,null,null,null,0,0,0]
[7003,null,null,null,null,0,0,0]
[7004,null,null,null,null,0,0,0]
[7005,null,null,null,null,0,0,0]
[7006,null,null,null,null,0,0,0]
[7007,null,null,null,null,0,0,0]
[7008,null,null,null,null,0,0,0]
[7009,null,null,null,null,0,0,0]
[7010,null,null,null,null,0,0,0]
[7011,null,null,null,null,0,0,0]
[7012,null,null,null,null,0,0,0]
[7013,null,null,null,null,0,0,0]
[7014,null,null,null,null,0,0,0]
[7015,null,null,null,null,0,0,0]
[7016,null,null,null,null,0,0,0]
[7017,null,null,null,null,0,0,0]
[7018,null,null,null,null,0,0,0]
[7019,null,null,null,null,0,0,0]
[7020,null,null,null,null,0,0,0]
[7021,null,null,null,null,0,0,0]
[7022,null,null,null,null,0,0,0]
[7023,null,null,null,null,0,0,0]
[7024,null,null,null,null,0,0,0]
[7025,null,null,null,null,0,0,0]
[7026,null,null,null,null,0,0,0]
[7027,null,null,null,null,0,0,0]
[7028,null,null,null,null,0,0,0]
[7029,null,null,null,null,0,0,0]
[7030,null,null,null,null,0,0,0]
[7031,null,null,null,null,0,0,0]
[7032,null,null,null,null,0,0,0]
[7033,null,null,null,null,0,0,0]
[7034,null,null,null,null,0,0,0]
[7035,null,null,null,null,0,0,0]
[7036,null,null,null,null,0,0,0]
[7037,null,null,null,null,0,0,0]
[7038,null,null,null,null,0,0,0]
[7039,null,null,null,null,0,0,0]
[7040,null,null,null,null,0,0,0]
[7041,null,null,null,null,0,0,0]
[7042,null,null,null,null,{"$f":"MIN(B7051:C7051)","v":0},{"$f":"MIN(D7051:E7051)","v":0},{"$f":"F7051*G7051","v":0}]
[7043,null,null,null,null,0,0,0]
[7044,null,null,null,null,0,0,0]
[7045,null,null,null,null,0,0,0]
[7046,null,null,null,null,0,0,0]
[7047,null,null,null,null,0,0,0]
[7048,null,null,null,null,0,0,0]
[7049,null,null,null,null,0,0,0]
[7050,null,null,null,null,0,0,0]
[7051,null,null,null,null,0,0,0]
[7052,null,null,null,null,0,0,0]
[7053,null,null,null,null,0,0,0]
[7054,null,null,null,null,0,0,0]
[7055,null,null,null,null,0,0,0]
[7056,null,null,null,null,0,0,0]
[7057,null,null,null,null,0,0,0]
[7058,null,null,null,null,0,0,0]
[7059,null,null,null,null,0,0,0]
[7060,null,null,null,null,0,0,0]
[7061,null,null,null,null,0,0,0]
[7062,null,null,null,null,0,0,0]
[7063,null,null,null,null,0,0,0]
[7064,null,null,null,null,0,0,0]
[7065,null,null,null,null,0,0,0]
[7066,null,null,null,null,0,0,0]
[7067,null,null,null,null,0,0,0]
[7068,null,null,null,null,0,0,0]
[7069,null,null,null,null,0,0,0]
[7070,null,null,null,null,0,0,0]
[7071,null,null,null,null,0,0,0]
[7072,null,null,null,null,0,0,0]
[7073,null,null,null,null,0,0,0]
[7074,null,null,null,null,0,0,0]
[7075,null,null,null,null,0,0,0]
[7076,null,null,null,null,0,0,0]
[7077,null,null,null,null,0,0,0]
[7078,null,null,null,null,0,0,0]
[7079,null,null,null,null,0,0,0]
[7080,null,null,null,null,0,0,0]
[7081,null,null,null,null,0,0,0]
[7082,null,null,null,null,0,0,0]
[7083,null,null,null,null,0,0,0]
[7084,null,null,null,null,0,0,0]
[7085,null,null,null,null,0,0,0]
[7086,null,null,null,null,0,0,0]
[7087,null,null,null,null,0,0,0]
[7088,null,null,null,null,0,0,0]
[7089,null,null,null,null,0,0,0]
[7090,null,null,null,null,0,0,0]
[7091,null,null,null,null,0,0,0]
[7092,null,null,null,null,0,0,0]
[7093,null,null,null,null,0,0,0]
[7094,null,null,null,null,0,0,0]
[7095,null,null,null,null,0,0,0]
[7096,null,null,null,null,0,0,0]
[7097,null,null,null,null,0,0,0]
[7098,null,null,null,null,0,0,0]
[7099,null,null,null,null,0,0,0]
[7100,null,null,null,null,0,0,0]
[7101,null,null,null,null,0,0,0]
[7102,null,null,null,null,0,0,0]
[7103,null,null,null,null,0,0,0]
[7104,null,null,null,null,0,0,0]
[7105,null,null,null,null,0,0,0]
[7106,null,null,null,null,{"$f":"MIN(B7115:C7115)","v":0},{"$f":"MIN(D7115:E7115)","v":0},{"$f":"F7115*G7115","v":0}]
[7107,null,null,null,null,0,0,0]
[7108,null,null,null,null,0,0,0]
[7109,null,null,null,null,0,0,0]
[7110,null,null,null,null,0,0,0]
[7111,null,null,null,null,0,0,0]
[7112,null,null,null,null,0,0,0]
[7113,null,null,null,null,0,0,0]
[7114,null,null,null,null,0,0,0]
[7115,null,null,null,null,0,0,0]
[7116,null,null,null,null,0,0,0]
[7117,null,null,null,null,0,0,0]
[7118,null,null,null,null,0,0,0]
[7119,null,null,null,null,0,0,0]
[7120,null,null,null,null,0,0,0]
[7121,null,null,null,null,0,0,0]
[7122,null,null,null,null,0,0,0]
[7123,null,null,null,null,0,0,0]
[7124,null,null,null,null,0,0,0]
[7125,null,null,null,null,0,0,0]
[7126,null,null,null,null,0,0,0]
[7127,null,null,null,null,0,0,0]
[7128,null,null,null,null,0,0,0]
[7129,null,null,null,null,0,0,0]
[7130,null,null,null,null,0,0,0]
[7131,null,null,null,null,0,0,0]
[7132,null,null,null,null,0,0,0]
[7133,null,null,null,null,0,0,0]
[7134,null,null,null,null,0,0,0]
[7135,null,null,null,null,0,0,0]
[7136,null,null,null,null,0,0,0]
[7137,null,null,null,null,0,0,0]
[7138,null,null,null,null,0,0,0]
[7139,null,null,null,null,0,0,0]
[7140,null,null,null,null,0,0,0]
[7141,null,null,null,null,0,0,0]
[7142,null,null,null,null,0,0,0]
[7143,null,null,null,null,0,0,0]
[7144,null,null,null,null,0,0,0]
[7145,null,null,null,null,0,0,0]
[7146,null,null,null,null,0,0,0]
[7147,null,null,null,null,0,0,0]
[7148,null,null,null,null,0,0,0]
[7149,null,null,null,null,0,0,0]
[7150,null,null,null,null,0,0,0]
[7151,null,null,null,null,0,0,0]
[7152,null,null,null,null,0,0,0]
[7153,null,null,null,null,0,0,0]
[7154,null,null,null,null,0,0,0]
[7155,null,null,null,null,0,0,0]
[7156,null,null,null,null,0,0,0]
[7157,null,null,null,null,0,0,0]
[7158,null,null,null,null,0,0,0]
[7159,null,null,null,null,0,0,0]
[7160,null,null,null,null,0,0,0]
[7161,null,null,null,null,0,0,0]
[7162,null,null,null,null,0,0,0]
[7163,null,null,null,null,0,0,0]
[7164,null,null,null,null,0,0,0]
[7165,null,null,null,null,0,0,0]
[7166,null,null,null,null,0,0,0]
[7167,null,null,null,null,0,0,0]
[7168,null,null,null,null,0,0,0]
[7169,null,null,null,null,0,0,0]
[7170,null,null,null,null,{"$f":"MIN(B7179:C7179)","v":0},{"$f":"MIN(D7179:E7179)","v":0},{"$f":"F7179*G7179","v":0}]
[7171,null,null,null,null,0,0,0]
[7172,null,null,null,null,0,0,0]
[7173,null,null,null,null,0,0,0]
[7174,null,null,null,null,0,0,0]
[7175,null,null,null,null,0,0,0]
[7176,null,null,null,null,0,0,0]
[7177,null,null,null,null,0,0,0]
[7178,null,null,null,null,0,0,0]
[7179,null,null,null,null,0,0,0]
[7180,null,null,null,null,0,0,0]
[7181,null,null,null,null,0,0,0]
[7182,null,null,null,null,0,0,0]
[7183,null,null,null,null,0,0,0]
[7184,null,null,null,null,0,0,0]
[7185,null,null,null,null,0,0,0]
[7186,null,null,null,null,0,0,0]
[7187,null,null,null,null,0,0,0]
[7188,null,null,null,null,0,0,0]
[7189,null,null,null,null,0,0,0]
[7190,null,null,null,null,0,0,0]
[7191,null,null,null,null,0,0,0]
[7192,null,null,null,null,0,0,0]
[7193,null,null,null,null,0,0,0]
[7194,null,null,null,null,0,0,0]
[7195,null,null,null,null,0,0,0]
[7196,null,null,null,null,0,0,0]
[7197,null,null,null,null,0,0,0]
[7198,null,null,null,null,0,0,0]
[7199,null,null,null,null,0,0,0]
[7200,null,null,null,null,0,0,0]
[7201,null,null,null,null,0,0,0]
[7202,null,null,null,null,0,0,0]
[7203,null,null,null,null,0,0,0]
[7204,null,null,null,null,0,0,0]
[7205,null,null,null,null,0,0,0]
[7206,null,null,null,null,0,0,0]
[7207,null,null,null,null,0,0,0]
[7208,null,null,null,null,0,0,0]
[7209,null,null,null,null,0,0,0]
[7210,null,null,null,null,0,0,0]
[7211,null,null,null,null,0,0,0]
[7212,null,null,null,null,0,0,0]
[7213,null,null,null,null,0,0,0]
[7214,null,null,null,null,0,0,0]
[7215,null,null,null,null,0,0,0]
[7216,null,null,null,null,0,0,0]
[7217,null,null,null,null,0,0,0]
[7218,null,null,null,null,0,0,0]
[7219,null,null,null,null,0,0,0]
[7220,null,null,null,null,0,0,0]
[7221,null,null,null,null,0,0,0]
[7222,null,null,null,null,0,0,0]
[7223,null,null,null,null,0,0,0]
[7224,null,null,null,null,0,0,0]
[7225,null,null,null,null,0,0,0]
[7226,null,null,null,null,0,0,0]
[7227,null,null,null,null,0,0,0]
[7228,null,null,null,null,0,0,0]
[7229,null,null,null,null,0,0,0]
[7230,null,null,null,null,0,0,0]
[7231,null,null,null,null,0,0,0]
[7232,null,null,null,null,0,0,0]
[7233,null,null,null,null,0,0,0]
[7234,null,null,null,null,{"$f":"MIN(B7243:C7243)","v":0},{"$f":"MIN(D7243:E7243)","v":0},{"$f":"F7243*G7243","v":0}]
[7235,null,null,null,null,0,0,0]
[7236,null,null,null,null,0,0,0]
[7237,null,null,null,null,0,0,0]
[7238,null,null,null,null,0,0,0]
[7239,null,null,null,null,0,0,0]
[7240,null,null,null,null,0,0,0]
[7241,null,null,null,null,0,0,0]
[7242,null,null,null,null,0,0,0]
[7243,null,null,null,null,0,0,0]
[7244,null,null,null,null,0,0,0]
[7245,null,null,null,null,0,0,0]
[7246,null,null,null,null,0,0,0]
[7247,null,null,null,null,0,0,0]
[7248,null,null,null,null,0,0,0]
[7249,null,null,null,null,0,0,0]
[7250,null,null,null,null,0,0,0]
[7251,null,null,null,null,0,0,0]
[7252,null,null,null,null,0,0,0]
[7253,null,null,null,null,0,0,0]
[7254,null,null,null,null,0,0,0]
[7255,null,null,null,null,0,0,0]
[7256,null,null,null,null,0,0,0]
[7257,null,null,null,null,0,0,0]
[7258,null,null,null,null,0,0,0]
[7259,null,null,null,null,0,0,0]
[7260,null,null,null,null,0,0,0]
[7261,null,null,null,null,0,0,0]
[7262,null,null,null,null,0,0,0]
[7263,null,null,null,null,0,0,0]
[7264,null,null,null,null,0,0,0]
[7265,null,null,null,null,0,0,0]
[7266,null,null,null,null,0,0,0]
[7267,null,null,null,null,0,0,0]
[7268,null,null,null,null,0,0,0]
[7269,null,null,null,null,0,0,0]
[7270,null,null,null,null,0,0,0]
[7271,null,null,null,null,0,0,0]
[7272,null,null,null,null,0,0,0]
[7273,null,null,null,null,0,0,0]
[7274,null,null,null,null,0,0,0]
[7275,null,null,null,null,0,0,0]
[7276,null,null,null,null,0,0,0]
[7277,null,null,null,null,0,0,0]
[7278,null,null,null,null,0,0,0]
[7279,null,null,null,null,0,0,0]
[7280,null,null,null,null,0,0,0]
[7281,null,null,null,null,0,0,0]
[7282,null,null,null,null,0,0,0]
[7283,null,null,null,null,0,0,0]
[7284,null,null,null,null,0,0,0]
[7285,null,null,null,null,0,0,0]
[7286,null,null,null,null,0,0,0]
[7287,null,null,null,null,0,0,0]
[7288,null,null,null,null,0,0,0]
[7289,null,null,null,null,0,0,0]
[7290,null,null,null,null,0,0,0]
[7291,null,null,null,null,0,0,0]
[7292,null,null,null,null,0,0,0]
[7293,null,null,null,null,0,0,0]
[7294,null,null,null,null,0,0,0]
[7295,null,null,null,null,0,0,0]
[7296,null,null,null,null,0,0,0]
[7297,null,null,null,null,0,0,0]
[7298,null,null,null,null,{"$f":"MIN(B7307:C7307)","v":0},{"$f":"MIN(D7307:E7307)","v":0},{"$f":"F7307*G7307","v":0}]
[7299,null,null,null,null,0,0,0]
[7300,null,null,null,null,0,0,0]
[7301,null,null,null,null,0,0,0]
[7302,null,null,null,null,0,0,0]
[7303,null,null,null,null,0,0,0]
[7304,null,null,null,null,0,0,0]
[7305,null,null,null,null,0,0,0]
[7306,null,null,null,null,0,0,0]
[7307,null,null,null,null,0,0,0]
[7308,null,null,null,null,0,0,0]
[7309,null,null,null,null,0,0,0]
[7310,null,null,null,null,0,0,0]
[7311,null,null,null,null,0,0,0]
[7312,null,null,null,null,0,0,0]
[7313,null,null,null,null,0,0,0]
[7314,null,null,null,null,0,0,0]
[7315,null,null,null,null,0,0,0]
[7316,null,null,null,null,0,0,0]
[7317,null,null,null,null,0,0,0]
[7318,null,null,null,null,0,0,0]
[7319,null,null,null,null,0,0,0]
[7320,null,null,null,null,0,0,0]
[7321,null,null,null,null,0,0,0]
[7322,null,null,null,null,0,0,0]
[7323,null,null,null,null,0,0,0]
[7324,null,null,null,null,0,0,0]
[7325,null,null,null,null,0,0,0]
[7326,null,null,null,null,0,0,0]
[7327,null,null,null,null,0,0,0]
[7328,null,null,null,null,0,0,0]
[7329,null,null,null,null,0,0,0]
[7330,null,null,null,null,0,0,0]
[7331,null,null,null,null,0,0,0]
[7332,null,null,null,null,0,0,0]
[7333,null,null,null,null,0,0,0]
[7334,null,null,null,null,0,0,0]
[7335,null,null,null,null,0,0,0]
[7336,null,null,null,null,0,0,0]
[7337,null,null,null,null,0,0,0]
[7338,null,null,null,null,0,0,0]
[7339,null,null,null,null,0,0,0]
[7340,null,null,null,null,0,0,0]
[7341,null,null,null,null,0,0,0]
[7342,null,null,null,null,0,0,0]
[7343,null,null,null,null,0,0,0]
[7344,null,null,null,null,0,0,0]
[7345,null,null,null,null,0,0,0]
[7346,null,null,null,null,0,0,0]
[7347,null,null,null,null,0,0,0]
[7348,null,null,null,null,0,0,0]
[7349,null,null,null,null,0,0,0]
[7350,null,null,null,null,0,0,0]
[7351,null,null,null,null,0,0,0]
[7352,null,null,null,null,0,0,0]
[7353,null,null,null,null,0,0,0]
[7354,null,null,null,null,0,0,0]
[7355,null,null,null,null,0,0,0]
[7356,null,null,null,null,0,0,0]
[7357,null,null,null,null,0,0,0]
[7358,null,null,null,null,0,0,0]
[7359,null,null,null,null,0,0,0]
[7360,null,null,null,null,0,0,0]
[7361,null,null,null,null,0,0,0]
[7362,null,null,null,null,{"$f":"MIN(B7371:C7371)","v":0},{"$f":"MIN(D7371:E7371)","v":0},{"$f":"F7371*G7371","v":0}]
[7363,null,null,null,null,0,0,0]
[7364,null,null,null,null,0,0,0]
[7365,null,null,null,null,0,0,0]
[7366,null,null,null,null,0,0,0]
[7367,null,null,null,null,0,0,0]
[7368,null,null,null,null,0,0,0]
[7369,null,null,null,null,0,0,0]
[7370,null,null,null,null,0,0,0]
[7371,null,null,null,null,0,0,0]
[7372,null,null,null,null,0,0,0]
[7373,null,null,null,null,0,0,0]
[7374,null,null,null,null,0,0,0]
[7375,null,null,null,null,0,0,0]
[7376,null,null,null,null,0,0,0]
[7377,null,null,null,null,0,0,0]
[7378,null,null,null,null,0,0,0]
[7379,null,null,null,null,0,0,0]
[7380,null,null,null,null,0,0,0]
[7381,null,null,null,null,0,0,0]
[7382,null,null,null,null,0,0,0]
[7383,null,null,null,null,0,0,0]
[7384,null,null,null,null,0,0,0]
[7385,null,null,null,null,0,0,0]
[7386,null,null,null,null,0,0,0]
[7387,null,null,null,null,0,0,0]
[7388,null,null,null,null,0,0,0]
[7389,null,null,null,null,0,0,0]
[7390,null,null,null,null,0,0,0]
[7391,null,null,null,null,0,0,0]
[7392,null,null,null,null,0,0,0]
[7393,null,null,null,null,0,0,0]
[7394,null,null,null,null,0,0,0]
[7395,null,null,null,null,0,0,0]
[7396,null,null,null,null,0,0,0]
[7397,null,null,null,null,0,0,0]
[7398,null,null,null,null,0,0,0]
[7399,null,null,null,null,0,0,0]
[7400,null,null,null,null,0,0,0]
[7401,null,null,null,null,0,0,0]
[7402,null,null,null,null,0,0,0]
[7403,null,null,null,null,0,0,0]
[7404,null,null,null,null,0,0,0]
[7405,null,null,null,null,0,0,0]
[7406,null,null,null,null,0,0,0]
[7407,null,null,null,null,0,0,0]
[7408,null,null,null,null,0,0,0]
[7409,null,null,null,null,0,0,0]
[7410,null,null,null,null,0,0,0]
[7411,null,null,null,null,0,0,0]
[7412,null,null,null,null,0,0,0]
[7413,null,null,null,null,0,0,0]
[7414,null,null,null,null,0,0,0]
[7415,null,null,null,null,0,0,0]
[7416,null,null,null,null,0,0,0]
[7417,null,null,null,null,0,0,0]
[7418,null,null,null,null,0,0,0]
[7419,null,null,null,null,0,0,0]
[7420,null,null,null,null,0,0,0]
[7421,null,null,null,null,0,0,0]
[7422,null,null,null,null,0,0,0]
[7423,null,null,null,null,0,0,0]
[7424,null,null,null,null,0,0,0]
[7425,null,null,null,null,0,0,0]
[7426,null,null,null,null,{"$f":"MIN(B7435:C7435)","v":0},{"$f":"MIN(D7435:E7435)","v":0},{"$f":"F7435*G7435","v":0}]
[7427,null,null,null,null,0,0,0]
[7428,null,null,null,null,0,0,0]
[7429,null,null,null,null,0,0,0]
[7430,null,null,null,null,0,0,0]
[7431,null,null,null,null,0,0,0]
[7432,null,null,null,null,0,0,0]
[7433,null,null,null,null,0,0,0]
[7434,null,null,null,null,0,0,0]
[7435,null,null,null,null,0,0,0]
[7436,null,null,null,null,0,0,0]
[7437,null,null,null,null,0,0,0]
[7438,null,null,null,null,0,0,0]
[7439,null,null,null,null,0,0,0]
[7440,null,null,null,null,0,0,0]
[7441,null,null,null,null,0,0,0]
[7442,null,null,null,null,0,0,0]
[7443,null,null,null,null,0,0,0]
[7444,null,null,null,null,0,0,0]
[7445,null,null,null,null,0,0,0]
[7446,null,null,null,null,0,0,0]
[7447,null,null,null,null,0,0,0]
[7448,null,null,null,null,0,0,0]
[7449,null,null,null,null,0,0,0]
[7450,null,null,null,null,0,0,0]
[7451,null,null,null,null,0,0,0]
[7452,null,null,null,null,0,0,0]
[7453,null,null,null,null,0,0,0]
[7454,null,null,null,null,0,0,0]
[7455,null,null,null,null,0,0,0]
[7456,null,null,null,null,0,0,0]
[7457,null,null,null,null,0,0,0]
[7458,null,null,null,null,0,0,0]
[7459,null,null,null,null,0,0,0]
[7460,null,null,null,null,0,0,0]
[7461,null,null,null,null,0,0,0]
[7462,null,null,null,null,0,0,0]
[7463,null,null,null,null,0,0,0]
[7464,null,null,null,null,0,0,0]
[7465,null,null,null,null,0,0,0]
[7466,null,null,null,null,0,0,0]
[7467,null,null,null,null,0,0,0]
[7468,null,null,null,null,0,0,0]
[7469,null,null,null,null,0,0,0]
[7470,null,null,null,null,0,0,0]
[7471,null,null,null,null,0,0,0]
[7472,null,null,null,null,0,0,0]
[7473,null,null,null,null,0,0,0]
[7474,null,null,null,null,0,0,0]
[7475,null,null,null,null,0,0,0]
[7476,null,null,null,null,0,0,0]
[7477,null,null,null,null,0,0,0]
[7478,null,null,null,null,0,0,0]
[7479,null,null,null,null,0,0,0]
[7480,null,null,null,null,0,0,0]
[7481,null,null,null,null,0,0,0]
[7482,null,null,null,null,0,0,0]
[7483,null,null,null,null,0,0,0]
[7484,null,null,null,null,0,0,0]
[7485,null,null,null,null,0,0,0]
[7486,null,null,null,null,0,0,0]
[7487,null,null,null,null,0,0,0]
[7488,null,null,null,null,0,0,0]
[7489,null,null,null,null,0,0,0]
[7490,null,null,null,null,{"$f":"MIN(B7499:C7499)","v":0},{"$f":"MIN(D7499:E7499)","v":0},{"$f":"F7499*G7499","v":0}]
[7491,null,null,null,null,0,0,0]
[7492,null,null,null,null,0,0,0]
[7493,null,null,null,null,0,0,0]
[7494,null,null,null,null,0,0,0]
[7495,null,null,null,null,0,0,0]
[7496,null,null,null,null,0,0,0]
[7497,null,null,null,null,0,0,0]
[7498,null,null,null,null,0,0,0]
[7499,null,null,null,null,0,0,0]
[7500,null,null,null,null,0,0,0]
[7501,null,null,null,null,0,0,0]
[7502,null,null,null,null,0,0,0]
[7503,null,null,null,null,0,0,0]
[7504,null,null,null,null,0,0,0]
[7505,null,null,null,null,0,0,0]
[7506,null,null,null,null,0,0,0]
[7507,null,null,null,null,0,0,0]
[7508,null,null,null,null,0,0,0]
[7509,null,null,null,null,0,0,0]
[7510,null,null,null,null,0,0,0]
[7511,null,null,null,null,0,0,0]
[7512,null,null,null,null,0,0,0]
[7513,null,null,null,null,0,0,0]
[7514,null,null,null,null,0,0,0]
[7515,null,null,null,null,0,0,0]
[7516,null,null,null,null,0,0,0]
[7517,null,null,null,null,0,0,0]
[7518,null,null,null,null,0,0,0]
[7519,null,null,null,null,0,0,0]
[7520,null,null,null,null,0,0,0]
[7521,null,null,null,null,0,0,0]
[7522,null,null,null,null,0,0,0]
[7523,null,null,null,null,0,0,0]
[7524,null,null,null,null,0,0,0]
[7525,null,null,null,null,0,0,0]
[7526,null,null,null,null,0,0,0]
[7527,null,null,null,null,0,0,0]
[7528,null,null,null,null,0,0,0]
[7529,null,null,null,null,0,0,0]
[7530,null,null,null,null,0,0,0]
[7531,null,null,null,null,0,0,0]
[7532,null,null,null,null,0,0,0]
[7533,null,null,null,null,0,0,0]
[7534,null,null,null,null,0,0,0]
[7535,null,null,null,null,0,0,0]
[7536,null,null,null,null,0,0,0]
[7537,null,null,null,null,0,0,0]
[7538,null,null,null,null,0,0,0]
[7539,null,null,null,null,0,0,0]
[7540,null,null,null,null,0,0,0]
[7541,null,null,null,null,0,0,0]
[7542,null,null,null,null,0,0,0]
[7543,null,null,null,null,0,0,0]
[7544,null,null,null,null,0,0,0]
[7545,null,null,null,null,0,0,0]
[7546,null,null,null,null,0,0,0]
[7547,null,null,null,null,0,0,0]
[7548,null,null,null,null,0,0,0]
[7549,null,null,null,null,0,0,0]
[7550,null,null,null,null,0,0,0]
[7551,null,null,null,null,0,0,0]
[7552,null,null,null,null,0,0,0]
[7553,null,null,null,null,0,0,0]
[7554,null,null,null,null,{"$f":"MIN(B7563:C7563)","v":0},{"$f":"MIN(D7563:E7563)","v":0},{"$f":"F7563*G7563","v":0}]
[7555,null,null,null,null,0,0,0]
[7556,null,null,null,null,0,0,0]
[7557,null,null,null,null,0,0,0]
[7558,null,null,null,null,0,0,0]
[7559,null,null,null,null,0,0,0]
[7560,null,null,null,null,0,0,0]
[7561,null,null,null,null,0,0,0]
[7562,null,null,null,null,0,0,0]
[7563,null,null,null,null,0,0,0]
[7564,null,null,null,null,0,0,0]
[7565,null,null,null,null,0,0,0]
[7566,null,null,null,null,0,0,0]
[7567,null,null,null,null,0,0,0]
[7568,null,null,null,null,0,0,0]
[7569,null,null,null,null,0,0,0]
[7570,null,null,null,null,0,0,0]
[7571,null,null,null,null,0,0,0]
[7572,null,null,null,null,0,0,0]
[7573,null,null,null,null,0,0,0]
[7574,null,null,null,null,0,0,0]
[7575,null,null,null,null,0,0,0]
[7576,null,null,null,null,0,0,0]
[7577,null,null,null,null,0,0,0]
[7578,null,null,null,null,0,0,0]
[7579,null,null,null,null,0,0,0]
[7580,null,null,null,null,0,0,0]
[7581,null,null,null,null,0,0,0]
[7582,null,null,null,null,0,0,0]
[7583,null,null,null,null,0,0,0]
[7584,null,null,null,null,0,0,0]
[7585,null,null,null,null,0,0,0]
[7586,null,null,null,null,0,0,0]
[7587,null,null,null,null,0,0,0]
[7588,null,null,null,null,0,0,0]
[7589,null,null,null,null,0,0,0]
[7590,null,null,null,null,0,0,0]
[7591,null,null,null,null,0,0,0]
[7592,null,null,null,null,0,0,0]
[7593,null,null,null,null,0,0,0]
[7594,null,null,null,null,0,0,0]
[7595,null,null,null,null,0,0,0]
[7596,null,null,null,null,0,0,0]
[7597,null,null,null,null,0,0,0]
[7598,null,null,null,null,0,0,0]
[7599,null,null,null,null,0,0,0]
[7600,null,null,null,null,0,0,0]
[7601,null,null,null,null,0,0,0]
[7602,null,null,null,null,0,0,0]
[7603,null,null,null,null,0,0,0]
[7604,null,null,null,null,0,0,0]
[7605,null,null,null,null,0,0,0]
[7606,null,null,null,null,0,0,0]
[7607,null,null,null,null,0,0,0]
[7608,null,null,null,null,0,0,0]
[7609,null,null,null,null,0,0,0]
[7610,null,null,null,null,0,0,0]
[7611,null,null,null,null,0,0,0]
[7612,null,null,null,null,0,0,0]
[7613,null,null,null,null,0,0,0]
[7614,null,null,null,null,0,0,0]
[7615,null,null,null,null,0,0,0]
[7616,null,null,null,null,0,0,0]
[7617,null,null,null,null,0,0,0]
[7618,null,null,null,null,{"$f":"MIN(B7627:C7627)","v":0},{"$f":"MIN(D7627:E7627)","v":0},{"$f":"F7627*G7627","v":0}]
[7619,null,null,null,null,0,0,0]
[7620,null,null,null,null,0,0,0]
[7621,null,null,null,null,0,0,0]
[7622,null,null,null,null,0,0,0]
[7623,null,null,null,null,0,0,0]
[7624,null,null,null,null,0,0,0]
[7625,null,null,null,null,0,0,0]
[7626,null,null,null,null,0,0,0]
[7627,null,null,null,null,0,0,0]
[7628,null,null,null,null,0,0,0]
[7629,null,null,null,null,0,0,0]
[7630,null,null,null,null,0,0,0]
[7631,null,null,null,null,0,0,0]
[7632,null,null,null,null,0,0,0]
[7633,null,null,null,null,0,0,0]
[7634,null,null,null,null,0,0,0]
[7635,null,null,null,null,0,0,0]
[7636,null,null,null,null,0,0,0]
[7637,null,null,null,null,0,0,0]
[7638,null,null,null,null,0,0,0]
[7639,null,null,null,null,0,0,0]
[7640,null,null,null,null,0,0,0]
[7641,null,null,null,null,0,0,0]
[7642,null,null,null,null,0,0,0]
[7643,null,null,null,null,0,0,0]
[7644,null,null,null,null,0,0,0]
[7645,null,null,null,null,0,0,0]
[7646,null,null,null,null,0,0,0]
[7647,null,null,null,null,0,0,0]
[7648,null,null,null,null,0,0,0]
[7649,null,null,null,null,0,0,0]
[7650,null,null,null,null,0,0,0]
[7651,null,null,null,null,0,0,0]
[7652,null,null,null,null,0,0,0]
[7653,null,null,null,null,0,0,0]
[7654,null,null,null,null,0,0,0]
[7655,null,null,null,null,0,0,0]
[7656,null,null,null,null,0,0,0]
[7657,null,null,null,null,0,0,0]
[7658,null,null,null,null,0,0,0]
[7659,null,null,null,null,0,0,0]
[7660,null,null,null,null,0,0,0]
[7661,null,null,null,null,0,0,0]
[7662,null,null,null,null,0,0,0]
[7663,null,null,null,null,0,0,0]
[7664,null,null,null,null,0,0,0]
[7665,null,null,null,null,0,0,0]
[7666,null,null,null,null,0,0,0]
[7667,null,null,null,null,0,0,0]
[7668,null,null,null,null,0,0,0]
[7669,null,null,null,null,0,0,0]
[7670,null,null,null,null,0,0,0]
[7671,null,null,null,null,0,0,0]
[7672,null,null,null,null,0,0,0]
[7673,null,null,null,null,0,0,0]
[7674,null,null,null,null,0,0,0]
[7675,null,null,null,null,0,0,0]
[7676,null,null,null,null,0,0,0]
[7677,null,null,null,null,0,0,0]
[7678,null,null,null,null,0,0,0]
[7679,null,null,null,null,0,0,0]
[7680,null,null,null,null,0,0,0]
[7681,null,null,null,null,0,0,0]
[7682,null,null,null,null,{"$f":"MIN(B7691:C7691)","v":0},{"$f":"MIN(D7691:E7691)","v":0},{"$f":"F7691*G7691","v":0}]
[7683,null,null,null,null,0,0,0]
[7684,null,null,null,null,0,0,0]
[7685,null,null,null,null,0,0,0]
[7686,null,null,null,null,0,0,0]
[7687,null,null,null,null,0,0,0]
[7688,null,null,null,null,0,0,0]
[7689,null,null,null,null,0,0,0]
[7690,null,null,null,null,0,0,0]
[7691,null,null,null,null,0,0,0]
[7692,null,null,null,null,0,0,0]
[7693,null,null,null,null,0,0,0]
[7694,null,null,null,null,0,0,0]
[7695,null,null,null,null,0,0,0]
[7696,null,null,null,null,0,0,0]
[7697,null,null,null,null,0,0,0]
[7698,null,null,null,null,0,0,0]
[7699,null,null,null,null,0,0,0]
[7700,null,null,null,null,0,0,0]
[7701,null,null,null,null,0,0,0]
[7702,null,null,null,null,0,0,0]
[7703,null,null,null,null,0,0,0]
[7704,null,null,null,null,0,0,0]
[7705,null,null,null,null,0,0,0]
[7706,null,null,null,null,0,0,0]
[7707,null,null,null,null,0,0,0]
[7708,null,null,null,null,0,0,0]
[7709,null,null,null,null,0,0,0]
[7710,null,null,null,null,0,0,0]
[7711,null,null,null,null,0,0,0]
[7712,null,null,null,null,0,0,0]
[7713,null,null,null,null,0,0,0]
[7714,null,null,null,null,0,0,0]
[7715,null,null,null,null,0,0,0]
[7716,null,null,null,null,0,0,0]
[7717,null,null,null,null,0,0,0]
[7718,null,null,null,null,0,0,0]
[7719,null,null,null,null,0,0,0]
[7720,null,null,null,null,0,0,0]
[7721,null,null,null,null,0,0,0]
[7722,null,null,null,null,0,0,0]
[7723,null,null,null,null,0,0,0]
[7724,null,null,null,null,0,0,0]
[7725,null,null,null,null,0,0,0]
[7726,null,null,null,null,0,0,0]
[7727,null,null,null,null,0,0,0]
[7728,null,null,null,null,0,0,0]
[7729,null,null,null,null,0,0,0]
[7730,null,null,null,null,0,0,0]
[7731,null,null,null,null,0,0,0]
[7732,null,null,null,null,0,0,0]
[7733,null,null,null,null,0,0,0]
[7734,null,null,null,null,0,0,0]
[7735,null,null,null,null,0,0,0]
[7736,null,null,null,null,0,0,0]
[7737,null,null,null,null,0,0,0]
[7738,null,null,null,null,0,0,0]
[7739,null,null,null,null,0,0,0]
[7740,null,null,null,null,0,0,0]
[7741,null,null,null,null,0,0,0]
[7742,null,null,null,null,0,0,0]
[7743,null,null,null,null,0,0,0]
[7744,null,null,null,null,0,0,0]
[7745,null,null,null,null,0,0,0]
[7746,null,null,null,null,{"$f":"MIN(B7755:C7755)","v":0},{"$f":"MIN(D7755:E7755)","v":0},{"$f":"F7755*G7755","v":0}]
[7747,null,null,null,null,0,0,0]
[7748,null,null,null,null,0,0,0]
[7749,null,null,null,null,0,0,0]
[7750,null,null,null,null,0,0,0]
[7751,null,null,null,null,0,0,0]
[7752,null,null,null,null,0,0,0]
[7753,null,null,null,null,0,0,0]
[7754,null,null,null,null,0,0,0]
[7755,null,null,null,null,0,0,0]
[7756,null,null,null,null,0,0,0]
[7757,null,null,null,null,0,0,0]
[7758,null,null,null,null,0,0,0]
[7759,null,null,null,null,0,0,0]
[7760,null,null,null,null,0,0,0]
[7761,null,null,null,null,0,0,0]
[7762,null,null,null,null,0,0,0]
[7763,null,null,null,null,0,0,0]
[7764,null,null,null,null,0,0,0]
[7765,null,null,null,null,0,0,0]
[7766,null,null,null,null,0,0,0]
[7767,null,null,null,null,0,0,0]
[7768,null,null,null,null,0,0,0]
[7769,null,null,null,null,0,0,0]
[7770,null,null,null,null,0,0,0]
[7771,null,null,null,null,0,0,0]
[7772,null,null,null,null,0,0,0]
[7773,null,null,null,null,0,0,0]
[7774,null,null,null,null,0,0,0]
[7775,null,null,null,null,0,0,0]
[7776,null,null,null,null,0,0,0]
[7777,null,null,null,null,0,0,0]
[7778,null,null,null,null,0,0,0]
[7779,null,null,null,null,0,0,0]
[7780,null,null,null,null,0,0,0]
[7781,null,null,null,null,0,0,0]
[7782,null,null,null,null,0,0,0]
[7783,null,null,null,null,0,0,0]
[7784,null,null,null,null,0,0,0]
[7785,null,null,null,null,0,0,0]
[7786,null,null,null,null,0,0,0]
[7787,null,null,null,null,0,0,0]
[7788,null,null,null,null,0,0,0]
[7789,null,null,null,null,0,0,0]
[7790,null,null,null,null,0,0,0]
[7791,null,null,null,null,0,0,0]
[7792,null,null,null,null,0,0,0]
[7793,null,null,null,null,0,0,0]
[7794,null,null,null,null,0,0,0]
[7795,null,null,null,null,0,0,0]
[7796,null,null,null,null,0,0,0]
[7797,null,null,null,null,0,0,0]
[7798,null,null,null,null,0,0,0]
[7799,null,null,null,null,0,0,0]
[7800,null,null,null,null,0,0,0]
[7801,null,null,null,null,0,0,0]
[7802,null,null,null,null,0,0,0]
[7803,null,null,null,null,0,0,0]
[7804,null,null,null,null,0,0,0]
[7805,null,null,null,null,0,0,0]
[7806,null,null,null,null,0,0,0]
[7807,null,null,null,null,0,0,0]
[7808,null,null,null,null,0,0,0]
[7809,null,null,null,null,0,0,0]
[7810,null,null,null,null,{"$f":"MIN(B7819:C7819)","v":0},{"$f":"MIN(D7819:E7819)","v":0},{"$f":"F7819*G7819","v":0}]
[7811,null,null,null,null,0,0,0]
[7812,null,null,null,null,0,0,0]
[7813,null,null,null,null,0,0,0]
[7814,null,null,null,null,0,0,0]
[7815,null,null,null,null,0,0,0]
[7816,null,null,null,null,0,0,0]
[7817,null,null,null,null,0,0,0]
[7818,null,null,null,null,0,0,0]
[7819,null,null,null,null,0,0,0]
[7820,null,null,null,null,0,0,0]
[7821,null,null,null,null,0,0,0]
[7822,null,null,null,null,0,0,0]
[7823,null,null,null,null,0,0,0]
[7824,null,null,null,null,0,0,0]
[7825,null,null,null,null,0,0,0]
[7826,null,null,null,null,0,0,0]
[7827,null,null,null,null,0,0,0]
[7828,null,null,null,null,0,0,0]
[7829,null,null,null,null,0,0,0]
[7830,null,null,null,null,0,0,0]
[7831,null,null,null,null,0,0,0]
[7832,null,null,null,null,0,0,0]
[7833,null,null,null,null,0,0,0]
[7834,null,null,null,null,0,0,0]
[7835,null,null,null,null,0,0,0]
[7836,null,null,null,null,0,0,0]
[7837,null,null,null,null,0,0,0]
[7838,null,null,null,null,0,0,0]
[7839,null,null,null,null,0,0,0]
[7840,null,null,null,null,0,0,0]
[7841,null,null,null,null,0,0,0]
[7842,null,null,null,null,0,0,0]
[7843,null,null,null,null,0,0,0]
[7844,null,null,null,null,0,0,0]
[7845,null,null,null,null,0,0,0]
[7846,null,null,null,null,0,0,0]
[7847,null,null,null,null,0,0,0]
[7848,null,null,null,null,0,0,0]
[7849,null,null,null,null,0,0,0]
[7850,null,null,null,null,0,0,0]
[7851,null,null,null,null,0,0,0]
[7852,null,null,null,null,0,0,0]
[7853,null,null,null,null,0,0,0]
[7854,null,null,null,null,0,0,0]
[7855,null,null,null,null,0,0,0]
[7856,null,null,null,null,0,0,0]
[7857,null,null,null,null,0,0,0]
[7858,null,null,null,null,0,0,0]
[7859,null,null,null,null,0,0,0]
[7860,null,null,null,null,0,0,0]
[7861,null,null,null,null,0,0,0]
[7862,null,null,null,null,0,0,0]
[7863,null,null,null,null,0,0,0]
[7864,null,null,null,null,0,0,0]
[7865,null,null,null,null,0,0,0]
[7866,null,null,null,null,0,0,0]
[7867,null,null,null,null,0,0,0]
[7868,null,null,null,null,0,0,0]
[7869,null,null,null,null,0,0,0]
[7870,null,null,null,null,0,0,0]
[7871,null,null,null,null,0,0,0]
[7872,null,null,null,null,0,0,0]
[7873,null,null,null,null,0,0,0]
[7874,null,null,null,null,{"$f":"MIN(B7883:C7883)","v":0},{"$f":"MIN(D7883:E7883)","v":0},{"$f":"F7883*G7883","v":0}]
[7875,null,null,null,null,0,0,0]
[7876,null,null,null,null,0,0,0]
[7877,null,null,null,null,0,0,0]
[7878,null,null,null,null,0,0,0]
[7879,null,null,null,null,0,0,0]
[7880,null,null,null,null,0,0,0]
[7881,null,null,null,null,0,0,0]
[7882,null,null,null,null,0,0,0]
[7883,null,null,null,null,0,0,0]
[7884,null,null,null,null,0,0,0]
[7885,null,null,null,null,0,0,0]
[7886,null,null,null,null,0,0,0]
[7887,null,null,null,null,0,0,0]
[7888,null,null,null,null,0,0,0]
[7889,null,null,null,null,0,0,0]
[7890,null,null,null,null,0,0,0]
[7891,null,null,null,null,0,0,0]
[7892,null,null,null,null,0,0,0]
[7893,null,null,null,null,0,0,0]
[7894,null,null,null,null,0,0,0]
[7895,null,null,null,null,0,0,0]
[7896,null,null,null,null,0,0,0]
[7897,null,null,null,null,0,0,0]
[7898,null,null,null,null,0,0,0]
[7899,null,null,null,null,0,0,0]
[7900,null,null,null,null,0,0,0]
[7901,null,null,null,null,0,0,0]
[7902,null,null,null,null,0,0,0]
[7903,null,null,null,null,0,0,0]
[7904,null,null,null,null,0,0,0]
[7905,null,null,null,null,0,0,0]
[7906,null,null,null,null,0,0,0]
[7907,null,null,null,null,0,0,0]
[7908,null,null,null,null,0,0,0]
[7909,null,null,null,null,0,0,0]
[7910,null,null,null,null,0,0,0]
[7911,null,null,null,null,0,0,0]
[7912,null,null,null,null,0,0,0]
[7913,null,null,null,null,0,0,0]
[7914,null,null,null,null,0,0,0]
[7915,null,null,null,null,0,0,0]
[7916,null,null,null,null,0,0,0]
[7917,null,null,null,null,0,0,0]
[7918,null,null,null,null,0,0,0]
[7919,null,null,null,null,0,0,0]
[7920,null,null,null,null,0,0,0]
[7921,null,null,null,null,0,0,0]
[7922,null,null,null,null,0,0,0]
[7923,null,null,null,null,0,0,0]
[7924,null,null,null,null,0,0,0]
[7925,null,null,null,null,0,0,0]
[7926,null,null,null,null,0,0,0]
[7927,null,null,null,null,0,0,0]
[7928,null,null,null,null,0,0,0]
[7929,null,null,null,null,0,0,0]
[7930,null,null,null,null,0,0,0]
[7931,null,null,null,null,0,0,0]
[7932,null,null,null,null,0,0,0]
[7933,null,null,null,null,0,0,0]
[7934,null,null,null,null,0,0,0]
[7935,null,null,null,null,0,0,0]
[7936,null,null,null,null,0,0,0]
[7937,null,null,null,null,0,0,0]
[7938,null,null,null,null,{"$f":"MIN(B7947:C7947)","v":0},{"$f":"MIN(D7947:E7947)","v":0},{"$f":"F7947*G7947","v":0}]
[7939,null,null,null,null,0,0,0]
[7940,null,null,null,null,0,0,0]
[7941,null,null,null,null,0,0,0]
[7942,null,null,null,null,0,0,0]
[7943,null,null,null,null,0,0,0]
[7944,null,null,null,null,0,0,0]
[7945,null,null,null,null,0,0,0]
[7946,null,null,null,null,0,0,0]
[7947,null,null,null,null,0,0,0]
[7948,null,null,null,null,0,0,0]
[7949,null,null,null,null,0,0,0]
[7950,null,null,null,null,0,0,0]
[7951,null,null,null,null,0,0,0]
[7952,null,null,null,null,0,0,0]
[7953,null,null,null,null,0,0,0]
[7954,null,null,null,null,0,0,0]
[7955,null,null,null,null,0,0,0]
[7956,null,null,null,null,0,0,0]
[7957,null,null,null,null,0,0,0]
[7958,null,null,null,null,0,0,0]
[7959,null,null,null,null,0,0,0]
[7960,null,null,null,null,0,0,0]
[7961,null,null,null,null,0,0,0]
[7962,null,null,null,null,0,0,0]
[7963,null,null,null,null,0,0,0]
[7964,null,null,null,null,0,0,0]
[7965,null,null,null,null,0,0,0]
[7966,null,null,null,null,0,0,0]
[7967,null,null,null,null,0,0,0]
[7968,null,null,null,null,0,0,0]
[7969,null,null,null,null,0,0,0]
[7970,null,null,null,null,0,0,0]
[7971,null,null,null,null,0,0,0]
[7972,null,null,null,null,0,0,0]
[7973,null,null,null,null,0,0,0]
[7974,null,null,null,null,0,0,0]
[7975,null,null,null,null,0,0,0]
[7976,null,null,null,null,0,0,0]
[7977,null,null,null,null,0,0,0]
[7978,null,null,null,null,0,0,0]
[7979,null,null,null,null,0,0,0]
[7980,null,null,null,null,0,0,0]
[7981,null,null,null,null,0,0,0]
[7982,null,null,null,null,0,0,0]
[7983,null,null,null,null,0,0,0]
[7984,null,null,null,null,0,0,0]
[7985,null,null,null,null,0,0,0]
[7986,null,null,null,null,0,0,0]
[7987,null,null,null,null,0,0,0]
[7988,null,null,null,null,0,0,0]
[7989,null,null,null,null,0,0,0]
[7990,null,null,null,null,0,0,0]
[7991,null,null,null,null,0,0,0]
[7992,null,null,null,null,0,0,0]
[7993,null,null,null,null,0,0,0]
[7994,null,null,null,null,0,0,0]
[7995,null,null,null,null,0,0,0]
[7996,null,null,null,null,0,0,0]
[7997,null,null,null,null,0,0,0]
[7998,null,null,null,null,0,0,0]
[7999,null,null,null,null,0,0,0]
[8000,null,null,null,null,0,0,0]
[8001,null,null,null,null,0,0,0]
[8002,null,null,null,null,{"$f":"MIN(B8011:C8011)","v":0},{"$f":"MIN(D8011:E8011)","v":0},{"$f":"F8011*G8011","v":0}]
[8003,null,null,null,null,0,0,0]
[8004,null,null,null,null,0,0,0]
[8005,null,null,null,null,0,0,0]
[8006,null,null,null,null,0,0,0]
[8007,null,null,null,null,0,0,0]
[8008,null,null,null,null,0,0,0]
[8009,null,null,null,null,0,0,0]
[8010,null,null,null,null,0,0,0]
[8011,null,null,null,null,0,0,0]
[8012,null,null,null,null,0,0,0]
[8013,null,null,null,null,0,0,0]
[8014,null,null,null,null,0,0,0]
[8015,null,null,null,null,0,0,0]
[8016,null,null,null,null,0,0,0]
[8017,null,null,null,null,0,0,0]
[8018,null,null,null,null,0,0,0]
[8019,null,null,null,null,0,0,0]
[8020,null,null,null,null,0,0,0]
[8021,null,null,null,null,0,0,0]
[8022,null,null,null,null,0,0,0]
[8023,null,null,null,null,0,0,0]
[8024,null,null,null,null,0,0,0]
[8025,null,null,null,null,0,0,0]
[8026,null,null,null,null,0,0,0]
[8027,null,null,null,null,0,0,0]
[8028,null,null,null,null,0,0,0]
[8029,null,null,null,null,0,0,0]
[8030,null,null,null,null,0,0,0]
[8031,null,null,null,null,0,0,0]
[8032,null,null,null,null,0,0,0]
[8033,null,null,null,null,0,0,0]
[8034,null,null,null,null,0,0,0]
[8035,null,null,null,null,0,0,0]
[8036,null,null,null,null,0,0,0]
[8037,null,null,null,null,0,0,0]
[8038,null,null,null,null,0,0,0]
[8039,null,null,null,null,0,0,0]
[8040,null,null,null,null,0,0,0]
[8041,null,null,null,null,0,0,0]
[8042,null,null,null,null,0,0,0]
[8043,null,null,null,null,0,0,0]
[8044,null,null,null,null,0,0,0]
[8045,null,null,null,null,0,0,0]
[8046,null,null,null,null,0,0,0]
[8047,null,null,null,null,0,0,0]
[8048,null,null,null,null,0,0,0]
[8049,null,null,null,null,0,0,0]
[8050,null,null,null,null,0,0,0]
[8051,null,null,null,null,0,0,0]
[8052,null,null,null,null,0,0,0]
[8053,null,null,null,null,0,0,0]
[8054,null,null,null,null,0,0,0]
[8055,null,null,null,null,0,0,0]
[8056,null,null,null,null,0,0,0]
[8057,null,null,null,null,0,0,0]
[8058,null,null,null,null,0,0,0]
[8059,null,null,null,null,0,0,0]
[8060,null,null,null,null,0,0,0]
[8061,null,null,null,null,0,0,0]
[8062,null,null,null,null,0,0,0]
[8063,null,null,null,null,0,0,0]
[8064,null,null,null,null,0,0,0]
[8065,null,null,null,null,0,0,0]
[8066,null,null,null,null,{"$f":"MIN(B8075:C8075)","v":0},{"$f":"MIN(D8075:E8075)","v":0},{"$f":"F8075*G8075","v":0}]
[8067,null,null,null,null,0,0,0]
[8068,null,null,null,null,0,0,0]
[8069,null,null,null,null,0,0,0]
[8070,null,null,null,null,0,0,0]
[8071,null,null,null,null,0,0,0]
[8072,null,null,null,null,0,0,0]
[8073,null,null,null,null,0,0,0]
[8074,null,null,null,null,0,0,0]
[8075,null,null,null,null,0,0,0]
[8076,null,null,null,null,0,0,0]
[8077,null,null,null,null,0,0,0]
[8078,null,null,null,null,0,0,0]
[8079,null,null,null,null,0,0,0]
[8080,null,null,null,null,0,0,0]
[8081,null,null,null,null,0,0,0]
[8082,null,null,null,null,0,0,0]
[8083,null,null,null,null,0,0,0]
[8084,null,null,null,null,0,0,0]
[8085,null,null,null,null,0,0,0]
[8086,null,null,null,null,0,0,0]
[8087,null,null,null,null,0,0,0]
[8088,null,null,null,null,0,0,0]
[8089,null,null,null,null,0,0,0]
[8090,null,null,null,null,0,0,0]
[8091,null,null,null,null,0,0,0]
[8092,null,null,null,null,0,0,0]
[8093,null,null,null,null,0,0,0]
[8094,null,null,null,null,0,0,0]
[8095,null,null,null,null,0,0,0]
[8096,null,null,null,null,0,0,0]
[8097,null,null,null,null,0,0,0]
[8098,null,null,null,null,0,0,0]
[8099,null,null,null,null,0,0,0]
[8100,null,null,null,null,0,0,0]
[8101,null,null,null,null,0,0,0]
[8102,null,null,null,null,0,0,0]
[8103,null,null,null,null,0,0,0]
[8104,null,null,null,null,0,0,0]
[8105,null,null,null,null,0,0,0]
[8106,null,null,null,null,0,0,0]
[8107,null,null,null,null,0,0,0]
[8108,null,null,null,null,0,0,0]
[8109,null,null,null,null,0,0,0]
[8110,null,null,null,null,0,0,0]
[8111,null,null,null,null,0,0,0]
[8112,null,null,null,null,0,0,0]
[8113,null,null,null,null,0,0,0]
[8114,null,null,null,null,0,0,0]
[8115,null,null,null,null,0,0,0]
[8116,null,null,null,null,0,0,0]
[8117,null,null,null,null,0,0,0]
[8118,null,null,null,null,0,0,0]
[8119,null,null,null,null,0,0,0]
[8120,null,null,null,null,0,0,0]
[8121,null,null,null,null,0,0,0]
[8122,null,null,null,null,0,0,0]
[8123,null,null,null,null,0,0,0]
[8124,null,null,null,null,0,0,0]
[8125,null,null,null,null,0,0,0]
[8126,null,null,null,null,0,0,0]
[8127,null,null,null,null,0,0,0]
[8128,null,null,null,null,0,0,0]
[8129,null,null,null,null,0,0,0]
[8130,null,null,null,null,{"$f":"MIN(B8139:C8139)","v":0},{"$f":"MIN(D8139:E8139)","v":0},{"$f":"F8139*G8139","v":0}]
[8131,null,null,null,null,0,0,0]
[8132,null,null,null,null,0,0,0]
[8133,null,null,null,null,0,0,0]
[8134,null,null,null,null,0,0,0]
[8135,null,null,null,null,0,0,0]
[8136,null,null,null,null,0,0,0]
[8137,null,null,null,null,0,0,0]
[8138,null,null,null,null,0,0,0]
[8139,null,null,null,null,0,0,0]
[8140,null,null,null,null,0,0,0]
[8141,null,null,null,null,0,0,0]
[8142,null,null,null,null,0,0,0]
[8143,null,null,null,null,0,0,0]
[8144,null,null,null,null,0,0,0]
[8145,null,null,null,null,0,0,0]
[8146,null,null,null,null,0,0,0]
[8147,null,null,null,null,0,0,0]
[8148,null,null,null,null,0,0,0]
[8149,null,null,null,null,0,0,0]
[8150,null,null,null,null,0,0,0]
[8151,null,null,null,null,0,0,0]
[8152,null,null,null,null,0,0,0]
[8153,null,null,null,null,0,0,0]
[8154,null,null,null,null,0,0,0]
[8155,null,null,null,null,0,0,0]
[8156,null,null,null,null,0,0,0]
[8157,null,null,null,null,0,0,0]
[8158,null,null,null,null,0,0,0]
[8159,null,null,null,null,0,0,0]
[8160,null,null,null,null,0,0,0]
[8161,null,null,null,null,0,0,0]
[8162,null,null,null,null,0,0,0]
[8163,null,null,null,null,0,0,0]
[8164,null,null,null,null,0,0,0]
[8165,null,null,null,null,0,0,0]
[8166,null,null,null,null,0,0,0]
[8167,null,null,null,null,0,0,0]
[8168,null,null,null,null,0,0,0]
[8169,null,null,null,null,0,0,0]
[8170,null,null,null,null,0,0,0]
[8171,null,null,null,null,0,0,0]
[8172,null,null,null,null,0,0,0]
[8173,null,null,null,null,0,0,0]
[8174,null,null,null,null,0,0,0]
[8175,null,null,null,null,0,0,0]
[8176,null,null,null,null,0,0,0]
[8177,null,null,null,null,0,0,0]
[8178,null,null,null,null,0,0,0]
[8179,null,null,null,null,0,0,0]
[8180,null,null,null,null,0,0,0]
[8181,null,null,null,null,0,0,0]
[8182,null,null,null,null,0,0,0]
[8183,null,null,null,null,0,0,0]
[8184,null,null,null,null,0,0,0]
[8185,null,null,null,null,0,0,0]
[8186,null,null,null,null,0,0,0]
[8187,null,null,null,null,0,0,0]
[8188,null,null,null,null,0,0,0]
[8189,null,null,null,null,0,0,0]
[8190,null,null,null,null,0,0,0]
[8191,null,null,null,null,0,0,0]
[8192,null,null,null,null,0,0,0]
[8193,null,null,null,null,0,0,0]
[8194,null,null,null,null,{"$f":"MIN(B8203:C8203)","v":0},{"$f":"MIN(D8203:E8203)","v":0},{"$f":"F8203*G8203","v":0}]
[8195,null,null,null,null,0,0,0]
[8196,null,null,null,null,0,0,0]
[8197,null,null,null,null,0,0,0]
[8198,null,null,null,null,0,0,0]
[8199,null,null,null,null,0,0,0]
[8200,null,null,null,null,0,0,0]
[8201,null,null,null,null,0,0,0]
[8202,null,null,null,null,0,0,0]
[8203,null,null,null,null,0,0,0]
[8204,null,null,null,null,0,0,0]
[8205,null,null,null,null,0,0,0]
[8206,null,null,null,null,0,0,0]
[8207,null,null,null,null,0,0,0]
[8208,null,null,null,null,0,0,0]
[8209,null,null,null,null,0,0,0]
[8210,null,null,null,null,0,0,0]
[8211,null,null,null,null,0,0,0]
[8212,null,null,null,null,0,0,0]
[8213,null,null,null,null,0,0,0]
[8214,null,null,null,null,0,0,0]
[8215,null,null,null,null,0,0,0]
[8216,null,null,null,null,0,0,0]
[8217,null,null,null,null,0,0,0]
[8218,null,null,null,null,0,0,0]
[8219,null,null,null,null,0,0,0]
[8220,null,null,null,null,0,0,0]
[8221,null,null,null,null,0,0,0]
[8222,null,null,null,null,0,0,0]
[8223,null,null,null,null,0,0,0]
[8224,null,null,null,null,0,0,0]
[8225,null,null,null,null,0,0,0]
[8226,null,null,null,null,0,0,0]
[8227,null,null,null,null,0,0,0]
[8228,null,null,null,null,0,0,0]
[8229,null,null,null,null,0,0,0]
[8230,null,null,null,null,0,0,0]
[8231,null,null,null,null,0,0,0]
[8232,null,null,null,null,0,0,0]
[8233,null,null,null,null,0,0,0]
[8234,null,null,null,null,0,0,0]
[8235,null,null,null,null,0,0,0]
[8236,null,null,null,null,0,0,0]
[8237,null,null,null,null,0,0,0]
[8238,null,null,null,null,0,0,0]
[8239,null,null,null,null,0,0,0]
[8240,null,null,null,null,0,0,0]
[8241,null,null,null,null,0,0,0]
[8242,null,null,null,null,0,0,0]
[8243,null,null,null,null,0,0,0]
[8244,null,null,null,null,0,0,0]
[8245,null,null,null,null,0,0,0]
[8246,null,null,null,null,0,0,0]
[8247,null,null,null,null,0,0,0]
[8248,null,null,null,null,0,0,0]
[8249,null,null,null,null,0,0,0]
[8250,null,null,null,null,0,0,0]
[8251,null,null,null,null,0,0,0]
[8252,null,null,null,null,0,0,0]
[8253,null,null,null,null,0,0,0]
[8254,null,null,null,null,0,0,0]
[8255,null,null,null,null,0,0,0]
[8256,null,null,null,null,0,0,0]
[8257,null,null,null,null,0,0,0]
[8258,null,null,null,null,{"$f":"MIN(B8267:C8267)","v":0},{"$f":"MIN(D8267:E8267)","v":0},{"$f":"F8267*G8267","v":0}]
[8259,null,null,null,null,0,0,0]
[8260,null,null,null,null,0,0,0]
[8261,null,null,null,null,0,0,0]
[8262,null,null,null,null,0,0,0]
[8263,null,null,null,null,0,0,0]
[8264,null,null,null,null,0,0,0]
[8265,null,null,null,null,0,0,0]
[8266,null,null,null,null,0,0,0]
[8267,null,null,null,null,0,0,0]
[8268,null,null,null,null,0,0,0]
[8269,null,null,null,null,0,0,0]
[8270,null,null,null,null,0,0,0]
[8271,null,null,null,null,0,0,0]
[8272,null,null,null,null,0,0,0]
[8273,null,null,null,null,0,0,0]
[8274,null,null,null,null,0,0,0]
[8275,null,null,null,null,0,0,0]
[8276,null,null,null,null,0,0,0]
[8277,null,null,null,null,0,0,0]
[8278,null,null,null,null,0,0,0]
[8279,null,null,null,null,0,0,0]
[8280,null,null,null,null,0,0,0]
[8281,null,null,null,null,0,0,0]
[8282,null,null,null,null,0,0,0]
[8283,null,null,null,null,0,0,0]
[8284,null,null,null,null,0,0,0]
[8285,null,null,null,null,0,0,0]
[8286,null,null,null,null,0,0,0]
[8287,null,null,null,null,0,0,0]
[8288,null,null,null,null,0,0,0]
[8289,null,null,null,null,0,0,0]
[8290,null,null,null,null,0,0,0]
[8291,null,null,null,null,0,0,0]
[8292,null,null,null,null,0,0,0]
[8293,null,null,null,null,0,0,0]
[8294,null,null,null,null,0,0,0]
[8295,null,null,null,null,0,0,0]
[8296,null,null,null,null,0,0,0]
[8297,null,null,null,null,0,0,0]
[8298,null,null,null,null,0,0,0]
[8299,null,null,null,null,0,0,0]
[8300,null,null,null,null,0,0,0]
[8301,null,null,null,null,0,0,0]
[8302,null,null,null,null,0,0,0]
[8303,null,null,null,null,0,0,0]
[8304,null,null,null,null,0,0,0]
[8305,null,null,null,null,0,0,0]
[8306,null,null,null,null,0,0,0]
[8307,null,null,null,null,0,0,0]
[8308,null,null,null,null,0,0,0]
[8309,null,null,null,null,0,0,0]
[8310,null,null,null,null,0,0,0]
[8311,null,null,null,null,0,0,0]
[8312,null,null,null,null,0,0,0]
[8313,null,null,null,null,0,0,0]
[8314,null,null,null,null,0,0,0]
[8315,null,null,null,null,0,0,0]
[8316,null,null,null,null,0,0,0]
[8317,null,null,null,null,0,0,0]
[8318,null,null,null,null,0,0,0]
[8319,null,null,null,null,0,0,0]
[8320,null,null,null,null,0,0,0]
[8321,null,null,null,null,0,0,0]
[8322,null,null,null,null,{"$f":"MIN(B8331:C8331)","v":0},{"$f":"MIN(D8331:E8331)","v":0},{"$f":"F8331*G8331","v":0}]
[8323,null,null,null,null,0,0,0]
[8324,null,null,null,null,0,0,0]
[8325,null,null,null,null,0,0,0]
[8326,null,null,null,null,0,0,0]
[8327,null,null,null,null,0,0,0]
[8328,null,null,null,null,0,0,0]
[8329,null,null,null,null,0,0,0]
[8330,null,null,null,null,0,0,0]
[8331,null,null,null,null,0,0,0]
[8332,null,null,null,null,0,0,0]
[8333,null,null,null,null,0,0,0]
[8334,null,null,null,null,0,0,0]
[8335,null,null,null,null,0,0,0]
[8336,null,null,null,null,0,0,0]
[8337,null,null,null,null,0,0,0]
[8338,null,null,null,null,0,0,0]
[8339,null,null,null,null,0,0,0]
[8340,null,null,null,null,0,0,0]
[8341,null,null,null,null,0,0,0]
[8342,null,null,null,null,0,0,0]
[8343,null,null,null,null,0,0,0]
[8344,null,null,null,null,0,0,0]
[8345,null,null,null,null,0,0,0]
[8346,null,null,null,null,0,0,0]
[8347,null,null,null,null,0,0,0]
[8348,null,null,null,null,0,0,0]
[8349,null,null,null,null,0,0,0]
[8350,null,null,null,null,0,0,0]
[8351,null,null,null,null,0,0,0]
[8352,null,null,null,null,0,0,0]
[8353,null,null,null,null,0,0,0]
[8354,null,null,null,null,0,0,0]
[8355,null,null,null,null,0,0,0]
[8356,null,null,null,null,0,0,0]
[8357,null,null,null,null,0,0,0]
[8358,null,null,null,null,0,0,0]
[8359,null,null,null,null,0,0,0]
[8360,null,null,null,null,0,0,0]
[8361,null,null,null,null,0,0,0]
[8362,null,null,null,null,0,0,0]
[8363,null,null,null,null,0,0,0]
[8364,null,null,null,null,0,0,0]
[8365,null,null,null,null,0,0,0]
[8366,null,null,null,null,0,0,0]
[8367,null,null,null,null,0,0,0]
[8368,null,null,null,null,0,0,0]
[8369,null,null,null,null,0,0,0]
[8370,null,null,null,null,0,0,0]
[8371,null,null,null,null,0,0,0]
[8372,null,null,null,null,0,0,0]
[8373,null,null,null,null,0,0,0]
[8374,null,null,null,null,0,0,0]
[8375,null,null,null,null,0,0,0]
[8376,null,null,null,null,0,0,0]
[8377,null,null,null,null,0,0,0]
[8378,null,null,null,null,0,0,0]
[8379,null,null,null,null,0,0,0]
[8380,null,null,null,null,0,0,0]
[8381,null,null,null,null,0,0,0]
[8382,null,null,null,null,0,0,0]
[8383,null,null,null,null,0,0,0]
[8384,null,null,null,null,0,0,0]
[8385,null,null,null,null,0,0,0]
[8386,null,null,null,null,{"$f":"MIN(B8395:C8395)","v":0},{"$f":"MIN(D8395:E8395)","v":0},{"$f":"F8395*G8395","v":0}]
[8387,null,null,null,null,0,0,0]
[8388,null,null,null,null,0,0,0]
[8389,null,null,null,null,0,0,0]
[8390,null,null,null,null,0,0,0]
[8391,null,null,null,null,0,0,0]
[8392,null,null,null,null,0,0,0]
[8393,null,null,null,null,0,0,0]
[8394,null,null,null,null,0,0,0]
[8395,null,null,null,null,0,0,0]
[8396,null,null,null,null,0,0,0]
[8397,null,null,null,null,0,0,0]
[8398,null,null,null,null,0,0,0]
[8399,null,null,null,null,0,0,0]
[8400,null,null,null,null,0,0,0]
[8401,null,null,null,null,0,0,0]
[8402,null,null,null,null,0,0,0]
[8403,null,null,null,null,0,0,0]
[8404,null,null,null,null,0,0,0]
[8405,null,null,null,null,0,0,0]
[8406,null,null,null,null,0,0,0]
[8407,null,null,null,null,0,0,0]
[8408,null,null,null,null,0,0,0]
[8409,null,null,null,null,0,0,0]
[8410,null,null,null,null,0,0,0]
[8411,null,null,null,null,0,0,0]
[8412,null,null,null,null,0,0,0]
[8413,null,null,null,null,0,0,0]
[8414,null,null,null,null,0,0,0]
[8415,null,null,null,null,0,0,0]
[8416,null,null,null,null,0,0,0]
[8417,null,null,null,null,0,0,0]
[8418,null,null,null,null,0,0,0]
[8419,null,null,null,null,0,0,0]
[8420,null,null,null,null,0,0,0]
[8421,null,null,null,null,0,0,0]
[8422,null,null,null,null,0,0,0]
[8423,null,null,null,null,0,0,0]
[8424,null,null,null,null,0,0,0]
[8425,null,null,null,null,0,0,0]
[8426,null,null,null,null,0,0,0]
[8427,null,null,null,null,0,0,0]
[8428,null,null,null,null,0,0,0]
[8429,null,null,null,null,0,0,0]
[8430,null,null,null,null,0,0,0]
[8431,null,null,null,null,0,0,0]
[8432,null,null,null,null,0,0,0]
[8433,null,null,null,null,0,0,0]
[8434,null,null,null,null,0,0,0]
[8435,null,null,null,null,0,0,0]
[8436,null,null,null,null,0,0,0]
[8437,null,null,null,null,0,0,0]
[8438,null,null,null,null,0,0,0]
[8439,null,null,null,null,0,0,0]
[8440,null,null,null,null,0,0,0]
[8441,null,null,null,null,0,0,0]
[8442,null,null,null,null,0,0,0]
[8443,null,null,null,null,0,0,0]
[8444,null,null,null,null,0,0,0]
[8445,null,null,null,null,0,0,0]
[8446,null,null,null,null,0,0,0]
[8447,null,null,null,null,0,0,0]
[8448,null,null,null,null,0,0,0]
[8449,null,null,null,null,0,0,0]
[8450,null,null,null,null,{"$f":"MIN(B8459:C8459)","v":0},{"$f":"MIN(D8459:E8459)","v":0},{"$f":"F8459*G8459","v":0}]
[8451,null,null,null,null,0,0,0]
[8452,null,null,null,null,0,0,0]
[8453,null,null,null,null,0,0,0]
[8454,null,null,null,null,0,0,0]
[8455,null,null,null,null,0,0,0]
[8456,null,null,null,null,0,0,0]
[8457,null,null,null,null,0,0,0]
[8458,null,null,null,null,0,0,0]
[8459,null,null,null,null,0,0,0]
[8460,null,null,null,null,0,0,0]
[8461,null,null,null,null,0,0,0]
[8462,null,null,null,null,0,0,0]
[8463,null,null,null,null,0,0,0]
[8464,null,null,null,null,0,0,0]
[8465,null,null,null,null,0,0,0]
[8466,null,null,null,null,0,0,0]
[8467,null,null,null,null,0,0,0]
[8468,null,null,null,null,0,0,0]
[8469,null,null,null,null,0,0,0]
[8470,null,null,null,null,0,0,0]
[8471,null,null,null,null,0,0,0]
[8472,null,null,null,null,0,0,0]
[8473,null,null,null,null,0,0,0]
[8474,null,null,null,null,0,0,0]
[8475,null,null,null,null,0,0,0]
[8476,null,null,null,null,0,0,0]
[8477,null,null,null,null,0,0,0]
[8478,null,null,null,null,0,0,0]
[8479,null,null,null,null,0,0,0]
[8480,null,null,null,null,0,0,0]
[8481,null,null,null,null,0,0,0]
[8482,null,null,null,null,0,0,0]
[8483,null,null,null,null,0,0,0]
[8484,null,null,null,null,0,0,0]
[8485,null,null,null,null,0,0,0]
[8486,null,null,null,null,0,0,0]
[8487,null,null,null,null,0,0,0]
[8488,null,null,null,null,0,0,0]
[8489,null,null,null,null,0,0,0]
[8490,null,null,null,null,0,0,0]
[8491,null,null,null,null,0,0,0]
[8492,null,null,null,null,0,0,0]
[8493,null,null,null,null,0,0,0]
[8494,null,null,null,null,0,0,0]
[8495,null,null,null,null,0,0,0]
[8496,null,null,null,null,0,0,0]
[8497,null,null,null,null,0,0,0]
[8498,null,null,null,null,0,0,0]
[8499,null,null,null,null,0,0,0]
[8500,null,null,null,null,0,0,0]
[8501,null,null,null,null,0,0,0]
[8502,null,null,null,null,0,0,0]
[8503,null,null,null,null,0,0,0]
[8504,null,null,null,null,0,0,0]
[8505,null,null,null,null,0,0,0]
[8506,null,null,null,null,0,0,0]
[8507,null,null,null,null,0,0,0]
[8508,null,null,null,null,0,0,0]
[8509,null,null,null,null,0,0,0]
[8510,null,null,null,null,0,0,0]
[8511,null,null,null,null,0,0,0]
[8512,null,null,null,null,0,0,0]
[8513,null,null,null,null,0,0,0]
[8514,null,null,null,null,{"$f":"MIN(B8523:C8523)","v":0},{"$f":"MIN(D8523:E8523)","v":0},{"$f":"F8523*G8523","v":0}]
[8515,null,null,null,null,0,0,0]
[8516,null,null,null,null,0,0,0]
[8517,null,null,null,null,0,0,0]
[8518,null,null,null,null,0,0,0]
[8519,null,null,null,null,0,0,0]
[8520,null,null,null,null,0,0,0]
[8521,null,null,null,null,0,0,0]
[8522,null,null,null,null,0,0,0]
[8523,null,null,null,null,0,0,0]
[8524,null,null,null,null,0,0,0]
[8525,null,null,null,null,0,0,0]
[8526,null,null,null,null,0,0,0]
[8527,null,null,null,null,0,0,0]
[8528,null,null,null,null,0,0,0]
[8529,null,null,null,null,0,0,0]
[8530,null,null,null,null,0,0,0]
[8531,null,null,null,null,0,0,0]
[8532,null,null,null,null,0,0,0]
[8533,null,null,null,null,0,0,0]
[8534,null,null,null,null,0,0,0]
[8535,null,null,null,null,0,0,0]
[8536,null,null,null,null,0,0,0]
[8537,null,null,null,null,0,0,0]
[8538,null,null,null,null,0,0,0]
[8539,null,null,null,null,0,0,0]
[8540,null,null,null,null,0,0,0]
[8541,null,null,null,null,0,0,0]
[8542,null,null,null,null,0,0,0]
[8543,null,null,null,null,0,0,0]
[8544,null,null,null,null,0,0,0]
[8545,null,null,null,null,0,0,0]
[8546,null,null,null,null,0,0,0]
[8547,null,null,null,null,0,0,0]
[8548,null,null,null,null,0,0,0]
[8549,null,null,null,null,0,0,0]
[8550,null,null,null,null,0,0,0]
[8551,null,null,null,null,0,0,0]
[8552,null,null,null,null,0,0,0]
[8553,null,null,null,null,0,0,0]
[8554,null,null,null,null,0,0,0]
[8555,null,null,null,null,0,0,0]
[8556,null,null,null,null,0,0,0]
[8557,null,null,null,null,0,0,0]
[8558,null,null,null,null,0,0,0]
[8559,null,null,null,null,0,0,0]
[8560,null,null,null,null,0,0,0]
[8561,null,null,null,null,0,0,0]
[8562,null,null,null,null,0,0,0]
[8563,null,null,null,null,0,0,0]
[8564,null,null,null,null,0,0,0]
[8565,null,null,null,null,0,0,0]
[8566,null,null,null,null,0,0,0]
[8567,null,null,null,null,0,0,0]
[8568,null,null,null,null,0,0,0]
[8569,null,null,null,null,0,0,0]
[8570,null,null,null,null,0,0,0]
[8571,null,null,null,null,0,0,0]
[8572,null,null,null,null,0,0,0]
[8573,null,null,null,null,0,0,0]
[8574,null,null,null,null,0,0,0]
[8575,null,null,null,null,0,0,0]
[8576,null,null,null,null,0,0,0]
[8577,null,null,null,null,0,0,0]
[8578,null,null,null,null,{"$f":"MIN(B8587:C8587)","v":0},{"$f":"MIN(D8587:E8587)","v":0},{"$f":"F8587*G8587","v":0}]
[8579,null,null,null,null,0,0,0]
[8580,null,null,null,null,0,0,0]
[8581,null,null,null,null,0,0,0]
[8582,null,null,null,null,0,0,0]
[8583,null,null,null,null,0,0,0]
[8584,null,null,null,null,0,0,0]
[8585,null,null,null,null,0,0,0]
[8586,null,null,null,null,0,0,0]
[8587,null,null,null,null,0,0,0]
[8588,null,null,null,null,0,0,0]
[8589,null,null,null,null,0,0,0]
[8590,null,null,null,null,0,0,0]
[8591,null,null,null,null,0,0,0]
[8592,null,null,null,null,0,0,0]
[8593,null,null,null,null,0,0,0]
[8594,null,null,null,null,0,0,0]
[8595,null,null,null,null,0,0,0]
[8596,null,null,null,null,0,0,0]
[8597,null,null,null,null,0,0,0]
[8598,null,null,null,null,0,0,0]
[8599,null,null,null,null,0,0,0]
[8600,null,null,null,null,0,0,0]
[8601,null,null,null,null,0,0,0]
[8602,null,null,null,null,0,0,0]
[8603,null,null,null,null,0,0,0]
[8604,null,null,null,null,0,0,0]
[8605,null,null,null,null,0,0,0]
[8606,null,null,null,null,0,0,0]
[8607,null,null,null,null,0,0,0]
[8608,null,null,null,null,0,0,0]
[8609,null,null,null,null,0,0,0]
[8610,null,null,null,null,0,0,0]
[8611,null,null,null,null,0,0,0]
[8612,null,null,null,null,0,0,0]
[8613,null,null,null,null,0,0,0]
[8614,null,null,null,null,0,0,0]
[8615,null,null,null,null,0,0,0]
[8616,null,null,null,null,0,0,0]
[8617,null,null,null,null,0,0,0]
[8618,null,null,null,null,0,0,0]
[8619,null,null,null,null,0,0,0]
[8620,null,null,null,null,0,0,0]
[8621,null,null,null,null,0,0,0]
[8622,null,null,null,null,0,0,0]
[8623,null,null,null,null,0,0,0]
[8624,null,null,null,null,0,0,0]
[8625,null,null,null,null,0,0,0]
[8626,null,null,null,null,0,0,0]
[8627,null,null,null,null,0,0,0]
[8628,null,null,null,null,0,0,0]
[8629,null,null,null,null,0,0,0]
[8630,null,null,null,null,0,0,0]
[8631,null,null,null,null,0,0,0]
[8632,null,null,null,null,0,0,0]
[8633,null,null,null,null,0,0,0]
[8634,null,null,null,null,0,0,0]
[8635,null,null,null,null,0,0,0]
[8636,null,null,null,null,0,0,0]
[8637,null,null,null,null,0,0,0]
[8638,null,null,null,null,0,0,0]
[8639,null,null,null,null,0,0,0]
[8640,null,null,null,null,0,0,0]
[8641,null,null,null,null,0,0,0]
[8642,null,null,null,null,{"$f":"MIN(B8651:C8651)","v":0},{"$f":"MIN(D8651:E8651)","v":0},{"$f":"F8651*G8651","v":0}]
[8643,null,null,null,null,0,0,0]
[8644,null,null,null,null,0,0,0]
[8645,null,null,null,null,0,0,0]
[8646,null,null,null,null,0,0,0]
[8647,null,null,null,null,0,0,0]
[8648,null,null,null,null,0,0,0]
[8649,null,null,null,null,0,0,0]
[8650,null,null,null,null,0,0,0]
[8651,null,null,null,null,0,0,0]
[8652,null,null,null,null,0,0,0]
[8653,null,null,null,null,0,0,0]
[8654,null,null,null,null,0,0,0]
[8655,null,null,null,null,0,0,0]
[8656,null,null,null,null,0,0,0]
[8657,null,null,null,null,0,0,0]
[8658,null,null,null,null,0,0,0]
[8659,null,null,null,null,0,0,0]
[8660,null,null,null,null,0,0,0]
[8661,null,null,null,null,0,0,0]
[8662,null,null,null,null,0,0,0]
[8663,null,null,null,null,0,0,0]
[8664,null,null,null,null,0,0,0]
[8665,null,null,null,null,0,0,0]
[8666,null,null,null,null,0,0,0]
[8667,null,null,null,null,0,0,0]
[8668,null,null,null,null,0,0,0]
[8669,null,null,null,null,0,0,0]
[8670,null,null,null,null,0,0,0]
[8671,null,null,null,null,0,0,0]
[8672,null,null,null,null,0,0,0]
[8673,null,null,null,null,0,0,0]
[8674,null,null,null,null,0,0,0]
[8675,null,null,null,null,0,0,0]
[8676,null,null,null,null,0,0,0]
[8677,null,null,null,null,0,0,0]
[8678,null,null,null,null,0,0,0]
[8679,null,null,null,null,0,0,0]
[8680,null,null,null,null,0,0,0]
[8681,null,null,null,null,0,0,0]
[8682,null,null,null,null,0,0,0]
[8683,null,null,null,null,0,0,0]
[8684,null,null,null,null,0,0,0]
[8685,null,null,null,null,0,0,0]
[8686,null,null,null,null,0,0,0]
[8687,null,null,null,null,0,0,0]
[8688,null,null,null,null,0,0,0]
[8689,null,null,null,null,0,0,0]
[8690,null,null,null,null,0,0,0]
[8691,null,null,null,null,0,0,0]
[8692,null,null,null,null,0,0,0]
[8693,null,null,null,null,0,0,0]
[8694,null,null,null,null,0,0,0]
[8695,null,null,null,null,0,0,0]
[8696,null,null,null,null,0,0,0]
[8697,null,null,null,null,0,0,0]
[8698,null,null,null,null,0,0,0]
[8699,null,null,null,null,0,0,0]
[8700,null,null,null,null,0,0,0]
[8701,null,null,null,null,0,0,0]
[8702,null,null,null,null,0,0,0]
[8703,null,null,null,null,0,0,0]
[8704,null,null,null,null,0,0,0]
[8705,null,null,null,null,0,0,0]
[8706,null,null,null,null,{"$f":"MIN(B8715:C8715)","v":0},{"$f":"MIN(D8715:E8715)","v":0},{"$f":"F8715*G8715","v":0}]
[8707,null,null,null,null,0,0,0]
[8708,null,null,null,null,0,0,0]
[8709,null,null,null,null,0,0,0]
[8710,null,null,null,null,0,0,0]
[8711,null,null,null,null,0,0,0]
[8712,null,null,null,null,0,0,0]
[8713,null,null,null,null,0,0,0]
[8714,null,null,null,null,0,0,0]
[8715,null,null,null,null,0,0,0]
[8716,null,null,null,null,0,0,0]
[8717,null,null,null,null,0,0,0]
[8718,null,null,null,null,0,0,0]
[8719,null,null,null,null,0,0,0]
[8720,null,null,null,null,0,0,0]
[8721,null,null,null,null,0,0,0]
[8722,null,null,null,null,0,0,0]
[8723,null,null,null,null,0,0,0]
[8724,null,null,null,null,0,0,0]
[8725,null,null,null,null,0,0,0]
[8726,null,null,null,null,0,0,0]
[8727,null,null,null,null,0,0,0]
[8728,null,null,null,null,0,0,0]
[8729,null,null,null,null,0,0,0]
[8730,null,null,null,null,0,0,0]
[8731,null,null,null,null,0,0,0]
[8732,null,null,null,null,0,0,0]
[8733,null,null,null,null,0,0,0]
[8734,null,null,null,null,0,0,0]
[8735,null,null,null,null,0,0,0]
[8736,null,null,null,null,0,0,0]
[8737,null,null,null,null,0,0,0]
[8738,null,null,null,null,0,0,0]
[8739,null,null,null,null,0,0,0]
[8740,null,null,null,null,0,0,0]
[8741,null,null,null,null,0,0,0]
[8742,null,null,null,null,0,0,0]
[8743,null,null,null,null,0,0,0]
[8744,null,null,null,null,0,0,0]
[8745,null,null,null,null,0,0,0]
[8746,null,null,null,null,0,0,0]
[8747,null,null,null,null,0,0,0]
[8748,null,null,null,null,0,0,0]
[8749,null,null,null,null,0,0,0]
[8750,null,null,null,null,0,0,0]
[8751,null,null,null,null,0,0,0]
[8752,null,null,null,null,0,0,0]
[8753,null,null,null,null,0,0,0]
[8754,null,null,null,null,0,0,0]
[8755,null,null,null,null,0,0,0]
[8756,null,null,null,null,0,0,0]
[8757,null,null,null,null,0,0,0]
[8758,null,null,null,null,0,0,0]
[8759,null,null,null,null,0,0,0]
[8760,null,null,null,null,0,0,0]
[8761,null,null,null,null,0,0,0]
[8762,null,null,null,null,0,0,0]
[8763,null,null,null,null,0,0,0]
[8764,null,null,null,null,0,0,0]
[8765,null,null,null,null,0,0,0]
[8766,null,null,null,null,0,0,0]
[8767,null,null,null,null,0,0,0]
[8768,null,null,null,null,0,0,0]
[8769,null,null,null,null,0,0,0]
[8770,null,null,null,null,{"$f":"MIN(B8779:C8779)","v":0},{"$f":"MIN(D8779:E8779)","v":0},{"$f":"F8779*G8779","v":0}]
[8771,null,null,null,null,0,0,0]
[8772,null,null,null,null,0,0,0]
[8773,null,null,null,null,0,0,0]
[8774,null,null,null,null,0,0,0]
[8775,null,null,null,null,0,0,0]
[8776,null,null,null,null,0,0,0]
[8777,null,null,null,null,0,0,0]
[8778,null,null,null,null,0,0,0]
[8779,null,null,null,null,0,0,0]
[8780,null,null,null,null,0,0,0]
[8781,null,null,null,null,0,0,0]
[8782,null,null,null,null,0,0,0]
[8783,null,null,null,null,0,0,0]
[8784,null,null,null,null,0,0,0]

{"sheet":"Unspec Exports","index":13,"n_rows":14,"n_cols":14,"rows_kept":14,"cut":false,"hidden":false,"merged":[[9,8,9,11],[7,0,7,7],[8,0,8,7],[6,0,6,7],[4,0,4,2],[4,3,4,4],[4,6,4,7],[5,0,5,2],[5,3,5,4],[5,6,5,7]]}
["UNSPECIFIED WHOLESALE POWER EXPORTED FROM CALIFORNIA ",null,null,null,null,{"$f":"F6","v":13},{"$f":"F5","v":1}]
["Show All Exports as Unadjusted"]
[]
[]
["TO ADD ROW(s) TO THE TABLE USING MACROS, enter the number of rows to be added and click the Add Row(s) button.  ",null,null,"Rows to Add to the table below:",null,1]
["TO DELETE EXTRANEOUS ROWS USING MACROS, specify the row number to be deleted and click the \"Delete Row\" button.",null,null,"Row to Delete from the table below:",null,13]
["NOTE: You will need to enable macros for either button to work.  If you do not wish to enable macros, or are an expert user, please unlock the workbook by right-clicking the active worksheet and selecting \"Unprotect Sheet\". If you unprotect the sheet and then subsequently use the macro, this will reprotect the sheet."]
["TO ADD ROW(s) TO THE TABLE WITHOUT USING MACROS, use one of the following methods:\n  1. Insert a row or rows into the middle of the table, above the last row. WARNING: if you insert a row after the table, it will not properly export to XML.\n  2. Drag the blue marker in the far right corner of the table down."]
["TO DELETE ROW(s) TO THE TABLE WITHOUT USING MACROS, select the row(s) that you wish to delete, right click on and select \"Delete\""]
[null,null,null,null,null,null,null,null,"First Deliverer Determination"]
["Aggregated By Final Point of Delivery (POD) on NERC e-tag at, or near, the Sink per 95111(a)(6) [Input Final POD Code]","Jurisdiction in which the Final Point of Delivery (POD) in Column A is located","E-Tagged, Metered, or EIM?","MWh Measured at Last Point of Delivery (POD) inside California per 95111(a)(6)(A) on NERC e-tag in the Energy and Transmission Profiles, MWh Total\n","[TL] Transmission loss correction factor (1.00)","[EFunsp] Default emission factor for unspecified electricity, (MT CO2e/MWh)","[CO2e] Annual CO2 equivalent mass emissions from the unspecified electricity deliveries at each point of receipt identified (MT CO2e)",null,"Are YOU the PSE on the NERC eTag in the Physical Path table on the last California border crossing?  If yes, then you are the First Deliverer.\n(Required)","Name of the First Deliverer?\n  \nSelect from List, or enter \"Other\"\n(Required)","If you selected \"Other\", who is the First Deliverer?","Your Relationship to the Specified Source Transaction, e.g., \"I am the ___.\"  ",null,"Notes"]
["Column1","Column3","Column49","Column5","Column6","Column7","Column8","Column9","Column342","Column35","Column36","Column372","Column373","Column374"]
[null,null,null,null,{"$f":"1","v":1},{"$f":"0.428","v":0.42799999999999999},{"$f":"D13*E13*F13","v":0},{"$f":"\">>>\"","v":">>>"},null,null,null,null,{"$f":"\">>>\"","v":">>>"}]
["Rows inserted below this message will not be saved in the XML upload"]

{"sheet":"Spec Exports","index":14,"n_rows":19,"n_cols":38,"rows_kept":19,"cut":false,"hidden":false,"merged":[[12,14,12,21],[12,23,12,30],[12,32,14,35],[12,0,14,9],[8,0,8,7],[9,0,9,7],[10,0,10,7],[6,0,6,2],[6,3,6,4],[6,6,6,7],[7,0,7,2],[7,3,7,4],[7,6,7,7]]}
["SPECIFIED WHOLESALE POWER EXPORTED TO CALIFORNIA ",null,null,null,null,{"$f":"F8","v":18},{"$f":"F7","v":1},null,null,{"$f":"#REF!","v":{"$error":"#REF!"}}]
[]
["Sum of CO2e sp =",{"$f":"SUM(M18:M19)+SUM(X18:X19)","v":0}]
["Sum of CO2e sp -not covered=",{"$f":"SUM(AD18:AD19)+SUM(AF18:AF19)+SUM(AG18:AG19)","v":0}]
["Sum of CO2e Covered and Linked =",0]
[]
["TO ADD ROW(s) TO THE TABLE USING MACROS, enter the number of rows to be added and click the Add Row(s) button.  ",null,null,"Rows to Add to the table below:",null,1]
["TO DELETE EXTRANEOUS ROWS USING MACROS, specify the row number to be deleted and click the \"Delete Row\" button.",null,null,"Row to Delete from the table below:",null,18]
["NOTE: You will need to enable macros for either button to work.  If you do not wish to enable macros, or are an expert user, please unlock the workbook by right-clicking the active worksheet and selecting \"Unprotect Sheet\". If you unprotect the sheet and then subsequently use the macro, this will reprotect the sheet."]
["TO ADD ROW(s) TO THE TABLE WITHOUT USING MACROS, use one of the following methods:\n  1. Insert a row or rows into the middle of the table, above the last row. WARNING: if you insert a row after the table, it will not properly export to XML.\n  2. Drag the blue marker in the far right corner of the table down."]
["TO DELETE ROW(s) TO THE TABLE WITHOUT USING MACROS, select the row(s) that you wish to delete, right click on and select \"Delete\""]
[]
["PHYSICAL TRANSACTION ATTRIBUTES -- EXPORTED POWER",null,null,null,null,null,null,null,null,null,null,"MANUAL EMISSIONS FACTOR","MANUAL EMISSIONS CALCULATION",null,"ARB EMISSIONS FACTORS from \"EF List\" tab",null,null,null,null,null,null,null,null,"ARB EMISSIONS CALCULATION",null,null,null,null,null,null,null,null,"FIRST DELIVERER DETERMINATION"]
[null,null,null,null,null,null,null,null,null,null,null,"EF CO2e",null,null,"EF CO2e","EF CO2e","EF CO2e","EF CO2e","EF CO2e","EF CH4 CO2e","EF CH4 CO2e","EF N2O CO2e",null,"CO2e","CO2e","CO2e","CO2e","CO2e","CH4 as CO2e","CH4 as CO2e","N2O as CO2e"]
[null,null,null,null,null,null,null,null,null,null,null,"Total","All Manual CO2e",null,"Total","Fossil & Process","Biomass Exempt","Biomass Non-Exempt","Geothermal Exempt","All Geothermal CH4 Exempt","All Other CH4 NonExempt","All N2O NonExempt",null,"Total","Fossil & Process","Biomass Exempt","Biomass Non-Exempt","Geothermal Exempt","All Geothermal CH4 Exempt","All Other CH4 NonExempt","All N2O NonExempt"]
["Facility and Unit ID Name (select \"Other\" and entry name in Column C)\n","ARB Facility and Unit ID#\n","If facility is un-listed, Facility Name","Aggregated By Final Point of Delivery (POD) on NERC e-tag at, or near, the Sink per 95111(a)(6) [Input Final POD Code]","Jurisdiction in which the Final Point of Delivery (POD) in Column A is located","E-Tagged, Metered, or EIM?","Measured at busbar, Yes/No","If not measured at busbar, reason why, Text","MWh Measured at  Last Point of Delivery (POD) inside California per 95111(a)(6)(A) on NERC e-tag in the Energy and Transmission Profiles, MWh Total\n","[TL] Transmission loss correction factor (1.00)",null,"[EFmanual: CO2e total] Facility-specific or unit-specific emission factor, provided manually from ARB (MT CO2e/MWh)","[CO2e manual total] Annual CO2 equivalent mass emissions from the specified electricity deliveries for each facility or unit claimed (MT CO2e)",null,"[EFsp : CO2e total] Facility-specific or unit-specific emission factor published on the ARB Mandatory Reporting website, (MT CO2e/MWh)","[EFsp: CO2 fossil fuel combustion and process] (MT CO2/MWh) [new column]","[EFsp :  CO2 biomass exempt] Facility-specific or unit-specific emission factor published on the ARB Mandatory Reporting website, (MT CO2/MWh)","[EFsp :  CO2 biomass non-exempt] Facility-specific or unit-specific emission factor published on the ARB Mandatory Reporting website, (MT CO2/MWh)","[EFsp :  CO2 geothermal exempt] Facility-specific or unit-specific emission factor published on the ARB Mandatory Reporting website, (MT CO2/MWh)","[EFsp: MT CH4 geothermal exempt] Facility-specific or unit-specific emission factor published on the ARB Mandatory Reporting website, (MTCH4/MWh)","[EFsp: MT CH4 non-geothermal] Facility-specific or unit-specific emission factor published on the ARB Mandatory Reporting website, (MTCH4/MWh)","[EFsp: MT N2O] Facility-specific or unit-specific emission factor published on the ARB Mandatory Reporting website, (MTN2O/MWh)",null,"[CO2e total] Annual CO2 equivalent mass emissions from the specified electricity deliveries for each facility or unit claimed (MT CO2e)","[EFsp: CO2 fossil fuel combustion and process] Annual CO2 equivalent mass emissions from the specified electricity deliveries for each facility or unit claimed(MT CO2/MWh)","[CO2 biomass exempt] Annual CO2 equivalent mass emissions from the specified electricity deliveries for each facility or unit claimed (MT CO2)","[CO2 biomass non-exempt] Annual CO2 equivalent mass emissions from the specified electricity deliveries for each facility or unit claimed (MT CO2)","[CO2 geothermal exempt] Annual CO2 equivalent mass emissions from the specified electricity deliveries for each facility or unit claimed (MT CO2)","[CH4 geothermal exempt] Annual CH4  mass emissions from the specified electricity deliveries for each facility or unit claimed (MT CH4)","[CH4 non-geothermal] Annual CH4 mass emissions from the specified electricity deliveries for each facility or unit claimed (MT CH4)","[N2O] Annual N2O mass emissions from the specified electricity deliveries for each facility or unit claimed (MT N2O)",null,"Are YOU the PSE on the NERC eTag in the Physical Path table on the last California border crossing?  If yes, then you are the First Deliverer.\n(Required)","Name of the First Deliverer?\n  \nSelect from List, or enter \"Other\"\n(Required)","If you selected \"Other\", who is the First Deliverer?","Your Relationship to the Specified Source Transaction, e.g., \"I am the ___.\"  ",null,"Notes"]
["Column1","Column2","Unlisted_Facility_Name","Column15","Jurisdiction_Full_Name","Column49","Measured_At_Busbar","Reason_Not_Measured_At_Busbar","Specified_Electricity_Deliveries","Transmission_Loss_Correction_Factor","Column16","EF_Manual","CO2e_Manual_Total","Column162","EF_Published","Column17","EF_Biomass_Exempt","EF_Biomass_Non_Exempt","EF_Geothermal_Exempt","Column18","Column19","Column20","Column1622","CO2e_Total","Column21","CO2_Biomass_Exempt","CO2_Biomass_Non_Exempt","CO2_Geothermal_Exempt","Column22","Column23","Column24","Column163","Column34","Column35","Column36","Column37","Column1632","Column133"]
[null,{"$f":"IF(ISERROR(VLOOKUP(A18,'EF List'!$F$7:$G$289,2,FALSE)),\"\",VLOOKUP(A18,'EF List'!$F$7:$G$289,2,FALSE))","v":""},null,null,null,null,null,null,null,1,{"$f":"\">>>\"","v":">>>"},null,{"$f":"$I18*$J18*L18","v":0},{"$f":"\">>>\"","v":">>>"},{"$f":"IF(ISERROR(LOOKUP($A18,Facility_Name,'EF List'!T$7:T$20))=TRUE,0,LOOKUP($A18,Facility_Name,'EF List'!T$7:T$20))","v":0},{"$f":"IF(ISERROR(LOOKUP($A18,Facility_Name,'EF List'!U$7:U$20))=TRUE,0,LOOKUP($A18,Facility_Name,'EF List'!U$7:U$20))","v":0},{"$f":"IF(ISERROR(LOOKUP($A18,Facility_Name,'EF List'!V$7:V$20))=TRUE,0,LOOKUP($A18,Facility_Name,'EF List'!V$7:V$20))","v":0},{"$f":"IF(ISERROR(LOOKUP($A18,Facility_Name,'EF List'!W$7:W$20))=TRUE,0,LOOKUP($A18,Facility_Name,'EF List'!W$7:W$20))","v":0},{"$f":"IF(ISERROR(LOOKUP($A18,Facility_Name,'EF List'!X$7:X$20))=TRUE,0,LOOKUP($A18,Facility_Name,'EF List'!X$7:X$20))","v":0},{"$f":"IF(ISERROR(LOOKUP($A18,Facility_Name,'EF List'!Y$7:Y$20))=TRUE,0,LOOKUP($A18,Facility_Name,'EF List'!Y$7:Y$20))","v":0},{"$f":"IF(ISERROR(LOOKUP($A18,Facility_Name,'EF List'!Z$7:Z$20))=TRUE,0,LOOKUP($A18,Facility_Name,'EF List'!Z$7:Z$20))","v":0},{"$f":"IF(ISERROR(LOOKUP($A18,Facility_Name,'EF List'!AA$7:AA$20))=TRUE,0,LOOKUP($A18,Facility_Name,'EF List'!AA$7:AA$20))","v":0},{"$f":"\">>>\"","v":">>>"},{"$f":"$I18*$J18*O18","v":0},0,0,0,0,0,0,0,{"$f":"\">>>\"","v":">>>"},null,null,null,null,{"$f":"\">>>\"","v":">>>"}]
["Rows inserted below this message will not be saved in the XML upload"]

{"sheet":"Wheeled","index":15,"n_rows":15,"n_cols":19,"rows_kept":15,"cut":false,"hidden":false,"merged":[[9,12,9,13],[10,12,10,13],[9,15,9,16],[10,15,10,16],[2,1,2,7],[4,0,4,2],[6,0,6,7],[7,0,7,7],[8,0,8,7],[4,3,4,4],[4,6,4,7],[5,0,5,2],[5,3,5,4],[5,6,5,7],[9,7,10,10]]}
["POWER WHEELED THROUGH CALIFORNIA, Section 95111(a)(8)",null,null,null,null,{"$f":"F6","v":14},{"$f":"F5","v":1}]
[]
[null,"“Electricity wheeled through California” or “wheeled electricity” means electricity that is generated outside the state of California and delivered into California with the final point of delivery outside California. Electricity wheeled through California is documented on a single NERC e-Tag showing the first point of receipt located outside the state of California, an intermediate point of delivery located inside the state of California, and the final point of delivery located outside the state of California. "]
[]
["TO ADD ROW(s) TO THE TABLE USING MACROS, enter the number of rows to be added and click the Add Row(s) button.  ",null,null,"Rows to Add to the table below:",null,1]
["TO DELETE EXTRANEOUS ROWS USING MACROS, specify the row number to be deleted and click the \"Delete Row\" button.",null,null,"Row to Delete from the table below:",null,14]
["NOTE: You will need to enable macros for either button to work.  If you do not wish to enable macros, or are an expert user, please unlock the workbook by right-clicking the active worksheet and selecting \"Unprotect Sheet\". If you unprotect the sheet and then subsequently use the macro, this will reprotect the sheet."]
["TO ADD ROW(s) TO THE TABLE WITHOUT USING MACROS, use one of the following methods:\n  1. Insert a row or rows into the middle of the table, above the last row. WARNING: if you insert a row after the table, it will not properly export to XML.\n  2. Drag the blue marker in the far right corner of the table down."]
["TO DELETE ROW(s) TO THE TABLE WITHOUT USING MACROS, select the row(s) that you wish to delete, right click on and select \"Delete\""]
[null,null,null,null,null,null,null,"FIRST DELIVERER DETERMINATION",null,null,null,null,"Source of Generation",null,null,"Final Point of Delivery (POD)\nas shown on one NERC e-Tag"]
[null,null,null,null,null,null,null,null,null,null,null,null,"Outside of California",null,null,"Outside of California"]
["Facility and Unit ID Name (select \"Other\" if not listed)\n\nFor the drop down list, see the hover note in the cell below.","ARB Facility and Unit ID#\n","If facility is un-listed, Facility Name","Jurisdiction in which the First Point of Receipt (POR) in Column M is located","Linked Jurisdiction, Yes/No","MWh Measured at First Point of Delivery (POD) inside California per 95111(a)(8) on NERC e-tag in the Energy and Transmission Profiles, MWh Total\n",null,"Are YOU the PSE on the NERC eTag in the Physical Path table on the last California border crossing?  If yes, then you are the First Deliverer.\n(Required)","Name of the First Deliverer?\n  \nSelect from List, or enter \"Other\"\n(Required)","If you selected \"Other\", who is the First Deliverer?","Your Relationship to the Specified Source Transaction, e.g., \"I am the ___.\"  ",null,"Aggregated By First Point of Receipt (POR) on NERC e-tag at, or near, the Source per 95111(a)(8) [Input First POR Code]","Jurisdiction in which the First Point of Receipt (POR) in Column M is located",null,"Final Point of Delivery (POD) ","Jurisdiction in which the Final Point of Delivery (POD) is located",null,"Notes"]
["Column1","Column2","Column12","Column3","Column4","Column7","Column8","Column34","Column35","Column36","Column372","Column113","Column25","Column33","Column13","Column210","Column32","Column322","Column323"]
[null,{"$f":"VLOOKUP(A14,EF_List,3,FALSE)","v":{"$error":"#N/A"}},null,null,{"$f":"LOOKUP(D14,'Other Lookups'!$B$37:$B$58,'Other Lookups'!$C$37:$C$58)","v":{"$error":"#N/A"}},null,{"$f":"\">>>\"","v":">>>"},null,null,null,null,null,null,{"$f":"D14","v":0},{"$f":"\">>>\"","v":">>>"},null,null,{"$f":"\">>>\"","v":">>>"}]
["Rows inserted below this message will not be saved in the XML upload"]

{"sheet":"POR.POD","index":16,"n_rows":902,"n_cols":10,"rows_kept":902,"cut":false,"hidden":false,"merged":[]}
[]
["New Searchable Point List",null,null,null,null,null,null,null,null,"Original Point List"]
[]
["Drop Dow List (Dynamic)","Target Cell","Dynamic List","Index Count"]
[null,null,null,null,"Point List with Space at the end",null,"Point Name",null,null,"Point Name"]
[" ",{"$f":" CELL(\"contents\")","v":0},{"$f":"IFERROR(VLOOKUP(ROWS($C$5:C5),$D$6:$E$904,2,FALSE),\"\")","v":"AIR230 "},{"$f":"IF(ISNUMBER(SEARCH($B$6,E6)),MAX($D$5:D5)+1,0)","v":0},{"$f":"CONCATENATE(G6, \" \")","v":"AB.BC "},null,"AB.BC",null,null,"AB.BC"]
[null,null,{"$f":"IFERROR(VLOOKUP(ROWS($C$5:C6),$D$6:$E$902,2,FALSE),\"\")","v":"ALEXANDER230 "},{"$f":"IF(ISNUMBER(SEARCH($B$6,E7)),MAX($D$5:D6)+1,0)","v":0},{"$f":"CONCATENATE(G7, \" \")","v":"AB.MT.MATL "},null,"AB.MT.MATL",null,null,"AB.MT.MATL"]
[null,null,{"$f":"IFERROR(VLOOKUP(ROWS($C$5:C7),$D$6:$E$902,2,FALSE),\"\")","v":"AMBROSIA230 "},{"$f":"IF(ISNUMBER(SEARCH($B$6,E8)),MAX($D$5:D7)+1,0)","v":0},"AB.SK.MC ",null,"AB.SK.MC",null,null,"AB.SK.MC"]
[null,null,{"$f":"IFERROR(VLOOKUP(ROWS($C$5:C8),$D$6:$E$902,2,FALSE),\"\")","v":"APACHE230 "},{"$f":"IF(ISNUMBER(SEARCH($B$6,E9)),MAX($D$4:D8)+1,0)","v":0},"AB.system ",null,"AB.system",null,null,"AB.system"]
[null,null,{"$f":"IFERROR(VLOOKUP(ROWS($C$5:C9),$D$6:$E$902,2,FALSE),\"\")","v":"BICKNELL230 "},{"$f":"IF(ISNUMBER(SEARCH($B$6,E10)),MAX($D$4:D9)+1,0)","v":0},"ABITIBI69 ",null,"ABITIBI69",null,null,"ABITIBI69"]
[null,null,{"$f":"IFERROR(VLOOKUP(ROWS($C$5:C10),$D$6:$E$902,2,FALSE),\"\")","v":"BLACKMESA230 "},{"$f":"IF(ISNUMBER(SEARCH($B$6,E11)),MAX($D$5:D10)+1,0)","v":0},"ABQ ",null,"ABQ",null,null,"ABQ"]
[null,null,{"$f":"IFERROR(VLOOKUP(ROWS($C$5:C11),$D$6:$E$902,2,FALSE),\"\")","v":"BUCKEYE230 "},{"$f":"IF(ISNUMBER(SEARCH($B$6,E12)),MAX($D$4:D11)+1,0)","v":0},"ADAMS115 ",null,"ADAMS115",null,null,"ADAMS115"]
[null,null,{"$f":"IFERROR(VLOOKUP(ROWS($C$5:C12),$D$6:$E$902,2,FALSE),\"\")","v":"BW230 "},{"$f":"IF(ISNUMBER(SEARCH($B$6,E13)),MAX($D$4:D12)+1,0)","v":0},"ADL ",null,"ADL",null,null,"ADL"]
[null,null,{"$f":"IFERROR(VLOOKUP(ROWS($C$5:C13),$D$6:$E$902,2,FALSE),\"\")","v":"CEDARMTN500 "},{"$f":"IF(ISNUMBER(SEARCH($B$6,E14)),MAX($D$4:D13)+1,0)","v":0},"AFTON345 ",null,"AFTON345",null,null,"AFTON345"]
[null,null,{"$f":"IFERROR(VLOOKUP(ROWS($C$5:C14),$D$6:$E$902,2,FALSE),\"\")","v":"CHOLLA230 "},{"$f":"IF(ISNUMBER(SEARCH($B$6,E15)),MAX($D$4:D14)+1,0)","v":0},"AFTS ",null,"AFTS",null,null,"AFTS"]
[null,null,{"$f":"IFERROR(VLOOKUP(ROWS($C$5:C15),$D$6:$E$902,2,FALSE),\"\")","v":"CHOLLA500 "},{"$f":"IF(ISNUMBER(SEARCH($B$6,E16)),MAX($D$4:D15)+1,0)","v":1},"AIR230 ",null,"AIR230",null,null,"AIR230"]
[null,null,{"$f":"IFERROR(VLOOKUP(ROWS($C$5:C16),$D$6:$E$902,2,FALSE),\"\")","v":"Columbia230 "},{"$f":"IF(ISNUMBER(SEARCH($B$6,E17)),MAX($D$4:D16)+1,0)","v":0},"AIRPORT115 ",null,"AIRPORT115",null,null,"AIRPORT115"]
[null,null,{"$f":"IFERROR(VLOOKUP(ROWS($C$5:C17),$D$6:$E$902,2,FALSE),\"\")","v":"COPPER230 "},{"$f":"IF(ISNUMBER(SEARCH($B$6,E18)),MAX($D$4:D17)+1,0)","v":0},"AIRWAY ",null,"AIRWAY",null,null,"AIRWAY"]
[null,null,{"$f":"IFERROR(VLOOKUP(ROWS($C$5:C18),$D$6:$E$902,2,FALSE),\"\")","v":"CORONADO500 "},{"$f":"IF(ISNUMBER(SEARCH($B$6,E19)),MAX($D$4:D18)+1,0)","v":0},"ALAMOGORDO115 ",null,"ALAMOGORDO115",null,null,"ALAMOGORDO115"]
[null,null,{"$f":"IFERROR(VLOOKUP(ROWS($C$5:C19),$D$6:$E$902,2,FALSE),\"\")","v":"CRYSTAL500 "},{"$f":"IF(ISNUMBER(SEARCH($B$6,E20)),MAX($D$4:D19)+1,0)","v":0},"ALAMOGRDO115 ",null,"ALAMOGRDO115",null,null,"ALAMOGRDO115"]
[null,null,{"$f":"IFERROR(VLOOKUP(ROWS($C$5:C20),$D$6:$E$902,2,FALSE),\"\")","v":"CTW230 "},{"$f":"IF(ISNUMBER(SEARCH($B$6,E21)),MAX($D$4:D20)+1,0)","v":0},"Albany12Pac ",null,"Albany12Pac",null,null,"Albany12Pac"]
[null,null,{"$f":"IFERROR(VLOOKUP(ROWS($C$5:C21),$D$6:$E$902,2,FALSE),\"\")","v":"DAVIS230 "},{"$f":"IF(ISNUMBER(SEARCH($B$6,E22)),MAX($D$4:D21)+1,0)","v":0},"ALCOAIntalco ",null,"ALCOAIntalco",null,null,"ALCOAIntalco"]
[null,null,{"$f":"IFERROR(VLOOKUP(ROWS($C$5:C22),$D$6:$E$902,2,FALSE),\"\")","v":"DEVERS230 "},{"$f":"IF(ISNUMBER(SEARCH($B$6,E23)),MAX($D$4:D22)+1,0)","v":0},"ALCOATroutdl ",null,"ALCOATroutdl",null,null,"ALCOATroutdl"]
[null,null,{"$f":"IFERROR(VLOOKUP(ROWS($C$5:C23),$D$6:$E$902,2,FALSE),\"\")","v":"DEVERS500 "},{"$f":"IF(ISNUMBER(SEARCH($B$6,E24)),MAX($D$4:D23)+1,0)","v":0},"ALCOAWenatch ",null,"ALCOAWenatch",null,null,"ALCOAWenatch"]
[null,null,{"$f":"IFERROR(VLOOKUP(ROWS($C$5:C24),$D$6:$E$902,2,FALSE),\"\")","v":"DOSCONDAD230 "},{"$f":"IF(ISNUMBER(SEARCH($B$6,E25)),MAX($D$4:D24)+1,0)","v":2},"ALEXANDER230 ",null,"ALEXANDER230",null,null,"ALEXANDER230"]
[null,null,{"$f":"IFERROR(VLOOKUP(ROWS($C$5:C25),$D$6:$E$902,2,FALSE),\"\")","v":"EDDY230 "},{"$f":"IF(ISNUMBER(SEARCH($B$6,E26)),MAX($D$4:D25)+1,0)","v":0},"ALGO ",null,"ALGO",null,null,"ALGO"]
[null,null,{"$f":"IFERROR(VLOOKUP(ROWS($C$5:C26),$D$6:$E$902,2,FALSE),\"\")","v":"ELD230SYS "},{"$f":"IF(ISNUMBER(SEARCH($B$6,E27)),MAX($D$4:D26)+1,0)","v":0},"ALIQUIDE449 ",null,"ALIQUIDE449",null,null,"ALIQUIDE449"]
[null,null,{"$f":"IFERROR(VLOOKUP(ROWS($C$5:C27),$D$6:$E$902,2,FALSE),\"\")","v":"ELD500SYS "},{"$f":"IF(ISNUMBER(SEARCH($B$6,E28)),MAX($D$4:D27)+1,0)","v":0},"Allston ",null,"Allston",null,null,"Allston"]
[null,null,{"$f":"IFERROR(VLOOKUP(ROWS($C$5:C28),$D$6:$E$902,2,FALSE),\"\")","v":"ELDORADO230 "},{"$f":"IF(ISNUMBER(SEARCH($B$6,E29)),MAX($D$4:D28)+1,0)","v":3},"AMBROSIA230 ",null,"AMBROSIA230",null,null,"AMBROSIA230"]
[null,null,{"$f":"IFERROR(VLOOKUP(ROWS($C$5:C29),$D$6:$E$902,2,FALSE),\"\")","v":"ELDORADO500 "},{"$f":"IF(ISNUMBER(SEARCH($B$6,E30)),MAX($D$4:D29)+1,0)","v":0},"AMES ",null,"AMES",null,null,"AMES"]
[null,null,{"$f":"IFERROR(VLOOKUP(ROWS($C$5:C30),$D$6:$E$902,2,FALSE),\"\")","v":"ELV230 "},{"$f":"IF(ISNUMBER(SEARCH($B$6,E31)),MAX($D$4:D30)+1,0)","v":0},"AMRAD115 ",null,"AMRAD115",null,null,"AMRAD115"]
[null,null,{"$f":"IFERROR(VLOOKUP(ROWS($C$5:C31),$D$6:$E$902,2,FALSE),\"\")","v":"FIY230 "},{"$f":"IF(ISNUMBER(SEARCH($B$6,E32)),MAX($D$4:D31)+1,0)","v":0},"AMRAD345 ",null,"AMRAD345",null,null,"AMRAD345"]
[null,null,{"$f":"IFERROR(VLOOKUP(ROWS($C$5:C32),$D$6:$E$902,2,FALSE),\"\")","v":"FLN230 "},{"$f":"IF(ISNUMBER(SEARCH($B$6,E33)),MAX($D$4:D32)+1,0)","v":0},"ANDK ",null,"ANDK",null,null,"ANDK"]
[null,null,{"$f":"IFERROR(VLOOKUP(ROWS($C$5:C33),$D$6:$E$902,2,FALSE),\"\")","v":"FOL230 "},{"$f":"IF(ISNUMBER(SEARCH($B$6,E34)),MAX($D$4:D33)+1,0)","v":0},"ANTE ",null,"ANTE",null,null,"ANTE"]
[null,null,{"$f":"IFERROR(VLOOKUP(ROWS($C$5:C34),$D$6:$E$902,2,FALSE),\"\")","v":"FOURCORNE230 "},{"$f":"IF(ISNUMBER(SEARCH($B$6,E35)),MAX($D$4:D34)+1,0)","v":0},"ANTELOPE ",null,"ANTELOPE",null,null,"ANTELOPE"]
[null,null,{"$f":"IFERROR(VLOOKUP(ROWS($C$5:C35),$D$6:$E$902,2,FALSE),\"\")","v":"FOURCORNE500 "},{"$f":"IF(ISNUMBER(SEARCH($B$6,E36)),MAX($D$4:D35)+1,0)","v":0},"APACHE115 ",null,"APACHE115",null,null,"APACHE115"]
[null,null,{"$f":"IFERROR(VLOOKUP(ROWS($C$5:C36),$D$6:$E$902,2,FALSE),\"\")","v":"GAR230NWMT "},{"$f":"IF(ISNUMBER(SEARCH($B$6,E37)),MAX($D$4:D36)+1,0)","v":4},"APACHE230 ",null,"APACHE230",null,null,"APACHE230"]
[null,null,{"$f":"IFERROR(VLOOKUP(ROWS($C$5:C37),$D$6:$E$902,2,FALSE),\"\")","v":"GAVILANPK230 "},{"$f":"IF(ISNUMBER(SEARCH($B$6,E38)),MAX($D$4:D37)+1,0)","v":0},"APRODUCTS449 ",null,"APRODUCTS449",null,null,"APRODUCTS449"]
[null,null,{"$f":"IFERROR(VLOOKUP(ROWS($C$5:C38),$D$6:$E$902,2,FALSE),\"\")","v":"GILA230 "},{"$f":"IF(ISNUMBER(SEARCH($B$6,E39)),MAX($D$4:D38)+1,0)","v":0},"ARH ",null,"ARH",null,null,"ARH"]
[null,null,{"$f":"IFERROR(VLOOKUP(ROWS($C$5:C39),$D$6:$E$902,2,FALSE),\"\")","v":"GILABEND230 "},{"$f":"IF(ISNUMBER(SEARCH($B$6,E40)),MAX($D$4:D39)+1,0)","v":0},"ArlngtnWind ",null,"ArlngtnWind",null,null,"ArlngtnWind"]
[null,null,{"$f":"IFERROR(VLOOKUP(ROWS($C$5:C40),$D$6:$E$902,2,FALSE),\"\")","v":"GILARIVER500 "},{"$f":"IF(ISNUMBER(SEARCH($B$6,E41)),MAX($D$4:D40)+1,0)","v":0},"ArlngtnWinLD ",null,"ArlngtnWinLD",null,null,"ArlngtnWinLD"]
[null,null,{"$f":"IFERROR(VLOOKUP(ROWS($C$5:C41),$D$6:$E$902,2,FALSE),\"\")","v":"GRIFFITH230 "},{"$f":"IF(ISNUMBER(SEARCH($B$6,E42)),MAX($D$4:D41)+1,0)","v":0},"ARTESIA345 ",null,"ARTESIA345",null,null,"ARTESIA345"]
[null,null,{"$f":"IFERROR(VLOOKUP(ROWS($C$5:C42),$D$6:$E$902,2,FALSE),\"\")","v":"H500 "},{"$f":"IF(ISNUMBER(SEARCH($B$6,E43)),MAX($D$4:D42)+1,0)","v":0},"ATL ",null,"ATL",null,null,"ATL"]
[null,null,{"$f":"IFERROR(VLOOKUP(ROWS($C$5:C43),$D$6:$E$902,2,FALSE),\"\")","v":"HA230 "},{"$f":"IF(ISNUMBER(SEARCH($B$6,E44)),MAX($D$4:D43)+1,0)","v":0},"Atofina ",null,"Atofina",null,null,"Atofina"]
[null,null,{"$f":"IFERROR(VLOOKUP(ROWS($C$5:C44),$D$6:$E$902,2,FALSE),\"\")","v":"HA500 "},{"$f":"IF(ISNUMBER(SEARCH($B$6,E45)),MAX($D$4:D44)+1,0)","v":0},"AU ",null,"AU",null,null,"AU"]
[null,null,{"$f":"IFERROR(VLOOKUP(ROWS($C$5:C45),$D$6:$E$902,2,FALSE),\"\")","v":"HACKBERRY230 "},{"$f":"IF(ISNUMBER(SEARCH($B$6,E46)),MAX($D$4:D45)+1,0)","v":0},"AU115 ",null,"AU115",null,null,"AU115"]
[null,null,{"$f":"IFERROR(VLOOKUP(ROWS($C$5:C46),$D$6:$E$902,2,FALSE),\"\")","v":"HIGHLINE230 "},{"$f":"IF(ISNUMBER(SEARCH($B$6,E47)),MAX($D$4:D46)+1,0)","v":0},"AVA.BPAT ",null,"AVA.BPAT",null,null,"AVA.BPAT"]
[null,null,{"$f":"IFERROR(VLOOKUP(ROWS($C$5:C47),$D$6:$E$902,2,FALSE),\"\")","v":"HILLTOP230 "},{"$f":"IF(ISNUMBER(SEARCH($B$6,E48)),MAX($D$4:D47)+1,0)","v":0},"AVA.SYS ",null,"AVA.SYS",null,null,"AVA.SYS"]
[null,null,{"$f":"IFERROR(VLOOKUP(ROWS($C$5:C48),$D$6:$E$902,2,FALSE),\"\")","v":"HOOVER230 "},{"$f":"IF(ISNUMBER(SEARCH($B$6,E49)),MAX($D$4:D48)+1,0)","v":0},"AVAPUD ",null,"AVAPUD",null,null,"AVAPUD"]
[null,null,{"$f":"IFERROR(VLOOKUP(ROWS($C$5:C49),$D$6:$E$902,2,FALSE),\"\")","v":"HUR230 "},{"$f":"IF(ISNUMBER(SEARCH($B$6,E50)),MAX($D$4:D49)+1,0)","v":0},"AVAREMOTELD ",null,"AVAREMOTELD",null,null,"AVAREMOTELD"]
[null,null,{"$f":"IFERROR(VLOOKUP(ROWS($C$5:C50),$D$6:$E$902,2,FALSE),\"\")","v":"IV230KV "},{"$f":"IF(ISNUMBER(SEARCH($B$6,E51)),MAX($D$4:D50)+1,0)","v":0},"AVAT.NWMT ",null,"AVAT.NWMT",null,null,"AVAT.NWMT"]
[null,null,{"$f":"IFERROR(VLOOKUP(ROWS($C$5:C51),$D$6:$E$902,2,FALSE),\"\")","v":"JOJOBA500 "},{"$f":"IF(ISNUMBER(SEARCH($B$6,E52)),MAX($D$4:D51)+1,0)","v":0},"AXBA ",null,"AXBA",null,null,"AXBA"]
[null,null,{"$f":"IFERROR(VLOOKUP(ROWS($C$5:C52),$D$6:$E$902,2,FALSE),\"\")","v":"KES230 "},{"$f":"IF(ISNUMBER(SEARCH($B$6,E53)),MAX($D$4:D52)+1,0)","v":0},"BANC.System ",null,"BANC.System",null,null,"BANC.System"]
[null,null,{"$f":"IFERROR(VLOOKUP(ROWS($C$5:C53),$D$6:$E$902,2,FALSE),\"\")","v":"KNOX230 "},{"$f":"IF(ISNUMBER(SEARCH($B$6,E54)),MAX($D$4:D53)+1,0)","v":0},"BANCSYS ",null,"BANCSYS",null,null,"BANCSYS"]
[null,null,{"$f":"IFERROR(VLOOKUP(ROWS($C$5:C54),$D$6:$E$902,2,FALSE),\"\")","v":"KYRENE230 "},{"$f":"IF(ISNUMBER(SEARCH($B$6,E55)),MAX($D$4:D54)+1,0)","v":0},"BandonPac ",null,"BandonPac",null,null,"BandonPac"]
[null,null,{"$f":"IFERROR(VLOOKUP(ROWS($C$5:C55),$D$6:$E$902,2,FALSE),\"\")","v":"KYRENE500 "},{"$f":"IF(ISNUMBER(SEARCH($B$6,E56)),MAX($D$4:D55)+1,0)","v":0},"BANNACK ",null,"BANNACK",null,null,"BANNACK"]
[null,null,{"$f":"IFERROR(VLOOKUP(ROWS($C$5:C56),$D$6:$E$902,2,FALSE),\"\")","v":"LAMR230 "},{"$f":"IF(ISNUMBER(SEARCH($B$6,E57)),MAX($D$4:D56)+1,0)","v":0},"BARR ",null,"BARR",null,null,"BARR"]
[null,null,{"$f":"IFERROR(VLOOKUP(ROWS($C$5:C57),$D$6:$E$902,2,FALSE),\"\")","v":"LaPine230 "},{"$f":"IF(ISNUMBER(SEARCH($B$6,E58)),MAX($D$4:D57)+1,0)","v":0},"BC.US.BORDER ",null,"BC.US.BORDER",null,null,"BC.US.BORDER"]
[null,null,{"$f":"IFERROR(VLOOKUP(ROWS($C$5:C58),$D$6:$E$902,2,FALSE),\"\")","v":"LIBERTY230 "},{"$f":"IF(ISNUMBER(SEARCH($B$6,E59)),MAX($D$4:D58)+1,0)","v":0},"BCHA.INT.SYS ",null,"BCHA.INT.SYS",null,null,"BCHA.INT.SYS"]
[null,null,{"$f":"IFERROR(VLOOKUP(ROWS($C$5:C59),$D$6:$E$902,2,FALSE),\"\")","v":"LONEBUTTE230 "},{"$f":"IF(ISNUMBER(SEARCH($B$6,E60)),MAX($D$4:D59)+1,0)","v":0},"BCHA.INTERNL ",null,"BCHA.INTERNL",null,null,"BCHA.INTERNL"]
[null,null,{"$f":"IFERROR(VLOOKUP(ROWS($C$5:C60),$D$6:$E$902,2,FALSE),\"\")","v":"LOSBANOS230 "},{"$f":"IF(ISNUMBER(SEARCH($B$6,E61)),MAX($D$4:D60)+1,0)","v":0},"BCHA.LM.SYS ",null,"BCHA.LM.SYS",null,null,"BCHA.LM.SYS"]
[null,null,{"$f":"IFERROR(VLOOKUP(ROWS($C$5:C61),$D$6:$E$902,2,FALSE),\"\")","v":"LRS230 "},{"$f":"IF(ISNUMBER(SEARCH($B$6,E62)),MAX($D$4:D61)+1,0)","v":0},"BCHA.LOSSES ",null,"BCHA.LOSSES",null,null,"BCHA.LOSSES"]
[null,null,{"$f":"IFERROR(VLOOKUP(ROWS($C$5:C62),$D$6:$E$902,2,FALSE),\"\")","v":"M500 "},{"$f":"IF(ISNUMBER(SEARCH($B$6,E63)),MAX($D$4:D62)+1,0)","v":0},"BCHA.NTWK.LD ",null,"BCHA.NTWK.LD",null,null,"BCHA.NTWK.LD"]
[null,null,{"$f":"IFERROR(VLOOKUP(ROWS($C$5:C63),$D$6:$E$902,2,FALSE),\"\")","v":"Malin230 "},{"$f":"IF(ISNUMBER(SEARCH($B$6,E64)),MAX($D$4:D63)+1,0)","v":0},"BCHA.SEL.LD ",null,"BCHA.SEL.LD",null,null,"BCHA.SEL.LD"]
[null,null,{"$f":"IFERROR(VLOOKUP(ROWS($C$5:C64),$D$6:$E$902,2,FALSE),\"\")","v":"MALIN500 "},{"$f":"IF(ISNUMBER(SEARCH($B$6,E65)),MAX($D$4:D64)+1,0)","v":0},"BCS.ORCH449 ",null,"BCS.ORCH449",null,null,"BCS.ORCH449"]
[null,null,{"$f":"IFERROR(VLOOKUP(ROWS($C$5:C65),$D$6:$E$902,2,FALSE),\"\")","v":"MARBLE60 "},{"$f":"IF(ISNUMBER(SEARCH($B$6,E66)),MAX($D$4:D65)+1,0)","v":0},"BCS.ROED449 ",null,"BCS.ROED449",null,null,"BCS.ROED449"]
[null,null,{"$f":"IFERROR(VLOOKUP(ROWS($C$5:C66),$D$6:$E$902,2,FALSE),\"\")","v":"MCCONNICO230 "},{"$f":"IF(ISNUMBER(SEARCH($B$6,E67)),MAX($D$4:D66)+1,0)","v":0},"BCSYS ",null,"BCSYS",null,null,"BCSYS"]
[null,null,{"$f":"IFERROR(VLOOKUP(ROWS($C$5:C67),$D$6:$E$902,2,FALSE),\"\")","v":"MCCULLOUG230 "},{"$f":"IF(ISNUMBER(SEARCH($B$6,E68)),MAX($D$4:D67)+1,0)","v":0},"BEAST ",null,"BEAST",null,null,"BEAST"]
[null,null,{"$f":"IFERROR(VLOOKUP(ROWS($C$5:C68),$D$6:$E$902,2,FALSE),\"\")","v":"MCCULLOUG500 "},{"$f":"IF(ISNUMBER(SEARCH($B$6,E69)),MAX($D$4:D68)+1,0)","v":0},"BELN ",null,"BELN",null,null,"BELN"]
[null,null,{"$f":"IFERROR(VLOOKUP(ROWS($C$5:C69),$D$6:$E$902,2,FALSE),\"\")","v":"MEAD 230 "},{"$f":"IF(ISNUMBER(SEARCH($B$6,E70)),MAX($D$4:D69)+1,0)","v":0},"Benton ",null,"Benton",null,null,"Benton"]
[null,null,{"$f":"IFERROR(VLOOKUP(ROWS($C$5:C70),$D$6:$E$902,2,FALSE),\"\")","v":"MEAD 500 "},{"$f":"IF(ISNUMBER(SEARCH($B$6,E71)),MAX($D$4:D70)+1,0)","v":0},{"$f":"CONCATENATE(G71, \" \")","v":"BentonREA "},null,"BentonREA",null,null,"BentonREA"]
[null,null,{"$f":"IFERROR(VLOOKUP(ROWS($C$5:C71),$D$6:$E$902,2,FALSE),\"\")","v":"MEAD230 "},{"$f":"IF(ISNUMBER(SEARCH($B$6,E72)),MAX($D$4:D71)+1,0)","v":0},"BERGIN115 ",null,"BERGIN115",null,null,"BERGIN115"]
[null,null,{"$f":"IFERROR(VLOOKUP(ROWS($C$5:C72),$D$6:$E$902,2,FALSE),\"\")","v":"MEAD500 "},{"$f":"IF(ISNUMBER(SEARCH($B$6,E73)),MAX($D$4:D72)+1,0)","v":0},"Bethel ",null,"Bethel",null,null,"Bethel"]
[null,null,{"$f":"IFERROR(VLOOKUP(ROWS($C$5:C73),$D$6:$E$902,2,FALSE),\"\")","v":"MERCHANT230 "},{"$f":"IF(ISNUMBER(SEARCH($B$6,E74)),MAX($D$4:D73)+1,0)","v":0},"BeverlyPark ",null,"BeverlyPark",null,null,"BeverlyPark"]
[null,null,{"$f":"IFERROR(VLOOKUP(ROWS($C$5:C74),$D$6:$E$902,2,FALSE),\"\")","v":"MESQUITE230 "},{"$f":"IF(ISNUMBER(SEARCH($B$6,E75)),MAX($D$4:D74)+1,0)","v":0},"BHCE ",null,"BHCE",null,null,"BHCE"]
[null,null,{"$f":"IFERROR(VLOOKUP(ROWS($C$5:C75),$D$6:$E$902,2,FALSE),\"\")","v":"Midway230 "},{"$f":"IF(ISNUMBER(SEARCH($B$6,E76)),MAX($D$4:D75)+1,0)","v":5},"BICKNELL230 ",null,"BICKNELL230",null,null,"BICKNELL230"]
[null,null,{"$f":"IFERROR(VLOOKUP(ROWS($C$5:C76),$D$6:$E$902,2,FALSE),\"\")","v":"MOENKOPI500 "},{"$f":"IF(ISNUMBER(SEARCH($B$6,E77)),MAX($D$4:D76)+1,0)","v":0},"BIGBEND ",null,"BIGBEND",null,null,"BIGBEND"]
[null,null,{"$f":"IFERROR(VLOOKUP(ROWS($C$5:C77),$D$6:$E$902,2,FALSE),\"\")","v":"MOHAVE500 "},{"$f":"IF(ISNUMBER(SEARCH($B$6,E78)),MAX($D$4:D77)+1,0)","v":0},"BigEddy ",null,"BigEddy",null,null,"BigEddy"]
[null,null,{"$f":"IFERROR(VLOOKUP(ROWS($C$5:C78),$D$6:$E$902,2,FALSE),\"\")","v":"MORENCI230 "},{"$f":"IF(ISNUMBER(SEARCH($B$6,E79)),MAX($D$4:D78)+1,0)","v":0},"BigFork ",null,"BigFork",null,null,"BigFork"]
[null,null,{"$f":"IFERROR(VLOOKUP(ROWS($C$5:C79),$D$6:$E$902,2,FALSE),\"\")","v":"MORGAN500 "},{"$f":"IF(ISNUMBER(SEARCH($B$6,E80)),MAX($D$4:D79)+1,0)","v":0},"BigHorn2 ",null,"BigHorn2",null,null,"BigHorn2"]
[null,null,{"$f":"IFERROR(VLOOKUP(ROWS($C$5:C80),$D$6:$E$902,2,FALSE),\"\")","v":"MSQUIT230 "},{"$f":"IF(ISNUMBER(SEARCH($B$6,E81)),MAX($D$4:D80)+1,0)","v":0},"Biglow ",null,"Biglow",null,null,"Biglow"]
[null,null,{"$f":"IFERROR(VLOOKUP(ROWS($C$5:C81),$D$6:$E$902,2,FALSE),\"\")","v":"NAT230 "},{"$f":"IF(ISNUMBER(SEARCH($B$6,E82)),MAX($D$4:D81)+1,0)","v":0},"BiglowLD ",null,"BiglowLD",null,null,"BiglowLD"]
[null,null,{"$f":"IFERROR(VLOOKUP(ROWS($C$5:C82),$D$6:$E$902,2,FALSE),\"\")","v":"NAVAJO230 "},{"$f":"IF(ISNUMBER(SEARCH($B$6,E83)),MAX($D$4:D82)+1,0)","v":0},"BKB ",null,"BKB",null,null,"BKB"]
[null,null,{"$f":"IFERROR(VLOOKUP(ROWS($C$5:C83),$D$6:$E$902,2,FALSE),\"\")","v":"NAVAJO500 "},{"$f":"IF(ISNUMBER(SEARCH($B$6,E84)),MAX($D$4:D83)+1,0)","v":6},"BLACKMESA230 ",null,"BLACKMESA230",null,null,"BLACKMESA230"]
[null,null,{"$f":"IFERROR(VLOOKUP(ROWS($C$5:C84),$D$6:$E$902,2,FALSE),\"\")","v":"NHAVASU230 "},{"$f":"IF(ISNUMBER(SEARCH($B$6,E85)),MAX($D$4:D84)+1,0)","v":0},"BLAINE ",null,"BLAINE",null,null,"BLAINE"]
[null,null,{"$f":"IFERROR(VLOOKUP(ROWS($C$5:C85),$D$6:$E$902,2,FALSE),\"\")","v":"NML230 "},{"$f":"IF(ISNUMBER(SEARCH($B$6,E86)),MAX($D$4:D85)+1,0)","v":0},"BLLK ",null,"BLLK",null,null,"BLLK"]
[null,null,{"$f":"IFERROR(VLOOKUP(ROWS($C$5:C86),$D$6:$E$902,2,FALSE),\"\")","v":"NRTHGILA500 "},{"$f":"IF(ISNUMBER(SEARCH($B$6,E87)),MAX($D$4:D86)+1,0)","v":0},"BLUE ",null,"BLUE",null,null,"BLUE"]
[null,null,{"$f":"IFERROR(VLOOKUP(ROWS($C$5:C87),$D$6:$E$902,2,FALSE),\"\")","v":"OBN230 "},{"$f":"IF(ISNUMBER(SEARCH($B$6,E88)),MAX($D$4:D87)+1,0)","v":0},"BLY1_KNB1 ",null,"BLY1_KNB1",null,null,"BLY1_KNB1"]
[null,null,{"$f":"IFERROR(VLOOKUP(ROWS($C$5:C88),$D$6:$E$902,2,FALSE),\"\")","v":"ODA230 "},{"$f":"IF(ISNUMBER(SEARCH($B$6,E89)),MAX($D$4:D88)+1,0)","v":0},"BLY2_KNB2 ",null,"BLY2_KNB2",null,null,"BLY2_KNB2"]
[null,null,{"$f":"IFERROR(VLOOKUP(ROWS($C$5:C89),$D$6:$E$902,2,FALSE),\"\")","v":"ODA500 "},{"$f":"IF(ISNUMBER(SEARCH($B$6,E90)),MAX($D$4:D89)+1,0)","v":0},"BLYTHE161 ",null,"BLYTHE161",null,null,"BLYTHE161"]
[null,null,{"$f":"IFERROR(VLOOKUP(ROWS($C$5:C90),$D$6:$E$902,2,FALSE),\"\")","v":"ORME230 "},{"$f":"IF(ISNUMBER(SEARCH($B$6,E91)),MAX($D$4:D90)+1,0)","v":0},"BMGS ",null,"BMGS",null,null,"BMGS"]
[null,null,{"$f":"IFERROR(VLOOKUP(ROWS($C$5:C91),$D$6:$E$902,2,FALSE),\"\")","v":"PALOVERDE500 "},{"$f":"IF(ISNUMBER(SEARCH($B$6,E92)),MAX($D$4:D91)+1,0)","v":0},"BMPR ",null,"BMPR",null,null,"BMPR"]
[null,null,{"$f":"IFERROR(VLOOKUP(ROWS($C$5:C92),$D$6:$E$902,2,FALSE),\"\")","v":"PANDA230 "},{"$f":"IF(ISNUMBER(SEARCH($B$6,E93)),MAX($D$4:D92)+1,0)","v":0},"Boardman ",null,"Boardman",null,null,"Boardman"]
[null,null,{"$f":"IFERROR(VLOOKUP(ROWS($C$5:C93),$D$6:$E$902,2,FALSE),\"\")","v":"PARKER230 "},{"$f":"IF(ISNUMBER(SEARCH($B$6,E94)),MAX($D$4:D93)+1,0)","v":0},"Boardman115 ",null,"Boardman115",null,null,"Boardman115"]
[null,null,{"$f":"IFERROR(VLOOKUP(ROWS($C$5:C94),$D$6:$E$902,2,FALSE),\"\")","v":"PEACOCK230 "},{"$f":"IF(ISNUMBER(SEARCH($B$6,E95)),MAX($D$4:D94)+1,0)","v":0},"BODO ",null,"BODO",null,null,"BODO"]
[null,null,{"$f":"IFERROR(VLOOKUP(ROWS($C$5:C95),$D$6:$E$902,2,FALSE),\"\")","v":"PHOENIX230 "},{"$f":"IF(ISNUMBER(SEARCH($B$6,E96)),MAX($D$4:D95)+1,0)","v":0},"BOEING449 ",null,"BOEING449",null,null,"BOEING449"]
[null,null,{"$f":"IFERROR(VLOOKUP(ROWS($C$5:C96),$D$6:$E$902,2,FALSE),\"\")","v":"PilotBute230 "},{"$f":"IF(ISNUMBER(SEARCH($B$6,E97)),MAX($D$4:D96)+1,0)","v":0},"BONNEYBRO115 ",null,"BONNEYBRO115",null,null,"BONNEYBRO115"]
[null,null,{"$f":"IFERROR(VLOOKUP(ROWS($C$5:C97),$D$6:$E$902,2,FALSE),\"\")","v":"PINALWEST500 "},{"$f":"IF(ISNUMBER(SEARCH($B$6,E98)),MAX($D$4:D97)+1,0)","v":0},"BOON ",null,"BOON",null,null,"BOON"]
[null,null,{"$f":"IFERROR(VLOOKUP(ROWS($C$5:C98),$D$6:$E$902,2,FALSE),\"\")","v":"PINPKAPS230 "},{"$f":"IF(ISNUMBER(SEARCH($B$6,E99)),MAX($D$4:D98)+1,0)","v":0},"BORA ",null,"BORA",null,null,"BORA"]
[null,null,{"$f":"IFERROR(VLOOKUP(ROWS($C$5:C99),$D$6:$E$902,2,FALSE),\"\")","v":"PINPKSRP230 "},{"$f":"IF(ISNUMBER(SEARCH($B$6,E100)),MAX($D$4:D99)+1,0)","v":0},"Boundary ",null,"Boundary",null,null,"Boundary"]
[null,null,{"$f":"IFERROR(VLOOKUP(ROWS($C$5:C100),$D$6:$E$902,2,FALSE),\"\")","v":"PNPKWALC230 "},{"$f":"IF(ISNUMBER(SEARCH($B$6,E101)),MAX($D$4:D100)+1,0)","v":0},"BOYD ",null,"BOYD",null,null,"BOYD"]
[null,null,{"$f":"IFERROR(VLOOKUP(ROWS($C$5:C101),$D$6:$E$902,2,FALSE),\"\")","v":"Ponderosa230 "},{"$f":"IF(ISNUMBER(SEARCH($B$6,E102)),MAX($D$4:D101)+1,0)","v":0},"BOZ ",null,"BOZ",null,null,"BOZ"]
[null,null,{"$f":"IFERROR(VLOOKUP(ROWS($C$5:C102),$D$6:$E$902,2,FALSE),\"\")","v":"Ponderosa500 "},{"$f":"IF(ISNUMBER(SEARCH($B$6,E103)),MAX($D$4:D102)+1,0)","v":0},"BPAGEN ",null,"BPAGEN",null,null,"BPAGEN"]
[null,null,{"$f":"IFERROR(VLOOKUP(ROWS($C$5:C103),$D$6:$E$902,2,FALSE),\"\")","v":"RACEWAY230 "},{"$f":"IF(ISNUMBER(SEARCH($B$6,E104)),MAX($D$4:D103)+1,0)","v":0},"BPAPower ",null,"BPAPower",null,null,"BPAPower"]
[null,null,{"$f":"IFERROR(VLOOKUP(ROWS($C$5:C104),$D$6:$E$902,2,FALSE),\"\")","v":"RDM230 "},{"$f":"IF(ISNUMBER(SEARCH($B$6,E105)),MAX($D$4:D104)+1,0)","v":0},"BPAPUNSCHD ",null,"BPAPUNSCHD",null,null,"BPAPUNSCHD"]
[null,null,{"$f":"IFERROR(VLOOKUP(ROWS($C$5:C105),$D$6:$E$902,2,FALSE),\"\")","v":"RDM500 "},{"$f":"IF(ISNUMBER(SEARCH($B$6,E106)),MAX($D$4:D105)+1,0)","v":0},"BPASID ",null,"BPASID",null,null,"BPASID"]
[null,null,{"$f":"IFERROR(VLOOKUP(ROWS($C$5:C106),$D$6:$E$902,2,FALSE),\"\")","v":"Reston230 "},{"$f":"IF(ISNUMBER(SEARCH($B$6,E107)),MAX($D$4:D106)+1,0)","v":0},"BPAT.CHPD ",null,"BPAT.CHPD",null,null,"BPAT.CHPD"]
[null,null,{"$f":"IFERROR(VLOOKUP(ROWS($C$5:C107),$D$6:$E$902,2,FALSE),\"\")","v":"RNDVALLEY230 "},{"$f":"IF(ISNUMBER(SEARCH($B$6,E108)),MAX($D$4:D107)+1,0)","v":0},"BPAT.DOPD ",null,"BPAT.DOPD",null,null,"BPAT.DOPD"]
[null,null,{"$f":"IFERROR(VLOOKUP(ROWS($C$5:C108),$D$6:$E$902,2,FALSE),\"\")","v":"ROGERS230 "},{"$f":"IF(ISNUMBER(SEARCH($B$6,E109)),MAX($D$4:D108)+1,0)","v":0},"BPAT.GCPD ",null,"BPAT.GCPD",null,null,"BPAT.GCPD"]
[null,null,{"$f":"IFERROR(VLOOKUP(ROWS($C$5:C109),$D$6:$E$902,2,FALSE),\"\")","v":"ROUNDVLY230 "},{"$f":"IF(ISNUMBER(SEARCH($B$6,E110)),MAX($D$4:D109)+1,0)","v":0},"BPAT.NWMT ",null,"BPAT.NWMT",null,null,"BPAT.NWMT"]
[null,null,{"$f":"IFERROR(VLOOKUP(ROWS($C$5:C110),$D$6:$E$902,2,FALSE),\"\")","v":"RSC230 "},{"$f":"IF(ISNUMBER(SEARCH($B$6,E111)),MAX($D$4:D110)+1,0)","v":0},"BPAT.PACW ",null,"BPAT.PACW",null,null,"BPAT.PACW"]
[null,null,{"$f":"IFERROR(VLOOKUP(ROWS($C$5:C111),$D$6:$E$902,2,FALSE),\"\")","v":"RUDD230 "},{"$f":"IF(ISNUMBER(SEARCH($B$6,E112)),MAX($D$4:D111)+1,0)","v":0},"BPAT.PGE ",null,"BPAT.PGE",null,null,"BPAT.PGE"]
[null,null,{"$f":"IFERROR(VLOOKUP(ROWS($C$5:C112),$D$6:$E$902,2,FALSE),\"\")","v":"RUDD500 "},{"$f":"IF(ISNUMBER(SEARCH($B$6,E113)),MAX($D$4:D112)+1,0)","v":0},"BPAT.PSEI ",null,"BPAT.PSEI",null,null,"BPAT.PSEI"]
[null,null,{"$f":"IFERROR(VLOOKUP(ROWS($C$5:C113),$D$6:$E$902,2,FALSE),\"\")","v":"SAGUARO230 "},{"$f":"IF(ISNUMBER(SEARCH($B$6,E114)),MAX($D$4:D113)+1,0)","v":0},"BPAT.SCL ",null,"BPAT.SCL",null,null,"BPAT.SCL"]
[null,null,{"$f":"IFERROR(VLOOKUP(ROWS($C$5:C114),$D$6:$E$902,2,FALSE),\"\")","v":"SAGUARO500 "},{"$f":"IF(ISNUMBER(SEARCH($B$6,E115)),MAX($D$4:D114)+1,0)","v":0},"BPAT.TPU ",null,"BPAT.TPU",null,null,"BPAT.TPU"]
[null,null,{"$f":"IFERROR(VLOOKUP(ROWS($C$5:C115),$D$6:$E$902,2,FALSE),\"\")","v":"Satsop230 "},{"$f":"IF(ISNUMBER(SEARCH($B$6,E116)),MAX($D$4:D115)+1,0)","v":0},"BPAT_Test ",null,"BPAT_Test",null,null,"BPAT_Test"]
[null,null,{"$f":"IFERROR(VLOOKUP(ROWS($C$5:C116),$D$6:$E$902,2,FALSE),\"\")","v":"Satsop230LD "},{"$f":"IF(ISNUMBER(SEARCH($B$6,E117)),MAX($D$4:D116)+1,0)","v":0},"BPAT-CA-DEFAULT ",null,"BPAT-CA-DEFAULT",null,null,"BPAT-CA-DEFAULT"]
[null,null,{"$f":"IFERROR(VLOOKUP(ROWS($C$5:C117),$D$6:$E$902,2,FALSE),\"\")","v":"SELIGMAN230 "},{"$f":"IF(ISNUMBER(SEARCH($B$6,E118)),MAX($D$4:D117)+1,0)","v":0},"BPATPUD ",null,"BPATPUD",null,null,"BPATPUD"]
[null,null,{"$f":"IFERROR(VLOOKUP(ROWS($C$5:C118),$D$6:$E$902,2,FALSE),\"\")","v":"SILVERKIN230 "},{"$f":"IF(ISNUMBER(SEARCH($B$6,E119)),MAX($D$4:D118)+1,0)","v":0},"BPATRes ",null,"BPATRes",null,null,"BPATRes"]
[null,null,{"$f":"IFERROR(VLOOKUP(ROWS($C$5:C119),$D$6:$E$902,2,FALSE),\"\")","v":"SILVERKIN500 "},{"$f":"IF(ISNUMBER(SEARCH($B$6,E120)),MAX($D$4:D119)+1,0)","v":0},"BPCherryPt ",null,"BPCherryPt",null,null,"BPCherryPt"]
[null,null,{"$f":"IFERROR(VLOOKUP(ROWS($C$5:C120),$D$6:$E$902,2,FALSE),\"\")","v":"SLATT230 "},{"$f":"IF(ISNUMBER(SEARCH($B$6,E121)),MAX($D$4:D120)+1,0)","v":0},"BPREFINRY449 ",null,"BPREFINRY449",null,null,"BPREFINRY449"]
[null,null,{"$f":"IFERROR(VLOOKUP(ROWS($C$5:C121),$D$6:$E$902,2,FALSE),\"\")","v":"SLATT230LD "},{"$f":"IF(ISNUMBER(SEARCH($B$6,E122)),MAX($D$4:D121)+1,0)","v":0},"BRAW1 ",null,"BRAW1",null,null,"BRAW1"]
[null,null,{"$f":"IFERROR(VLOOKUP(ROWS($C$5:C122),$D$6:$E$902,2,FALSE),\"\")","v":"SLV230 "},{"$f":"IF(ISNUMBER(SEARCH($B$6,E123)),MAX($D$4:D122)+1,0)","v":0},"BRDY ",null,"BRDY",null,null,"BRDY"]
[null,null,{"$f":"IFERROR(VLOOKUP(ROWS($C$5:C123),$D$6:$E$902,2,FALSE),\"\")","v":"SUGARLOAF500 "},{"$f":"IF(ISNUMBER(SEARCH($B$6,E124)),MAX($D$4:D123)+1,0)","v":0},"BROADVIEW ",null,"BROADVIEW",null,null,"BROADVIEW"]
[null,null,{"$f":"IFERROR(VLOOKUP(ROWS($C$5:C124),$D$6:$E$902,2,FALSE),\"\")","v":"SUMMIT120 "},{"$f":"IF(ISNUMBER(SEARCH($B$6,E125)),MAX($D$4:D124)+1,0)","v":0},"BRSS ",null,"BRSS",null,null,"BRSS"]
[null,null,{"$f":"IFERROR(VLOOKUP(ROWS($C$5:C125),$D$6:$E$902,2,FALSE),\"\")","v":"TESLA230 "},{"$f":"IF(ISNUMBER(SEARCH($B$6,E126)),MAX($D$4:D125)+1,0)","v":0},"BRVD ",null,"BRVD",null,null,"BRVD"]
[null,null,{"$f":"IFERROR(VLOOKUP(ROWS($C$5:C126),$D$6:$E$902,2,FALSE),\"\")","v":"TESLA500 "},{"$f":"IF(ISNUMBER(SEARCH($B$6,E127)),MAX($D$4:D126)+1,0)","v":0},"BSAN ",null,"BSAN",null,null,"BSAN"]
[null,null,{"$f":"IFERROR(VLOOKUP(ROWS($C$5:C127),$D$6:$E$902,2,FALSE),\"\")","v":"TESTTRACK230 "},{"$f":"IF(ISNUMBER(SEARCH($B$6,E128)),MAX($D$4:D127)+1,0)","v":0},"BTHD ",null,"BTHD",null,null,"BTHD"]
[null,null,{"$f":"IFERROR(VLOOKUP(ROWS($C$5:C128),$D$6:$E$902,2,FALSE),\"\")","v":"TOPOCK230 "},{"$f":"IF(ISNUMBER(SEARCH($B$6,E129)),MAX($D$4:D128)+1,0)","v":7},"BUCKEYE230 ",null,"BUCKEYE230",null,null,"BUCKEYE230"]
[null,null,{"$f":"IFERROR(VLOOKUP(ROWS($C$5:C129),$D$6:$E$902,2,FALSE),\"\")","v":"TRY230 "},{"$f":"IF(ISNUMBER(SEARCH($B$6,E130)),MAX($D$4:D129)+1,0)","v":0},"BURBSYSTEM ",null,"BURBSYSTEM",null,null,"BURBSYSTEM"]
[null,null,{"$f":"IFERROR(VLOOKUP(ROWS($C$5:C130),$D$6:$E$902,2,FALSE),\"\")","v":"TRY500 "},{"$f":"IF(ISNUMBER(SEARCH($B$6,E131)),MAX($D$4:D130)+1,0)","v":0},"BURL ",null,"BURL",null,null,"BURL"]
[null,null,{"$f":"IFERROR(VLOOKUP(ROWS($C$5:C131),$D$6:$E$902,2,FALSE),\"\")","v":"WESTPHX230 "},{"$f":"IF(ISNUMBER(SEARCH($B$6,E132)),MAX($D$4:D131)+1,0)","v":8},"BW230 ",null,"BW230",null,null,"BW230"]
[null,null,{"$f":"IFERROR(VLOOKUP(ROWS($C$5:C132),$D$6:$E$902,2,FALSE),\"\")","v":"WESTWING230 "},{"$f":"IF(ISNUMBER(SEARCH($B$6,E133)),MAX($D$4:D132)+1,0)","v":0},"BWAT ",null,"BWAT",null,null,"BWAT"]
[null,null,{"$f":"IFERROR(VLOOKUP(ROWS($C$5:C133),$D$6:$E$902,2,FALSE),\"\")","v":"WESTWING500 "},{"$f":"IF(ISNUMBER(SEARCH($B$6,E134)),MAX($D$4:D133)+1,0)","v":0},"CABA ",null,"CABA",null,null,"CABA"]
[null,null,{"$f":"IFERROR(VLOOKUP(ROWS($C$5:C134),$D$6:$E$902,2,FALSE),\"\")","v":"WHY230 "},{"$f":"IF(ISNUMBER(SEARCH($B$6,E135)),MAX($D$4:D134)+1,0)","v":0},{"$f":"CONCATENATE(G135, \" \")","v":"CALRIDGE "},null,"CALRIDGE",null,null,"CALRIDGE"]
[null,null,{"$f":"IFERROR(VLOOKUP(ROWS($C$5:C135),$D$6:$E$902,2,FALSE),\"\")","v":"Yamsay230 "},{"$f":"IF(ISNUMBER(SEARCH($B$6,E136)),MAX($D$4:D135)+1,0)","v":0},"CANYONFERRY ",null,"CANYONFERRY",null,null,"CANYONFERRY"]
[null,null,{"$f":"IFERROR(VLOOKUP(ROWS($C$5:C136),$D$6:$E$902,2,FALSE),\"\")","v":""},{"$f":"IF(ISNUMBER(SEARCH($B$6,E137)),MAX($D$4:D136)+1,0)","v":0},"CaptainJack ",null,"CaptainJack",null,null,"CaptainJack"]
[null,null,{"$f":"IFERROR(VLOOKUP(ROWS($C$5:C137),$D$6:$E$902,2,FALSE),\"\")","v":""},{"$f":"IF(ISNUMBER(SEARCH($B$6,E138)),MAX($D$4:D137)+1,0)","v":0},"CARRDRAW ",null,"CARRDRAW",null,null,"CARRDRAW"]
[null,null,{"$f":"IFERROR(VLOOKUP(ROWS($C$5:C138),$D$6:$E$902,2,FALSE),\"\")","v":""},{"$f":"IF(ISNUMBER(SEARCH($B$6,E139)),MAX($D$4:D138)+1,0)","v":0},"CASCADE ",null,"CASCADE",null,null,"CASCADE"]
[null,null,{"$f":"IFERROR(VLOOKUP(ROWS($C$5:C139),$D$6:$E$902,2,FALSE),\"\")","v":""},{"$f":"IF(ISNUMBER(SEARCH($B$6,E140)),MAX($D$4:D139)+1,0)","v":0},"CCI ",null,"CCI",null,null,"CCI"]
[null,null,{"$f":"IFERROR(VLOOKUP(ROWS($C$5:C140),$D$6:$E$902,2,FALSE),\"\")","v":""},{"$f":"IF(ISNUMBER(SEARCH($B$6,E141)),MAX($D$4:D140)+1,0)","v":0},"CCSF.SYSTEM ",null,"CCSF.SYSTEM",null,null,"CCSF.SYSTEM"]
[null,null,{"$f":"IFERROR(VLOOKUP(ROWS($C$5:C141),$D$6:$E$902,2,FALSE),\"\")","v":""},{"$f":"IF(ISNUMBER(SEARCH($B$6,E142)),MAX($D$4:D141)+1,0)","v":0},"CCW ",null,"CCW",null,null,"CCW"]
[null,null,{"$f":"IFERROR(VLOOKUP(ROWS($C$5:C142),$D$6:$E$902,2,FALSE),\"\")","v":""},{"$f":"IF(ISNUMBER(SEARCH($B$6,E143)),MAX($D$4:D142)+1,0)","v":0},"CDEL ",null,"CDEL",null,null,"CDEL"]
[null,null,{"$f":"IFERROR(VLOOKUP(ROWS($C$5:C143),$D$6:$E$902,2,FALSE),\"\")","v":""},{"$f":"IF(ISNUMBER(SEARCH($B$6,E144)),MAX($D$4:D143)+1,0)","v":0},"CEDAR ",null,"CEDAR",null,null,"CEDAR"]
[null,null,{"$f":"IFERROR(VLOOKUP(ROWS($C$5:C144),$D$6:$E$902,2,FALSE),\"\")","v":""},{"$f":"IF(ISNUMBER(SEARCH($B$6,E145)),MAX($D$4:D144)+1,0)","v":0},"CEDARFALLGEN ",null,"CEDARFALLGEN",null,null,"CEDARFALLGEN"]
[null,null,{"$f":"IFERROR(VLOOKUP(ROWS($C$5:C145),$D$6:$E$902,2,FALSE),\"\")","v":""},{"$f":"IF(ISNUMBER(SEARCH($B$6,E146)),MAX($D$4:D145)+1,0)","v":9},"CEDARMTN500 ",null,"CEDARMTN500",null,null,"CEDARMTN500"]
[null,null,{"$f":"IFERROR(VLOOKUP(ROWS($C$5:C146),$D$6:$E$902,2,FALSE),\"\")","v":""},{"$f":"IF(ISNUMBER(SEARCH($B$6,E147)),MAX($D$4:D146)+1,0)","v":0},"Central ",null,"Central",null,null,"Central"]
[null,null,{"$f":"IFERROR(VLOOKUP(ROWS($C$5:C147),$D$6:$E$902,2,FALSE),\"\")","v":""},{"$f":"IF(ISNUMBER(SEARCH($B$6,E148)),MAX($D$4:D147)+1,0)","v":0},"Centralia ",null,"Centralia",null,null,"Centralia"]
[null,null,{"$f":"IFERROR(VLOOKUP(ROWS($C$5:C148),$D$6:$E$902,2,FALSE),\"\")","v":""},{"$f":"IF(ISNUMBER(SEARCH($B$6,E149)),MAX($D$4:D148)+1,0)","v":0},"CentraliaBR ",null,"CentraliaBR",null,null,"CentraliaBR"]
[null,null,{"$f":"IFERROR(VLOOKUP(ROWS($C$5:C149),$D$6:$E$902,2,FALSE),\"\")","v":""},{"$f":"IF(ISNUMBER(SEARCH($B$6,E150)),MAX($D$4:D149)+1,0)","v":0},"CENTRALIACTY ",null,"CENTRALIACTY",null,null,"CENTRALIACTY"]
[null,null,{"$f":"IFERROR(VLOOKUP(ROWS($C$5:C150),$D$6:$E$902,2,FALSE),\"\")","v":""},{"$f":"IF(ISNUMBER(SEARCH($B$6,E151)),MAX($D$4:D150)+1,0)","v":0},"CentraliaLD ",null,"CentraliaLD",null,null,"CentraliaLD"]
[null,null,{"$f":"IFERROR(VLOOKUP(ROWS($C$5:C151),$D$6:$E$902,2,FALSE),\"\")","v":""},{"$f":"IF(ISNUMBER(SEARCH($B$6,E152)),MAX($D$4:D151)+1,0)","v":0},"CENTRALLINCN ",null,"CENTRALLINCN",null,null,"CENTRALLINCN"]
[null,null,{"$f":"IFERROR(VLOOKUP(ROWS($C$5:C152),$D$6:$E$902,2,FALSE),\"\")","v":""},{"$f":"IF(ISNUMBER(SEARCH($B$6,E153)),MAX($D$4:D152)+1,0)","v":0},"CFEROA ",null,"CFEROA",null,null,"CFEROA"]
[null,null,{"$f":"IFERROR(VLOOKUP(ROWS($C$5:C153),$D$6:$E$902,2,FALSE),\"\")","v":""},{"$f":"IF(ISNUMBER(SEARCH($B$6,E154)),MAX($D$4:D153)+1,0)","v":0},"CFETIJ ",null,"CFETIJ",null,null,"CFETIJ"]
[null,null,{"$f":"IFERROR(VLOOKUP(ROWS($C$5:C154),$D$6:$E$902,2,FALSE),\"\")","v":""},{"$f":"IF(ISNUMBER(SEARCH($B$6,E155)),MAX($D$4:D154)+1,0)","v":0},"CGUL ",null,"CGUL",null,null,"CGUL"]
[null,null,{"$f":"IFERROR(VLOOKUP(ROWS($C$5:C155),$D$6:$E$902,2,FALSE),\"\")","v":""},{"$f":"IF(ISNUMBER(SEARCH($B$6,E156)),MAX($D$4:D155)+1,0)","v":0},"CHAR ",null,"CHAR",null,null,"CHAR"]
[null,null,{"$f":"IFERROR(VLOOKUP(ROWS($C$5:C156),$D$6:$E$902,2,FALSE),\"\")","v":""},{"$f":"IF(ISNUMBER(SEARCH($B$6,E157)),MAX($D$4:D156)+1,0)","v":0},"ChehalisPrLD ",null,"ChehalisPrLD",null,null,"ChehalisPrLD"]
[null,null,{"$f":"IFERROR(VLOOKUP(ROWS($C$5:C157),$D$6:$E$902,2,FALSE),\"\")","v":""},{"$f":"IF(ISNUMBER(SEARCH($B$6,E158)),MAX($D$4:D157)+1,0)","v":0},"ChehalisPwr ",null,"ChehalisPwr",null,null,"ChehalisPwr"]
[null,null,{"$f":"IFERROR(VLOOKUP(ROWS($C$5:C158),$D$6:$E$902,2,FALSE),\"\")","v":""},{"$f":"IF(ISNUMBER(SEARCH($B$6,E159)),MAX($D$4:D158)+1,0)","v":0},"CHELAN.AVA ",null,"CHELAN.AVA",null,null,"CHELAN.AVA"]
[null,null,{"$f":"IFERROR(VLOOKUP(ROWS($C$5:C159),$D$6:$E$902,2,FALSE),\"\")","v":""},{"$f":"IF(ISNUMBER(SEARCH($B$6,E160)),MAX($D$4:D159)+1,0)","v":10},"CHOLLA230 ",null,"CHOLLA230",null,null,"CHOLLA230"]
[null,null,{"$f":"IFERROR(VLOOKUP(ROWS($C$5:C160),$D$6:$E$902,2,FALSE),\"\")","v":""},{"$f":"IF(ISNUMBER(SEARCH($B$6,E161)),MAX($D$4:D160)+1,0)","v":0},"CHOLLA345 ",null,"CHOLLA345",null,null,"CHOLLA345"]
[null,null,{"$f":"IFERROR(VLOOKUP(ROWS($C$5:C161),$D$6:$E$902,2,FALSE),\"\")","v":""},{"$f":"IF(ISNUMBER(SEARCH($B$6,E162)),MAX($D$4:D161)+1,0)","v":11},"CHOLLA500 ",null,"CHOLLA500",null,null,"CHOLLA500"]
[null,null,{"$f":"IFERROR(VLOOKUP(ROWS($C$5:C162),$D$6:$E$902,2,FALSE),\"\")","v":""},{"$f":"IF(ISNUMBER(SEARCH($B$6,E163)),MAX($D$4:D162)+1,0)","v":0},"CHOLLA69 ",null,"CHOLLA69",null,null,"CHOLLA69"]
[null,null,{"$f":"IFERROR(VLOOKUP(ROWS($C$5:C163),$D$6:$E$902,2,FALSE),\"\")","v":""},{"$f":"IF(ISNUMBER(SEARCH($B$6,E164)),MAX($D$4:D163)+1,0)","v":0},"CHPD ",null,"CHPD",null,null,"CHPD"]
[null,null,{"$f":"IFERROR(VLOOKUP(ROWS($C$5:C164),$D$6:$E$902,2,FALSE),\"\")","v":""},{"$f":"IF(ISNUMBER(SEARCH($B$6,E165)),MAX($D$4:D164)+1,0)","v":0},"Clallam ",null,"Clallam",null,null,"Clallam"]
[null,null,{"$f":"IFERROR(VLOOKUP(ROWS($C$5:C165),$D$6:$E$902,2,FALSE),\"\")","v":""},{"$f":"IF(ISNUMBER(SEARCH($B$6,E166)),MAX($D$4:D165)+1,0)","v":0},"CLAP ",null,"CLAP",null,null,"CLAP"]
[null,null,{"$f":"IFERROR(VLOOKUP(ROWS($C$5:C166),$D$6:$E$902,2,FALSE),\"\")","v":""},{"$f":"IF(ISNUMBER(SEARCH($B$6,E167)),MAX($D$4:D166)+1,0)","v":0},"Clark ",null,"Clark",null,null,"Clark"]
[null,null,{"$f":"IFERROR(VLOOKUP(ROWS($C$5:C167),$D$6:$E$902,2,FALSE),\"\")","v":""},{"$f":"IF(ISNUMBER(SEARCH($B$6,E168)),MAX($D$4:D167)+1,0)","v":0},"Clatskanie ",null,"Clatskanie",null,null,"Clatskanie"]
[null,null,{"$f":"IFERROR(VLOOKUP(ROWS($C$5:C168),$D$6:$E$902,2,FALSE),\"\")","v":""},{"$f":"IF(ISNUMBER(SEARCH($B$6,E169)),MAX($D$4:D168)+1,0)","v":0},"CLAY ",null,"CLAY",null,null,"CLAY"]
[null,null,{"$f":"IFERROR(VLOOKUP(ROWS($C$5:C169),$D$6:$E$902,2,FALSE),\"\")","v":""},{"$f":"IF(ISNUMBER(SEARCH($B$6,E170)),MAX($D$4:D169)+1,0)","v":0},"CLGN ",null,"CLGN",null,null,"CLGN"]
[null,null,{"$f":"IFERROR(VLOOKUP(ROWS($C$5:C170),$D$6:$E$902,2,FALSE),\"\")","v":""},{"$f":"IF(ISNUMBER(SEARCH($B$6,E171)),MAX($D$4:D170)+1,0)","v":0},"CLYMER ",null,"CLYMER",null,null,"CLYMER"]
[null,null,{"$f":"IFERROR(VLOOKUP(ROWS($C$5:C171),$D$6:$E$902,2,FALSE),\"\")","v":""},{"$f":"IF(ISNUMBER(SEARCH($B$6,E172)),MAX($D$4:D171)+1,0)","v":0},"COACH2 ",null,"COACH2",null,null,"COACH2"]
[null,null,{"$f":"IFERROR(VLOOKUP(ROWS($C$5:C172),$D$6:$E$902,2,FALSE),\"\")","v":""},{"$f":"IF(ISNUMBER(SEARCH($B$6,E173)),MAX($D$4:D172)+1,0)","v":0},"COBH ",null,"COBH",null,null,"COBH"]
[null,null,{"$f":"IFERROR(VLOOKUP(ROWS($C$5:C173),$D$6:$E$902,2,FALSE),\"\")","v":""},{"$f":"IF(ISNUMBER(SEARCH($B$6,E174)),MAX($D$4:D173)+1,0)","v":0},"CoffinButte2 ",null,"CoffinButte2",null,null,"CoffinButte2"]
[null,null,{"$f":"IFERROR(VLOOKUP(ROWS($C$5:C174),$D$6:$E$902,2,FALSE),\"\")","v":""},{"$f":"IF(ISNUMBER(SEARCH($B$6,E175)),MAX($D$4:D174)+1,0)","v":0},"CO-GREEN ",null,"CO-GREEN",null,null,"CO-GREEN"]
[null,null,{"$f":"IFERROR(VLOOKUP(ROWS($C$5:C175),$D$6:$E$902,2,FALSE),\"\")","v":""},{"$f":"IF(ISNUMBER(SEARCH($B$6,E176)),MAX($D$4:D175)+1,0)","v":0},"COL ",null,"COL",null,null,"COL"]
[null,null,{"$f":"IFERROR(VLOOKUP(ROWS($C$5:C176),$D$6:$E$902,2,FALSE),\"\")","v":""},{"$f":"IF(ISNUMBER(SEARCH($B$6,E177)),MAX($D$4:D176)+1,0)","v":0},"ColFallsAlum ",null,"ColFallsAlum",null,null,"ColFallsAlum"]
[null,null,{"$f":"IFERROR(VLOOKUP(ROWS($C$5:C177),$D$6:$E$902,2,FALSE),\"\")","v":""},{"$f":"IF(ISNUMBER(SEARCH($B$6,E178)),MAX($D$4:D177)+1,0)","v":0},"COLL ",null,"COLL",null,null,"COLL"]
[null,null,{"$f":"IFERROR(VLOOKUP(ROWS($C$5:C178),$D$6:$E$902,2,FALSE),\"\")","v":""},{"$f":"IF(ISNUMBER(SEARCH($B$6,E179)),MAX($D$4:D178)+1,0)","v":0},"ColRidge ",null,"ColRidge",null,null,"ColRidge"]
[null,null,{"$f":"IFERROR(VLOOKUP(ROWS($C$5:C179),$D$6:$E$902,2,FALSE),\"\")","v":""},{"$f":"IF(ISNUMBER(SEARCH($B$6,E180)),MAX($D$4:D179)+1,0)","v":0},"COLSTRIP ",null,"COLSTRIP",null,null,"COLSTRIP"]
[null,null,{"$f":"IFERROR(VLOOKUP(ROWS($C$5:C180),$D$6:$E$902,2,FALSE),\"\")","v":""},{"$f":"IF(ISNUMBER(SEARCH($B$6,E181)),MAX($D$4:D180)+1,0)","v":12},"Columbia230 ",null,"Columbia230",null,null,"Columbia230"]
[null,null,{"$f":"IFERROR(VLOOKUP(ROWS($C$5:C181),$D$6:$E$902,2,FALSE),\"\")","v":""},{"$f":"IF(ISNUMBER(SEARCH($B$6,E182)),MAX($D$4:D181)+1,0)","v":0},"COLUMBIAREA ",null,"COLUMBIAREA",null,null,"COLUMBIAREA"]
[null,null,{"$f":"IFERROR(VLOOKUP(ROWS($C$5:C182),$D$6:$E$902,2,FALSE),\"\")","v":""},{"$f":"IF(ISNUMBER(SEARCH($B$6,E183)),MAX($D$4:D182)+1,0)","v":0},"COMA ",null,"COMA",null,null,"COMA"]
[null,null,{"$f":"IFERROR(VLOOKUP(ROWS($C$5:C183),$D$6:$E$902,2,FALSE),\"\")","v":""},{"$f":"IF(ISNUMBER(SEARCH($B$6,E184)),MAX($D$4:D183)+1,0)","v":0},"COMBINEHILLS ",null,"COMBINEHILLS",null,null,"COMBINEHILLS"]
[null,null,{"$f":"IFERROR(VLOOKUP(ROWS($C$5:C184),$D$6:$E$902,2,FALSE),\"\")","v":""},{"$f":"IF(ISNUMBER(SEARCH($B$6,E185)),MAX($D$4:D184)+1,0)","v":0},"CondonWind ",null,"CondonWind",null,null,"CondonWind"]
[null,null,{"$f":"IFERROR(VLOOKUP(ROWS($C$5:C185),$D$6:$E$902,2,FALSE),\"\")","v":""},{"$f":"IF(ISNUMBER(SEARCH($B$6,E186)),MAX($D$4:D185)+1,0)","v":0},"CONT.NW449 ",null,"CONT.NW449",null,null,"CONT.NW449"]
[null,null,{"$f":"IFERROR(VLOOKUP(ROWS($C$5:C186),$D$6:$E$902,2,FALSE),\"\")","v":""},{"$f":"IF(ISNUMBER(SEARCH($B$6,E187)),MAX($D$4:D186)+1,0)","v":0},"COOLIDGE ",null,"COOLIDGE",null,null,"COOLIDGE"]
[null,null,{"$f":"IFERROR(VLOOKUP(ROWS($C$5:C187),$D$6:$E$902,2,FALSE),\"\")","v":""},{"$f":"IF(ISNUMBER(SEARCH($B$6,E188)),MAX($D$4:D187)+1,0)","v":0},"COOSPAC ",null,"COOSPAC",null,null,"COOSPAC"]
[null,null,{"$f":"IFERROR(VLOOKUP(ROWS($C$5:C188),$D$6:$E$902,2,FALSE),\"\")","v":""},{"$f":"IF(ISNUMBER(SEARCH($B$6,E189)),MAX($D$4:D188)+1,0)","v":13},"COPPER230 ",null,"COPPER230",null,null,"COPPER230"]
[null,null,{"$f":"IFERROR(VLOOKUP(ROWS($C$5:C189),$D$6:$E$902,2,FALSE),\"\")","v":""},{"$f":"IF(ISNUMBER(SEARCH($B$6,E190)),MAX($D$4:D189)+1,0)","v":14},"CORONADO500 ",null,"CORONADO500",null,null,"CORONADO500"]
[null,null,{"$f":"IFERROR(VLOOKUP(ROWS($C$5:C190),$D$6:$E$902,2,FALSE),\"\")","v":""},{"$f":"IF(ISNUMBER(SEARCH($B$6,E191)),MAX($D$4:D190)+1,0)","v":0},"CORONADO69 ",null,"CORONADO69",null,null,"CORONADO69"]
[null,null,{"$f":"IFERROR(VLOOKUP(ROWS($C$5:C191),$D$6:$E$902,2,FALSE),\"\")","v":""},{"$f":"IF(ISNUMBER(SEARCH($B$6,E192)),MAX($D$4:D191)+1,0)","v":0},"Cowlitz ",null,"Cowlitz",null,null,"Cowlitz"]
[null,null,{"$f":"IFERROR(VLOOKUP(ROWS($C$5:C192),$D$6:$E$902,2,FALSE),\"\")","v":""},{"$f":"IF(ISNUMBER(SEARCH($B$6,E193)),MAX($D$4:D192)+1,0)","v":0},"COYOTE115 ",null,"COYOTE115",null,null,"COYOTE115"]
[null,null,{"$f":"IFERROR(VLOOKUP(ROWS($C$5:C193),$D$6:$E$902,2,FALSE),\"\")","v":""},{"$f":"IF(ISNUMBER(SEARCH($B$6,E194)),MAX($D$4:D193)+1,0)","v":0},"CoyoteSprng1 ",null,"CoyoteSprng1",null,null,"CoyoteSprng1"]
[null,null,{"$f":"IFERROR(VLOOKUP(ROWS($C$5:C194),$D$6:$E$902,2,FALSE),\"\")","v":""},{"$f":"IF(ISNUMBER(SEARCH($B$6,E195)),MAX($D$4:D194)+1,0)","v":0},"CoyoteSprng2 ",null,"CoyoteSprng2",null,null,"CoyoteSprng2"]
[null,null,{"$f":"IFERROR(VLOOKUP(ROWS($C$5:C195),$D$6:$E$902,2,FALSE),\"\")","v":""},{"$f":"IF(ISNUMBER(SEARCH($B$6,E196)),MAX($D$4:D195)+1,0)","v":0},"COYSPR ",null,"COYSPR",null,null,"COYSPR"]
[null,null,{"$f":"IFERROR(VLOOKUP(ROWS($C$5:C196),$D$6:$E$902,2,FALSE),\"\")","v":""},{"$f":"IF(ISNUMBER(SEARCH($B$6,E197)),MAX($D$4:D196)+1,0)","v":0},"CRAG ",null,"CRAG",null,null,"CRAG"]
[null,null,{"$f":"IFERROR(VLOOKUP(ROWS($C$5:C197),$D$6:$E$902,2,FALSE),\"\")","v":""},{"$f":"IF(ISNUMBER(SEARCH($B$6,E198)),MAX($D$4:D197)+1,0)","v":0},"CRCSYS ",null,"CRCSYS",null,null,"CRCSYS"]
[null,null,{"$f":"IFERROR(VLOOKUP(ROWS($C$5:C198),$D$6:$E$902,2,FALSE),\"\")","v":""},{"$f":"IF(ISNUMBER(SEARCH($B$6,E199)),MAX($D$4:D198)+1,0)","v":0},{"$f":"CONCATENATE(G199, \" \")","v":"CRG "},null,"CRG",null,null,"CRG"]
[null,null,{"$f":"IFERROR(VLOOKUP(ROWS($C$5:C199),$D$6:$E$902,2,FALSE),\"\")","v":""},{"$f":"IF(ISNUMBER(SEARCH($B$6,E200)),MAX($D$4:D199)+1,0)","v":0},"CRGBUS5 ",null,"CRGBUS5",null,null,"CRGBUS5"]
[null,null,{"$f":"IFERROR(VLOOKUP(ROWS($C$5:C200),$D$6:$E$902,2,FALSE),\"\")","v":""},{"$f":"IF(ISNUMBER(SEARCH($B$6,E201)),MAX($D$4:D200)+1,0)","v":0},"Crossover ",null,"Crossover",null,null,"Crossover"]
[null,null,{"$f":"IFERROR(VLOOKUP(ROWS($C$5:C201),$D$6:$E$902,2,FALSE),\"\")","v":""},{"$f":"IF(ISNUMBER(SEARCH($B$6,E202)),MAX($D$4:D201)+1,0)","v":15},"CRYSTAL500 ",null,"CRYSTAL500",null,null,"CRYSTAL500"]
[null,null,{"$f":"IFERROR(VLOOKUP(ROWS($C$5:C202),$D$6:$E$902,2,FALSE),\"\")","v":""},{"$f":"IF(ISNUMBER(SEARCH($B$6,E203)),MAX($D$4:D202)+1,0)","v":0},"CSPPGEN ",null,"CSPPGEN",null,null,"CSPPGEN"]
[null,null,{"$f":"IFERROR(VLOOKUP(ROWS($C$5:C203),$D$6:$E$902,2,FALSE),\"\")","v":""},{"$f":"IF(ISNUMBER(SEARCH($B$6,E204)),MAX($D$4:D203)+1,0)","v":0},"CSUSYSTEM ",null,"CSUSYSTEM",null,null,"CSUSYSTEM"]
[null,null,{"$f":"IFERROR(VLOOKUP(ROWS($C$5:C204),$D$6:$E$902,2,FALSE),\"\")","v":""},{"$f":"IF(ISNUMBER(SEARCH($B$6,E205)),MAX($D$4:D204)+1,0)","v":16},"CTW230 ",null,"CTW230",null,null,"CTW230"]
[null,null,{"$f":"IFERROR(VLOOKUP(ROWS($C$5:C205),$D$6:$E$902,2,FALSE),\"\")","v":""},{"$f":"IF(ISNUMBER(SEARCH($B$6,E206)),MAX($D$4:D205)+1,0)","v":0},"CVPGen ",null,"CVPGen",null,null,"CVPGen"]
[null,null,{"$f":"IFERROR(VLOOKUP(ROWS($C$5:C206),$D$6:$E$902,2,FALSE),\"\")","v":""},{"$f":"IF(ISNUMBER(SEARCH($B$6,E207)),MAX($D$4:D206)+1,0)","v":0},"DALREED ",null,"DALREED",null,null,"DALREED"]
[null,null,{"$f":"IFERROR(VLOOKUP(ROWS($C$5:C207),$D$6:$E$902,2,FALSE),\"\")","v":""},{"$f":"IF(ISNUMBER(SEARCH($B$6,E208)),MAX($D$4:D207)+1,0)","v":17},"DAVIS230 ",null,"DAVIS230",null,null,"DAVIS230"]
[null,null,{"$f":"IFERROR(VLOOKUP(ROWS($C$5:C208),$D$6:$E$902,2,FALSE),\"\")","v":""},{"$f":"IF(ISNUMBER(SEARCH($B$6,E209)),MAX($D$4:D208)+1,0)","v":0},"DEAA ",null,"DEAA",null,null,"DEAA"]
[null,null,{"$f":"IFERROR(VLOOKUP(ROWS($C$5:C209),$D$6:$E$902,2,FALSE),\"\")","v":""},{"$f":"IF(ISNUMBER(SEARCH($B$6,E210)),MAX($D$4:D209)+1,0)","v":0},"DEER_CREEK ",null,"DEER_CREEK",null,null,"DEER_CREEK"]
[null,null,{"$f":"IFERROR(VLOOKUP(ROWS($C$5:C210),$D$6:$E$902,2,FALSE),\"\")","v":""},{"$f":"IF(ISNUMBER(SEARCH($B$6,E211)),MAX($D$4:D210)+1,0)","v":0},"DELTA ",null,"DELTA",null,null,"DELTA"]
[null,null,{"$f":"IFERROR(VLOOKUP(ROWS($C$5:C211),$D$6:$E$902,2,FALSE),\"\")","v":""},{"$f":"IF(ISNUMBER(SEARCH($B$6,E212)),MAX($D$4:D211)+1,0)","v":0},"DeMoss ",null,"DeMoss",null,null,"DeMoss"]
[null,null,{"$f":"IFERROR(VLOOKUP(ROWS($C$5:C212),$D$6:$E$902,2,FALSE),\"\")","v":""},{"$f":"IF(ISNUMBER(SEARCH($B$6,E213)),MAX($D$4:D212)+1,0)","v":0},"DemossPac ",null,"DemossPac",null,null,"DemossPac"]
[null,null,{"$f":"IFERROR(VLOOKUP(ROWS($C$5:C213),$D$6:$E$902,2,FALSE),\"\")","v":""},{"$f":"IF(ISNUMBER(SEARCH($B$6,E214)),MAX($D$4:D213)+1,0)","v":0},"DESERTBASIN ",null,"DESERTBASIN",null,null,"DESERTBASIN"]
[null,null,{"$f":"IFERROR(VLOOKUP(ROWS($C$5:C214),$D$6:$E$902,2,FALSE),\"\")","v":""},{"$f":"IF(ISNUMBER(SEARCH($B$6,E215)),MAX($D$4:D214)+1,0)","v":0},"DESPWR ",null,"DESPWR",null,null,"DESPWR"]
[null,null,{"$f":"IFERROR(VLOOKUP(ROWS($C$5:C215),$D$6:$E$902,2,FALSE),\"\")","v":""},{"$f":"IF(ISNUMBER(SEARCH($B$6,E216)),MAX($D$4:D215)+1,0)","v":18},"DEVERS230 ",null,"DEVERS230",null,null,"DEVERS230"]
[null,null,{"$f":"IFERROR(VLOOKUP(ROWS($C$5:C216),$D$6:$E$902,2,FALSE),\"\")","v":""},{"$f":"IF(ISNUMBER(SEARCH($B$6,E217)),MAX($D$4:D216)+1,0)","v":19},"DEVERS500 ",null,"DEVERS500",null,null,"DEVERS500"]
[null,null,{"$f":"IFERROR(VLOOKUP(ROWS($C$5:C217),$D$6:$E$902,2,FALSE),\"\")","v":""},{"$f":"IF(ISNUMBER(SEARCH($B$6,E218)),MAX($D$4:D217)+1,0)","v":0},"DISCBAY ",null,"DISCBAY",null,null,"DISCBAY"]
[null,null,{"$f":"IFERROR(VLOOKUP(ROWS($C$5:C218),$D$6:$E$902,2,FALSE),\"\")","v":""},{"$f":"IF(ISNUMBER(SEARCH($B$6,E219)),MAX($D$4:D218)+1,0)","v":0},"DJ ",null,"DJ",null,null,"DJ"]
[null,null,{"$f":"IFERROR(VLOOKUP(ROWS($C$5:C219),$D$6:$E$902,2,FALSE),\"\")","v":""},{"$f":"IF(ISNUMBER(SEARCH($B$6,E220)),MAX($D$4:D219)+1,0)","v":0},"DONAANA115 ",null,"DONAANA115",null,null,"DONAANA115"]
[null,null,{"$f":"IFERROR(VLOOKUP(ROWS($C$5:C220),$D$6:$E$902,2,FALSE),\"\")","v":""},{"$f":"IF(ISNUMBER(SEARCH($B$6,E221)),MAX($D$4:D220)+1,0)","v":0},"DOPD.CHPD ",null,"DOPD.CHPD",null,null,"DOPD.CHPD"]
[null,null,{"$f":"IFERROR(VLOOKUP(ROWS($C$5:C221),$D$6:$E$902,2,FALSE),\"\")","v":""},{"$f":"IF(ISNUMBER(SEARCH($B$6,E222)),MAX($D$4:D221)+1,0)","v":20},"DOSCONDAD230 ",null,"DOSCONDAD230",null,null,"DOSCONDAD230"]
[null,null,{"$f":"IFERROR(VLOOKUP(ROWS($C$5:C222),$D$6:$E$902,2,FALSE),\"\")","v":""},{"$f":"IF(ISNUMBER(SEARCH($B$6,E223)),MAX($D$4:D222)+1,0)","v":0},"DRNCH ",null,"DRNCH",null,null,"DRNCH"]
[null,null,{"$f":"IFERROR(VLOOKUP(ROWS($C$5:C223),$D$6:$E$902,2,FALSE),\"\")","v":""},{"$f":"IF(ISNUMBER(SEARCH($B$6,E224)),MAX($D$4:D223)+1,0)","v":0},"DRYCREEK ",null,"DRYCREEK",null,null,"DRYCREEK"]
[null,null,{"$f":"IFERROR(VLOOKUP(ROWS($C$5:C224),$D$6:$E$902,2,FALSE),\"\")","v":""},{"$f":"IF(ISNUMBER(SEARCH($B$6,E225)),MAX($D$4:D224)+1,0)","v":0},"DRYFORK ",null,"DRYFORK",null,null,"DRYFORK"]
[null,null,{"$f":"IFERROR(VLOOKUP(ROWS($C$5:C225),$D$6:$E$902,2,FALSE),\"\")","v":""},{"$f":"IF(ISNUMBER(SEARCH($B$6,E226)),MAX($D$4:D225)+1,0)","v":0},"DRYLAKEEAST ",null,"DRYLAKEEAST",null,null,"DRYLAKEEAST"]
[null,null,{"$f":"IFERROR(VLOOKUP(ROWS($C$5:C226),$D$6:$E$902,2,FALSE),\"\")","v":""},{"$f":"IF(ISNUMBER(SEARCH($B$6,E227)),MAX($D$4:D226)+1,0)","v":0},"DRYLAKEWEST ",null,"DRYLAKEWEST",null,null,"DRYLAKEWEST"]
[null,null,{"$f":"IFERROR(VLOOKUP(ROWS($C$5:C227),$D$6:$E$902,2,FALSE),\"\")","v":""},{"$f":"IF(ISNUMBER(SEARCH($B$6,E228)),MAX($D$4:D227)+1,0)","v":0},"DS2 ",null,"DS2",null,null,"DS2"]
[null,null,{"$f":"IFERROR(VLOOKUP(ROWS($C$5:C228),$D$6:$E$902,2,FALSE),\"\")","v":""},{"$f":"IF(ISNUMBER(SEARCH($B$6,E229)),MAX($D$4:D228)+1,0)","v":0},"DURA ",null,"DURA",null,null,"DURA"]
[null,null,{"$f":"IFERROR(VLOOKUP(ROWS($C$5:C229),$D$6:$E$902,2,FALSE),\"\")","v":""},{"$f":"IF(ISNUMBER(SEARCH($B$6,E230)),MAX($D$4:D229)+1,0)","v":0},"EAST ",null,"EAST",null,null,"EAST"]
[null,null,{"$f":"IFERROR(VLOOKUP(ROWS($C$5:C230),$D$6:$E$902,2,FALSE),\"\")","v":""},{"$f":"IF(ISNUMBER(SEARCH($B$6,E231)),MAX($D$4:D230)+1,0)","v":0},"EASTGEN ",null,"EASTGEN",null,null,"EASTGEN"]
[null,null,{"$f":"IFERROR(VLOOKUP(ROWS($C$5:C231),$D$6:$E$902,2,FALSE),\"\")","v":""},{"$f":"IF(ISNUMBER(SEARCH($B$6,E232)),MAX($D$4:D231)+1,0)","v":0},"ECSS ",null,"ECSS",null,null,"ECSS"]
[null,null,{"$f":"IFERROR(VLOOKUP(ROWS($C$5:C232),$D$6:$E$902,2,FALSE),\"\")","v":""},{"$f":"IF(ISNUMBER(SEARCH($B$6,E233)),MAX($D$4:D232)+1,0)","v":21},"EDDY230 ",null,"EDDY230",null,null,"EDDY230"]
[null,null,{"$f":"IFERROR(VLOOKUP(ROWS($C$5:C233),$D$6:$E$902,2,FALSE),\"\")","v":""},{"$f":"IF(ISNUMBER(SEARCH($B$6,E234)),MAX($D$4:D233)+1,0)","v":0},"EDDY345 ",null,"EDDY345",null,null,"EDDY345"]
[null,null,{"$f":"IFERROR(VLOOKUP(ROWS($C$5:C234),$D$6:$E$902,2,FALSE),\"\")","v":""},{"$f":"IF(ISNUMBER(SEARCH($B$6,E235)),MAX($D$4:D234)+1,0)","v":0},"EE1 ",null,"EE1",null,null,"EE1"]
[null,null,{"$f":"IFERROR(VLOOKUP(ROWS($C$5:C235),$D$6:$E$902,2,FALSE),\"\")","v":""},{"$f":"IF(ISNUMBER(SEARCH($B$6,E236)),MAX($D$4:D235)+1,0)","v":0},"EE2 ",null,"EE2",null,null,"EE2"]
[null,null,{"$f":"IFERROR(VLOOKUP(ROWS($C$5:C236),$D$6:$E$902,2,FALSE),\"\")","v":""},{"$f":"IF(ISNUMBER(SEARCH($B$6,E237)),MAX($D$4:D236)+1,0)","v":0},"EGAluminum ",null,"EGAluminum",null,null,"EGAluminum"]
[null,null,{"$f":"IFERROR(VLOOKUP(ROWS($C$5:C237),$D$6:$E$902,2,FALSE),\"\")","v":""},{"$f":"IF(ISNUMBER(SEARCH($B$6,E238)),MAX($D$4:D237)+1,0)","v":0},"EIPOD ",null,"EIPOD",null,null,"EIPOD"]
[null,null,{"$f":"IFERROR(VLOOKUP(ROWS($C$5:C238),$D$6:$E$902,2,FALSE),\"\")","v":""},{"$f":"IF(ISNUMBER(SEARCH($B$6,E239)),MAX($D$4:D238)+1,0)","v":0},"EIPOR ",null,"EIPOR",null,null,"EIPOR"]
[null,null,{"$f":"IFERROR(VLOOKUP(ROWS($C$5:C239),$D$6:$E$902,2,FALSE),\"\")","v":""},{"$f":"IF(ISNUMBER(SEARCH($B$6,E240)),MAX($D$4:D239)+1,0)","v":0},"ELBU ",null,"ELBU",null,null,"ELBU"]
[null,null,{"$f":"IFERROR(VLOOKUP(ROWS($C$5:C240),$D$6:$E$902,2,FALSE),\"\")","v":""},{"$f":"IF(ISNUMBER(SEARCH($B$6,E241)),MAX($D$4:D240)+1,0)","v":22},"ELD230SYS ",null,"ELD230SYS",null,null,"ELD230SYS"]
[null,null,{"$f":"IFERROR(VLOOKUP(ROWS($C$5:C241),$D$6:$E$902,2,FALSE),\"\")","v":""},{"$f":"IF(ISNUMBER(SEARCH($B$6,E242)),MAX($D$4:D241)+1,0)","v":23},"ELD500SYS ",null,"ELD500SYS",null,null,"ELD500SYS"]
[null,null,{"$f":"IFERROR(VLOOKUP(ROWS($C$5:C242),$D$6:$E$902,2,FALSE),\"\")","v":""},{"$f":"IF(ISNUMBER(SEARCH($B$6,E243)),MAX($D$4:D242)+1,0)","v":24},"ELDORADO230 ",null,"ELDORADO230",null,null,"ELDORADO230"]
[null,null,{"$f":"IFERROR(VLOOKUP(ROWS($C$5:C243),$D$6:$E$902,2,FALSE),\"\")","v":""},{"$f":"IF(ISNUMBER(SEARCH($B$6,E244)),MAX($D$4:D243)+1,0)","v":25},"ELDORADO500 ",null,"ELDORADO500",null,null,"ELDORADO500"]
[null,null,{"$f":"IFERROR(VLOOKUP(ROWS($C$5:C244),$D$6:$E$902,2,FALSE),\"\")","v":""},{"$f":"IF(ISNUMBER(SEARCH($B$6,E245)),MAX($D$4:D244)+1,0)","v":0},"Ellensburg ",null,"Ellensburg",null,null,"Ellensburg"]
[null,null,{"$f":"IFERROR(VLOOKUP(ROWS($C$5:C245),$D$6:$E$902,2,FALSE),\"\")","v":""},{"$f":"IF(ISNUMBER(SEARCH($B$6,E246)),MAX($D$4:D245)+1,0)","v":0},"ELM ",null,"ELM",null,null,"ELM"]
[null,null,{"$f":"IFERROR(VLOOKUP(ROWS($C$5:C246),$D$6:$E$902,2,FALSE),\"\")","v":""},{"$f":"IF(ISNUMBER(SEARCH($B$6,E247)),MAX($D$4:D246)+1,0)","v":0},"ELPA ",null,"ELPA",null,null,"ELPA"]
[null,null,{"$f":"IFERROR(VLOOKUP(ROWS($C$5:C247),$D$6:$E$902,2,FALSE),\"\")","v":""},{"$f":"IF(ISNUMBER(SEARCH($B$6,E248)),MAX($D$4:D247)+1,0)","v":26},"ELV230 ",null,"ELV230",null,null,"ELV230"]
[null,null,{"$f":"IFERROR(VLOOKUP(ROWS($C$5:C248),$D$6:$E$902,2,FALSE),\"\")","v":""},{"$f":"IF(ISNUMBER(SEARCH($B$6,E249)),MAX($D$4:D248)+1,0)","v":0},"Emerald ",null,"Emerald",null,null,"Emerald"]
[null,null,{"$f":"IFERROR(VLOOKUP(ROWS($C$5:C249),$D$6:$E$902,2,FALSE),\"\")","v":""},{"$f":"IF(ISNUMBER(SEARCH($B$6,E250)),MAX($D$4:D249)+1,0)","v":0},"EnergyNW ",null,"EnergyNW",null,null,"EnergyNW"]
[null,null,{"$f":"IFERROR(VLOOKUP(ROWS($C$5:C250),$D$6:$E$902,2,FALSE),\"\")","v":""},{"$f":"IF(ISNUMBER(SEARCH($B$6,E251)),MAX($D$4:D250)+1,0)","v":0},"ENPR ",null,"ENPR",null,null,"ENPR"]
[null,null,{"$f":"IFERROR(VLOOKUP(ROWS($C$5:C251),$D$6:$E$902,2,FALSE),\"\")","v":""},{"$f":"IF(ISNUMBER(SEARCH($B$6,E252)),MAX($D$4:D251)+1,0)","v":0},"ENPRISE.PUMP ",null,"ENPRISE.PUMP",null,null,"ENPRISE.PUMP"]
[null,null,{"$f":"IFERROR(VLOOKUP(ROWS($C$5:C252),$D$6:$E$902,2,FALSE),\"\")","v":""},{"$f":"IF(ISNUMBER(SEARCH($B$6,E253)),MAX($D$4:D252)+1,0)","v":0},"EPE ",null,"EPE",null,null,"EPE"]
[null,null,{"$f":"IFERROR(VLOOKUP(ROWS($C$5:C253),$D$6:$E$902,2,FALSE),\"\")","v":""},{"$f":"IF(ISNUMBER(SEARCH($B$6,E254)),MAX($D$4:D253)+1,0)","v":0},"EPE.CFE.JREZ ",null,"EPE.CFE.JREZ",null,null,"EPE.CFE.JREZ"]
[null,null,{"$f":"IFERROR(VLOOKUP(ROWS($C$5:C254),$D$6:$E$902,2,FALSE),\"\")","v":""},{"$f":"IF(ISNUMBER(SEARCH($B$6,E255)),MAX($D$4:D254)+1,0)","v":0},"EPE.LOCALGEN ",null,"EPE.LOCALGEN",null,null,"EPE.LOCALGEN"]
[null,null,{"$f":"IFERROR(VLOOKUP(ROWS($C$5:C255),$D$6:$E$902,2,FALSE),\"\")","v":""},{"$f":"IF(ISNUMBER(SEARCH($B$6,E256)),MAX($D$4:D255)+1,0)","v":0},"EPE.RESLOAD ",null,"EPE.RESLOAD",null,null,"EPE.RESLOAD"]
[null,null,{"$f":"IFERROR(VLOOKUP(ROWS($C$5:C256),$D$6:$E$902,2,FALSE),\"\")","v":""},{"$f":"IF(ISNUMBER(SEARCH($B$6,E257)),MAX($D$4:D256)+1,0)","v":0},"EQUILON449 ",null,"EQUILON449",null,null,"EQUILON449"]
[null,null,{"$f":"IFERROR(VLOOKUP(ROWS($C$5:C257),$D$6:$E$902,2,FALSE),\"\")","v":""},{"$f":"IF(ISNUMBER(SEARCH($B$6,E258)),MAX($D$4:D257)+1,0)","v":0},"ETA115 ",null,"ETA115",null,null,"ETA115"]
[null,null,{"$f":"IFERROR(VLOOKUP(ROWS($C$5:C258),$D$6:$E$902,2,FALSE),\"\")","v":""},{"$f":"IF(ISNUMBER(SEARCH($B$6,E259)),MAX($D$4:D258)+1,0)","v":0},"EWEB ",null,"EWEB",null,null,"EWEB"]
[null,null,{"$f":"IFERROR(VLOOKUP(ROWS($C$5:C259),$D$6:$E$902,2,FALSE),\"\")","v":""},{"$f":"IF(ISNUMBER(SEARCH($B$6,E260)),MAX($D$4:D259)+1,0)","v":0},"FALLRIVER ",null,"FALLRIVER",null,null,"FALLRIVER"]
[null,null,{"$f":"IFERROR(VLOOKUP(ROWS($C$5:C260),$D$6:$E$902,2,FALSE),\"\")","v":""},{"$f":"IF(ISNUMBER(SEARCH($B$6,E261)),MAX($D$4:D260)+1,0)","v":0},"FBC.LAM.LD ",null,"FBC.LAM.LD",null,null,"FBC.LAM.LD"]
[null,null,{"$f":"IFERROR(VLOOKUP(ROWS($C$5:C261),$D$6:$E$902,2,FALSE),\"\")","v":""},{"$f":"IF(ISNUMBER(SEARCH($B$6,E262)),MAX($D$4:D261)+1,0)","v":0},"FBC.OK.LD ",null,"FBC.OK.LD",null,null,"FBC.OK.LD"]
[null,null,{"$f":"IFERROR(VLOOKUP(ROWS($C$5:C262),$D$6:$E$902,2,FALSE),\"\")","v":""},{"$f":"IF(ISNUMBER(SEARCH($B$6,E263)),MAX($D$4:D262)+1,0)","v":0},{"$f":"CONCATENATE(G263, \" \")","v":"FBC.PRI.LD "},null,"FBC.PRI.LD",null,null,"FBC.PRI.LD"]
[null,null,{"$f":"IFERROR(VLOOKUP(ROWS($C$5:C263),$D$6:$E$902,2,FALSE),\"\")","v":""},{"$f":"IF(ISNUMBER(SEARCH($B$6,E264)),MAX($D$4:D263)+1,0)","v":0},"FERNDAL.PUMP ",null,"FERNDAL.PUMP",null,null,"FERNDAL.PUMP"]
[null,null,{"$f":"IFERROR(VLOOKUP(ROWS($C$5:C264),$D$6:$E$902,2,FALSE),\"\")","v":""},{"$f":"IF(ISNUMBER(SEARCH($B$6,E265)),MAX($D$4:D264)+1,0)","v":0},"FGE ",null,"FGE",null,null,"FGE"]
[null,null,{"$f":"IFERROR(VLOOKUP(ROWS($C$5:C265),$D$6:$E$902,2,FALSE),\"\")","v":""},{"$f":"IF(ISNUMBER(SEARCH($B$6,E266)),MAX($D$4:D265)+1,0)","v":0},"FinleyGen ",null,"FinleyGen",null,null,"FinleyGen"]
[null,null,{"$f":"IFERROR(VLOOKUP(ROWS($C$5:C266),$D$6:$E$902,2,FALSE),\"\")","v":""},{"$f":"IF(ISNUMBER(SEARCH($B$6,E267)),MAX($D$4:D266)+1,0)","v":27},"FIY230 ",null,"FIY230",null,null,"FIY230"]
[null,null,{"$f":"IFERROR(VLOOKUP(ROWS($C$5:C267),$D$6:$E$902,2,FALSE),\"\")","v":""},{"$f":"IF(ISNUMBER(SEARCH($B$6,E268)),MAX($D$4:D267)+1,0)","v":0},"Flathead ",null,"Flathead",null,null,"Flathead"]
[null,null,{"$f":"IFERROR(VLOOKUP(ROWS($C$5:C268),$D$6:$E$902,2,FALSE),\"\")","v":""},{"$f":"IF(ISNUMBER(SEARCH($B$6,E269)),MAX($D$4:D268)+1,0)","v":28},"FLN230 ",null,"FLN230",null,null,"FLN230"]
[null,null,{"$f":"IFERROR(VLOOKUP(ROWS($C$5:C269),$D$6:$E$902,2,FALSE),\"\")","v":""},{"$f":"IF(ISNUMBER(SEARCH($B$6,E270)),MAX($D$4:D269)+1,0)","v":0},"FLUP ",null,"FLUP",null,null,"FLUP"]
[null,null,{"$f":"IFERROR(VLOOKUP(ROWS($C$5:C270),$D$6:$E$902,2,FALSE),\"\")","v":""},{"$f":"IF(ISNUMBER(SEARCH($B$6,E271)),MAX($D$4:D270)+1,0)","v":29},"FOL230 ",null,"FOL230",null,null,"FOL230"]
[null,null,{"$f":"IFERROR(VLOOKUP(ROWS($C$5:C271),$D$6:$E$902,2,FALSE),\"\")","v":""},{"$f":"IF(ISNUMBER(SEARCH($B$6,E272)),MAX($D$4:D271)+1,0)","v":0},"FON ",null,"FON",null,null,"FON"]
[null,null,{"$f":"IFERROR(VLOOKUP(ROWS($C$5:C272),$D$6:$E$902,2,FALSE),\"\")","v":""},{"$f":"IF(ISNUMBER(SEARCH($B$6,E273)),MAX($D$4:D272)+1,0)","v":0},"ForestGrove ",null,"ForestGrove",null,null,"ForestGrove"]
[null,null,{"$f":"IFERROR(VLOOKUP(ROWS($C$5:C273),$D$6:$E$902,2,FALSE),\"\")","v":""},{"$f":"IF(ISNUMBER(SEARCH($B$6,E274)),MAX($D$4:D273)+1,0)","v":30},"FOURCORNE230 ",null,"FOURCORNE230",null,null,"FOURCORNE230"]
[null,null,{"$f":"IFERROR(VLOOKUP(ROWS($C$5:C274),$D$6:$E$902,2,FALSE),\"\")","v":""},{"$f":"IF(ISNUMBER(SEARCH($B$6,E275)),MAX($D$4:D274)+1,0)","v":0},"FOURCORNE345 ",null,"FOURCORNE345",null,null,"FOURCORNE345"]
[null,null,{"$f":"IFERROR(VLOOKUP(ROWS($C$5:C275),$D$6:$E$902,2,FALSE),\"\")","v":""},{"$f":"IF(ISNUMBER(SEARCH($B$6,E276)),MAX($D$4:D275)+1,0)","v":31},"FOURCORNE500 ",null,"FOURCORNE500",null,null,"FOURCORNE500"]
[null,null,{"$f":"IFERROR(VLOOKUP(ROWS($C$5:C276),$D$6:$E$902,2,FALSE),\"\")","v":""},{"$f":"IF(ISNUMBER(SEARCH($B$6,E277)),MAX($D$4:D276)+1,0)","v":0},"FOURCORNE69 ",null,"FOURCORNE69",null,null,"FOURCORNE69"]
[null,null,{"$f":"IFERROR(VLOOKUP(ROWS($C$5:C277),$D$6:$E$902,2,FALSE),\"\")","v":""},{"$f":"IF(ISNUMBER(SEARCH($B$6,E278)),MAX($D$4:D277)+1,0)","v":0},"Franklin ",null,"Franklin",null,null,"Franklin"]
[null,null,{"$f":"IFERROR(VLOOKUP(ROWS($C$5:C278),$D$6:$E$902,2,FALSE),\"\")","v":""},{"$f":"IF(ISNUMBER(SEARCH($B$6,E279)),MAX($D$4:D278)+1,0)","v":0},"FredricksoLD ",null,"FredricksoLD",null,null,"FredricksoLD"]
[null,null,{"$f":"IFERROR(VLOOKUP(ROWS($C$5:C279),$D$6:$E$902,2,FALSE),\"\")","v":""},{"$f":"IF(ISNUMBER(SEARCH($B$6,E280)),MAX($D$4:D279)+1,0)","v":0},"Fredrickson ",null,"Fredrickson",null,null,"Fredrickson"]
[null,null,{"$f":"IFERROR(VLOOKUP(ROWS($C$5:C280),$D$6:$E$902,2,FALSE),\"\")","v":""},{"$f":"IF(ISNUMBER(SEARCH($B$6,E281)),MAX($D$4:D280)+1,0)","v":0},"FrkPasGen ",null,"FrkPasGen",null,null,"FrkPasGen"]
[null,null,{"$f":"IFERROR(VLOOKUP(ROWS($C$5:C281),$D$6:$E$902,2,FALSE),\"\")","v":""},{"$f":"IF(ISNUMBER(SEARCH($B$6,E282)),MAX($D$4:D281)+1,0)","v":0},"FULLER ",null,"FULLER",null,null,"FULLER"]
[null,null,{"$f":"IFERROR(VLOOKUP(ROWS($C$5:C282),$D$6:$E$902,2,FALSE),\"\")","v":""},{"$f":"IF(ISNUMBER(SEARCH($B$6,E283)),MAX($D$4:D282)+1,0)","v":0},"FULLER115 ",null,"FULLER115",null,null,"FULLER115"]
[null,null,{"$f":"IFERROR(VLOOKUP(ROWS($C$5:C283),$D$6:$E$902,2,FALSE),\"\")","v":""},{"$f":"IF(ISNUMBER(SEARCH($B$6,E284)),MAX($D$4:D283)+1,0)","v":0},"FVAL ",null,"FVAL",null,null,"FVAL"]
[null,null,{"$f":"IFERROR(VLOOKUP(ROWS($C$5:C284),$D$6:$E$902,2,FALSE),\"\")","v":""},{"$f":"IF(ISNUMBER(SEARCH($B$6,E285)),MAX($D$4:D284)+1,0)","v":0},"FWNP ",null,"FWNP",null,null,"FWNP"]
[null,null,{"$f":"IFERROR(VLOOKUP(ROWS($C$5:C285),$D$6:$E$902,2,FALSE),\"\")","v":""},{"$f":"IF(ISNUMBER(SEARCH($B$6,E286)),MAX($D$4:D285)+1,0)","v":0},"GALLEGOS115 ",null,"GALLEGOS115",null,null,"GALLEGOS115"]
[null,null,{"$f":"IFERROR(VLOOKUP(ROWS($C$5:C286),$D$6:$E$902,2,FALSE),\"\")","v":""},{"$f":"IF(ISNUMBER(SEARCH($B$6,E287)),MAX($D$4:D286)+1,0)","v":0},"GALLUP1 ",null,"GALLUP1",null,null,"GALLUP1"]
[null,null,{"$f":"IFERROR(VLOOKUP(ROWS($C$5:C287),$D$6:$E$902,2,FALSE),\"\")","v":""},{"$f":"IF(ISNUMBER(SEARCH($B$6,E288)),MAX($D$4:D287)+1,0)","v":32},"GAR230NWMT ",null,"GAR230NWMT",null,null,"GAR230NWMT"]
[null,null,{"$f":"IFERROR(VLOOKUP(ROWS($C$5:C288),$D$6:$E$902,2,FALSE),\"\")","v":""},{"$f":"IF(ISNUMBER(SEARCH($B$6,E289)),MAX($D$4:D288)+1,0)","v":0},"Garrison ",null,"Garrison",null,null,"Garrison"]
[null,null,{"$f":"IFERROR(VLOOKUP(ROWS($C$5:C289),$D$6:$E$902,2,FALSE),\"\")","v":""},{"$f":"IF(ISNUMBER(SEARCH($B$6,E290)),MAX($D$4:D289)+1,0)","v":33},"GAVILANPK230 ",null,"GAVILANPK230",null,null,"GAVILANPK230"]
[null,null,{"$f":"IFERROR(VLOOKUP(ROWS($C$5:C290),$D$6:$E$902,2,FALSE),\"\")","v":""},{"$f":"IF(ISNUMBER(SEARCH($B$6,E291)),MAX($D$4:D290)+1,0)","v":0},"GCPD ",null,"GCPD",null,null,"GCPD"]
[null,null,{"$f":"IFERROR(VLOOKUP(ROWS($C$5:C291),$D$6:$E$902,2,FALSE),\"\")","v":""},{"$f":"IF(ISNUMBER(SEARCH($B$6,E292)),MAX($D$4:D291)+1,0)","v":0},"GCPD.RoadM ",null,"GCPD.RoadM",null,null,"GCPD.RoadM"]
[null,null,{"$f":"IFERROR(VLOOKUP(ROWS($C$5:C292),$D$6:$E$902,2,FALSE),\"\")","v":""},{"$f":"IF(ISNUMBER(SEARCH($B$6,E293)),MAX($D$4:D292)+1,0)","v":0},"GCPHA ",null,"GCPHA",null,null,"GCPHA"]
[null,null,{"$f":"IFERROR(VLOOKUP(ROWS($C$5:C293),$D$6:$E$902,2,FALSE),\"\")","v":""},{"$f":"IF(ISNUMBER(SEARCH($B$6,E294)),MAX($D$4:D293)+1,0)","v":0},"GENE ",null,"GENE",null,null,"GENE"]
[null,null,{"$f":"IFERROR(VLOOKUP(ROWS($C$5:C294),$D$6:$E$902,2,FALSE),\"\")","v":""},{"$f":"IF(ISNUMBER(SEARCH($B$6,E295)),MAX($D$4:D294)+1,0)","v":0},"GHPUD ",null,"GHPUD",null,null,"GHPUD"]
[null,null,{"$f":"IFERROR(VLOOKUP(ROWS($C$5:C295),$D$6:$E$902,2,FALSE),\"\")","v":""},{"$f":"IF(ISNUMBER(SEARCH($B$6,E296)),MAX($D$4:D295)+1,0)","v":0},"GILA161 ",null,"GILA161",null,null,"GILA161"]
[null,null,{"$f":"IFERROR(VLOOKUP(ROWS($C$5:C296),$D$6:$E$902,2,FALSE),\"\")","v":""},{"$f":"IF(ISNUMBER(SEARCH($B$6,E297)),MAX($D$4:D296)+1,0)","v":34},"GILA230 ",null,"GILA230",null,null,"GILA230"]
[null,null,{"$f":"IFERROR(VLOOKUP(ROWS($C$5:C297),$D$6:$E$902,2,FALSE),\"\")","v":""},{"$f":"IF(ISNUMBER(SEARCH($B$6,E298)),MAX($D$4:D297)+1,0)","v":0},"GILA69 ",null,"GILA69",null,null,"GILA69"]
[null,null,{"$f":"IFERROR(VLOOKUP(ROWS($C$5:C298),$D$6:$E$902,2,FALSE),\"\")","v":""},{"$f":"IF(ISNUMBER(SEARCH($B$6,E299)),MAX($D$4:D298)+1,0)","v":35},"GILABEND230 ",null,"GILABEND230",null,null,"GILABEND230"]
[null,null,{"$f":"IFERROR(VLOOKUP(ROWS($C$5:C299),$D$6:$E$902,2,FALSE),\"\")","v":""},{"$f":"IF(ISNUMBER(SEARCH($B$6,E300)),MAX($D$4:D299)+1,0)","v":36},"GILARIVER500 ",null,"GILARIVER500",null,null,"GILARIVER500"]
[null,null,{"$f":"IFERROR(VLOOKUP(ROWS($C$5:C300),$D$6:$E$902,2,FALSE),\"\")","v":""},{"$f":"IF(ISNUMBER(SEARCH($B$6,E301)),MAX($D$4:D300)+1,0)","v":0},"GJCT ",null,"GJCT",null,null,"GJCT"]
[null,null,{"$f":"IFERROR(VLOOKUP(ROWS($C$5:C301),$D$6:$E$902,2,FALSE),\"\")","v":""},{"$f":"IF(ISNUMBER(SEARCH($B$6,E302)),MAX($D$4:D301)+1,0)","v":0},"GLAD ",null,"GLAD",null,null,"GLAD"]
[null,null,{"$f":"IFERROR(VLOOKUP(ROWS($C$5:C302),$D$6:$E$902,2,FALSE),\"\")","v":""},{"$f":"IF(ISNUMBER(SEARCH($B$6,E303)),MAX($D$4:D302)+1,0)","v":0},"GLAD115 ",null,"GLAD115",null,null,"GLAD115"]
[null,null,{"$f":"IFERROR(VLOOKUP(ROWS($C$5:C303),$D$6:$E$902,2,FALSE),\"\")","v":""},{"$f":"IF(ISNUMBER(SEARCH($B$6,E304)),MAX($D$4:D303)+1,0)","v":0},"GLADE115 ",null,"GLADE115",null,null,"GLADE115"]
[null,null,{"$f":"IFERROR(VLOOKUP(ROWS($C$5:C304),$D$6:$E$902,2,FALSE),\"\")","v":""},{"$f":"IF(ISNUMBER(SEARCH($B$6,E305)),MAX($D$4:D304)+1,0)","v":0},"GLENCANYON1 ",null,"GLENCANYON1",null,null,"GLENCANYON1"]
[null,null,{"$f":"IFERROR(VLOOKUP(ROWS($C$5:C305),$D$6:$E$902,2,FALSE),\"\")","v":""},{"$f":"IF(ISNUMBER(SEARCH($B$6,E306)),MAX($D$4:D305)+1,0)","v":0},"GLENCANYON2 ",null,"GLENCANYON2",null,null,"GLENCANYON2"]
[null,null,{"$f":"IFERROR(VLOOKUP(ROWS($C$5:C306),$D$6:$E$902,2,FALSE),\"\")","v":""},{"$f":"IF(ISNUMBER(SEARCH($B$6,E307)),MAX($D$4:D306)+1,0)","v":0},"GLENCANYON3 ",null,"GLENCANYON3",null,null,"GLENCANYON3"]
[null,null,{"$f":"IFERROR(VLOOKUP(ROWS($C$5:C307),$D$6:$E$902,2,FALSE),\"\")","v":""},{"$f":"IF(ISNUMBER(SEARCH($B$6,E308)),MAX($D$4:D307)+1,0)","v":0},"GLENCANYON69 ",null,"GLENCANYON69",null,null,"GLENCANYON69"]
[null,null,{"$f":"IFERROR(VLOOKUP(ROWS($C$5:C308),$D$6:$E$902,2,FALSE),\"\")","v":""},{"$f":"IF(ISNUMBER(SEARCH($B$6,E309)),MAX($D$4:D308)+1,0)","v":0},"GLWND1 ",null,"GLWND1",null,null,"GLWND1"]
[null,null,{"$f":"IFERROR(VLOOKUP(ROWS($C$5:C309),$D$6:$E$902,2,FALSE),\"\")","v":""},{"$f":"IF(ISNUMBER(SEARCH($B$6,E310)),MAX($D$4:D309)+1,0)","v":0},"GLWND2 ",null,"GLWND2",null,null,"GLWND2"]
[null,null,{"$f":"IFERROR(VLOOKUP(ROWS($C$5:C310),$D$6:$E$902,2,FALSE),\"\")","v":""},{"$f":"IF(ISNUMBER(SEARCH($B$6,E311)),MAX($D$4:D310)+1,0)","v":0},"GMS.MCA.REV ",null,"GMS.MCA.REV",null,null,"GMS.MCA.REV"]
[null,null,{"$f":"IFERROR(VLOOKUP(ROWS($C$5:C311),$D$6:$E$902,2,FALSE),\"\")","v":""},{"$f":"IF(ISNUMBER(SEARCH($B$6,E312)),MAX($D$4:D311)+1,0)","v":0},"GoldendalCPN ",null,"GoldendalCPN",null,null,"GoldendalCPN"]
[null,null,{"$f":"IFERROR(VLOOKUP(ROWS($C$5:C312),$D$6:$E$902,2,FALSE),\"\")","v":""},{"$f":"IF(ISNUMBER(SEARCH($B$6,E313)),MAX($D$4:D312)+1,0)","v":0},"Goldendale ",null,"Goldendale",null,null,"Goldendale"]
[null,null,{"$f":"IFERROR(VLOOKUP(ROWS($C$5:C313),$D$6:$E$902,2,FALSE),\"\")","v":""},{"$f":"IF(ISNUMBER(SEARCH($B$6,E314)),MAX($D$4:D313)+1,0)","v":0},"GoldendaleAC ",null,"GoldendaleAC",null,null,"GoldendaleAC"]
[null,null,{"$f":"IFERROR(VLOOKUP(ROWS($C$5:C314),$D$6:$E$902,2,FALSE),\"\")","v":""},{"$f":"IF(ISNUMBER(SEARCH($B$6,E315)),MAX($D$4:D314)+1,0)","v":0},"GON.IPP ",null,"GON.IPP",null,null,"GON.IPP"]
[null,null,{"$f":"IFERROR(VLOOKUP(ROWS($C$5:C315),$D$6:$E$902,2,FALSE),\"\")","v":""},{"$f":"IF(ISNUMBER(SEARCH($B$6,E316)),MAX($D$4:D315)+1,0)","v":0},"GON.PAV ",null,"GON.PAV",null,null,"GON.PAV"]
[null,null,{"$f":"IFERROR(VLOOKUP(ROWS($C$5:C316),$D$6:$E$902,2,FALSE),\"\")","v":""},{"$f":"IF(ISNUMBER(SEARCH($B$6,E317)),MAX($D$4:D316)+1,0)","v":0},"GOODNOEH1LD ",null,"GOODNOEH1LD",null,null,"GOODNOEH1LD"]
[null,null,{"$f":"IFERROR(VLOOKUP(ROWS($C$5:C317),$D$6:$E$902,2,FALSE),\"\")","v":""},{"$f":"IF(ISNUMBER(SEARCH($B$6,E318)),MAX($D$4:D317)+1,0)","v":0},"GOODNOEHILL1 ",null,"GOODNOEHILL1",null,null,"GOODNOEHILL1"]
[null,null,{"$f":"IFERROR(VLOOKUP(ROWS($C$5:C318),$D$6:$E$902,2,FALSE),\"\")","v":""},{"$f":"IF(ISNUMBER(SEARCH($B$6,E319)),MAX($D$4:D318)+1,0)","v":0},"GOULD1 ",null,"GOULD1",null,null,"GOULD1"]
[null,null,{"$f":"IFERROR(VLOOKUP(ROWS($C$5:C319),$D$6:$E$902,2,FALSE),\"\")","v":""},{"$f":"IF(ISNUMBER(SEARCH($B$6,E320)),MAX($D$4:D319)+1,0)","v":0},"GOULD2 ",null,"GOULD2",null,null,"GOULD2"]
[null,null,{"$f":"IFERROR(VLOOKUP(ROWS($C$5:C320),$D$6:$E$902,2,FALSE),\"\")","v":""},{"$f":"IF(ISNUMBER(SEARCH($B$6,E321)),MAX($D$4:D320)+1,0)","v":0},"GPTOLEDO ",null,"GPTOLEDO",null,null,"GPTOLEDO"]
[null,null,{"$f":"IFERROR(VLOOKUP(ROWS($C$5:C321),$D$6:$E$902,2,FALSE),\"\")","v":""},{"$f":"IF(ISNUMBER(SEARCH($B$6,E322)),MAX($D$4:D321)+1,0)","v":0},"GRANT.AVA ",null,"GRANT.AVA",null,null,"GRANT.AVA"]
[null,null,{"$f":"IFERROR(VLOOKUP(ROWS($C$5:C322),$D$6:$E$902,2,FALSE),\"\")","v":""},{"$f":"IF(ISNUMBER(SEARCH($B$6,E323)),MAX($D$4:D322)+1,0)","v":0},"GREATFALLS ",null,"GREATFALLS",null,null,"GREATFALLS"]
[null,null,{"$f":"IFERROR(VLOOKUP(ROWS($C$5:C323),$D$6:$E$902,2,FALSE),\"\")","v":""},{"$f":"IF(ISNUMBER(SEARCH($B$6,E324)),MAX($D$4:D323)+1,0)","v":0},"GREENLEE345 ",null,"GREENLEE345",null,null,"GREENLEE345"]
[null,null,{"$f":"IFERROR(VLOOKUP(ROWS($C$5:C324),$D$6:$E$902,2,FALSE),\"\")","v":""},{"$f":"IF(ISNUMBER(SEARCH($B$6,E325)),MAX($D$4:D324)+1,0)","v":0},"GRENLESWT345 ",null,"GRENLESWT345",null,null,"GRENLESWT345"]
[null,null,{"$f":"IFERROR(VLOOKUP(ROWS($C$5:C325),$D$6:$E$902,2,FALSE),\"\")","v":""},{"$f":"IF(ISNUMBER(SEARCH($B$6,E326)),MAX($D$4:D325)+1,0)","v":0},"Gresham ",null,"Gresham",null,null,"Gresham"]
[null,null,{"$f":"IFERROR(VLOOKUP(ROWS($C$5:C326),$D$6:$E$902,2,FALSE),\"\")","v":""},{"$f":"IF(ISNUMBER(SEARCH($B$6,E327)),MAX($D$4:D326)+1,0)","v":37},{"$f":"CONCATENATE(G327, \" \")","v":"GRIFFITH230 "},null,"GRIFFITH230",null,null,"GRIFFITH230"]
[null,null,{"$f":"IFERROR(VLOOKUP(ROWS($C$5:C327),$D$6:$E$902,2,FALSE),\"\")","v":""},{"$f":"IF(ISNUMBER(SEARCH($B$6,E328)),MAX($D$4:D327)+1,0)","v":0},"GRIFFITH69 ",null,"GRIFFITH69",null,null,"GRIFFITH69"]
[null,null,{"$f":"IFERROR(VLOOKUP(ROWS($C$5:C328),$D$6:$E$902,2,FALSE),\"\")","v":""},{"$f":"IF(ISNUMBER(SEARCH($B$6,E329)),MAX($D$4:D328)+1,0)","v":0},"Grizzly ",null,"Grizzly",null,null,"Grizzly"]
[null,null,{"$f":"IFERROR(VLOOKUP(ROWS($C$5:C329),$D$6:$E$902,2,FALSE),\"\")","v":""},{"$f":"IF(ISNUMBER(SEARCH($B$6,E330)),MAX($D$4:D329)+1,0)","v":0},"GSHN ",null,"GSHN",null,null,"GSHN"]
[null,null,{"$f":"IFERROR(VLOOKUP(ROWS($C$5:C330),$D$6:$E$902,2,FALSE),\"\")","v":""},{"$f":"IF(ISNUMBER(SEARCH($B$6,E331)),MAX($D$4:D330)+1,0)","v":0},"GTFALLSNWMT ",null,"GTFALLSNWMT",null,null,"GTFALLSNWMT"]
[null,null,{"$f":"IFERROR(VLOOKUP(ROWS($C$5:C331),$D$6:$E$902,2,FALSE),\"\")","v":""},{"$f":"IF(ISNUMBER(SEARCH($B$6,E332)),MAX($D$4:D331)+1,0)","v":0},"GUADALUPE345 ",null,"GUADALUPE345",null,null,"GUADALUPE345"]
[null,null,{"$f":"IFERROR(VLOOKUP(ROWS($C$5:C332),$D$6:$E$902,2,FALSE),\"\")","v":""},{"$f":"IF(ISNUMBER(SEARCH($B$6,E333)),MAX($D$4:D332)+1,0)","v":38},"H500 ",null,"H500",null,null,"H500"]
[null,null,{"$f":"IFERROR(VLOOKUP(ROWS($C$5:C333),$D$6:$E$902,2,FALSE),\"\")","v":""},{"$f":"IF(ISNUMBER(SEARCH($B$6,E334)),MAX($D$4:D333)+1,0)","v":39},"HA230 ",null,"HA230",null,null,"HA230"]
[null,null,{"$f":"IFERROR(VLOOKUP(ROWS($C$5:C334),$D$6:$E$902,2,FALSE),\"\")","v":""},{"$f":"IF(ISNUMBER(SEARCH($B$6,E335)),MAX($D$4:D334)+1,0)","v":0},"HA345 ",null,"HA345",null,null,"HA345"]
[null,null,{"$f":"IFERROR(VLOOKUP(ROWS($C$5:C335),$D$6:$E$902,2,FALSE),\"\")","v":""},{"$f":"IF(ISNUMBER(SEARCH($B$6,E336)),MAX($D$4:D335)+1,0)","v":40},"HA500 ",null,"HA500",null,null,"HA500"]
[null,null,{"$f":"IFERROR(VLOOKUP(ROWS($C$5:C336),$D$6:$E$902,2,FALSE),\"\")","v":""},{"$f":"IF(ISNUMBER(SEARCH($B$6,E337)),MAX($D$4:D336)+1,0)","v":41},"HACKBERRY230 ",null,"HACKBERRY230",null,null,"HACKBERRY230"]
[null,null,{"$f":"IFERROR(VLOOKUP(ROWS($C$5:C337),$D$6:$E$902,2,FALSE),\"\")","v":""},{"$f":"IF(ISNUMBER(SEARCH($B$6,E338)),MAX($D$4:D337)+1,0)","v":0},"HAIWEE ",null,"HAIWEE",null,null,"HAIWEE"]
[null,null,{"$f":"IFERROR(VLOOKUP(ROWS($C$5:C338),$D$6:$E$902,2,FALSE),\"\")","v":""},{"$f":"IF(ISNUMBER(SEARCH($B$6,E339)),MAX($D$4:D338)+1,0)","v":0},"HARDIN ",null,"HARDIN",null,null,"HARDIN"]
[null,null,{"$f":"IFERROR(VLOOKUP(ROWS($C$5:C339),$D$6:$E$902,2,FALSE),\"\")","v":""},{"$f":"IF(ISNUMBER(SEARCH($B$6,E340)),MAX($D$4:D339)+1,0)","v":0},"Harney ",null,"Harney",null,null,"Harney"]
[null,null,{"$f":"IFERROR(VLOOKUP(ROWS($C$5:C340),$D$6:$E$902,2,FALSE),\"\")","v":""},{"$f":"IF(ISNUMBER(SEARCH($B$6,E341)),MAX($D$4:D340)+1,0)","v":0},"HarvestWind ",null,"HarvestWind",null,null,"HarvestWind"]
[null,null,{"$f":"IFERROR(VLOOKUP(ROWS($C$5:C341),$D$6:$E$902,2,FALSE),\"\")","v":""},{"$f":"IF(ISNUMBER(SEARCH($B$6,E342)),MAX($D$4:D341)+1,0)","v":0},"HayCanyon ",null,"HayCanyon",null,null,"HayCanyon"]
[null,null,{"$f":"IFERROR(VLOOKUP(ROWS($C$5:C342),$D$6:$E$902,2,FALSE),\"\")","v":""},{"$f":"IF(ISNUMBER(SEARCH($B$6,E343)),MAX($D$4:D342)+1,0)","v":0},"HayCanyonLD ",null,"HayCanyonLD",null,null,"HayCanyonLD"]
[null,null,{"$f":"IFERROR(VLOOKUP(ROWS($C$5:C343),$D$6:$E$902,2,FALSE),\"\")","v":""},{"$f":"IF(ISNUMBER(SEARCH($B$6,E344)),MAX($D$4:D343)+1,0)","v":0},"HAYDEN115 ",null,"HAYDEN115",null,null,"HAYDEN115"]
[null,null,{"$f":"IFERROR(VLOOKUP(ROWS($C$5:C344),$D$6:$E$902,2,FALSE),\"\")","v":""},{"$f":"IF(ISNUMBER(SEARCH($B$6,E345)),MAX($D$4:D344)+1,0)","v":0},"HBRSOUTH ",null,"HBRSOUTH",null,null,"HBRSOUTH"]
[null,null,{"$f":"IFERROR(VLOOKUP(ROWS($C$5:C345),$D$6:$E$902,2,FALSE),\"\")","v":""},{"$f":"IF(ISNUMBER(SEARCH($B$6,E346)),MAX($D$4:D345)+1,0)","v":0},"HCPR ",null,"HCPR",null,null,"HCPR"]
[null,null,{"$f":"IFERROR(VLOOKUP(ROWS($C$5:C346),$D$6:$E$902,2,FALSE),\"\")","v":""},{"$f":"IF(ISNUMBER(SEARCH($B$6,E347)),MAX($D$4:D346)+1,0)","v":0},"HDN ",null,"HDN",null,null,"HDN"]
[null,null,{"$f":"IFERROR(VLOOKUP(ROWS($C$5:C347),$D$6:$E$902,2,FALSE),\"\")","v":""},{"$f":"IF(ISNUMBER(SEARCH($B$6,E348)),MAX($D$4:D347)+1,0)","v":0},"HEADGATEROCK ",null,"HEADGATEROCK",null,null,"HEADGATEROCK"]
[null,null,{"$f":"IFERROR(VLOOKUP(ROWS($C$5:C348),$D$6:$E$902,2,FALSE),\"\")","v":""},{"$f":"IF(ISNUMBER(SEARCH($B$6,E349)),MAX($D$4:D348)+1,0)","v":0},"HEBER69 ",null,"HEBER69",null,null,"HEBER69"]
[null,null,{"$f":"IFERROR(VLOOKUP(ROWS($C$5:C349),$D$6:$E$902,2,FALSE),\"\")","v":""},{"$f":"IF(ISNUMBER(SEARCH($B$6,E350)),MAX($D$4:D349)+1,0)","v":0},"HEBERSOUTH1 ",null,"HEBERSOUTH1",null,null,"HEBERSOUTH1"]
[null,null,{"$f":"IFERROR(VLOOKUP(ROWS($C$5:C350),$D$6:$E$902,2,FALSE),\"\")","v":""},{"$f":"IF(ISNUMBER(SEARCH($B$6,E351)),MAX($D$4:D350)+1,0)","v":0},"Heppner ",null,"Heppner",null,null,"Heppner"]
[null,null,{"$f":"IFERROR(VLOOKUP(ROWS($C$5:C351),$D$6:$E$902,2,FALSE),\"\")","v":""},{"$f":"IF(ISNUMBER(SEARCH($B$6,E352)),MAX($D$4:D351)+1,0)","v":0},"HermistCPNLD ",null,"HermistCPNLD",null,null,"HermistCPNLD"]
[null,null,{"$f":"IFERROR(VLOOKUP(ROWS($C$5:C352),$D$6:$E$902,2,FALSE),\"\")","v":""},{"$f":"IF(ISNUMBER(SEARCH($B$6,E353)),MAX($D$4:D352)+1,0)","v":0},"HermistonCPN ",null,"HermistonCPN",null,null,"HermistonCPN"]
[null,null,{"$f":"IFERROR(VLOOKUP(ROWS($C$5:C353),$D$6:$E$902,2,FALSE),\"\")","v":""},{"$f":"IF(ISNUMBER(SEARCH($B$6,E354)),MAX($D$4:D353)+1,0)","v":0},"HermistonGen ",null,"HermistonGen",null,null,"HermistonGen"]
[null,null,{"$f":"IFERROR(VLOOKUP(ROWS($C$5:C354),$D$6:$E$902,2,FALSE),\"\")","v":""},{"$f":"IF(ISNUMBER(SEARCH($B$6,E355)),MAX($D$4:D354)+1,0)","v":0},"HERN ",null,"HERN",null,null,"HERN"]
[null,null,{"$f":"IFERROR(VLOOKUP(ROWS($C$5:C355),$D$6:$E$902,2,FALSE),\"\")","v":""},{"$f":"IF(ISNUMBER(SEARCH($B$6,E356)),MAX($D$4:D355)+1,0)","v":0},"HERN6 ",null,"HERN6",null,null,"HERN6"]
[null,null,{"$f":"IFERROR(VLOOKUP(ROWS($C$5:C356),$D$6:$E$902,2,FALSE),\"\")","v":""},{"$f":"IF(ISNUMBER(SEARCH($B$6,E357)),MAX($D$4:D356)+1,0)","v":0},"HGC ",null,"HGC",null,null,"HGC"]
[null,null,{"$f":"IFERROR(VLOOKUP(ROWS($C$5:C357),$D$6:$E$902,2,FALSE),\"\")","v":""},{"$f":"IF(ISNUMBER(SEARCH($B$6,E358)),MAX($D$4:D357)+1,0)","v":0},"HGMA ",null,"HGMA",null,null,"HGMA"]
[null,null,{"$f":"IFERROR(VLOOKUP(ROWS($C$5:C358),$D$6:$E$902,2,FALSE),\"\")","v":""},{"$f":"IF(ISNUMBER(SEARCH($B$6,E359)),MAX($D$4:D358)+1,0)","v":0},"HIDALGO115 ",null,"HIDALGO115",null,null,"HIDALGO115"]
[null,null,{"$f":"IFERROR(VLOOKUP(ROWS($C$5:C359),$D$6:$E$902,2,FALSE),\"\")","v":""},{"$f":"IF(ISNUMBER(SEARCH($B$6,E360)),MAX($D$4:D359)+1,0)","v":0},"HIDALGO345 ",null,"HIDALGO345",null,null,"HIDALGO345"]
[null,null,{"$f":"IFERROR(VLOOKUP(ROWS($C$5:C360),$D$6:$E$902,2,FALSE),\"\")","v":""},{"$f":"IF(ISNUMBER(SEARCH($B$6,E361)),MAX($D$4:D360)+1,0)","v":42},"HIGHLINE230 ",null,"HIGHLINE230",null,null,"HIGHLINE230"]
[null,null,{"$f":"IFERROR(VLOOKUP(ROWS($C$5:C361),$D$6:$E$902,2,FALSE),\"\")","v":""},{"$f":"IF(ISNUMBER(SEARCH($B$6,E362)),MAX($D$4:D361)+1,0)","v":43},"HILLTOP230 ",null,"HILLTOP230",null,null,"HILLTOP230"]
[null,null,{"$f":"IFERROR(VLOOKUP(ROWS($C$5:C362),$D$6:$E$902,2,FALSE),\"\")","v":""},{"$f":"IF(ISNUMBER(SEARCH($B$6,E363)),MAX($D$4:D362)+1,0)","v":0},"Hilltop345 ",null,"Hilltop345",null,null,"Hilltop345"]
[null,null,{"$f":"IFERROR(VLOOKUP(ROWS($C$5:C363),$D$6:$E$902,2,FALSE),\"\")","v":""},{"$f":"IF(ISNUMBER(SEARCH($B$6,E364)),MAX($D$4:D363)+1,0)","v":0},"HJ ",null,"HJ",null,null,"HJ"]
[null,null,{"$f":"IFERROR(VLOOKUP(ROWS($C$5:C364),$D$6:$E$902,2,FALSE),\"\")","v":""},{"$f":"IF(ISNUMBER(SEARCH($B$6,E365)),MAX($D$4:D364)+1,0)","v":0},"HMWY ",null,"HMWY",null,null,"HMWY"]
[null,null,{"$f":"IFERROR(VLOOKUP(ROWS($C$5:C365),$D$6:$E$902,2,FALSE),\"\")","v":""},{"$f":"IF(ISNUMBER(SEARCH($B$6,E366)),MAX($D$4:D365)+1,0)","v":0},"HNLK ",null,"HNLK",null,null,"HNLK"]
[null,null,{"$f":"IFERROR(VLOOKUP(ROWS($C$5:C366),$D$6:$E$902,2,FALSE),\"\")","v":""},{"$f":"IF(ISNUMBER(SEARCH($B$6,E367)),MAX($D$4:D366)+1,0)","v":0},"HOGBACK ",null,"HOGBACK",null,null,"HOGBACK"]
[null,null,{"$f":"IFERROR(VLOOKUP(ROWS($C$5:C367),$D$6:$E$902,2,FALSE),\"\")","v":""},{"$f":"IF(ISNUMBER(SEARCH($B$6,E368)),MAX($D$4:D367)+1,0)","v":0},"HOLLOMAN115 ",null,"HOLLOMAN115",null,null,"HOLLOMAN115"]
[null,null,{"$f":"IFERROR(VLOOKUP(ROWS($C$5:C368),$D$6:$E$902,2,FALSE),\"\")","v":""},{"$f":"IF(ISNUMBER(SEARCH($B$6,E369)),MAX($D$4:D368)+1,0)","v":0},"HOLLYWOOD115 ",null,"HOLLYWOOD115",null,null,"HOLLYWOOD115"]
[null,null,{"$f":"IFERROR(VLOOKUP(ROWS($C$5:C369),$D$6:$E$902,2,FALSE),\"\")","v":""},{"$f":"IF(ISNUMBER(SEARCH($B$6,E370)),MAX($D$4:D369)+1,0)","v":0},"HoodRiver ",null,"HoodRiver",null,null,"HoodRiver"]
[null,null,{"$f":"IFERROR(VLOOKUP(ROWS($C$5:C370),$D$6:$E$902,2,FALSE),\"\")","v":""},{"$f":"IF(ISNUMBER(SEARCH($B$6,E371)),MAX($D$4:D370)+1,0)","v":44},"HOOVER230 ",null,"HOOVER230",null,null,"HOOVER230"]
[null,null,{"$f":"IFERROR(VLOOKUP(ROWS($C$5:C371),$D$6:$E$902,2,FALSE),\"\")","v":""},{"$f":"IF(ISNUMBER(SEARCH($B$6,E372)),MAX($D$4:D371)+1,0)","v":0},"Hopkins ",null,"Hopkins",null,null,"Hopkins"]
[null,null,{"$f":"IFERROR(VLOOKUP(ROWS($C$5:C372),$D$6:$E$902,2,FALSE),\"\")","v":""},{"$f":"IF(ISNUMBER(SEARCH($B$6,E373)),MAX($D$4:D372)+1,0)","v":0},"HopkinsRidge ",null,"HopkinsRidge",null,null,"HopkinsRidge"]
[null,null,{"$f":"IFERROR(VLOOKUP(ROWS($C$5:C373),$D$6:$E$902,2,FALSE),\"\")","v":""},{"$f":"IF(ISNUMBER(SEARCH($B$6,E374)),MAX($D$4:D373)+1,0)","v":0},"HrmistnCPNBS ",null,"HrmistnCPNBS",null,null,"HrmistnCPNBS"]
[null,null,{"$f":"IFERROR(VLOOKUP(ROWS($C$5:C374),$D$6:$E$902,2,FALSE),\"\")","v":""},{"$f":"IF(ISNUMBER(SEARCH($B$6,E375)),MAX($D$4:D374)+1,0)","v":0},"HSP ",null,"HSP",null,null,"HSP"]
[null,null,{"$f":"IFERROR(VLOOKUP(ROWS($C$5:C375),$D$6:$E$902,2,FALSE),\"\")","v":""},{"$f":"IF(ISNUMBER(SEARCH($B$6,E376)),MAX($D$4:D375)+1,0)","v":0},"HTSP ",null,"HTSP",null,null,"HTSP"]
[null,null,{"$f":"IFERROR(VLOOKUP(ROWS($C$5:C376),$D$6:$E$902,2,FALSE),\"\")","v":""},{"$f":"IF(ISNUMBER(SEARCH($B$6,E377)),MAX($D$4:D376)+1,0)","v":0},"HTSP.AVA ",null,"HTSP.AVA",null,null,"HTSP.AVA"]
[null,null,{"$f":"IFERROR(VLOOKUP(ROWS($C$5:C377),$D$6:$E$902,2,FALSE),\"\")","v":""},{"$f":"IF(ISNUMBER(SEARCH($B$6,E378)),MAX($D$4:D377)+1,0)","v":0},"HTSPNWMT ",null,"HTSPNWMT",null,null,"HTSPNWMT"]
[null,null,{"$f":"IFERROR(VLOOKUP(ROWS($C$5:C378),$D$6:$E$902,2,FALSE),\"\")","v":""},{"$f":"IF(ISNUMBER(SEARCH($B$6,E379)),MAX($D$4:D378)+1,0)","v":0},"HUNTER ",null,"HUNTER",null,null,"HUNTER"]
[null,null,{"$f":"IFERROR(VLOOKUP(ROWS($C$5:C379),$D$6:$E$902,2,FALSE),\"\")","v":""},{"$f":"IF(ISNUMBER(SEARCH($B$6,E380)),MAX($D$4:D379)+1,0)","v":45},"HUR230 ",null,"HUR230",null,null,"HUR230"]
[null,null,{"$f":"IFERROR(VLOOKUP(ROWS($C$5:C380),$D$6:$E$902,2,FALSE),\"\")","v":""},{"$f":"IF(ISNUMBER(SEARCH($B$6,E381)),MAX($D$4:D380)+1,0)","v":0},"HURR ",null,"HURR",null,null,"HURR"]
[null,null,{"$f":"IFERROR(VLOOKUP(ROWS($C$5:C381),$D$6:$E$902,2,FALSE),\"\")","v":""},{"$f":"IF(ISNUMBER(SEARCH($B$6,E382)),MAX($D$4:D381)+1,0)","v":0},"IDNW ",null,"IDNW",null,null,"IDNW"]
[null,null,{"$f":"IFERROR(VLOOKUP(ROWS($C$5:C382),$D$6:$E$902,2,FALSE),\"\")","v":""},{"$f":"IF(ISNUMBER(SEARCH($B$6,E383)),MAX($D$4:D382)+1,0)","v":0},"INEL ",null,"INEL",null,null,"INEL"]
[null,null,{"$f":"IFERROR(VLOOKUP(ROWS($C$5:C383),$D$6:$E$902,2,FALSE),\"\")","v":""},{"$f":"IF(ISNUMBER(SEARCH($B$6,E384)),MAX($D$4:D383)+1,0)","v":0},"INT ",null,"INT",null,null,"INT"]
[null,null,{"$f":"IFERROR(VLOOKUP(ROWS($C$5:C384),$D$6:$E$902,2,FALSE),\"\")","v":""},{"$f":"IF(ISNUMBER(SEARCH($B$6,E385)),MAX($D$4:D384)+1,0)","v":0},"INTEL449 ",null,"INTEL449",null,null,"INTEL449"]
[null,null,{"$f":"IFERROR(VLOOKUP(ROWS($C$5:C385),$D$6:$E$902,2,FALSE),\"\")","v":""},{"$f":"IF(ISNUMBER(SEARCH($B$6,E386)),MAX($D$4:D385)+1,0)","v":0},"INYO ",null,"INYO",null,null,"INYO"]
[null,null,{"$f":"IFERROR(VLOOKUP(ROWS($C$5:C386),$D$6:$E$902,2,FALSE),\"\")","v":""},{"$f":"IF(ISNUMBER(SEARCH($B$6,E387)),MAX($D$4:D386)+1,0)","v":0},"IPCO ",null,"IPCO",null,null,"IPCO"]
[null,null,{"$f":"IFERROR(VLOOKUP(ROWS($C$5:C387),$D$6:$E$902,2,FALSE),\"\")","v":""},{"$f":"IF(ISNUMBER(SEARCH($B$6,E388)),MAX($D$4:D387)+1,0)","v":0},"IPCOEAST ",null,"IPCOEAST",null,null,"IPCOEAST"]
[null,null,{"$f":"IFERROR(VLOOKUP(ROWS($C$5:C388),$D$6:$E$902,2,FALSE),\"\")","v":""},{"$f":"IF(ISNUMBER(SEARCH($B$6,E389)),MAX($D$4:D388)+1,0)","v":0},"IPCOGEN ",null,"IPCOGEN",null,null,"IPCOGEN"]
[null,null,{"$f":"IFERROR(VLOOKUP(ROWS($C$5:C389),$D$6:$E$902,2,FALSE),\"\")","v":""},{"$f":"IF(ISNUMBER(SEARCH($B$6,E390)),MAX($D$4:D389)+1,0)","v":0},"IPCOLOSS ",null,"IPCOLOSS",null,null,"IPCOLOSS"]
[null,null,{"$f":"IFERROR(VLOOKUP(ROWS($C$5:C390),$D$6:$E$902,2,FALSE),\"\")","v":""},{"$f":"IF(ISNUMBER(SEARCH($B$6,E391)),MAX($D$4:D390)+1,0)","v":0},{"$f":"CONCATENATE(G391, \" \")","v":"IPCOSID "},null,"IPCOSID",null,null,"IPCOSID"]
[null,null,{"$f":"IFERROR(VLOOKUP(ROWS($C$5:C391),$D$6:$E$902,2,FALSE),\"\")","v":""},{"$f":"IF(ISNUMBER(SEARCH($B$6,E392)),MAX($D$4:D391)+1,0)","v":0},"IPP ",null,"IPP",null,null,"IPP"]
[null,null,{"$f":"IFERROR(VLOOKUP(ROWS($C$5:C392),$D$6:$E$902,2,FALSE),\"\")","v":""},{"$f":"IF(ISNUMBER(SEARCH($B$6,E393)),MAX($D$4:D392)+1,0)","v":0},"IPPgen ",null,"IPPgen",null,null,"IPPgen"]
[null,null,{"$f":"IFERROR(VLOOKUP(ROWS($C$5:C393),$D$6:$E$902,2,FALSE),\"\")","v":""},{"$f":"IF(ISNUMBER(SEARCH($B$6,E394)),MAX($D$4:D393)+1,0)","v":0},"IPPUTAH ",null,"IPPUTAH",null,null,"IPPUTAH"]
[null,null,{"$f":"IFERROR(VLOOKUP(ROWS($C$5:C394),$D$6:$E$902,2,FALSE),\"\")","v":""},{"$f":"IF(ISNUMBER(SEARCH($B$6,E395)),MAX($D$4:D394)+1,0)","v":0},"IRVINGTON138 ",null,"IRVINGTON138",null,null,"IRVINGTON138"]
[null,null,{"$f":"IFERROR(VLOOKUP(ROWS($C$5:C395),$D$6:$E$902,2,FALSE),\"\")","v":""},{"$f":"IF(ISNUMBER(SEARCH($B$6,E396)),MAX($D$4:D395)+1,0)","v":46},"IV230KV ",null,"IV230KV",null,null,"IV230KV"]
[null,null,{"$f":"IFERROR(VLOOKUP(ROWS($C$5:C396),$D$6:$E$902,2,FALSE),\"\")","v":""},{"$f":"IF(ISNUMBER(SEARCH($B$6,E397)),MAX($D$4:D396)+1,0)","v":0},"IVGEO ",null,"IVGEO",null,null,"IVGEO"]
[null,null,{"$f":"IFERROR(VLOOKUP(ROWS($C$5:C397),$D$6:$E$902,2,FALSE),\"\")","v":""},{"$f":"IF(ISNUMBER(SEARCH($B$6,E398)),MAX($D$4:D397)+1,0)","v":0},"IVGOULD ",null,"IVGOULD",null,null,"IVGOULD"]
[null,null,{"$f":"IFERROR(VLOOKUP(ROWS($C$5:C398),$D$6:$E$902,2,FALSE),\"\")","v":""},{"$f":"IF(ISNUMBER(SEARCH($B$6,E399)),MAX($D$4:D398)+1,0)","v":0},"IVLY2 ",null,"IVLY2",null,null,"IVLY2"]
[null,null,{"$f":"IFERROR(VLOOKUP(ROWS($C$5:C399),$D$6:$E$902,2,FALSE),\"\")","v":""},{"$f":"IF(ISNUMBER(SEARCH($B$6,E400)),MAX($D$4:D399)+1,0)","v":0},"IVLY5 ",null,"IVLY5",null,null,"IVLY5"]
[null,null,{"$f":"IFERROR(VLOOKUP(ROWS($C$5:C400),$D$6:$E$902,2,FALSE),\"\")","v":""},{"$f":"IF(ISNUMBER(SEARCH($B$6,E401)),MAX($D$4:D400)+1,0)","v":0},"IVRR ",null,"IVRR",null,null,"IVRR"]
[null,null,{"$f":"IFERROR(VLOOKUP(ROWS($C$5:C401),$D$6:$E$902,2,FALSE),\"\")","v":""},{"$f":"IF(ISNUMBER(SEARCH($B$6,E402)),MAX($D$4:D401)+1,0)","v":0},"IVSS5 ",null,"IVSS5",null,null,"IVSS5"]
[null,null,{"$f":"IFERROR(VLOOKUP(ROWS($C$5:C402),$D$6:$E$902,2,FALSE),\"\")","v":""},{"$f":"IF(ISNUMBER(SEARCH($B$6,E403)),MAX($D$4:D402)+1,0)","v":0},"IVTURBO ",null,"IVTURBO",null,null,"IVTURBO"]
[null,null,{"$f":"IFERROR(VLOOKUP(ROWS($C$5:C403),$D$6:$E$902,2,FALSE),\"\")","v":""},{"$f":"IF(ISNUMBER(SEARCH($B$6,E404)),MAX($D$4:D403)+1,0)","v":0},"JBSN ",null,"JBSN",null,null,"JBSN"]
[null,null,{"$f":"IFERROR(VLOOKUP(ROWS($C$5:C404),$D$6:$E$902,2,FALSE),\"\")","v":""},{"$f":"IF(ISNUMBER(SEARCH($B$6,E405)),MAX($D$4:D404)+1,0)","v":0},"JBWT ",null,"JBWT",null,null,"JBWT"]
[null,null,{"$f":"IFERROR(VLOOKUP(ROWS($C$5:C405),$D$6:$E$902,2,FALSE),\"\")","v":""},{"$f":"IF(ISNUMBER(SEARCH($B$6,E406)),MAX($D$4:D405)+1,0)","v":0},"JEFF ",null,"JEFF",null,null,"JEFF"]
[null,null,{"$f":"IFERROR(VLOOKUP(ROWS($C$5:C406),$D$6:$E$902,2,FALSE),\"\")","v":""},{"$f":"IF(ISNUMBER(SEARCH($B$6,E407)),MAX($D$4:D406)+1,0)","v":0},"JnprCnyn ",null,"JnprCnyn",null,null,"JnprCnyn"]
[null,null,{"$f":"IFERROR(VLOOKUP(ROWS($C$5:C407),$D$6:$E$902,2,FALSE),\"\")","v":""},{"$f":"IF(ISNUMBER(SEARCH($B$6,E408)),MAX($D$4:D407)+1,0)","v":0},"JohnDay ",null,"JohnDay",null,null,"JohnDay"]
[null,null,{"$f":"IFERROR(VLOOKUP(ROWS($C$5:C408),$D$6:$E$902,2,FALSE),\"\")","v":""},{"$f":"IF(ISNUMBER(SEARCH($B$6,E409)),MAX($D$4:D408)+1,0)","v":0},"JohnDayBR ",null,"JohnDayBR",null,null,"JohnDayBR"]
[null,null,{"$f":"IFERROR(VLOOKUP(ROWS($C$5:C409),$D$6:$E$902,2,FALSE),\"\")","v":""},{"$f":"IF(ISNUMBER(SEARCH($B$6,E410)),MAX($D$4:D409)+1,0)","v":47},"JOJOBA500 ",null,"JOJOBA500",null,null,"JOJOBA500"]
[null,null,{"$f":"IFERROR(VLOOKUP(ROWS($C$5:C410),$D$6:$E$902,2,FALSE),\"\")","v":""},{"$f":"IF(ISNUMBER(SEARCH($B$6,E411)),MAX($D$4:D410)+1,0)","v":0},"JUAN ",null,"JUAN",null,null,"JUAN"]
[null,null,{"$f":"IFERROR(VLOOKUP(ROWS($C$5:C411),$D$6:$E$902,2,FALSE),\"\")","v":""},{"$f":"IF(ISNUMBER(SEARCH($B$6,E412)),MAX($D$4:D411)+1,0)","v":0},"JUAREZ ",null,"JUAREZ",null,null,"JUAREZ"]
[null,null,{"$f":"IFERROR(VLOOKUP(ROWS($C$5:C412),$D$6:$E$902,2,FALSE),\"\")","v":""},{"$f":"IF(ISNUMBER(SEARCH($B$6,E413)),MAX($D$4:D412)+1,0)","v":0},"Juniper2LD ",null,"Juniper2LD",null,null,"Juniper2LD"]
[null,null,{"$f":"IFERROR(VLOOKUP(ROWS($C$5:C413),$D$6:$E$902,2,FALSE),\"\")","v":""},{"$f":"IF(ISNUMBER(SEARCH($B$6,E414)),MAX($D$4:D413)+1,0)","v":0},"JuniperWind ",null,"JuniperWind",null,null,"JuniperWind"]
[null,null,{"$f":"IFERROR(VLOOKUP(ROWS($C$5:C414),$D$6:$E$902,2,FALSE),\"\")","v":""},{"$f":"IF(ISNUMBER(SEARCH($B$6,E415)),MAX($D$4:D414)+1,0)","v":0},"JuniperWinLD ",null,"JuniperWinLD",null,null,"JuniperWinLD"]
[null,null,{"$f":"IFERROR(VLOOKUP(ROWS($C$5:C415),$D$6:$E$902,2,FALSE),\"\")","v":""},{"$f":"IF(ISNUMBER(SEARCH($B$6,E416)),MAX($D$4:D415)+1,0)","v":0},"KaiserBell ",null,"KaiserBell",null,null,"KaiserBell"]
[null,null,{"$f":"IFERROR(VLOOKUP(ROWS($C$5:C416),$D$6:$E$902,2,FALSE),\"\")","v":""},{"$f":"IF(ISNUMBER(SEARCH($B$6,E417)),MAX($D$4:D416)+1,0)","v":0},"KaiserTac ",null,"KaiserTac",null,null,"KaiserTac"]
[null,null,{"$f":"IFERROR(VLOOKUP(ROWS($C$5:C417),$D$6:$E$902,2,FALSE),\"\")","v":""},{"$f":"IF(ISNUMBER(SEARCH($B$6,E418)),MAX($D$4:D417)+1,0)","v":0},"KaiserTrent ",null,"KaiserTrent",null,null,"KaiserTrent"]
[null,null,{"$f":"IFERROR(VLOOKUP(ROWS($C$5:C418),$D$6:$E$902,2,FALSE),\"\")","v":""},{"$f":"IF(ISNUMBER(SEARCH($B$6,E419)),MAX($D$4:D418)+1,0)","v":0},"KASIERBELL ",null,"KASIERBELL",null,null,"KASIERBELL"]
[null,null,{"$f":"IFERROR(VLOOKUP(ROWS($C$5:C419),$D$6:$E$902,2,FALSE),\"\")","v":""},{"$f":"IF(ISNUMBER(SEARCH($B$6,E420)),MAX($D$4:D419)+1,0)","v":0},"KASIERTAC ",null,"KASIERTAC",null,null,"KASIERTAC"]
[null,null,{"$f":"IFERROR(VLOOKUP(ROWS($C$5:C420),$D$6:$E$902,2,FALSE),\"\")","v":""},{"$f":"IF(ISNUMBER(SEARCH($B$6,E421)),MAX($D$4:D420)+1,0)","v":0},"KASIERTRENT ",null,"KASIERTRENT",null,null,"KASIERTRENT"]
[null,null,{"$f":"IFERROR(VLOOKUP(ROWS($C$5:C421),$D$6:$E$902,2,FALSE),\"\")","v":""},{"$f":"IF(ISNUMBER(SEARCH($B$6,E422)),MAX($D$4:D421)+1,0)","v":0},"KAY-LHV ",null,"KAY-LHV",null,null,"KAY-LHV"]
[null,null,{"$f":"IFERROR(VLOOKUP(ROWS($C$5:C422),$D$6:$E$902,2,FALSE),\"\")","v":""},{"$f":"IF(ISNUMBER(SEARCH($B$6,E423)),MAX($D$4:D422)+1,0)","v":0},"KEEN ",null,"KEEN",null,null,"KEEN"]
[null,null,{"$f":"IFERROR(VLOOKUP(ROWS($C$5:C423),$D$6:$E$902,2,FALSE),\"\")","v":""},{"$f":"IF(ISNUMBER(SEARCH($B$6,E424)),MAX($D$4:D423)+1,0)","v":48},"KES230 ",null,"KES230",null,null,"KES230"]
[null,null,{"$f":"IFERROR(VLOOKUP(ROWS($C$5:C424),$D$6:$E$902,2,FALSE),\"\")","v":""},{"$f":"IF(ISNUMBER(SEARCH($B$6,E425)),MAX($D$4:D424)+1,0)","v":0},"KFallsGen ",null,"KFallsGen",null,null,"KFallsGen"]
[null,null,{"$f":"IFERROR(VLOOKUP(ROWS($C$5:C425),$D$6:$E$902,2,FALSE),\"\")","v":""},{"$f":"IF(ISNUMBER(SEARCH($B$6,E426)),MAX($D$4:D425)+1,0)","v":0},"KFallsGenBR ",null,"KFallsGenBR",null,null,"KFallsGenBR"]
[null,null,{"$f":"IFERROR(VLOOKUP(ROWS($C$5:C426),$D$6:$E$902,2,FALSE),\"\")","v":""},{"$f":"IF(ISNUMBER(SEARCH($B$6,E427)),MAX($D$4:D426)+1,0)","v":0},"KI ",null,"KI",null,null,"KI"]
[null,null,{"$f":"IFERROR(VLOOKUP(ROWS($C$5:C427),$D$6:$E$902,2,FALSE),\"\")","v":""},{"$f":"IF(ISNUMBER(SEARCH($B$6,E428)),MAX($D$4:D427)+1,0)","v":0},"KITTITAS ",null,"KITTITAS",null,null,"KITTITAS"]
[null,null,{"$f":"IFERROR(VLOOKUP(ROWS($C$5:C428),$D$6:$E$902,2,FALSE),\"\")","v":""},{"$f":"IF(ISNUMBER(SEARCH($B$6,E429)),MAX($D$4:D428)+1,0)","v":0},"KITTVAL ",null,"KITTVAL",null,null,"KITTVAL"]
[null,null,{"$f":"IFERROR(VLOOKUP(ROWS($C$5:C429),$D$6:$E$902,2,FALSE),\"\")","v":""},{"$f":"IF(ISNUMBER(SEARCH($B$6,E430)),MAX($D$4:D429)+1,0)","v":0},"Klickitat ",null,"Klickitat",null,null,"Klickitat"]
[null,null,{"$f":"IFERROR(VLOOKUP(ROWS($C$5:C430),$D$6:$E$902,2,FALSE),\"\")","v":""},{"$f":"IF(ISNUMBER(SEARCH($B$6,E431)),MAX($D$4:D430)+1,0)","v":0},"Klondike2SH ",null,"Klondike2SH",null,null,"Klondike2SH"]
[null,null,{"$f":"IFERROR(VLOOKUP(ROWS($C$5:C431),$D$6:$E$902,2,FALSE),\"\")","v":""},{"$f":"IF(ISNUMBER(SEARCH($B$6,E432)),MAX($D$4:D431)+1,0)","v":0},"Klondike3SH ",null,"Klondike3SH",null,null,"Klondike3SH"]
[null,null,{"$f":"IFERROR(VLOOKUP(ROWS($C$5:C432),$D$6:$E$902,2,FALSE),\"\")","v":""},{"$f":"IF(ISNUMBER(SEARCH($B$6,E433)),MAX($D$4:D432)+1,0)","v":0},"KlondikeSH ",null,"KlondikeSH",null,null,"KlondikeSH"]
[null,null,{"$f":"IFERROR(VLOOKUP(ROWS($C$5:C433),$D$6:$E$902,2,FALSE),\"\")","v":""},{"$f":"IF(ISNUMBER(SEARCH($B$6,E434)),MAX($D$4:D433)+1,0)","v":0},"Klondke3aBPA ",null,"Klondke3aBPA",null,null,"Klondke3aBPA"]
[null,null,{"$f":"IFERROR(VLOOKUP(ROWS($C$5:C434),$D$6:$E$902,2,FALSE),\"\")","v":""},{"$f":"IF(ISNUMBER(SEARCH($B$6,E435)),MAX($D$4:D434)+1,0)","v":0},"KNOB161 ",null,"KNOB161",null,null,"KNOB161"]
[null,null,{"$f":"IFERROR(VLOOKUP(ROWS($C$5:C435),$D$6:$E$902,2,FALSE),\"\")","v":""},{"$f":"IF(ISNUMBER(SEARCH($B$6,E436)),MAX($D$4:D435)+1,0)","v":49},"KNOX230 ",null,"KNOX230",null,null,"KNOX230"]
[null,null,{"$f":"IFERROR(VLOOKUP(ROWS($C$5:C436),$D$6:$E$902,2,FALSE),\"\")","v":""},{"$f":"IF(ISNUMBER(SEARCH($B$6,E437)),MAX($D$4:D436)+1,0)","v":0},"KPRT ",null,"KPRT",null,null,"KPRT"]
[null,null,{"$f":"IFERROR(VLOOKUP(ROWS($C$5:C437),$D$6:$E$902,2,FALSE),\"\")","v":""},{"$f":"IF(ISNUMBER(SEARCH($B$6,E438)),MAX($D$4:D437)+1,0)","v":0},"KUTZ115 ",null,"KUTZ115",null,null,"KUTZ115"]
[null,null,{"$f":"IFERROR(VLOOKUP(ROWS($C$5:C438),$D$6:$E$902,2,FALSE),\"\")","v":""},{"$f":"IF(ISNUMBER(SEARCH($B$6,E439)),MAX($D$4:D438)+1,0)","v":50},"KYRENE230 ",null,"KYRENE230",null,null,"KYRENE230"]
[null,null,{"$f":"IFERROR(VLOOKUP(ROWS($C$5:C439),$D$6:$E$902,2,FALSE),\"\")","v":""},{"$f":"IF(ISNUMBER(SEARCH($B$6,E440)),MAX($D$4:D439)+1,0)","v":51},"KYRENE500 ",null,"KYRENE500",null,null,"KYRENE500"]
[null,null,{"$f":"IFERROR(VLOOKUP(ROWS($C$5:C440),$D$6:$E$902,2,FALSE),\"\")","v":""},{"$f":"IF(ISNUMBER(SEARCH($B$6,E441)),MAX($D$4:D440)+1,0)","v":0},"LAGBELLVELO ",null,"LAGBELLVELO",null,null,"LAGBELLVELO"]
[null,null,{"$f":"IFERROR(VLOOKUP(ROWS($C$5:C441),$D$6:$E$902,2,FALSE),\"\")","v":""},{"$f":"IF(ISNUMBER(SEARCH($B$6,E442)),MAX($D$4:D441)+1,0)","v":0},"LaGrande ",null,"LaGrande",null,null,"LaGrande"]
[null,null,{"$f":"IFERROR(VLOOKUP(ROWS($C$5:C442),$D$6:$E$902,2,FALSE),\"\")","v":""},{"$f":"IF(ISNUMBER(SEARCH($B$6,E443)),MAX($D$4:D442)+1,0)","v":0},"LAJU ",null,"LAJU",null,null,"LAJU"]
[null,null,{"$f":"IFERROR(VLOOKUP(ROWS($C$5:C443),$D$6:$E$902,2,FALSE),\"\")","v":""},{"$f":"IF(ISNUMBER(SEARCH($B$6,E444)),MAX($D$4:D443)+1,0)","v":0},"Lake ",null,"Lake",null,null,"Lake"]
[null,null,{"$f":"IFERROR(VLOOKUP(ROWS($C$5:C444),$D$6:$E$902,2,FALSE),\"\")","v":""},{"$f":"IF(ISNUMBER(SEARCH($B$6,E445)),MAX($D$4:D444)+1,0)","v":0},"LAMR ",null,"LAMR",null,null,"LAMR"]
[null,null,{"$f":"IFERROR(VLOOKUP(ROWS($C$5:C445),$D$6:$E$902,2,FALSE),\"\")","v":""},{"$f":"IF(ISNUMBER(SEARCH($B$6,E446)),MAX($D$4:D445)+1,0)","v":0},"LAMR115 ",null,"LAMR115",null,null,"LAMR115"]
[null,null,{"$f":"IFERROR(VLOOKUP(ROWS($C$5:C446),$D$6:$E$902,2,FALSE),\"\")","v":""},{"$f":"IF(ISNUMBER(SEARCH($B$6,E447)),MAX($D$4:D446)+1,0)","v":52},"LAMR230 ",null,"LAMR230",null,null,"LAMR230"]
[null,null,{"$f":"IFERROR(VLOOKUP(ROWS($C$5:C447),$D$6:$E$902,2,FALSE),\"\")","v":""},{"$f":"IF(ISNUMBER(SEARCH($B$6,E448)),MAX($D$4:D447)+1,0)","v":0},"LAMR345 ",null,"LAMR345",null,null,"LAMR345"]
[null,null,{"$f":"IFERROR(VLOOKUP(ROWS($C$5:C448),$D$6:$E$902,2,FALSE),\"\")","v":""},{"$f":"IF(ISNUMBER(SEARCH($B$6,E449)),MAX($D$4:D448)+1,0)","v":0},"LAMS ",null,"LAMS",null,null,"LAMS"]
[null,null,{"$f":"IFERROR(VLOOKUP(ROWS($C$5:C449),$D$6:$E$902,2,FALSE),\"\")","v":""},{"$f":"IF(ISNUMBER(SEARCH($B$6,E450)),MAX($D$4:D449)+1,0)","v":0},"LANCASTER ",null,"LANCASTER",null,null,"LANCASTER"]
[null,null,{"$f":"IFERROR(VLOOKUP(ROWS($C$5:C450),$D$6:$E$902,2,FALSE),\"\")","v":""},{"$f":"IF(ISNUMBER(SEARCH($B$6,E451)),MAX($D$4:D450)+1,0)","v":0},"LancasterLD ",null,"LancasterLD",null,null,"LancasterLD"]
[null,null,{"$f":"IFERROR(VLOOKUP(ROWS($C$5:C451),$D$6:$E$902,2,FALSE),\"\")","v":""},{"$f":"IF(ISNUMBER(SEARCH($B$6,E452)),MAX($D$4:D451)+1,0)","v":53},"LaPine230 ",null,"LaPine230",null,null,"LaPine230"]
[null,null,{"$f":"IFERROR(VLOOKUP(ROWS($C$5:C452),$D$6:$E$902,2,FALSE),\"\")","v":""},{"$f":"IF(ISNUMBER(SEARCH($B$6,E453)),MAX($D$4:D452)+1,0)","v":0},"LAPTNITS ",null,"LAPTNITS",null,null,"LAPTNITS"]
[null,null,{"$f":"IFERROR(VLOOKUP(ROWS($C$5:C453),$D$6:$E$902,2,FALSE),\"\")","v":""},{"$f":"IF(ISNUMBER(SEARCH($B$6,E454)),MAX($D$4:D453)+1,0)","v":0},"LASANIMAS ",null,"LASANIMAS",null,null,"LASANIMAS"]
[null,null,{"$f":"IFERROR(VLOOKUP(ROWS($C$5:C454),$D$6:$E$902,2,FALSE),\"\")","v":""},{"$f":"IF(ISNUMBER(SEARCH($B$6,E455)),MAX($D$4:D454)+1,0)","v":0},{"$f":"CONCATENATE(G455, \" \")","v":"LASCRCS115 "},null,"LASCRCS115",null,null,"LASCRCS115"]
[null,null,{"$f":"IFERROR(VLOOKUP(ROWS($C$5:C455),$D$6:$E$902,2,FALSE),\"\")","v":""},{"$f":"IF(ISNUMBER(SEARCH($B$6,E456)),MAX($D$4:D455)+1,0)","v":0},"LASYSTEM ",null,"LASYSTEM",null,null,"LASYSTEM"]
[null,null,{"$f":"IFERROR(VLOOKUP(ROWS($C$5:C456),$D$6:$E$902,2,FALSE),\"\")","v":""},{"$f":"IF(ISNUMBER(SEARCH($B$6,E457)),MAX($D$4:D456)+1,0)","v":0},"LAUGHLINSYS ",null,"LAUGHLINSYS",null,null,"LAUGHLINSYS"]
[null,null,{"$f":"IFERROR(VLOOKUP(ROWS($C$5:C457),$D$6:$E$902,2,FALSE),\"\")","v":""},{"$f":"IF(ISNUMBER(SEARCH($B$6,E458)),MAX($D$4:D457)+1,0)","v":0},"LCPDSYS ",null,"LCPDSYS",null,null,"LCPDSYS"]
[null,null,{"$f":"IFERROR(VLOOKUP(ROWS($C$5:C458),$D$6:$E$902,2,FALSE),\"\")","v":""},{"$f":"IF(ISNUMBER(SEARCH($B$6,E459)),MAX($D$4:D458)+1,0)","v":0},"LeanJnpr2 ",null,"LeanJnpr2",null,null,"LeanJnpr2"]
[null,null,{"$f":"IFERROR(VLOOKUP(ROWS($C$5:C459),$D$6:$E$902,2,FALSE),\"\")","v":""},{"$f":"IF(ISNUMBER(SEARCH($B$6,E460)),MAX($D$4:D459)+1,0)","v":0},"LEATH ",null,"LEATH",null,null,"LEATH"]
[null,null,{"$f":"IFERROR(VLOOKUP(ROWS($C$5:C460),$D$6:$E$902,2,FALSE),\"\")","v":""},{"$f":"IF(ISNUMBER(SEARCH($B$6,E461)),MAX($D$4:D460)+1,0)","v":0},"LewisPUD ",null,"LewisPUD",null,null,"LewisPUD"]
[null,null,{"$f":"IFERROR(VLOOKUP(ROWS($C$5:C461),$D$6:$E$902,2,FALSE),\"\")","v":""},{"$f":"IF(ISNUMBER(SEARCH($B$6,E462)),MAX($D$4:D461)+1,0)","v":0},"LFG-Gen ",null,"LFG-Gen",null,null,"LFG-Gen"]
[null,null,{"$f":"IFERROR(VLOOKUP(ROWS($C$5:C462),$D$6:$E$902,2,FALSE),\"\")","v":""},{"$f":"IF(ISNUMBER(SEARCH($B$6,E463)),MAX($D$4:D462)+1,0)","v":54},"LIBERTY230 ",null,"LIBERTY230",null,null,"LIBERTY230"]
[null,null,{"$f":"IFERROR(VLOOKUP(ROWS($C$5:C463),$D$6:$E$902,2,FALSE),\"\")","v":""},{"$f":"IF(ISNUMBER(SEARCH($B$6,E464)),MAX($D$4:D463)+1,0)","v":0},"LIMO ",null,"LIMO",null,null,"LIMO"]
[null,null,{"$f":"IFERROR(VLOOKUP(ROWS($C$5:C464),$D$6:$E$902,2,FALSE),\"\")","v":""},{"$f":"IF(ISNUMBER(SEARCH($B$6,E465)),MAX($D$4:D464)+1,0)","v":0},"LINC ",null,"LINC",null,null,"LINC"]
[null,null,{"$f":"IFERROR(VLOOKUP(ROWS($C$5:C465),$D$6:$E$902,2,FALSE),\"\")","v":""},{"$f":"IF(ISNUMBER(SEARCH($B$6,E466)),MAX($D$4:D465)+1,0)","v":0},"LINDEN69 ",null,"LINDEN69",null,null,"LINDEN69"]
[null,null,{"$f":"IFERROR(VLOOKUP(ROWS($C$5:C466),$D$6:$E$902,2,FALSE),\"\")","v":""},{"$f":"IF(ISNUMBER(SEARCH($B$6,E467)),MAX($D$4:D466)+1,0)","v":0},"LindenWind ",null,"LindenWind",null,null,"LindenWind"]
[null,null,{"$f":"IFERROR(VLOOKUP(ROWS($C$5:C467),$D$6:$E$902,2,FALSE),\"\")","v":""},{"$f":"IF(ISNUMBER(SEARCH($B$6,E468)),MAX($D$4:D467)+1,0)","v":0},"LJAR115 ",null,"LJAR115",null,null,"LJAR115"]
[null,null,{"$f":"IFERROR(VLOOKUP(ROWS($C$5:C468),$D$6:$E$902,2,FALSE),\"\")","v":""},{"$f":"IF(ISNUMBER(SEARCH($B$6,E469)),MAX($D$4:D468)+1,0)","v":0},"LJAR69 ",null,"LJAR69",null,null,"LJAR69"]
[null,null,{"$f":"IFERROR(VLOOKUP(ROWS($C$5:C469),$D$6:$E$902,2,FALSE),\"\")","v":""},{"$f":"IF(ISNUMBER(SEARCH($B$6,E470)),MAX($D$4:D469)+1,0)","v":0},"LLL115 ",null,"LLL115",null,null,"LLL115"]
[null,null,{"$f":"IFERROR(VLOOKUP(ROWS($C$5:C470),$D$6:$E$902,2,FALSE),\"\")","v":""},{"$f":"IF(ISNUMBER(SEARCH($B$6,E471)),MAX($D$4:D470)+1,0)","v":0},"LOCAL.GEN ",null,"LOCAL.GEN",null,null,"LOCAL.GEN"]
[null,null,{"$f":"IFERROR(VLOOKUP(ROWS($C$5:C471),$D$6:$E$902,2,FALSE),\"\")","v":""},{"$f":"IF(ISNUMBER(SEARCH($B$6,E472)),MAX($D$4:D471)+1,0)","v":0},"LOGAN ",null,"LOGAN",null,null,"LOGAN"]
[null,null,{"$f":"IFERROR(VLOOKUP(ROWS($C$5:C472),$D$6:$E$902,2,FALSE),\"\")","v":""},{"$f":"IF(ISNUMBER(SEARCH($B$6,E473)),MAX($D$4:D472)+1,0)","v":0},"LOLO ",null,"LOLO",null,null,"LOLO"]
[null,null,{"$f":"IFERROR(VLOOKUP(ROWS($C$5:C473),$D$6:$E$902,2,FALSE),\"\")","v":""},{"$f":"IF(ISNUMBER(SEARCH($B$6,E474)),MAX($D$4:D473)+1,0)","v":55},"LONEBUTTE230 ",null,"LONEBUTTE230",null,null,"LONEBUTTE230"]
[null,null,{"$f":"IFERROR(VLOOKUP(ROWS($C$5:C474),$D$6:$E$902,2,FALSE),\"\")","v":""},{"$f":"IF(ISNUMBER(SEARCH($B$6,E475)),MAX($D$4:D474)+1,0)","v":0},"LongviewAlum ",null,"LongviewAlum",null,null,"LongviewAlum"]
[null,null,{"$f":"IFERROR(VLOOKUP(ROWS($C$5:C475),$D$6:$E$902,2,FALSE),\"\")","v":""},{"$f":"IF(ISNUMBER(SEARCH($B$6,E476)),MAX($D$4:D475)+1,0)","v":0},"LongviewFbr ",null,"LongviewFbr",null,null,"LongviewFbr"]
[null,null,{"$f":"IFERROR(VLOOKUP(ROWS($C$5:C476),$D$6:$E$902,2,FALSE),\"\")","v":""},{"$f":"IF(ISNUMBER(SEARCH($B$6,E477)),MAX($D$4:D476)+1,0)","v":0},"LORDSBURG115 ",null,"LORDSBURG115",null,null,"LORDSBURG115"]
[null,null,{"$f":"IFERROR(VLOOKUP(ROWS($C$5:C477),$D$6:$E$902,2,FALSE),\"\")","v":""},{"$f":"IF(ISNUMBER(SEARCH($B$6,E478)),MAX($D$4:D477)+1,0)","v":56},"LOSBANOS230 ",null,"LOSBANOS230",null,null,"LOSBANOS230"]
[null,null,{"$f":"IFERROR(VLOOKUP(ROWS($C$5:C478),$D$6:$E$902,2,FALSE),\"\")","v":""},{"$f":"IF(ISNUMBER(SEARCH($B$6,E479)),MAX($D$4:D478)+1,0)","v":0},"LRS ",null,"LRS",null,null,"LRS"]
[null,null,{"$f":"IFERROR(VLOOKUP(ROWS($C$5:C479),$D$6:$E$902,2,FALSE),\"\")","v":""},{"$f":"IF(ISNUMBER(SEARCH($B$6,E480)),MAX($D$4:D479)+1,0)","v":57},"LRS230 ",null,"LRS230",null,null,"LRS230"]
[null,null,{"$f":"IFERROR(VLOOKUP(ROWS($C$5:C480),$D$6:$E$902,2,FALSE),\"\")","v":""},{"$f":"IF(ISNUMBER(SEARCH($B$6,E481)),MAX($D$4:D480)+1,0)","v":0},"LRS345 ",null,"LRS345",null,null,"LRS345"]
[null,null,{"$f":"IFERROR(VLOOKUP(ROWS($C$5:C481),$D$6:$E$902,2,FALSE),\"\")","v":""},{"$f":"IF(ISNUMBER(SEARCH($B$6,E482)),MAX($D$4:D481)+1,0)","v":0},"LRS69 ",null,"LRS69",null,null,"LRS69"]
[null,null,{"$f":"IFERROR(VLOOKUP(ROWS($C$5:C482),$D$6:$E$902,2,FALSE),\"\")","v":""},{"$f":"IF(ISNUMBER(SEARCH($B$6,E483)),MAX($D$4:D482)+1,0)","v":0},"LSRwind1 ",null,"LSRwind1",null,null,"LSRwind1"]
[null,null,{"$f":"IFERROR(VLOOKUP(ROWS($C$5:C483),$D$6:$E$902,2,FALSE),\"\")","v":""},{"$f":"IF(ISNUMBER(SEARCH($B$6,E484)),MAX($D$4:D483)+1,0)","v":0},"LUGO ",null,"LUGO",null,null,"LUGO"]
[null,null,{"$f":"IFERROR(VLOOKUP(ROWS($C$5:C484),$D$6:$E$902,2,FALSE),\"\")","v":""},{"$f":"IF(ISNUMBER(SEARCH($B$6,E485)),MAX($D$4:D484)+1,0)","v":0},"LUNA115 ",null,"LUNA115",null,null,"LUNA115"]
[null,null,{"$f":"IFERROR(VLOOKUP(ROWS($C$5:C485),$D$6:$E$902,2,FALSE),\"\")","v":""},{"$f":"IF(ISNUMBER(SEARCH($B$6,E486)),MAX($D$4:D485)+1,0)","v":0},"LUNA345 ",null,"LUNA345",null,null,"LUNA345"]
[null,null,{"$f":"IFERROR(VLOOKUP(ROWS($C$5:C486),$D$6:$E$902,2,FALSE),\"\")","v":""},{"$f":"IF(ISNUMBER(SEARCH($B$6,E487)),MAX($D$4:D486)+1,0)","v":0},"LYPK ",null,"LYPK",null,null,"LYPK"]
[null,null,{"$f":"IFERROR(VLOOKUP(ROWS($C$5:C487),$D$6:$E$902,2,FALSE),\"\")","v":""},{"$f":"IF(ISNUMBER(SEARCH($B$6,E488)),MAX($D$4:D487)+1,0)","v":0},"M345 ",null,"M345",null,null,"M345"]
[null,null,{"$f":"IFERROR(VLOOKUP(ROWS($C$5:C488),$D$6:$E$902,2,FALSE),\"\")","v":""},{"$f":"IF(ISNUMBER(SEARCH($B$6,E489)),MAX($D$4:D488)+1,0)","v":58},"M500 ",null,"M500",null,null,"M500"]
[null,null,{"$f":"IFERROR(VLOOKUP(ROWS($C$5:C489),$D$6:$E$902,2,FALSE),\"\")","v":""},{"$f":"IF(ISNUMBER(SEARCH($B$6,E490)),MAX($D$4:D489)+1,0)","v":0},"MACHOSPRG345 ",null,"MACHOSPRG345",null,null,"MACHOSPRG345"]
[null,null,{"$f":"IFERROR(VLOOKUP(ROWS($C$5:C490),$D$6:$E$902,2,FALSE),\"\")","v":""},{"$f":"IF(ISNUMBER(SEARCH($B$6,E491)),MAX($D$4:D490)+1,0)","v":59},"Malin230 ",null,"Malin230",null,null,"Malin230"]
[null,null,{"$f":"IFERROR(VLOOKUP(ROWS($C$5:C491),$D$6:$E$902,2,FALSE),\"\")","v":""},{"$f":"IF(ISNUMBER(SEARCH($B$6,E492)),MAX($D$4:D491)+1,0)","v":60},"MALIN500 ",null,"MALIN500",null,null,"MALIN500"]
[null,null,{"$f":"IFERROR(VLOOKUP(ROWS($C$5:C492),$D$6:$E$902,2,FALSE),\"\")","v":""},{"$f":"IF(ISNUMBER(SEARCH($B$6,E493)),MAX($D$4:D492)+1,0)","v":0},"MALTA ",null,"MALTA",null,null,"MALTA"]
[null,null,{"$f":"IFERROR(VLOOKUP(ROWS($C$5:C493),$D$6:$E$902,2,FALSE),\"\")","v":""},{"$f":"IF(ISNUMBER(SEARCH($B$6,E494)),MAX($D$4:D493)+1,0)","v":0},"MARANA115 ",null,"MARANA115",null,null,"MARANA115"]
[null,null,{"$f":"IFERROR(VLOOKUP(ROWS($C$5:C494),$D$6:$E$902,2,FALSE),\"\")","v":""},{"$f":"IF(ISNUMBER(SEARCH($B$6,E495)),MAX($D$4:D494)+1,0)","v":61},"MARBLE60 ",null,"MARBLE60",null,null,"MARBLE60"]
[null,null,{"$f":"IFERROR(VLOOKUP(ROWS($C$5:C495),$D$6:$E$902,2,FALSE),\"\")","v":""},{"$f":"IF(ISNUMBER(SEARCH($B$6,E496)),MAX($D$4:D495)+1,0)","v":0},"MARCHPT_GEN ",null,"MARCHPT_GEN",null,null,"MARCHPT_GEN"]
[null,null,{"$f":"IFERROR(VLOOKUP(ROWS($C$5:C496),$D$6:$E$902,2,FALSE),\"\")","v":""},{"$f":"IF(ISNUMBER(SEARCH($B$6,E497)),MAX($D$4:D496)+1,0)","v":0},"MARKETPLACE ",null,"MARKETPLACE",null,null,"MARKETPLACE"]
[null,null,{"$f":"IFERROR(VLOOKUP(ROWS($C$5:C497),$D$6:$E$902,2,FALSE),\"\")","v":""},{"$f":"IF(ISNUMBER(SEARCH($B$6,E498)),MAX($D$4:D497)+1,0)","v":0},"MasonPUD1 ",null,"MasonPUD1",null,null,"MasonPUD1"]
[null,null,{"$f":"IFERROR(VLOOKUP(ROWS($C$5:C498),$D$6:$E$902,2,FALSE),\"\")","v":""},{"$f":"IF(ISNUMBER(SEARCH($B$6,E499)),MAX($D$4:D498)+1,0)","v":0},"MasonPUD3 ",null,"MasonPUD3",null,null,"MasonPUD3"]
[null,null,{"$f":"IFERROR(VLOOKUP(ROWS($C$5:C499),$D$6:$E$902,2,FALSE),\"\")","v":""},{"$f":"IF(ISNUMBER(SEARCH($B$6,E500)),MAX($D$4:D499)+1,0)","v":0},"MATL.NWMT ",null,"MATL.NWMT",null,null,"MATL.NWMT"]
[null,null,{"$f":"IFERROR(VLOOKUP(ROWS($C$5:C500),$D$6:$E$902,2,FALSE),\"\")","v":""},{"$f":"IF(ISNUMBER(SEARCH($B$6,E501)),MAX($D$4:D500)+1,0)","v":0},"MCCALL ",null,"MCCALL",null,null,"MCCALL"]
[null,null,{"$f":"IFERROR(VLOOKUP(ROWS($C$5:C501),$D$6:$E$902,2,FALSE),\"\")","v":""},{"$f":"IF(ISNUMBER(SEARCH($B$6,E502)),MAX($D$4:D501)+1,0)","v":62},"MCCONNICO230 ",null,"MCCONNICO230",null,null,"MCCONNICO230"]
[null,null,{"$f":"IFERROR(VLOOKUP(ROWS($C$5:C502),$D$6:$E$902,2,FALSE),\"\")","v":""},{"$f":"IF(ISNUMBER(SEARCH($B$6,E503)),MAX($D$4:D502)+1,0)","v":63},"MCCULLOUG230 ",null,"MCCULLOUG230",null,null,"MCCULLOUG230"]
[null,null,{"$f":"IFERROR(VLOOKUP(ROWS($C$5:C503),$D$6:$E$902,2,FALSE),\"\")","v":""},{"$f":"IF(ISNUMBER(SEARCH($B$6,E504)),MAX($D$4:D503)+1,0)","v":64},"MCCULLOUG500 ",null,"MCCULLOUG500",null,null,"MCCULLOUG500"]
[null,null,{"$f":"IFERROR(VLOOKUP(ROWS($C$5:C504),$D$6:$E$902,2,FALSE),\"\")","v":""},{"$f":"IF(ISNUMBER(SEARCH($B$6,E505)),MAX($D$4:D504)+1,0)","v":0},"MCKINLEY345 ",null,"MCKINLEY345",null,null,"MCKINLEY345"]
[null,null,{"$f":"IFERROR(VLOOKUP(ROWS($C$5:C505),$D$6:$E$902,2,FALSE),\"\")","v":""},{"$f":"IF(ISNUMBER(SEARCH($B$6,E506)),MAX($D$4:D505)+1,0)","v":0},"McMinnville ",null,"McMinnville",null,null,"McMinnville"]
[null,null,{"$f":"IFERROR(VLOOKUP(ROWS($C$5:C506),$D$6:$E$902,2,FALSE),\"\")","v":""},{"$f":"IF(ISNUMBER(SEARCH($B$6,E507)),MAX($D$4:D506)+1,0)","v":0},"MCNARY ",null,"MCNARY",null,null,"MCNARY"]
[null,null,{"$f":"IFERROR(VLOOKUP(ROWS($C$5:C507),$D$6:$E$902,2,FALSE),\"\")","v":""},{"$f":"IF(ISNUMBER(SEARCH($B$6,E508)),MAX($D$4:D507)+1,0)","v":0},"MCNRYFSHWY ",null,"MCNRYFSHWY",null,null,"MCNRYFSHWY"]
[null,null,{"$f":"IFERROR(VLOOKUP(ROWS($C$5:C508),$D$6:$E$902,2,FALSE),\"\")","v":""},{"$f":"IF(ISNUMBER(SEARCH($B$6,E509)),MAX($D$4:D508)+1,0)","v":0},"MCNRYFWKCP ",null,"MCNRYFWKCP",null,null,"MCNRYFWKCP"]
[null,null,{"$f":"IFERROR(VLOOKUP(ROWS($C$5:C509),$D$6:$E$902,2,FALSE),\"\")","v":""},{"$f":"IF(ISNUMBER(SEARCH($B$6,E510)),MAX($D$4:D509)+1,0)","v":0},"MD#1-115 ",null,"MD#1-115",null,null,"MD#1-115"]
[null,null,{"$f":"IFERROR(VLOOKUP(ROWS($C$5:C510),$D$6:$E$902,2,FALSE),\"\")","v":""},{"$f":"IF(ISNUMBER(SEARCH($B$6,E511)),MAX($D$4:D510)+1,0)","v":0},"MD1 ",null,"MD1",null,null,"MD1"]
[null,null,{"$f":"IFERROR(VLOOKUP(ROWS($C$5:C511),$D$6:$E$902,2,FALSE),\"\")","v":""},{"$f":"IF(ISNUMBER(SEARCH($B$6,E512)),MAX($D$4:D511)+1,0)","v":0},"MD115 ",null,"MD115",null,null,"MD115"]
[null,null,{"$f":"IFERROR(VLOOKUP(ROWS($C$5:C512),$D$6:$E$902,2,FALSE),\"\")","v":""},{"$f":"IF(ISNUMBER(SEARCH($B$6,E513)),MAX($D$4:D512)+1,0)","v":0},"MDGT ",null,"MDGT",null,null,"MDGT"]
[null,null,{"$f":"IFERROR(VLOOKUP(ROWS($C$5:C513),$D$6:$E$902,2,FALSE),\"\")","v":""},{"$f":"IF(ISNUMBER(SEARCH($B$6,E514)),MAX($D$4:D513)+1,0)","v":0},"MDSK ",null,"MDSK",null,null,"MDSK"]
[null,null,{"$f":"IFERROR(VLOOKUP(ROWS($C$5:C514),$D$6:$E$902,2,FALSE),\"\")","v":""},{"$f":"IF(ISNUMBER(SEARCH($B$6,E515)),MAX($D$4:D514)+1,0)","v":0},"MDWP ",null,"MDWP",null,null,"MDWP"]
[null,null,{"$f":"IFERROR(VLOOKUP(ROWS($C$5:C515),$D$6:$E$902,2,FALSE),\"\")","v":""},{"$f":"IF(ISNUMBER(SEARCH($B$6,E516)),MAX($D$4:D515)+1,0)","v":65},"MEAD 230 ",null,"MEAD 230",null,null,"MEAD 230"]
[null,null,{"$f":"IFERROR(VLOOKUP(ROWS($C$5:C516),$D$6:$E$902,2,FALSE),\"\")","v":""},{"$f":"IF(ISNUMBER(SEARCH($B$6,E517)),MAX($D$4:D516)+1,0)","v":66},"MEAD 500 ",null,"MEAD 500",null,null,"MEAD 500"]
[null,null,{"$f":"IFERROR(VLOOKUP(ROWS($C$5:C517),$D$6:$E$902,2,FALSE),\"\")","v":""},{"$f":"IF(ISNUMBER(SEARCH($B$6,E518)),MAX($D$4:D517)+1,0)","v":67},"MEAD230 ",null,"MEAD230",null,null,"MEAD230"]
[null,null,{"$f":"IFERROR(VLOOKUP(ROWS($C$5:C518),$D$6:$E$902,2,FALSE),\"\")","v":""},{"$f":"IF(ISNUMBER(SEARCH($B$6,E519)),MAX($D$4:D518)+1,0)","v":68},{"$f":"CONCATENATE(G519, \" \")","v":"MEAD500 "},null,"MEAD500",null,null,"MEAD500"]
[null,null,{"$f":"IFERROR(VLOOKUP(ROWS($C$5:C519),$D$6:$E$902,2,FALSE),\"\")","v":""},{"$f":"IF(ISNUMBER(SEARCH($B$6,E520)),MAX($D$4:D519)+1,0)","v":69},"MERCHANT230 ",null,"MERCHANT230",null,null,"MERCHANT230"]
[null,null,{"$f":"IFERROR(VLOOKUP(ROWS($C$5:C520),$D$6:$E$902,2,FALSE),\"\")","v":""},{"$f":"IF(ISNUMBER(SEARCH($B$6,E521)),MAX($D$4:D520)+1,0)","v":70},"MESQUITE230 ",null,"MESQUITE230",null,null,"MESQUITE230"]
[null,null,{"$f":"IFERROR(VLOOKUP(ROWS($C$5:C521),$D$6:$E$902,2,FALSE),\"\")","v":""},{"$f":"IF(ISNUMBER(SEARCH($B$6,E522)),MAX($D$4:D521)+1,0)","v":0},"MID.SYSTEM ",null,"MID.SYSTEM",null,null,"MID.SYSTEM"]
[null,null,{"$f":"IFERROR(VLOOKUP(ROWS($C$5:C522),$D$6:$E$902,2,FALSE),\"\")","v":""},{"$f":"IF(ISNUMBER(SEARCH($B$6,E523)),MAX($D$4:D522)+1,0)","v":0},"MIDC ",null,"MIDC",null,null,"MIDC"]
[null,null,{"$f":"IFERROR(VLOOKUP(ROWS($C$5:C523),$D$6:$E$902,2,FALSE),\"\")","v":""},{"$f":"IF(ISNUMBER(SEARCH($B$6,E524)),MAX($D$4:D523)+1,0)","v":0},"MIDCRemote ",null,"MIDCRemote",null,null,"MIDCRemote"]
[null,null,{"$f":"IFERROR(VLOOKUP(ROWS($C$5:C524),$D$6:$E$902,2,FALSE),\"\")","v":""},{"$f":"IF(ISNUMBER(SEARCH($B$6,E525)),MAX($D$4:D524)+1,0)","v":0},"MIDW ",null,"MIDW",null,null,"MIDW"]
[null,null,{"$f":"IFERROR(VLOOKUP(ROWS($C$5:C525),$D$6:$E$902,2,FALSE),\"\")","v":""},{"$f":"IF(ISNUMBER(SEARCH($B$6,E526)),MAX($D$4:D525)+1,0)","v":0},"MIDWAY ",null,"MIDWAY",null,null,"MIDWAY"]
[null,null,{"$f":"IFERROR(VLOOKUP(ROWS($C$5:C526),$D$6:$E$902,2,FALSE),\"\")","v":""},{"$f":"IF(ISNUMBER(SEARCH($B$6,E527)),MAX($D$4:D526)+1,0)","v":71},"Midway230 ",null,"Midway230",null,null,"Midway230"]
[null,null,{"$f":"IFERROR(VLOOKUP(ROWS($C$5:C527),$D$6:$E$902,2,FALSE),\"\")","v":""},{"$f":"IF(ISNUMBER(SEARCH($B$6,E528)),MAX($D$4:D527)+1,0)","v":0},"MIMBRES115 ",null,"MIMBRES115",null,null,"MIMBRES115"]
[null,null,{"$f":"IFERROR(VLOOKUP(ROWS($C$5:C528),$D$6:$E$902,2,FALSE),\"\")","v":""},{"$f":"IF(ISNUMBER(SEARCH($B$6,E529)),MAX($D$4:D528)+1,0)","v":0},"MintFarm ",null,"MintFarm",null,null,"MintFarm"]
[null,null,{"$f":"IFERROR(VLOOKUP(ROWS($C$5:C529),$D$6:$E$902,2,FALSE),\"\")","v":""},{"$f":"IF(ISNUMBER(SEARCH($B$6,E530)),MAX($D$4:D529)+1,0)","v":0},"MINTFARMGEN ",null,"MINTFARMGEN",null,null,"MINTFARMGEN"]
[null,null,{"$f":"IFERROR(VLOOKUP(ROWS($C$5:C530),$D$6:$E$902,2,FALSE),\"\")","v":""},{"$f":"IF(ISNUMBER(SEARCH($B$6,E531)),MAX($D$4:D530)+1,0)","v":0},"MintFarmLD ",null,"MintFarmLD",null,null,"MintFarmLD"]
[null,null,{"$f":"IFERROR(VLOOKUP(ROWS($C$5:C531),$D$6:$E$902,2,FALSE),\"\")","v":""},{"$f":"IF(ISNUMBER(SEARCH($B$6,E532)),MAX($D$4:D531)+1,0)","v":0},"MIR2 ",null,"MIR2",null,null,"MIR2"]
[null,null,{"$f":"IFERROR(VLOOKUP(ROWS($C$5:C532),$D$6:$E$902,2,FALSE),\"\")","v":""},{"$f":"IF(ISNUMBER(SEARCH($B$6,E533)),MAX($D$4:D532)+1,0)","v":0},"MIR9 ",null,"MIR9",null,null,"MIR9"]
[null,null,{"$f":"IFERROR(VLOOKUP(ROWS($C$5:C533),$D$6:$E$902,2,FALSE),\"\")","v":""},{"$f":"IF(ISNUMBER(SEARCH($B$6,E534)),MAX($D$4:D533)+1,0)","v":0},"MissionVly ",null,"MissionVly",null,null,"MissionVly"]
[null,null,{"$f":"IFERROR(VLOOKUP(ROWS($C$5:C534),$D$6:$E$902,2,FALSE),\"\")","v":""},{"$f":"IF(ISNUMBER(SEARCH($B$6,E535)),MAX($D$4:D534)+1,0)","v":0},"MLCK ",null,"MLCK",null,null,"MLCK"]
[null,null,{"$f":"IFERROR(VLOOKUP(ROWS($C$5:C535),$D$6:$E$902,2,FALSE),\"\")","v":""},{"$f":"IF(ISNUMBER(SEARCH($B$6,E536)),MAX($D$4:D535)+1,0)","v":0},"MM115 ",null,"MM115",null,null,"MM115"]
[null,null,{"$f":"IFERROR(VLOOKUP(ROWS($C$5:C536),$D$6:$E$902,2,FALSE),\"\")","v":""},{"$f":"IF(ISNUMBER(SEARCH($B$6,E537)),MAX($D$4:D536)+1,0)","v":0},"MNDK ",null,"MNDK",null,null,"MNDK"]
[null,null,{"$f":"IFERROR(VLOOKUP(ROWS($C$5:C537),$D$6:$E$902,2,FALSE),\"\")","v":""},{"$f":"IF(ISNUMBER(SEARCH($B$6,E538)),MAX($D$4:D537)+1,0)","v":0},"MNHM ",null,"MNHM",null,null,"MNHM"]
[null,null,{"$f":"IFERROR(VLOOKUP(ROWS($C$5:C538),$D$6:$E$902,2,FALSE),\"\")","v":""},{"$f":"IF(ISNUMBER(SEARCH($B$6,E539)),MAX($D$4:D538)+1,0)","v":72},"MOENKOPI500 ",null,"MOENKOPI500",null,null,"MOENKOPI500"]
[null,null,{"$f":"IFERROR(VLOOKUP(ROWS($C$5:C539),$D$6:$E$902,2,FALSE),\"\")","v":""},{"$f":"IF(ISNUMBER(SEARCH($B$6,E540)),MAX($D$4:D539)+1,0)","v":0},"MOHAVE ",null,"MOHAVE",null,null,"MOHAVE"]
[null,null,{"$f":"IFERROR(VLOOKUP(ROWS($C$5:C540),$D$6:$E$902,2,FALSE),\"\")","v":""},{"$f":"IF(ISNUMBER(SEARCH($B$6,E541)),MAX($D$4:D540)+1,0)","v":73},"MOHAVE500 ",null,"MOHAVE500",null,null,"MOHAVE500"]
[null,null,{"$f":"IFERROR(VLOOKUP(ROWS($C$5:C541),$D$6:$E$902,2,FALSE),\"\")","v":""},{"$f":"IF(ISNUMBER(SEARCH($B$6,E542)),MAX($D$4:D541)+1,0)","v":0},"MONA ",null,"MONA",null,null,"MONA"]
[null,null,{"$f":"IFERROR(VLOOKUP(ROWS($C$5:C542),$D$6:$E$902,2,FALSE),\"\")","v":""},{"$f":"IF(ISNUMBER(SEARCH($B$6,E543)),MAX($D$4:D542)+1,0)","v":0},"MONU ",null,"MONU",null,null,"MONU"]
[null,null,{"$f":"IFERROR(VLOOKUP(ROWS($C$5:C543),$D$6:$E$902,2,FALSE),\"\")","v":""},{"$f":"IF(ISNUMBER(SEARCH($B$6,E544)),MAX($D$4:D543)+1,0)","v":74},"MORENCI230 ",null,"MORENCI230",null,null,"MORENCI230"]
[null,null,{"$f":"IFERROR(VLOOKUP(ROWS($C$5:C544),$D$6:$E$902,2,FALSE),\"\")","v":""},{"$f":"IF(ISNUMBER(SEARCH($B$6,E545)),MAX($D$4:D544)+1,0)","v":75},"MORGAN500 ",null,"MORGAN500",null,null,"MORGAN500"]
[null,null,{"$f":"IFERROR(VLOOKUP(ROWS($C$5:C545),$D$6:$E$902,2,FALSE),\"\")","v":""},{"$f":"IF(ISNUMBER(SEARCH($B$6,E546)),MAX($D$4:D545)+1,0)","v":0},"MORRIS115 ",null,"MORRIS115",null,null,"MORRIS115"]
[null,null,{"$f":"IFERROR(VLOOKUP(ROWS($C$5:C546),$D$6:$E$902,2,FALSE),\"\")","v":""},{"$f":"IF(ISNUMBER(SEARCH($B$6,E547)),MAX($D$4:D546)+1,0)","v":0},"MorrowPower ",null,"MorrowPower",null,null,"MorrowPower"]
[null,null,{"$f":"IFERROR(VLOOKUP(ROWS($C$5:C547),$D$6:$E$902,2,FALSE),\"\")","v":""},{"$f":"IF(ISNUMBER(SEARCH($B$6,E548)),MAX($D$4:D547)+1,0)","v":0},"MPAC ",null,"MPAC",null,null,"MPAC"]
[null,null,{"$f":"IFERROR(VLOOKUP(ROWS($C$5:C548),$D$6:$E$902,2,FALSE),\"\")","v":""},{"$f":"IF(ISNUMBER(SEARCH($B$6,E549)),MAX($D$4:D548)+1,0)","v":0},"MPP ",null,"MPP",null,null,"MPP"]
[null,null,{"$f":"IFERROR(VLOOKUP(ROWS($C$5:C549),$D$6:$E$902,2,FALSE),\"\")","v":""},{"$f":"IF(ISNUMBER(SEARCH($B$6,E550)),MAX($D$4:D549)+1,0)","v":0},"MPSN ",null,"MPSN",null,null,"MPSN"]
[null,null,{"$f":"IFERROR(VLOOKUP(ROWS($C$5:C550),$D$6:$E$902,2,FALSE),\"\")","v":""},{"$f":"IF(ISNUMBER(SEARCH($B$6,E551)),MAX($D$4:D550)+1,0)","v":76},"MSQUIT230 ",null,"MSQUIT230",null,null,"MSQUIT230"]
[null,null,{"$f":"IFERROR(VLOOKUP(ROWS($C$5:C551),$D$6:$E$902,2,FALSE),\"\")","v":""},{"$f":"IF(ISNUMBER(SEARCH($B$6,E552)),MAX($D$4:D551)+1,0)","v":0},"MTR ",null,"MTR",null,null,"MTR"]
[null,null,{"$f":"IFERROR(VLOOKUP(ROWS($C$5:C552),$D$6:$E$902,2,FALSE),\"\")","v":""},{"$f":"IF(ISNUMBER(SEARCH($B$6,E553)),MAX($D$4:D552)+1,0)","v":77},"NAT230 ",null,"NAT230",null,null,"NAT230"]
[null,null,{"$f":"IFERROR(VLOOKUP(ROWS($C$5:C553),$D$6:$E$902,2,FALSE),\"\")","v":""},{"$f":"IF(ISNUMBER(SEARCH($B$6,E554)),MAX($D$4:D553)+1,0)","v":78},"NAVAJO230 ",null,"NAVAJO230",null,null,"NAVAJO230"]
[null,null,{"$f":"IFERROR(VLOOKUP(ROWS($C$5:C554),$D$6:$E$902,2,FALSE),\"\")","v":""},{"$f":"IF(ISNUMBER(SEARCH($B$6,E555)),MAX($D$4:D554)+1,0)","v":79},"NAVAJO500 ",null,"NAVAJO500",null,null,"NAVAJO500"]
[null,null,{"$f":"IFERROR(VLOOKUP(ROWS($C$5:C555),$D$6:$E$902,2,FALSE),\"\")","v":""},{"$f":"IF(ISNUMBER(SEARCH($B$6,E556)),MAX($D$4:D555)+1,0)","v":0},"NEA ",null,"NEA",null,null,"NEA"]
[null,null,{"$f":"IFERROR(VLOOKUP(ROWS($C$5:C556),$D$6:$E$902,2,FALSE),\"\")","v":""},{"$f":"IF(ISNUMBER(SEARCH($B$6,E557)),MAX($D$4:D556)+1,0)","v":0},"NEC_SPV ",null,"NEC_SPV",null,null,"NEC_SPV"]
[null,null,{"$f":"IFERROR(VLOOKUP(ROWS($C$5:C557),$D$6:$E$902,2,FALSE),\"\")","v":""},{"$f":"IF(ISNUMBER(SEARCH($B$6,E558)),MAX($D$4:D557)+1,0)","v":0},"NECOG ",null,"NECOG",null,null,"NECOG"]
[null,null,{"$f":"IFERROR(VLOOKUP(ROWS($C$5:C558),$D$6:$E$902,2,FALSE),\"\")","v":""},{"$f":"IF(ISNUMBER(SEARCH($B$6,E559)),MAX($D$4:D558)+1,0)","v":0},"NEEDLESSYS ",null,"NEEDLESSYS",null,null,"NEEDLESSYS"]
[null,null,{"$f":"IFERROR(VLOOKUP(ROWS($C$5:C559),$D$6:$E$902,2,FALSE),\"\")","v":""},{"$f":"IF(ISNUMBER(SEARCH($B$6,E560)),MAX($D$4:D559)+1,0)","v":0},"NEVPSYS ",null,"NEVPSYS",null,null,"NEVPSYS"]
[null,null,{"$f":"IFERROR(VLOOKUP(ROWS($C$5:C560),$D$6:$E$902,2,FALSE),\"\")","v":""},{"$f":"IF(ISNUMBER(SEARCH($B$6,E561)),MAX($D$4:D560)+1,0)","v":0},"NEWPOINT ",null,"NEWPOINT",null,null,"NEWPOINT"]
[null,null,{"$f":"IFERROR(VLOOKUP(ROWS($C$5:C561),$D$6:$E$902,2,FALSE),\"\")","v":""},{"$f":"IF(ISNUMBER(SEARCH($B$6,E562)),MAX($D$4:D561)+1,0)","v":0},"NFOR ",null,"NFOR",null,null,"NFOR"]
[null,null,{"$f":"IFERROR(VLOOKUP(ROWS($C$5:C562),$D$6:$E$902,2,FALSE),\"\")","v":""},{"$f":"IF(ISNUMBER(SEARCH($B$6,E563)),MAX($D$4:D562)+1,0)","v":80},"NHAVASU230 ",null,"NHAVASU230",null,null,"NHAVASU230"]
[null,null,{"$f":"IFERROR(VLOOKUP(ROWS($C$5:C563),$D$6:$E$902,2,FALSE),\"\")","v":""},{"$f":"IF(ISNUMBER(SEARCH($B$6,E564)),MAX($D$4:D563)+1,0)","v":0},"NineCanyonW ",null,"NineCanyonW",null,null,"NineCanyonW"]
[null,null,{"$f":"IFERROR(VLOOKUP(ROWS($C$5:C564),$D$6:$E$902,2,FALSE),\"\")","v":""},{"$f":"IF(ISNUMBER(SEARCH($B$6,E565)),MAX($D$4:D564)+1,0)","v":0},"NLEW ",null,"NLEW",null,null,"NLEW"]
[null,null,{"$f":"IFERROR(VLOOKUP(ROWS($C$5:C565),$D$6:$E$902,2,FALSE),\"\")","v":""},{"$f":"IF(ISNUMBER(SEARCH($B$6,E566)),MAX($D$4:D565)+1,0)","v":81},"NML230 ",null,"NML230",null,null,"NML230"]
[null,null,{"$f":"IFERROR(VLOOKUP(ROWS($C$5:C566),$D$6:$E$902,2,FALSE),\"\")","v":""},{"$f":"IF(ISNUMBER(SEARCH($B$6,E567)),MAX($D$4:D566)+1,0)","v":0},"NOB ",null,"NOB",null,null,"NOB"]
[null,null,{"$f":"IFERROR(VLOOKUP(ROWS($C$5:C567),$D$6:$E$902,2,FALSE),\"\")","v":""},{"$f":"IF(ISNUMBER(SEARCH($B$6,E568)),MAX($D$4:D567)+1,0)","v":0},"NOGALES115 ",null,"NOGALES115",null,null,"NOGALES115"]
[null,null,{"$f":"IFERROR(VLOOKUP(ROWS($C$5:C568),$D$6:$E$902,2,FALSE),\"\")","v":""},{"$f":"IF(ISNUMBER(SEARCH($B$6,E569)),MAX($D$4:D568)+1,0)","v":0},"NoName ",null,"NoName",null,null,"NoName"]
[null,null,{"$f":"IFERROR(VLOOKUP(ROWS($C$5:C569),$D$6:$E$902,2,FALSE),\"\")","v":""},{"$f":"IF(ISNUMBER(SEARCH($B$6,E570)),MAX($D$4:D569)+1,0)","v":0},"North ",null,"North",null,null,"North"]
[null,null,{"$f":"IFERROR(VLOOKUP(ROWS($C$5:C570),$D$6:$E$902,2,FALSE),\"\")","v":""},{"$f":"IF(ISNUMBER(SEARCH($B$6,E571)),MAX($D$4:D570)+1,0)","v":0},"NorthWasco ",null,"NorthWasco",null,null,"NorthWasco"]
[null,null,{"$f":"IFERROR(VLOOKUP(ROWS($C$5:C571),$D$6:$E$902,2,FALSE),\"\")","v":""},{"$f":"IF(ISNUMBER(SEARCH($B$6,E572)),MAX($D$4:D571)+1,0)","v":0},"NORTHSYS ",null,"NORTHSYS",null,null,"NORTHSYS"]
[null,null,{"$f":"IFERROR(VLOOKUP(ROWS($C$5:C572),$D$6:$E$902,2,FALSE),\"\")","v":""},{"$f":"IF(ISNUMBER(SEARCH($B$6,E573)),MAX($D$4:D572)+1,0)","v":0},"NORTHWEST ",null,"NORTHWEST",null,null,"NORTHWEST"]
[null,null,{"$f":"IFERROR(VLOOKUP(ROWS($C$5:C573),$D$6:$E$902,2,FALSE),\"\")","v":""},{"$f":"IF(ISNUMBER(SEARCH($B$6,E574)),MAX($D$4:D573)+1,0)","v":0},"NORTON115 ",null,"NORTON115",null,null,"NORTON115"]
[null,null,{"$f":"IFERROR(VLOOKUP(ROWS($C$5:C574),$D$6:$E$902,2,FALSE),\"\")","v":""},{"$f":"IF(ISNUMBER(SEARCH($B$6,E575)),MAX($D$4:D574)+1,0)","v":0},"NOXON ",null,"NOXON",null,null,"NOXON"]
[null,null,{"$f":"IFERROR(VLOOKUP(ROWS($C$5:C575),$D$6:$E$902,2,FALSE),\"\")","v":""},{"$f":"IF(ISNUMBER(SEARCH($B$6,E576)),MAX($D$4:D575)+1,0)","v":0},"NP15 ",null,"NP15",null,null,"NP15"]
[null,null,{"$f":"IFERROR(VLOOKUP(ROWS($C$5:C576),$D$6:$E$902,2,FALSE),\"\")","v":""},{"$f":"IF(ISNUMBER(SEARCH($B$6,E577)),MAX($D$4:D576)+1,0)","v":0},"NPSS ",null,"NPSS",null,null,"NPSS"]
[null,null,{"$f":"IFERROR(VLOOKUP(ROWS($C$5:C577),$D$6:$E$902,2,FALSE),\"\")","v":""},{"$f":"IF(ISNUMBER(SEARCH($B$6,E578)),MAX($D$4:D577)+1,0)","v":82},"NRTHGILA500 ",null,"NRTHGILA500",null,null,"NRTHGILA500"]
[null,null,{"$f":"IFERROR(VLOOKUP(ROWS($C$5:C578),$D$6:$E$902,2,FALSE),\"\")","v":""},{"$f":"IF(ISNUMBER(SEARCH($B$6,E579)),MAX($D$4:D578)+1,0)","v":0},"NRTHGILA69 ",null,"NRTHGILA69",null,null,"NRTHGILA69"]
[null,null,{"$f":"IFERROR(VLOOKUP(ROWS($C$5:C579),$D$6:$E$902,2,FALSE),\"\")","v":""},{"$f":"IF(ISNUMBER(SEARCH($B$6,E580)),MAX($D$4:D579)+1,0)","v":0},"NUT ",null,"NUT",null,null,"NUT"]
[null,null,{"$f":"IFERROR(VLOOKUP(ROWS($C$5:C580),$D$6:$E$902,2,FALSE),\"\")","v":""},{"$f":"IF(ISNUMBER(SEARCH($B$6,E581)),MAX($D$4:D580)+1,0)","v":0},"NWAluminum ",null,"NWAluminum",null,null,"NWAluminum"]
[null,null,{"$f":"IFERROR(VLOOKUP(ROWS($C$5:C581),$D$6:$E$902,2,FALSE),\"\")","v":""},{"$f":"IF(ISNUMBER(SEARCH($B$6,E582)),MAX($D$4:D581)+1,0)","v":0},"NWH ",null,"NWH",null,null,"NWH"]
[null,null,{"$f":"IFERROR(VLOOKUP(ROWS($C$5:C582),$D$6:$E$902,2,FALSE),\"\")","v":""},{"$f":"IF(ISNUMBER(SEARCH($B$6,E583)),MAX($D$4:D582)+1,0)","v":0},{"$f":"CONCATENATE(G583, \" \")","v":"NW-MT "},null,"NW-MT",null,null,"NW-MT"]
[null,null,{"$f":"IFERROR(VLOOKUP(ROWS($C$5:C583),$D$6:$E$902,2,FALSE),\"\")","v":""},{"$f":"IF(ISNUMBER(SEARCH($B$6,E584)),MAX($D$4:D583)+1,0)","v":0},"NWMT.System ",null,"NWMT.System",null,null,"NWMT.System"]
[null,null,{"$f":"IFERROR(VLOOKUP(ROWS($C$5:C584),$D$6:$E$902,2,FALSE),\"\")","v":""},{"$f":"IF(ISNUMBER(SEARCH($B$6,E585)),MAX($D$4:D584)+1,0)","v":0},"NYUM ",null,"NYUM",null,null,"NYUM"]
[null,null,{"$f":"IFERROR(VLOOKUP(ROWS($C$5:C585),$D$6:$E$902,2,FALSE),\"\")","v":""},{"$f":"IF(ISNUMBER(SEARCH($B$6,E586)),MAX($D$4:D585)+1,0)","v":0},"OAKDALE ",null,"OAKDALE",null,null,"OAKDALE"]
[null,null,{"$f":"IFERROR(VLOOKUP(ROWS($C$5:C586),$D$6:$E$902,2,FALSE),\"\")","v":""},{"$f":"IF(ISNUMBER(SEARCH($B$6,E587)),MAX($D$4:D586)+1,0)","v":0},"OBBLPR ",null,"OBBLPR",null,null,"OBBLPR"]
[null,null,{"$f":"IFERROR(VLOOKUP(ROWS($C$5:C587),$D$6:$E$902,2,FALSE),\"\")","v":""},{"$f":"IF(ISNUMBER(SEARCH($B$6,E588)),MAX($D$4:D587)+1,0)","v":83},"OBN230 ",null,"OBN230",null,null,"OBN230"]
[null,null,{"$f":"IFERROR(VLOOKUP(ROWS($C$5:C588),$D$6:$E$902,2,FALSE),\"\")","v":""},{"$f":"IF(ISNUMBER(SEARCH($B$6,E589)),MAX($D$4:D588)+1,0)","v":0},"OBPRNORTH ",null,"OBPRNORTH",null,null,"OBPRNORTH"]
[null,null,{"$f":"IFERROR(VLOOKUP(ROWS($C$5:C589),$D$6:$E$902,2,FALSE),\"\")","v":""},{"$f":"IF(ISNUMBER(SEARCH($B$6,E590)),MAX($D$4:D589)+1,0)","v":0},"OCOTILLO69 ",null,"OCOTILLO69",null,null,"OCOTILLO69"]
[null,null,{"$f":"IFERROR(VLOOKUP(ROWS($C$5:C590),$D$6:$E$902,2,FALSE),\"\")","v":""},{"$f":"IF(ISNUMBER(SEARCH($B$6,E591)),MAX($D$4:D590)+1,0)","v":84},"ODA230 ",null,"ODA230",null,null,"ODA230"]
[null,null,{"$f":"IFERROR(VLOOKUP(ROWS($C$5:C591),$D$6:$E$902,2,FALSE),\"\")","v":""},{"$f":"IF(ISNUMBER(SEARCH($B$6,E592)),MAX($D$4:D591)+1,0)","v":85},"ODA500 ",null,"ODA500",null,null,"ODA500"]
[null,null,{"$f":"IFERROR(VLOOKUP(ROWS($C$5:C592),$D$6:$E$902,2,FALSE),\"\")","v":""},{"$f":"IF(ISNUMBER(SEARCH($B$6,E593)),MAX($D$4:D592)+1,0)","v":0},"OGAL ",null,"OGAL",null,null,"OGAL"]
[null,null,{"$f":"IFERROR(VLOOKUP(ROWS($C$5:C593),$D$6:$E$902,2,FALSE),\"\")","v":""},{"$f":"IF(ISNUMBER(SEARCH($B$6,E594)),MAX($D$4:D593)+1,0)","v":0},"OJO345 ",null,"OJO345",null,null,"OJO345"]
[null,null,{"$f":"IFERROR(VLOOKUP(ROWS($C$5:C594),$D$6:$E$902,2,FALSE),\"\")","v":""},{"$f":"IF(ISNUMBER(SEARCH($B$6,E595)),MAX($D$4:D594)+1,0)","v":0},"OKAN_D.S. ",null,"OKAN_D.S.",null,null,"OKAN_D.S."]
[null,null,{"$f":"IFERROR(VLOOKUP(ROWS($C$5:C595),$D$6:$E$902,2,FALSE),\"\")","v":""},{"$f":"IF(ISNUMBER(SEARCH($B$6,E596)),MAX($D$4:D595)+1,0)","v":0},"Okanogan ",null,"Okanogan",null,null,"Okanogan"]
[null,null,{"$f":"IFERROR(VLOOKUP(ROWS($C$5:C596),$D$6:$E$902,2,FALSE),\"\")","v":""},{"$f":"IF(ISNUMBER(SEARCH($B$6,E597)),MAX($D$4:D596)+1,0)","v":0},"ORACLE115 ",null,"ORACLE115",null,null,"ORACLE115"]
[null,null,{"$f":"IFERROR(VLOOKUP(ROWS($C$5:C597),$D$6:$E$902,2,FALSE),\"\")","v":""},{"$f":"IF(ISNUMBER(SEARCH($B$6,E598)),MAX($D$4:D597)+1,0)","v":0},"ORACLEJUN115 ",null,"ORACLEJUN115",null,null,"ORACLEJUN115"]
[null,null,{"$f":"IFERROR(VLOOKUP(ROWS($C$5:C598),$D$6:$E$902,2,FALSE),\"\")","v":""},{"$f":"IF(ISNUMBER(SEARCH($B$6,E599)),MAX($D$4:D598)+1,0)","v":0},"ORCAS ",null,"ORCAS",null,null,"ORCAS"]
[null,null,{"$f":"IFERROR(VLOOKUP(ROWS($C$5:C599),$D$6:$E$902,2,FALSE),\"\")","v":""},{"$f":"IF(ISNUMBER(SEARCH($B$6,E600)),MAX($D$4:D599)+1,0)","v":0},"OregonTrail ",null,"OregonTrail",null,null,"OregonTrail"]
[null,null,{"$f":"IFERROR(VLOOKUP(ROWS($C$5:C600),$D$6:$E$902,2,FALSE),\"\")","v":""},{"$f":"IF(ISNUMBER(SEARCH($B$6,E601)),MAX($D$4:D600)+1,0)","v":0},"OreMet ",null,"OreMet",null,null,"OreMet"]
[null,null,{"$f":"IFERROR(VLOOKUP(ROWS($C$5:C601),$D$6:$E$902,2,FALSE),\"\")","v":""},{"$f":"IF(ISNUMBER(SEARCH($B$6,E602)),MAX($D$4:D601)+1,0)","v":0},"ORM1 ",null,"ORM1",null,null,"ORM1"]
[null,null,{"$f":"IFERROR(VLOOKUP(ROWS($C$5:C602),$D$6:$E$902,2,FALSE),\"\")","v":""},{"$f":"IF(ISNUMBER(SEARCH($B$6,E603)),MAX($D$4:D602)+1,0)","v":0},"ORM2 ",null,"ORM2",null,null,"ORM2"]
[null,null,{"$f":"IFERROR(VLOOKUP(ROWS($C$5:C603),$D$6:$E$902,2,FALSE),\"\")","v":""},{"$f":"IF(ISNUMBER(SEARCH($B$6,E604)),MAX($D$4:D603)+1,0)","v":86},"ORME230 ",null,"ORME230",null,null,"ORME230"]
[null,null,{"$f":"IFERROR(VLOOKUP(ROWS($C$5:C604),$D$6:$E$902,2,FALSE),\"\")","v":""},{"$f":"IF(ISNUMBER(SEARCH($B$6,E605)),MAX($D$4:D604)+1,0)","v":0},"OROGRANDE115 ",null,"OROGRANDE115",null,null,"OROGRANDE115"]
[null,null,{"$f":"IFERROR(VLOOKUP(ROWS($C$5:C605),$D$6:$E$902,2,FALSE),\"\")","v":""},{"$f":"IF(ISNUMBER(SEARCH($B$6,E606)),MAX($D$4:D605)+1,0)","v":0},"OS ",null,"OS",null,null,"OS"]
[null,null,{"$f":"IFERROR(VLOOKUP(ROWS($C$5:C606),$D$6:$E$902,2,FALSE),\"\")","v":""},{"$f":"IF(ISNUMBER(SEARCH($B$6,E607)),MAX($D$4:D606)+1,0)","v":0},"OSAGE ",null,"OSAGE",null,null,"OSAGE"]
[null,null,{"$f":"IFERROR(VLOOKUP(ROWS($C$5:C607),$D$6:$E$902,2,FALSE),\"\")","v":""},{"$f":"IF(ISNUMBER(SEARCH($B$6,E608)),MAX($D$4:D607)+1,0)","v":0},"OTEC ",null,"OTEC",null,null,"OTEC"]
[null,null,{"$f":"IFERROR(VLOOKUP(ROWS($C$5:C608),$D$6:$E$902,2,FALSE),\"\")","v":""},{"$f":"IF(ISNUMBER(SEARCH($B$6,E609)),MAX($D$4:D608)+1,0)","v":0},"OTECTAP ",null,"OTECTAP",null,null,"OTECTAP"]
[null,null,{"$f":"IFERROR(VLOOKUP(ROWS($C$5:C609),$D$6:$E$902,2,FALSE),\"\")","v":""},{"$f":"IF(ISNUMBER(SEARCH($B$6,E610)),MAX($D$4:D609)+1,0)","v":0},"PACE ",null,"PACE",null,null,"PACE"]
[null,null,{"$f":"IFERROR(VLOOKUP(ROWS($C$5:C610),$D$6:$E$902,2,FALSE),\"\")","v":""},{"$f":"IF(ISNUMBER(SEARCH($B$6,E611)),MAX($D$4:D610)+1,0)","v":0},"PACEN ",null,"PACEN",null,null,"PACEN"]
[null,null,{"$f":"IFERROR(VLOOKUP(ROWS($C$5:C611),$D$6:$E$902,2,FALSE),\"\")","v":""},{"$f":"IF(ISNUMBER(SEARCH($B$6,E612)),MAX($D$4:D611)+1,0)","v":0},"PACES ",null,"PACES",null,null,"PACES"]
[null,null,{"$f":"IFERROR(VLOOKUP(ROWS($C$5:C612),$D$6:$E$902,2,FALSE),\"\")","v":""},{"$f":"IF(ISNUMBER(SEARCH($B$6,E613)),MAX($D$4:D612)+1,0)","v":0},"PacificPUD ",null,"PacificPUD",null,null,"PacificPUD"]
[null,null,{"$f":"IFERROR(VLOOKUP(ROWS($C$5:C613),$D$6:$E$902,2,FALSE),\"\")","v":""},{"$f":"IF(ISNUMBER(SEARCH($B$6,E614)),MAX($D$4:D613)+1,0)","v":0},"Packwood ",null,"Packwood",null,null,"Packwood"]
[null,null,{"$f":"IFERROR(VLOOKUP(ROWS($C$5:C614),$D$6:$E$902,2,FALSE),\"\")","v":""},{"$f":"IF(ISNUMBER(SEARCH($B$6,E615)),MAX($D$4:D614)+1,0)","v":0},"PACW ",null,"PACW",null,null,"PACW"]
[null,null,{"$f":"IFERROR(VLOOKUP(ROWS($C$5:C615),$D$6:$E$902,2,FALSE),\"\")","v":""},{"$f":"IF(ISNUMBER(SEARCH($B$6,E616)),MAX($D$4:D615)+1,0)","v":0},"PACW.PGE ",null,"PACW.PGE",null,null,"PACW.PGE"]
[null,null,{"$f":"IFERROR(VLOOKUP(ROWS($C$5:C616),$D$6:$E$902,2,FALSE),\"\")","v":""},{"$f":"IF(ISNUMBER(SEARCH($B$6,E617)),MAX($D$4:D616)+1,0)","v":0},"PACWBDRL ",null,"PACWBDRL",null,null,"PACWBDRL"]
[null,null,{"$f":"IFERROR(VLOOKUP(ROWS($C$5:C617),$D$6:$E$902,2,FALSE),\"\")","v":""},{"$f":"IF(ISNUMBER(SEARCH($B$6,E618)),MAX($D$4:D617)+1,0)","v":0},"PALOVERDE ",null,"PALOVERDE",null,null,"PALOVERDE"]
[null,null,{"$f":"IFERROR(VLOOKUP(ROWS($C$5:C618),$D$6:$E$902,2,FALSE),\"\")","v":""},{"$f":"IF(ISNUMBER(SEARCH($B$6,E619)),MAX($D$4:D618)+1,0)","v":87},"PALOVERDE500 ",null,"PALOVERDE500",null,null,"PALOVERDE500"]
[null,null,{"$f":"IFERROR(VLOOKUP(ROWS($C$5:C619),$D$6:$E$902,2,FALSE),\"\")","v":""},{"$f":"IF(ISNUMBER(SEARCH($B$6,E620)),MAX($D$4:D619)+1,0)","v":88},"PANDA230 ",null,"PANDA230",null,null,"PANDA230"]
[null,null,{"$f":"IFERROR(VLOOKUP(ROWS($C$5:C620),$D$6:$E$902,2,FALSE),\"\")","v":""},{"$f":"IF(ISNUMBER(SEARCH($B$6,E621)),MAX($D$4:D620)+1,0)","v":0},"PARKER ",null,"PARKER",null,null,"PARKER"]
[null,null,{"$f":"IFERROR(VLOOKUP(ROWS($C$5:C621),$D$6:$E$902,2,FALSE),\"\")","v":""},{"$f":"IF(ISNUMBER(SEARCH($B$6,E622)),MAX($D$4:D621)+1,0)","v":0},"PARKER161 ",null,"PARKER161",null,null,"PARKER161"]
[null,null,{"$f":"IFERROR(VLOOKUP(ROWS($C$5:C622),$D$6:$E$902,2,FALSE),\"\")","v":""},{"$f":"IF(ISNUMBER(SEARCH($B$6,E623)),MAX($D$4:D622)+1,0)","v":89},"PARKER230 ",null,"PARKER230",null,null,"PARKER230"]
[null,null,{"$f":"IFERROR(VLOOKUP(ROWS($C$5:C623),$D$6:$E$902,2,FALSE),\"\")","v":""},{"$f":"IF(ISNUMBER(SEARCH($B$6,E624)),MAX($D$4:D623)+1,0)","v":0},"PATH48GW ",null,"PATH48GW",null,null,"PATH48GW"]
[null,null,{"$f":"IFERROR(VLOOKUP(ROWS($C$5:C624),$D$6:$E$902,2,FALSE),\"\")","v":""},{"$f":"IF(ISNUMBER(SEARCH($B$6,E625)),MAX($D$4:D624)+1,0)","v":0},"PATHC ",null,"PATHC",null,null,"PATHC"]
[null,null,{"$f":"IFERROR(VLOOKUP(ROWS($C$5:C625),$D$6:$E$902,2,FALSE),\"\")","v":""},{"$f":"IF(ISNUMBER(SEARCH($B$6,E626)),MAX($D$4:D625)+1,0)","v":0},"PaTu ",null,"PaTu",null,null,"PaTu"]
[null,null,{"$f":"IFERROR(VLOOKUP(ROWS($C$5:C626),$D$6:$E$902,2,FALSE),\"\")","v":""},{"$f":"IF(ISNUMBER(SEARCH($B$6,E627)),MAX($D$4:D626)+1,0)","v":0},"Pavant ",null,"Pavant",null,null,"Pavant"]
[null,null,{"$f":"IFERROR(VLOOKUP(ROWS($C$5:C627),$D$6:$E$902,2,FALSE),\"\")","v":""},{"$f":"IF(ISNUMBER(SEARCH($B$6,E628)),MAX($D$4:D627)+1,0)","v":0},"PAWN ",null,"PAWN",null,null,"PAWN"]
[null,null,{"$f":"IFERROR(VLOOKUP(ROWS($C$5:C628),$D$6:$E$902,2,FALSE),\"\")","v":""},{"$f":"IF(ISNUMBER(SEARCH($B$6,E629)),MAX($D$4:D628)+1,0)","v":0},"PAWNGEN ",null,"PAWNGEN",null,null,"PAWNGEN"]
[null,null,{"$f":"IFERROR(VLOOKUP(ROWS($C$5:C629),$D$6:$E$902,2,FALSE),\"\")","v":""},{"$f":"IF(ISNUMBER(SEARCH($B$6,E630)),MAX($D$4:D629)+1,0)","v":90},"PEACOCK230 ",null,"PEACOCK230",null,null,"PEACOCK230"]
[null,null,{"$f":"IFERROR(VLOOKUP(ROWS($C$5:C630),$D$6:$E$902,2,FALSE),\"\")","v":""},{"$f":"IF(ISNUMBER(SEARCH($B$6,E631)),MAX($D$4:D630)+1,0)","v":0},"PebbleSprgLD ",null,"PebbleSprgLD",null,null,"PebbleSprgLD"]
[null,null,{"$f":"IFERROR(VLOOKUP(ROWS($C$5:C631),$D$6:$E$902,2,FALSE),\"\")","v":""},{"$f":"IF(ISNUMBER(SEARCH($B$6,E632)),MAX($D$4:D631)+1,0)","v":0},"PebbleSprngs ",null,"PebbleSprngs",null,null,"PebbleSprngs"]
[null,null,{"$f":"IFERROR(VLOOKUP(ROWS($C$5:C632),$D$6:$E$902,2,FALSE),\"\")","v":""},{"$f":"IF(ISNUMBER(SEARCH($B$6,E633)),MAX($D$4:D632)+1,0)","v":0},"PEGS ",null,"PEGS",null,null,"PEGS"]
[null,null,{"$f":"IFERROR(VLOOKUP(ROWS($C$5:C633),$D$6:$E$902,2,FALSE),\"\")","v":""},{"$f":"IF(ISNUMBER(SEARCH($B$6,E634)),MAX($D$4:D633)+1,0)","v":0},"PendletonPac ",null,"PendletonPac",null,null,"PendletonPac"]
[null,null,{"$f":"IFERROR(VLOOKUP(ROWS($C$5:C634),$D$6:$E$902,2,FALSE),\"\")","v":""},{"$f":"IF(ISNUMBER(SEARCH($B$6,E635)),MAX($D$4:D634)+1,0)","v":0},"PGAE.SYSTEM ",null,"PGAE.SYSTEM",null,null,"PGAE.SYSTEM"]
[null,null,{"$f":"IFERROR(VLOOKUP(ROWS($C$5:C635),$D$6:$E$902,2,FALSE),\"\")","v":""},{"$f":"IF(ISNUMBER(SEARCH($B$6,E636)),MAX($D$4:D635)+1,0)","v":0},"PGE ",null,"PGE",null,null,"PGE"]
[null,null,{"$f":"IFERROR(VLOOKUP(ROWS($C$5:C636),$D$6:$E$902,2,FALSE),\"\")","v":""},{"$f":"IF(ISNUMBER(SEARCH($B$6,E637)),MAX($D$4:D636)+1,0)","v":0},"PGE.BEAVER ",null,"PGE.BEAVER",null,null,"PGE.BEAVER"]
[null,null,{"$f":"IFERROR(VLOOKUP(ROWS($C$5:C637),$D$6:$E$902,2,FALSE),\"\")","v":""},{"$f":"IF(ISNUMBER(SEARCH($B$6,E638)),MAX($D$4:D637)+1,0)","v":0},"PGE.COLSTRIP ",null,"PGE.COLSTRIP",null,null,"PGE.COLSTRIP"]
[null,null,{"$f":"IFERROR(VLOOKUP(ROWS($C$5:C638),$D$6:$E$902,2,FALSE),\"\")","v":""},{"$f":"IF(ISNUMBER(SEARCH($B$6,E639)),MAX($D$4:D638)+1,0)","v":0},"PGE.COYSPR1 ",null,"PGE.COYSPR1",null,null,"PGE.COYSPR1"]
[null,null,{"$f":"IFERROR(VLOOKUP(ROWS($C$5:C639),$D$6:$E$902,2,FALSE),\"\")","v":""},{"$f":"IF(ISNUMBER(SEARCH($B$6,E640)),MAX($D$4:D639)+1,0)","v":0},"PGE.INTERNAL ",null,"PGE.INTERNAL",null,null,"PGE.INTERNAL"]
[null,null,{"$f":"IFERROR(VLOOKUP(ROWS($C$5:C640),$D$6:$E$902,2,FALSE),\"\")","v":""},{"$f":"IF(ISNUMBER(SEARCH($B$6,E641)),MAX($D$4:D640)+1,0)","v":0},"PGE.MIDC ",null,"PGE.MIDC",null,null,"PGE.MIDC"]
[null,null,{"$f":"IFERROR(VLOOKUP(ROWS($C$5:C641),$D$6:$E$902,2,FALSE),\"\")","v":""},{"$f":"IF(ISNUMBER(SEARCH($B$6,E642)),MAX($D$4:D641)+1,0)","v":0},"PGE.SLATT ",null,"PGE.SLATT",null,null,"PGE.SLATT"]
[null,null,{"$f":"IFERROR(VLOOKUP(ROWS($C$5:C642),$D$6:$E$902,2,FALSE),\"\")","v":""},{"$f":"IF(ISNUMBER(SEARCH($B$6,E643)),MAX($D$4:D642)+1,0)","v":0},"PGE.TROJAN ",null,"PGE.TROJAN",null,null,"PGE.TROJAN"]
[null,null,{"$f":"IFERROR(VLOOKUP(ROWS($C$5:C643),$D$6:$E$902,2,FALSE),\"\")","v":""},{"$f":"IF(ISNUMBER(SEARCH($B$6,E644)),MAX($D$4:D643)+1,0)","v":0},"PHDO ",null,"PHDO",null,null,"PHDO"]
[null,null,{"$f":"IFERROR(VLOOKUP(ROWS($C$5:C644),$D$6:$E$902,2,FALSE),\"\")","v":""},{"$f":"IF(ISNUMBER(SEARCH($B$6,E645)),MAX($D$4:D644)+1,0)","v":91},"PHOENIX230 ",null,"PHOENIX230",null,null,"PHOENIX230"]
[null,null,{"$f":"IFERROR(VLOOKUP(ROWS($C$5:C645),$D$6:$E$902,2,FALSE),\"\")","v":""},{"$f":"IF(ISNUMBER(SEARCH($B$6,E646)),MAX($D$4:D645)+1,0)","v":0},"PICACHO115 ",null,"PICACHO115",null,null,"PICACHO115"]
[null,null,{"$f":"IFERROR(VLOOKUP(ROWS($C$5:C646),$D$6:$E$902,2,FALSE),\"\")","v":""},{"$f":"IF(ISNUMBER(SEARCH($B$6,E647)),MAX($D$4:D646)+1,0)","v":92},{"$f":"CONCATENATE(G647, \" \")","v":"PilotBute230 "},null,"PilotBute230",null,null,"PilotBute230"]
[null,null,{"$f":"IFERROR(VLOOKUP(ROWS($C$5:C647),$D$6:$E$902,2,FALSE),\"\")","v":""},{"$f":"IF(ISNUMBER(SEARCH($B$6,E648)),MAX($D$4:D647)+1,0)","v":0},"PILOTKNOB161 ",null,"PILOTKNOB161",null,null,"PILOTKNOB161"]
[null,null,{"$f":"IFERROR(VLOOKUP(ROWS($C$5:C648),$D$6:$E$902,2,FALSE),\"\")","v":""},{"$f":"IF(ISNUMBER(SEARCH($B$6,E649)),MAX($D$4:D648)+1,0)","v":0},"PINALWEST345 ",null,"PINALWEST345",null,null,"PINALWEST345"]
[null,null,{"$f":"IFERROR(VLOOKUP(ROWS($C$5:C649),$D$6:$E$902,2,FALSE),\"\")","v":""},{"$f":"IF(ISNUMBER(SEARCH($B$6,E650)),MAX($D$4:D649)+1,0)","v":93},"PINALWEST500 ",null,"PINALWEST500",null,null,"PINALWEST500"]
[null,null,{"$f":"IFERROR(VLOOKUP(ROWS($C$5:C650),$D$6:$E$902,2,FALSE),\"\")","v":""},{"$f":"IF(ISNUMBER(SEARCH($B$6,E651)),MAX($D$4:D650)+1,0)","v":0},"PINESTREET ",null,"PINESTREET",null,null,"PINESTREET"]
[null,null,{"$f":"IFERROR(VLOOKUP(ROWS($C$5:C651),$D$6:$E$902,2,FALSE),\"\")","v":""},{"$f":"IF(ISNUMBER(SEARCH($B$6,E652)),MAX($D$4:D651)+1,0)","v":94},"PINPKAPS230 ",null,"PINPKAPS230",null,null,"PINPKAPS230"]
[null,null,{"$f":"IFERROR(VLOOKUP(ROWS($C$5:C652),$D$6:$E$902,2,FALSE),\"\")","v":""},{"$f":"IF(ISNUMBER(SEARCH($B$6,E653)),MAX($D$4:D652)+1,0)","v":95},"PINPKSRP230 ",null,"PINPKSRP230",null,null,"PINPKSRP230"]
[null,null,{"$f":"IFERROR(VLOOKUP(ROWS($C$5:C653),$D$6:$E$902,2,FALSE),\"\")","v":""},{"$f":"IF(ISNUMBER(SEARCH($B$6,E654)),MAX($D$4:D653)+1,0)","v":0},"PINTO ",null,"PINTO",null,null,"PINTO"]
[null,null,{"$f":"IFERROR(VLOOKUP(ROWS($C$5:C654),$D$6:$E$902,2,FALSE),\"\")","v":""},{"$f":"IF(ISNUMBER(SEARCH($B$6,E655)),MAX($D$4:D654)+1,0)","v":0},"PLAY115 ",null,"PLAY115",null,null,"PLAY115"]
[null,null,{"$f":"IFERROR(VLOOKUP(ROWS($C$5:C655),$D$6:$E$902,2,FALSE),\"\")","v":""},{"$f":"IF(ISNUMBER(SEARCH($B$6,E656)),MAX($D$4:D655)+1,0)","v":0},"PLAY69 ",null,"PLAY69",null,null,"PLAY69"]
[null,null,{"$f":"IFERROR(VLOOKUP(ROWS($C$5:C656),$D$6:$E$902,2,FALSE),\"\")","v":""},{"$f":"IF(ISNUMBER(SEARCH($B$6,E657)),MAX($D$4:D656)+1,0)","v":0},"PM2 ",null,"PM2",null,null,"PM2"]
[null,null,{"$f":"IFERROR(VLOOKUP(ROWS($C$5:C657),$D$6:$E$902,2,FALSE),\"\")","v":""},{"$f":"IF(ISNUMBER(SEARCH($B$6,E658)),MAX($D$4:D657)+1,0)","v":0},"PNGC ",null,"PNGC",null,null,"PNGC"]
[null,null,{"$f":"IFERROR(VLOOKUP(ROWS($C$5:C658),$D$6:$E$902,2,FALSE),\"\")","v":""},{"$f":"IF(ISNUMBER(SEARCH($B$6,E659)),MAX($D$4:D658)+1,0)","v":96},"PNPKWALC230 ",null,"PNPKWALC230",null,null,"PNPKWALC230"]
[null,null,{"$f":"IFERROR(VLOOKUP(ROWS($C$5:C659),$D$6:$E$902,2,FALSE),\"\")","v":""},{"$f":"IF(ISNUMBER(SEARCH($B$6,E660)),MAX($D$4:D659)+1,0)","v":0},"PON ",null,"PON",null,null,"PON"]
[null,null,{"$f":"IFERROR(VLOOKUP(ROWS($C$5:C660),$D$6:$E$902,2,FALSE),\"\")","v":""},{"$f":"IF(ISNUMBER(SEARCH($B$6,E661)),MAX($D$4:D660)+1,0)","v":0},"PONC ",null,"PONC",null,null,"PONC"]
[null,null,{"$f":"IFERROR(VLOOKUP(ROWS($C$5:C661),$D$6:$E$902,2,FALSE),\"\")","v":""},{"$f":"IF(ISNUMBER(SEARCH($B$6,E662)),MAX($D$4:D661)+1,0)","v":97},"Ponderosa230 ",null,"Ponderosa230",null,null,"Ponderosa230"]
[null,null,{"$f":"IFERROR(VLOOKUP(ROWS($C$5:C662),$D$6:$E$902,2,FALSE),\"\")","v":""},{"$f":"IF(ISNUMBER(SEARCH($B$6,E663)),MAX($D$4:D662)+1,0)","v":98},"Ponderosa500 ",null,"Ponderosa500",null,null,"Ponderosa500"]
[null,null,{"$f":"IFERROR(VLOOKUP(ROWS($C$5:C663),$D$6:$E$902,2,FALSE),\"\")","v":""},{"$f":"IF(ISNUMBER(SEARCH($B$6,E664)),MAX($D$4:D663)+1,0)","v":0},"POP ",null,"POP",null,null,"POP"]
[null,null,{"$f":"IFERROR(VLOOKUP(ROWS($C$5:C664),$D$6:$E$902,2,FALSE),\"\")","v":""},{"$f":"IF(ISNUMBER(SEARCH($B$6,E665)),MAX($D$4:D664)+1,0)","v":0},"POPD ",null,"POPD",null,null,"POPD"]
[null,null,{"$f":"IFERROR(VLOOKUP(ROWS($C$5:C665),$D$6:$E$902,2,FALSE),\"\")","v":""},{"$f":"IF(ISNUMBER(SEARCH($B$6,E666)),MAX($D$4:D665)+1,0)","v":0},"PortAngeles ",null,"PortAngeles",null,null,"PortAngeles"]
[null,null,{"$f":"IFERROR(VLOOKUP(ROWS($C$5:C666),$D$6:$E$902,2,FALSE),\"\")","v":""},{"$f":"IF(ISNUMBER(SEARCH($B$6,E667)),MAX($D$4:D666)+1,0)","v":0},"PORTTOWNMILL ",null,"PORTTOWNMILL",null,null,"PORTTOWNMILL"]
[null,null,{"$f":"IFERROR(VLOOKUP(ROWS($C$5:C667),$D$6:$E$902,2,FALSE),\"\")","v":""},{"$f":"IF(ISNUMBER(SEARCH($B$6,E668)),MAX($D$4:D667)+1,0)","v":0},"POWELL.RIVER ",null,"POWELL.RIVER",null,null,"POWELL.RIVER"]
[null,null,{"$f":"IFERROR(VLOOKUP(ROWS($C$5:C668),$D$6:$E$902,2,FALSE),\"\")","v":""},{"$f":"IF(ISNUMBER(SEARCH($B$6,E669)),MAX($D$4:D668)+1,0)","v":0},"PPA.LD ",null,"PPA.LD",null,null,"PPA.LD"]
[null,null,{"$f":"IFERROR(VLOOKUP(ROWS($C$5:C669),$D$6:$E$902,2,FALSE),\"\")","v":""},{"$f":"IF(ISNUMBER(SEARCH($B$6,E670)),MAX($D$4:D669)+1,0)","v":0},"PPMIBR ",null,"PPMIBR",null,null,"PPMIBR"]
[null,null,{"$f":"IFERROR(VLOOKUP(ROWS($C$5:C670),$D$6:$E$902,2,FALSE),\"\")","v":""},{"$f":"IF(ISNUMBER(SEARCH($B$6,E671)),MAX($D$4:D670)+1,0)","v":0},"PriestRapids ",null,"PriestRapids",null,null,"PriestRapids"]
[null,null,{"$f":"IFERROR(VLOOKUP(ROWS($C$5:C671),$D$6:$E$902,2,FALSE),\"\")","v":""},{"$f":"IF(ISNUMBER(SEARCH($B$6,E672)),MAX($D$4:D671)+1,0)","v":0},"PRPLD ",null,"PRPLD",null,null,"PRPLD"]
[null,null,{"$f":"IFERROR(VLOOKUP(ROWS($C$5:C672),$D$6:$E$902,2,FALSE),\"\")","v":""},{"$f":"IF(ISNUMBER(SEARCH($B$6,E673)),MAX($D$4:D672)+1,0)","v":0},"PSA1LG ",null,"PSA1LG",null,null,"PSA1LG"]
[null,null,{"$f":"IFERROR(VLOOKUP(ROWS($C$5:C673),$D$6:$E$902,2,FALSE),\"\")","v":""},{"$f":"IF(ISNUMBER(SEARCH($B$6,E674)),MAX($D$4:D673)+1,0)","v":0},"PSCMGW ",null,"PSCMGW",null,null,"PSCMGW"]
[null,null,{"$f":"IFERROR(VLOOKUP(ROWS($C$5:C674),$D$6:$E$902,2,FALSE),\"\")","v":""},{"$f":"IF(ISNUMBER(SEARCH($B$6,E675)),MAX($D$4:D674)+1,0)","v":0},"PSCO ",null,"PSCO",null,null,"PSCO"]
[null,null,{"$f":"IFERROR(VLOOKUP(ROWS($C$5:C675),$D$6:$E$902,2,FALSE),\"\")","v":""},{"$f":"IF(ISNUMBER(SEARCH($B$6,E676)),MAX($D$4:D675)+1,0)","v":0},"PSCOGEN ",null,"PSCOGEN",null,null,"PSCOGEN"]
[null,null,{"$f":"IFERROR(VLOOKUP(ROWS($C$5:C676),$D$6:$E$902,2,FALSE),\"\")","v":""},{"$f":"IF(ISNUMBER(SEARCH($B$6,E677)),MAX($D$4:D676)+1,0)","v":0},"PSCOWSTATION ",null,"PSCOWSTATION",null,null,"PSCOWSTATION"]
[null,null,{"$f":"IFERROR(VLOOKUP(ROWS($C$5:C677),$D$6:$E$902,2,FALSE),\"\")","v":""},{"$f":"IF(ISNUMBER(SEARCH($B$6,E678)),MAX($D$4:D677)+1,0)","v":0},"PSEI.SYSTEM ",null,"PSEI.SYSTEM",null,null,"PSEI.SYSTEM"]
[null,null,{"$f":"IFERROR(VLOOKUP(ROWS($C$5:C678),$D$6:$E$902,2,FALSE),\"\")","v":""},{"$f":"IF(ISNUMBER(SEARCH($B$6,E679)),MAX($D$4:D678)+1,0)","v":0},"PTSN ",null,"PTSN",null,null,"PTSN"]
[null,null,{"$f":"IFERROR(VLOOKUP(ROWS($C$5:C679),$D$6:$E$902,2,FALSE),\"\")","v":""},{"$f":"IF(ISNUMBER(SEARCH($B$6,E680)),MAX($D$4:D679)+1,0)","v":0},"PUMPKINBUTTE ",null,"PUMPKINBUTTE",null,null,"PUMPKINBUTTE"]
[null,null,{"$f":"IFERROR(VLOOKUP(ROWS($C$5:C680),$D$6:$E$902,2,FALSE),\"\")","v":""},{"$f":"IF(ISNUMBER(SEARCH($B$6,E681)),MAX($D$4:D680)+1,0)","v":0},"PVWEST ",null,"PVWEST",null,null,"PVWEST"]
[null,null,{"$f":"IFERROR(VLOOKUP(ROWS($C$5:C681),$D$6:$E$902,2,FALSE),\"\")","v":""},{"$f":"IF(ISNUMBER(SEARCH($B$6,E682)),MAX($D$4:D681)+1,0)","v":0},"PYGS ",null,"PYGS",null,null,"PYGS"]
[null,null,{"$f":"IFERROR(VLOOKUP(ROWS($C$5:C682),$D$6:$E$902,2,FALSE),\"\")","v":""},{"$f":"IF(ISNUMBER(SEARCH($B$6,E683)),MAX($D$4:D682)+1,0)","v":0},"QUILCENE ",null,"QUILCENE",null,null,"QUILCENE"]
[null,null,{"$f":"IFERROR(VLOOKUP(ROWS($C$5:C683),$D$6:$E$902,2,FALSE),\"\")","v":""},{"$f":"IF(ISNUMBER(SEARCH($B$6,E684)),MAX($D$4:D683)+1,0)","v":99},"RACEWAY230 ",null,"RACEWAY230",null,null,"RACEWAY230"]
[null,null,{"$f":"IFERROR(VLOOKUP(ROWS($C$5:C684),$D$6:$E$902,2,FALSE),\"\")","v":""},{"$f":"IF(ISNUMBER(SEARCH($B$6,E685)),MAX($D$4:D684)+1,0)","v":0},"Rainbow ",null,"Rainbow",null,null,"Rainbow"]
[null,null,{"$f":"IFERROR(VLOOKUP(ROWS($C$5:C685),$D$6:$E$902,2,FALSE),\"\")","v":""},{"$f":"IF(ISNUMBER(SEARCH($B$6,E686)),MAX($D$4:D685)+1,0)","v":0},"RanchoSeco ",null,"RanchoSeco",null,null,"RanchoSeco"]
[null,null,{"$f":"IFERROR(VLOOKUP(ROWS($C$5:C686),$D$6:$E$902,2,FALSE),\"\")","v":""},{"$f":"IF(ISNUMBER(SEARCH($B$6,E687)),MAX($D$4:D686)+1,0)","v":0},"RAW ",null,"RAW",null,null,"RAW"]
[null,null,{"$f":"IFERROR(VLOOKUP(ROWS($C$5:C687),$D$6:$E$902,2,FALSE),\"\")","v":""},{"$f":"IF(ISNUMBER(SEARCH($B$6,E688)),MAX($D$4:D687)+1,0)","v":0},"RC ",null,"RC",null,null,"RC"]
[null,null,{"$f":"IFERROR(VLOOKUP(ROWS($C$5:C688),$D$6:$E$902,2,FALSE),\"\")","v":""},{"$f":"IF(ISNUMBER(SEARCH($B$6,E689)),MAX($D$4:D688)+1,0)","v":0},"RC69 ",null,"RC69",null,null,"RC69"]
[null,null,{"$f":"IFERROR(VLOOKUP(ROWS($C$5:C689),$D$6:$E$902,2,FALSE),\"\")","v":""},{"$f":"IF(ISNUMBER(SEARCH($B$6,E690)),MAX($D$4:D689)+1,0)","v":0},"RCEAST ",null,"RCEAST",null,null,"RCEAST"]
[null,null,{"$f":"IFERROR(VLOOKUP(ROWS($C$5:C690),$D$6:$E$902,2,FALSE),\"\")","v":""},{"$f":"IF(ISNUMBER(SEARCH($B$6,E691)),MAX($D$4:D690)+1,0)","v":0},"RCWEST ",null,"RCWEST",null,null,"RCWEST"]
[null,null,{"$f":"IFERROR(VLOOKUP(ROWS($C$5:C691),$D$6:$E$902,2,FALSE),\"\")","v":""},{"$f":"IF(ISNUMBER(SEARCH($B$6,E692)),MAX($D$4:D691)+1,0)","v":100},"RDM230 ",null,"RDM230",null,null,"RDM230"]
[null,null,{"$f":"IFERROR(VLOOKUP(ROWS($C$5:C692),$D$6:$E$902,2,FALSE),\"\")","v":""},{"$f":"IF(ISNUMBER(SEARCH($B$6,E693)),MAX($D$4:D692)+1,0)","v":101},"RDM500 ",null,"RDM500",null,null,"RDM500"]
[null,null,{"$f":"IFERROR(VLOOKUP(ROWS($C$5:C693),$D$6:$E$902,2,FALSE),\"\")","v":""},{"$f":"IF(ISNUMBER(SEARCH($B$6,E694)),MAX($D$4:D693)+1,0)","v":0},"READER ",null,"READER",null,null,"READER"]
[null,null,{"$f":"IFERROR(VLOOKUP(ROWS($C$5:C694),$D$6:$E$902,2,FALSE),\"\")","v":""},{"$f":"IF(ISNUMBER(SEARCH($B$6,E695)),MAX($D$4:D694)+1,0)","v":0},"REDB ",null,"REDB",null,null,"REDB"]
[null,null,{"$f":"IFERROR(VLOOKUP(ROWS($C$5:C695),$D$6:$E$902,2,FALSE),\"\")","v":""},{"$f":"IF(ISNUMBER(SEARCH($B$6,E696)),MAX($D$4:D695)+1,0)","v":0},"REDBL ",null,"REDBL",null,null,"REDBL"]
[null,null,{"$f":"IFERROR(VLOOKUP(ROWS($C$5:C696),$D$6:$E$902,2,FALSE),\"\")","v":""},{"$f":"IF(ISNUMBER(SEARCH($B$6,E697)),MAX($D$4:D696)+1,0)","v":0},"REDDR1 ",null,"REDDR1",null,null,"REDDR1"]
[null,null,{"$f":"IFERROR(VLOOKUP(ROWS($C$5:C697),$D$6:$E$902,2,FALSE),\"\")","v":""},{"$f":"IF(ISNUMBER(SEARCH($B$6,E698)),MAX($D$4:D697)+1,0)","v":0},"REDMESA115 ",null,"REDMESA115",null,null,"REDMESA115"]
[null,null,{"$f":"IFERROR(VLOOKUP(ROWS($C$5:C698),$D$6:$E$902,2,FALSE),\"\")","v":""},{"$f":"IF(ISNUMBER(SEARCH($B$6,E699)),MAX($D$4:D698)+1,0)","v":0},"REEVES115 ",null,"REEVES115",null,null,"REEVES115"]
[null,null,{"$f":"IFERROR(VLOOKUP(ROWS($C$5:C699),$D$6:$E$902,2,FALSE),\"\")","v":""},{"$f":"IF(ISNUMBER(SEARCH($B$6,E700)),MAX($D$4:D699)+1,0)","v":102},"Reston230 ",null,"Reston230",null,null,"Reston230"]
[null,null,{"$f":"IFERROR(VLOOKUP(ROWS($C$5:C700),$D$6:$E$902,2,FALSE),\"\")","v":""},{"$f":"IF(ISNUMBER(SEARCH($B$6,E701)),MAX($D$4:D700)+1,0)","v":0},"RFL ",null,"RFL",null,null,"RFL"]
[null,null,{"$f":"IFERROR(VLOOKUP(ROWS($C$5:C701),$D$6:$E$902,2,FALSE),\"\")","v":""},{"$f":"IF(ISNUMBER(SEARCH($B$6,E702)),MAX($D$4:D701)+1,0)","v":0},"RGC.DC.LF115 ",null,"RGC.DC.LF115",null,null,"RGC.DC.LF115"]
[null,null,{"$f":"IFERROR(VLOOKUP(ROWS($C$5:C702),$D$6:$E$902,2,FALSE),\"\")","v":""},{"$f":"IF(ISNUMBER(SEARCH($B$6,E703)),MAX($D$4:D702)+1,0)","v":0},"RICHLAND ",null,"RICHLAND",null,null,"RICHLAND"]
[null,null,{"$f":"IFERROR(VLOOKUP(ROWS($C$5:C703),$D$6:$E$902,2,FALSE),\"\")","v":""},{"$f":"IF(ISNUMBER(SEARCH($B$6,E704)),MAX($D$4:D703)+1,0)","v":0},"River ",null,"River",null,null,"River"]
[null,null,{"$f":"IFERROR(VLOOKUP(ROWS($C$5:C704),$D$6:$E$902,2,FALSE),\"\")","v":""},{"$f":"IF(ISNUMBER(SEARCH($B$6,E705)),MAX($D$4:D704)+1,0)","v":0},"Riverbend ",null,"Riverbend",null,null,"Riverbend"]
[null,null,{"$f":"IFERROR(VLOOKUP(ROWS($C$5:C705),$D$6:$E$902,2,FALSE),\"\")","v":""},{"$f":"IF(ISNUMBER(SEARCH($B$6,E706)),MAX($D$4:D705)+1,0)","v":103},"RNDVALLEY230 ",null,"RNDVALLEY230",null,null,"RNDVALLEY230"]
[null,null,{"$f":"IFERROR(VLOOKUP(ROWS($C$5:C706),$D$6:$E$902,2,FALSE),\"\")","v":""},{"$f":"IF(ISNUMBER(SEARCH($B$6,E707)),MAX($D$4:D706)+1,0)","v":104},"ROGERS230 ",null,"ROGERS230",null,null,"ROGERS230"]
[null,null,{"$f":"IFERROR(VLOOKUP(ROWS($C$5:C707),$D$6:$E$902,2,FALSE),\"\")","v":""},{"$f":"IF(ISNUMBER(SEARCH($B$6,E708)),MAX($D$4:D707)+1,0)","v":0},"RoundButte ",null,"RoundButte",null,null,"RoundButte"]
[null,null,{"$f":"IFERROR(VLOOKUP(ROWS($C$5:C708),$D$6:$E$902,2,FALSE),\"\")","v":""},{"$f":"IF(ISNUMBER(SEARCH($B$6,E709)),MAX($D$4:D708)+1,0)","v":105},"ROUNDVLY230 ",null,"ROUNDVLY230",null,null,"ROUNDVLY230"]
[null,null,{"$f":"IFERROR(VLOOKUP(ROWS($C$5:C709),$D$6:$E$902,2,FALSE),\"\")","v":""},{"$f":"IF(ISNUMBER(SEARCH($B$6,E710)),MAX($D$4:D709)+1,0)","v":0},"RRP ",null,"RRP",null,null,"RRP"]
[null,null,{"$f":"IFERROR(VLOOKUP(ROWS($C$5:C710),$D$6:$E$902,2,FALSE),\"\")","v":""},{"$f":"IF(ISNUMBER(SEARCH($B$6,E711)),MAX($D$4:D710)+1,0)","v":0},{"$f":"CONCATENATE(G711, \" \")","v":"RRPLD "},null,"RRPLD",null,null,"RRPLD"]
[null,null,{"$f":"IFERROR(VLOOKUP(ROWS($C$5:C711),$D$6:$E$902,2,FALSE),\"\")","v":""},{"$f":"IF(ISNUMBER(SEARCH($B$6,E712)),MAX($D$4:D711)+1,0)","v":106},"RSC230 ",null,"RSC230",null,null,"RSC230"]
[null,null,{"$f":"IFERROR(VLOOKUP(ROWS($C$5:C712),$D$6:$E$902,2,FALSE),\"\")","v":""},{"$f":"IF(ISNUMBER(SEARCH($B$6,E713)),MAX($D$4:D712)+1,0)","v":107},"RUDD230 ",null,"RUDD230",null,null,"RUDD230"]
[null,null,{"$f":"IFERROR(VLOOKUP(ROWS($C$5:C713),$D$6:$E$902,2,FALSE),\"\")","v":""},{"$f":"IF(ISNUMBER(SEARCH($B$6,E714)),MAX($D$4:D713)+1,0)","v":108},"RUDD500 ",null,"RUDD500",null,null,"RUDD500"]
[null,null,{"$f":"IFERROR(VLOOKUP(ROWS($C$5:C714),$D$6:$E$902,2,FALSE),\"\")","v":""},{"$f":"IF(ISNUMBER(SEARCH($B$6,E715)),MAX($D$4:D714)+1,0)","v":0},"SADLBROKRNCH ",null,"SADLBROKRNCH",null,null,"SADLBROKRNCH"]
[null,null,{"$f":"IFERROR(VLOOKUP(ROWS($C$5:C715),$D$6:$E$902,2,FALSE),\"\")","v":""},{"$f":"IF(ISNUMBER(SEARCH($B$6,E716)),MAX($D$4:D715)+1,0)","v":0},"SAGUARO115 ",null,"SAGUARO115",null,null,"SAGUARO115"]
[null,null,{"$f":"IFERROR(VLOOKUP(ROWS($C$5:C716),$D$6:$E$902,2,FALSE),\"\")","v":""},{"$f":"IF(ISNUMBER(SEARCH($B$6,E717)),MAX($D$4:D716)+1,0)","v":109},"SAGUARO230 ",null,"SAGUARO230",null,null,"SAGUARO230"]
[null,null,{"$f":"IFERROR(VLOOKUP(ROWS($C$5:C717),$D$6:$E$902,2,FALSE),\"\")","v":""},{"$f":"IF(ISNUMBER(SEARCH($B$6,E718)),MAX($D$4:D717)+1,0)","v":110},"SAGUARO500 ",null,"SAGUARO500",null,null,"SAGUARO500"]
[null,null,{"$f":"IFERROR(VLOOKUP(ROWS($C$5:C718),$D$6:$E$902,2,FALSE),\"\")","v":""},{"$f":"IF(ISNUMBER(SEARCH($B$6,E719)),MAX($D$4:D718)+1,0)","v":0},"SalemPac ",null,"SalemPac",null,null,"SalemPac"]
[null,null,{"$f":"IFERROR(VLOOKUP(ROWS($C$5:C719),$D$6:$E$902,2,FALSE),\"\")","v":""},{"$f":"IF(ISNUMBER(SEARCH($B$6,E720)),MAX($D$4:D719)+1,0)","v":0},"SALV ",null,"SALV",null,null,"SALV"]
[null,null,{"$f":"IFERROR(VLOOKUP(ROWS($C$5:C720),$D$6:$E$902,2,FALSE),\"\")","v":""},{"$f":"IF(ISNUMBER(SEARCH($B$6,E721)),MAX($D$4:D720)+1,0)","v":0},"SAMN ",null,"SAMN",null,null,"SAMN"]
[null,null,{"$f":"IFERROR(VLOOKUP(ROWS($C$5:C721),$D$6:$E$902,2,FALSE),\"\")","v":""},{"$f":"IF(ISNUMBER(SEARCH($B$6,E722)),MAX($D$4:D721)+1,0)","v":0},"SANFELIPE92 ",null,"SANFELIPE92",null,null,"SANFELIPE92"]
[null,null,{"$f":"IFERROR(VLOOKUP(ROWS($C$5:C722),$D$6:$E$902,2,FALSE),\"\")","v":""},{"$f":"IF(ISNUMBER(SEARCH($B$6,E723)),MAX($D$4:D722)+1,0)","v":0},"SantiamPac ",null,"SantiamPac",null,null,"SantiamPac"]
[null,null,{"$f":"IFERROR(VLOOKUP(ROWS($C$5:C723),$D$6:$E$902,2,FALSE),\"\")","v":""},{"$f":"IF(ISNUMBER(SEARCH($B$6,E724)),MAX($D$4:D723)+1,0)","v":111},"Satsop230 ",null,"Satsop230",null,null,"Satsop230"]
[null,null,{"$f":"IFERROR(VLOOKUP(ROWS($C$5:C724),$D$6:$E$902,2,FALSE),\"\")","v":""},{"$f":"IF(ISNUMBER(SEARCH($B$6,E725)),MAX($D$4:D724)+1,0)","v":112},"Satsop230LD ",null,"Satsop230LD",null,null,"Satsop230LD"]
[null,null,{"$f":"IFERROR(VLOOKUP(ROWS($C$5:C725),$D$6:$E$902,2,FALSE),\"\")","v":""},{"$f":"IF(ISNUMBER(SEARCH($B$6,E726)),MAX($D$4:D725)+1,0)","v":0},"SB211LOAD ",null,"SB211LOAD",null,null,"SB211LOAD"]
[null,null,{"$f":"IFERROR(VLOOKUP(ROWS($C$5:C726),$D$6:$E$902,2,FALSE),\"\")","v":""},{"$f":"IF(ISNUMBER(SEARCH($B$6,E727)),MAX($D$4:D726)+1,0)","v":0},"SCG ",null,"SCG",null,null,"SCG"]
[null,null,{"$f":"IFERROR(VLOOKUP(ROWS($C$5:C727),$D$6:$E$902,2,FALSE),\"\")","v":""},{"$f":"IF(ISNUMBER(SEARCH($B$6,E728)),MAX($D$4:D727)+1,0)","v":0},"SCL.SYSTEM ",null,"SCL.SYSTEM",null,null,"SCL.SYSTEM"]
[null,null,{"$f":"IFERROR(VLOOKUP(ROWS($C$5:C728),$D$6:$E$902,2,FALSE),\"\")","v":""},{"$f":"IF(ISNUMBER(SEARCH($B$6,E729)),MAX($D$4:D728)+1,0)","v":0},"SCSE ",null,"SCSE",null,null,"SCSE"]
[null,null,{"$f":"IFERROR(VLOOKUP(ROWS($C$5:C729),$D$6:$E$902,2,FALSE),\"\")","v":""},{"$f":"IF(ISNUMBER(SEARCH($B$6,E730)),MAX($D$4:D729)+1,0)","v":0},"SCSW ",null,"SCSW",null,null,"SCSW"]
[null,null,{"$f":"IFERROR(VLOOKUP(ROWS($C$5:C730),$D$6:$E$902,2,FALSE),\"\")","v":""},{"$f":"IF(ISNUMBER(SEARCH($B$6,E731)),MAX($D$4:D730)+1,0)","v":0},"SCUTBANK ",null,"SCUTBANK",null,null,"SCUTBANK"]
[null,null,{"$f":"IFERROR(VLOOKUP(ROWS($C$5:C731),$D$6:$E$902,2,FALSE),\"\")","v":""},{"$f":"IF(ISNUMBER(SEARCH($B$6,E732)),MAX($D$4:D731)+1,0)","v":0},"SEATAC ",null,"SEATAC",null,null,"SEATAC"]
[null,null,{"$f":"IFERROR(VLOOKUP(ROWS($C$5:C732),$D$6:$E$902,2,FALSE),\"\")","v":""},{"$f":"IF(ISNUMBER(SEARCH($B$6,E733)),MAX($D$4:D732)+1,0)","v":113},"SELIGMAN230 ",null,"SELIGMAN230",null,null,"SELIGMAN230"]
[null,null,{"$f":"IFERROR(VLOOKUP(ROWS($C$5:C733),$D$6:$E$902,2,FALSE),\"\")","v":""},{"$f":"IF(ISNUMBER(SEARCH($B$6,E734)),MAX($D$4:D733)+1,0)","v":0},"SGE ",null,"SGE",null,null,"SGE"]
[null,null,{"$f":"IFERROR(VLOOKUP(ROWS($C$5:C734),$D$6:$E$902,2,FALSE),\"\")","v":""},{"$f":"IF(ISNUMBER(SEARCH($B$6,E735)),MAX($D$4:D734)+1,0)","v":0},"SGW ",null,"SGW",null,null,"SGW"]
[null,null,{"$f":"IFERROR(VLOOKUP(ROWS($C$5:C735),$D$6:$E$902,2,FALSE),\"\")","v":""},{"$f":"IF(ISNUMBER(SEARCH($B$6,E736)),MAX($D$4:D735)+1,0)","v":0},"SHCK ",null,"SHCK",null,null,"SHCK"]
[null,null,{"$f":"IFERROR(VLOOKUP(ROWS($C$5:C736),$D$6:$E$902,2,FALSE),\"\")","v":""},{"$f":"IF(ISNUMBER(SEARCH($B$6,E737)),MAX($D$4:D736)+1,0)","v":0},"SHERIDAN ",null,"SHERIDAN",null,null,"SHERIDAN"]
[null,null,{"$f":"IFERROR(VLOOKUP(ROWS($C$5:C737),$D$6:$E$902,2,FALSE),\"\")","v":""},{"$f":"IF(ISNUMBER(SEARCH($B$6,E738)),MAX($D$4:D737)+1,0)","v":0},"SHIPROCK115 ",null,"SHIPROCK115",null,null,"SHIPROCK115"]
[null,null,{"$f":"IFERROR(VLOOKUP(ROWS($C$5:C738),$D$6:$E$902,2,FALSE),\"\")","v":""},{"$f":"IF(ISNUMBER(SEARCH($B$6,E739)),MAX($D$4:D738)+1,0)","v":0},"SHIPROCK345 ",null,"SHIPROCK345",null,null,"SHIPROCK345"]
[null,null,{"$f":"IFERROR(VLOOKUP(ROWS($C$5:C739),$D$6:$E$902,2,FALSE),\"\")","v":""},{"$f":"IF(ISNUMBER(SEARCH($B$6,E740)),MAX($D$4:D739)+1,0)","v":0},"SHOWLOW69 ",null,"SHOWLOW69",null,null,"SHOWLOW69"]
[null,null,{"$f":"IFERROR(VLOOKUP(ROWS($C$5:C740),$D$6:$E$902,2,FALSE),\"\")","v":""},{"$f":"IF(ISNUMBER(SEARCH($B$6,E741)),MAX($D$4:D740)+1,0)","v":0},"SHR2 ",null,"SHR2",null,null,"SHR2"]
[null,null,{"$f":"IFERROR(VLOOKUP(ROWS($C$5:C741),$D$6:$E$902,2,FALSE),\"\")","v":""},{"$f":"IF(ISNUMBER(SEARCH($B$6,E742)),MAX($D$4:D741)+1,0)","v":0},"Sidney ",null,"Sidney",null,null,"Sidney"]
[null,null,{"$f":"IFERROR(VLOOKUP(ROWS($C$5:C742),$D$6:$E$902,2,FALSE),\"\")","v":""},{"$f":"IF(ISNUMBER(SEARCH($B$6,E743)),MAX($D$4:D742)+1,0)","v":0},"SIG ",null,"SIG",null,null,"SIG"]
[null,null,{"$f":"IFERROR(VLOOKUP(ROWS($C$5:C743),$D$6:$E$902,2,FALSE),\"\")","v":""},{"$f":"IF(ISNUMBER(SEARCH($B$6,E744)),MAX($D$4:D743)+1,0)","v":114},"SILVERKIN230 ",null,"SILVERKIN230",null,null,"SILVERKIN230"]
[null,null,{"$f":"IFERROR(VLOOKUP(ROWS($C$5:C744),$D$6:$E$902,2,FALSE),\"\")","v":""},{"$f":"IF(ISNUMBER(SEARCH($B$6,E745)),MAX($D$4:D744)+1,0)","v":115},"SILVERKIN500 ",null,"SILVERKIN500",null,null,"SILVERKIN500"]
[null,null,{"$f":"IFERROR(VLOOKUP(ROWS($C$5:C745),$D$6:$E$902,2,FALSE),\"\")","v":""},{"$f":"IF(ISNUMBER(SEARCH($B$6,E746)),MAX($D$4:D745)+1,0)","v":0},"SILVERPEAK55 ",null,"SILVERPEAK55",null,null,"SILVERPEAK55"]
[null,null,{"$f":"IFERROR(VLOOKUP(ROWS($C$5:C746),$D$6:$E$902,2,FALSE),\"\")","v":""},{"$f":"IF(ISNUMBER(SEARCH($B$6,E747)),MAX($D$4:D746)+1,0)","v":0},"SJ345 ",null,"SJ345",null,null,"SJ345"]
[null,null,{"$f":"IFERROR(VLOOKUP(ROWS($C$5:C747),$D$6:$E$902,2,FALSE),\"\")","v":""},{"$f":"IF(ISNUMBER(SEARCH($B$6,E748)),MAX($D$4:D747)+1,0)","v":0},"Slatt ",null,"Slatt",null,null,"Slatt"]
[null,null,{"$f":"IFERROR(VLOOKUP(ROWS($C$5:C748),$D$6:$E$902,2,FALSE),\"\")","v":""},{"$f":"IF(ISNUMBER(SEARCH($B$6,E749)),MAX($D$4:D748)+1,0)","v":116},"SLATT230 ",null,"SLATT230",null,null,"SLATT230"]
[null,null,{"$f":"IFERROR(VLOOKUP(ROWS($C$5:C749),$D$6:$E$902,2,FALSE),\"\")","v":""},{"$f":"IF(ISNUMBER(SEARCH($B$6,E750)),MAX($D$4:D749)+1,0)","v":117},"SLATT230LD ",null,"SLATT230LD",null,null,"SLATT230LD"]
[null,null,{"$f":"IFERROR(VLOOKUP(ROWS($C$5:C750),$D$6:$E$902,2,FALSE),\"\")","v":""},{"$f":"IF(ISNUMBER(SEARCH($B$6,E751)),MAX($D$4:D750)+1,0)","v":118},"SLV230 ",null,"SLV230",null,null,"SLV230"]
[null,null,{"$f":"IFERROR(VLOOKUP(ROWS($C$5:C751),$D$6:$E$902,2,FALSE),\"\")","v":""},{"$f":"IF(ISNUMBER(SEARCH($B$6,E752)),MAX($D$4:D751)+1,0)","v":0},"SLVA ",null,"SLVA",null,null,"SLVA"]
[null,null,{"$f":"IFERROR(VLOOKUP(ROWS($C$5:C752),$D$6:$E$902,2,FALSE),\"\")","v":""},{"$f":"IF(ISNUMBER(SEARCH($B$6,E753)),MAX($D$4:D752)+1,0)","v":0},"SmithCreek ",null,"SmithCreek",null,null,"SmithCreek"]
[null,null,{"$f":"IFERROR(VLOOKUP(ROWS($C$5:C753),$D$6:$E$902,2,FALSE),\"\")","v":""},{"$f":"IF(ISNUMBER(SEARCH($B$6,E754)),MAX($D$4:D753)+1,0)","v":0},"SMLK ",null,"SMLK",null,null,"SMLK"]
[null,null,{"$f":"IFERROR(VLOOKUP(ROWS($C$5:C754),$D$6:$E$902,2,FALSE),\"\")","v":""},{"$f":"IF(ISNUMBER(SEARCH($B$6,E755)),MAX($D$4:D754)+1,0)","v":0},"SMUD.System ",null,"SMUD.System",null,null,"SMUD.System"]
[null,null,{"$f":"IFERROR(VLOOKUP(ROWS($C$5:C755),$D$6:$E$902,2,FALSE),\"\")","v":""},{"$f":"IF(ISNUMBER(SEARCH($B$6,E756)),MAX($D$4:D755)+1,0)","v":0},"SNOH.PUD ",null,"SNOH.PUD",null,null,"SNOH.PUD"]
[null,null,{"$f":"IFERROR(VLOOKUP(ROWS($C$5:C756),$D$6:$E$902,2,FALSE),\"\")","v":""},{"$f":"IF(ISNUMBER(SEARCH($B$6,E757)),MAX($D$4:D756)+1,0)","v":0},"Snohomish ",null,"Snohomish",null,null,"Snohomish"]
[null,null,{"$f":"IFERROR(VLOOKUP(ROWS($C$5:C757),$D$6:$E$902,2,FALSE),\"\")","v":""},{"$f":"IF(ISNUMBER(SEARCH($B$6,E758)),MAX($D$4:D757)+1,0)","v":0},"SNWASYS ",null,"SNWASYS",null,null,"SNWASYS"]
[null,null,{"$f":"IFERROR(VLOOKUP(ROWS($C$5:C758),$D$6:$E$902,2,FALSE),\"\")","v":""},{"$f":"IF(ISNUMBER(SEARCH($B$6,E759)),MAX($D$4:D758)+1,0)","v":0},"SOCO ",null,"SOCO",null,null,"SOCO"]
[null,null,{"$f":"IFERROR(VLOOKUP(ROWS($C$5:C759),$D$6:$E$902,2,FALSE),\"\")","v":""},{"$f":"IF(ISNUMBER(SEARCH($B$6,E760)),MAX($D$4:D759)+1,0)","v":0},"South ",null,"South",null,null,"South"]
[null,null,{"$f":"IFERROR(VLOOKUP(ROWS($C$5:C760),$D$6:$E$902,2,FALSE),\"\")","v":""},{"$f":"IF(ISNUMBER(SEARCH($B$6,E761)),MAX($D$4:D760)+1,0)","v":0},"SOUTHLOOP345 ",null,"SOUTHLOOP345",null,null,"SOUTHLOOP345"]
[null,null,{"$f":"IFERROR(VLOOKUP(ROWS($C$5:C761),$D$6:$E$902,2,FALSE),\"\")","v":""},{"$f":"IF(ISNUMBER(SEARCH($B$6,E762)),MAX($D$4:D761)+1,0)","v":0},"SOUTHSYS ",null,"SOUTHSYS",null,null,"SOUTHSYS"]
[null,null,{"$f":"IFERROR(VLOOKUP(ROWS($C$5:C762),$D$6:$E$902,2,FALSE),\"\")","v":""},{"$f":"IF(ISNUMBER(SEARCH($B$6,E763)),MAX($D$4:D762)+1,0)","v":0},"SOUTHTOLTGEN ",null,"SOUTHTOLTGEN",null,null,"SOUTHTOLTGEN"]
[null,null,{"$f":"IFERROR(VLOOKUP(ROWS($C$5:C763),$D$6:$E$902,2,FALSE),\"\")","v":""},{"$f":"IF(ISNUMBER(SEARCH($B$6,E764)),MAX($D$4:D763)+1,0)","v":0},"SP_Newsprint ",null,"SP_Newsprint",null,null,"SP_Newsprint"]
[null,null,{"$f":"IFERROR(VLOOKUP(ROWS($C$5:C764),$D$6:$E$902,2,FALSE),\"\")","v":""},{"$f":"IF(ISNUMBER(SEARCH($B$6,E765)),MAX($D$4:D764)+1,0)","v":0},"SP15 ",null,"SP15",null,null,"SP15"]
[null,null,{"$f":"IFERROR(VLOOKUP(ROWS($C$5:C765),$D$6:$E$902,2,FALSE),\"\")","v":""},{"$f":"IF(ISNUMBER(SEARCH($B$6,E766)),MAX($D$4:D765)+1,0)","v":0},"SP-15 ",null,"SP-15",null,null,"SP-15"]
[null,null,{"$f":"IFERROR(VLOOKUP(ROWS($C$5:C766),$D$6:$E$902,2,FALSE),\"\")","v":""},{"$f":"IF(ISNUMBER(SEARCH($B$6,E767)),MAX($D$4:D766)+1,0)","v":0},"SpgfldGenFrm ",null,"SpgfldGenFrm",null,null,"SpgfldGenFrm"]
[null,null,{"$f":"IFERROR(VLOOKUP(ROWS($C$5:C767),$D$6:$E$902,2,FALSE),\"\")","v":""},{"$f":"IF(ISNUMBER(SEARCH($B$6,E768)),MAX($D$4:D767)+1,0)","v":0},"SPGR ",null,"SPGR",null,null,"SPGR"]
[null,null,{"$f":"IFERROR(VLOOKUP(ROWS($C$5:C768),$D$6:$E$902,2,FALSE),\"\")","v":""},{"$f":"IF(ISNUMBER(SEARCH($B$6,E769)),MAX($D$4:D768)+1,0)","v":0},"SPI_CABO_GEN ",null,"SPI_CABO_GEN",null,null,"SPI_CABO_GEN"]
[null,null,{"$f":"IFERROR(VLOOKUP(ROWS($C$5:C769),$D$6:$E$902,2,FALSE),\"\")","v":""},{"$f":"IF(ISNUMBER(SEARCH($B$6,E770)),MAX($D$4:D769)+1,0)","v":0},"SPOKANEWASTE ",null,"SPOKANEWASTE",null,null,"SPOKANEWASTE"]
[null,null,{"$f":"IFERROR(VLOOKUP(ROWS($C$5:C770),$D$6:$E$902,2,FALSE),\"\")","v":""},{"$f":"IF(ISNUMBER(SEARCH($B$6,E771)),MAX($D$4:D770)+1,0)","v":0},"SPPC ",null,"SPPC",null,null,"SPPC"]
[null,null,{"$f":"IFERROR(VLOOKUP(ROWS($C$5:C771),$D$6:$E$902,2,FALSE),\"\")","v":""},{"$f":"IF(ISNUMBER(SEARCH($B$6,E772)),MAX($D$4:D771)+1,0)","v":0},"SpringCreek ",null,"SpringCreek",null,null,"SpringCreek"]
[null,null,{"$f":"IFERROR(VLOOKUP(ROWS($C$5:C772),$D$6:$E$902,2,FALSE),\"\")","v":""},{"$f":"IF(ISNUMBER(SEARCH($B$6,E773)),MAX($D$4:D772)+1,0)","v":0},"SPRINGER345 ",null,"SPRINGER345",null,null,"SPRINGER345"]
[null,null,{"$f":"IFERROR(VLOOKUP(ROWS($C$5:C773),$D$6:$E$902,2,FALSE),\"\")","v":""},{"$f":"IF(ISNUMBER(SEARCH($B$6,E774)),MAX($D$4:D773)+1,0)","v":0},"Springfield ",null,"Springfield",null,null,"Springfield"]
[null,null,{"$f":"IFERROR(VLOOKUP(ROWS($C$5:C774),$D$6:$E$902,2,FALSE),\"\")","v":""},{"$f":"IF(ISNUMBER(SEARCH($B$6,E775)),MAX($D$4:D774)+1,0)","v":0},{"$f":"CONCATENATE(G775, \" \")","v":"SRP-SYSTEM "},null,"SRP-SYSTEM",null,null,"SRP-SYSTEM"]
[null,null,{"$f":"IFERROR(VLOOKUP(ROWS($C$5:C775),$D$6:$E$902,2,FALSE),\"\")","v":""},{"$f":"IF(ISNUMBER(SEARCH($B$6,E776)),MAX($D$4:D775)+1,0)","v":0},"SS4 ",null,"SS4",null,null,"SS4"]
[null,null,{"$f":"IFERROR(VLOOKUP(ROWS($C$5:C776),$D$6:$E$902,2,FALSE),\"\")","v":""},{"$f":"IF(ISNUMBER(SEARCH($B$6,E777)),MAX($D$4:D776)+1,0)","v":0},"ST.PAUL ",null,"ST.PAUL",null,null,"ST.PAUL"]
[null,null,{"$f":"IFERROR(VLOOKUP(ROWS($C$5:C777),$D$6:$E$902,2,FALSE),\"\")","v":""},{"$f":"IF(ISNUMBER(SEARCH($B$6,E778)),MAX($D$4:D777)+1,0)","v":0},"STANDIFORD ",null,"STANDIFORD",null,null,"STANDIFORD"]
[null,null,{"$f":"IFERROR(VLOOKUP(ROWS($C$5:C778),$D$6:$E$902,2,FALSE),\"\")","v":""},{"$f":"IF(ISNUMBER(SEARCH($B$6,E779)),MAX($D$4:D778)+1,0)","v":0},"StarPoint ",null,"StarPoint",null,null,"StarPoint"]
[null,null,{"$f":"IFERROR(VLOOKUP(ROWS($C$5:C779),$D$6:$E$902,2,FALSE),\"\")","v":""},{"$f":"IF(ISNUMBER(SEARCH($B$6,E780)),MAX($D$4:D779)+1,0)","v":0},"StateLineBPA ",null,"StateLineBPA",null,null,"StateLineBPA"]
[null,null,{"$f":"IFERROR(VLOOKUP(ROWS($C$5:C780),$D$6:$E$902,2,FALSE),\"\")","v":""},{"$f":"IF(ISNUMBER(SEARCH($B$6,E781)),MAX($D$4:D780)+1,0)","v":0},"STDM ",null,"STDM",null,null,"STDM"]
[null,null,{"$f":"IFERROR(VLOOKUP(ROWS($C$5:C781),$D$6:$E$902,2,FALSE),\"\")","v":""},{"$f":"IF(ISNUMBER(SEARCH($B$6,E782)),MAX($D$4:D781)+1,0)","v":0},"STORLK115 ",null,"STORLK115",null,null,"STORLK115"]
[null,null,{"$f":"IFERROR(VLOOKUP(ROWS($C$5:C782),$D$6:$E$902,2,FALSE),\"\")","v":""},{"$f":"IF(ISNUMBER(SEARCH($B$6,E783)),MAX($D$4:D782)+1,0)","v":0},"STVRN ",null,"STVRN",null,null,"STVRN"]
[null,null,{"$f":"IFERROR(VLOOKUP(ROWS($C$5:C783),$D$6:$E$902,2,FALSE),\"\")","v":""},{"$f":"IF(ISNUMBER(SEARCH($B$6,E784)),MAX($D$4:D783)+1,0)","v":0},"STY ",null,"STY",null,null,"STY"]
[null,null,{"$f":"IFERROR(VLOOKUP(ROWS($C$5:C784),$D$6:$E$902,2,FALSE),\"\")","v":""},{"$f":"IF(ISNUMBER(SEARCH($B$6,E785)),MAX($D$4:D784)+1,0)","v":119},"SUGARLOAF500 ",null,"SUGARLOAF500",null,null,"SUGARLOAF500"]
[null,null,{"$f":"IFERROR(VLOOKUP(ROWS($C$5:C785),$D$6:$E$902,2,FALSE),\"\")","v":""},{"$f":"IF(ISNUMBER(SEARCH($B$6,E786)),MAX($D$4:D785)+1,0)","v":0},"SUGARLOAF69 ",null,"SUGARLOAF69",null,null,"SUGARLOAF69"]
[null,null,{"$f":"IFERROR(VLOOKUP(ROWS($C$5:C786),$D$6:$E$902,2,FALSE),\"\")","v":""},{"$f":"IF(ISNUMBER(SEARCH($B$6,E787)),MAX($D$4:D786)+1,0)","v":0},"SUMAS ",null,"SUMAS",null,null,"SUMAS"]
[null,null,{"$f":"IFERROR(VLOOKUP(ROWS($C$5:C787),$D$6:$E$902,2,FALSE),\"\")","v":""},{"$f":"IF(ISNUMBER(SEARCH($B$6,E788)),MAX($D$4:D787)+1,0)","v":0},"SumFalls ",null,"SumFalls",null,null,"SumFalls"]
[null,null,{"$f":"IFERROR(VLOOKUP(ROWS($C$5:C788),$D$6:$E$902,2,FALSE),\"\")","v":""},{"$f":"IF(ISNUMBER(SEARCH($B$6,E789)),MAX($D$4:D788)+1,0)","v":0},"SUMMERLAKENT ",null,"SUMMERLAKENT",null,null,"SUMMERLAKENT"]
[null,null,{"$f":"IFERROR(VLOOKUP(ROWS($C$5:C789),$D$6:$E$902,2,FALSE),\"\")","v":""},{"$f":"IF(ISNUMBER(SEARCH($B$6,E790)),MAX($D$4:D789)+1,0)","v":120},"SUMMIT120 ",null,"SUMMIT120",null,null,"SUMMIT120"]
[null,null,{"$f":"IFERROR(VLOOKUP(ROWS($C$5:C790),$D$6:$E$902,2,FALSE),\"\")","v":""},{"$f":"IF(ISNUMBER(SEARCH($B$6,E791)),MAX($D$4:D790)+1,0)","v":0},"Sunbeam ",null,"Sunbeam",null,null,"Sunbeam"]
[null,null,{"$f":"IFERROR(VLOOKUP(ROWS($C$5:C791),$D$6:$E$902,2,FALSE),\"\")","v":""},{"$f":"IF(ISNUMBER(SEARCH($B$6,E792)),MAX($D$4:D791)+1,0)","v":0},"SUNDANCE ",null,"SUNDANCE",null,null,"SUNDANCE"]
[null,null,{"$f":"IFERROR(VLOOKUP(ROWS($C$5:C792),$D$6:$E$902,2,FALSE),\"\")","v":""},{"$f":"IF(ISNUMBER(SEARCH($B$6,E793)),MAX($D$4:D792)+1,0)","v":0},"SUPERIOR115 ",null,"SUPERIOR115",null,null,"SUPERIOR115"]
[null,null,{"$f":"IFERROR(VLOOKUP(ROWS($C$5:C793),$D$6:$E$902,2,FALSE),\"\")","v":""},{"$f":"IF(ISNUMBER(SEARCH($B$6,E794)),MAX($D$4:D793)+1,0)","v":0},"SWR ",null,"SWR",null,null,"SWR"]
[null,null,{"$f":"IFERROR(VLOOKUP(ROWS($C$5:C794),$D$6:$E$902,2,FALSE),\"\")","v":""},{"$f":"IF(ISNUMBER(SEARCH($B$6,E795)),MAX($D$4:D794)+1,0)","v":0},"SYLMAR ",null,"SYLMAR",null,null,"SYLMAR"]
[null,null,{"$f":"IFERROR(VLOOKUP(ROWS($C$5:C795),$D$6:$E$902,2,FALSE),\"\")","v":""},{"$f":"IF(ISNUMBER(SEARCH($B$6,E796)),MAX($D$4:D795)+1,0)","v":0},"TAIBAN ",null,"TAIBAN",null,null,"TAIBAN"]
[null,null,{"$f":"IFERROR(VLOOKUP(ROWS($C$5:C796),$D$6:$E$902,2,FALSE),\"\")","v":""},{"$f":"IF(ISNUMBER(SEARCH($B$6,E797)),MAX($D$4:D796)+1,0)","v":0},"Talbot ",null,"Talbot",null,null,"Talbot"]
[null,null,{"$f":"IFERROR(VLOOKUP(ROWS($C$5:C797),$D$6:$E$902,2,FALSE),\"\")","v":""},{"$f":"IF(ISNUMBER(SEARCH($B$6,E798)),MAX($D$4:D797)+1,0)","v":0},"TANNER.AL ",null,"TANNER.AL",null,null,"TANNER.AL"]
[null,null,{"$f":"IFERROR(VLOOKUP(ROWS($C$5:C798),$D$6:$E$902,2,FALSE),\"\")","v":""},{"$f":"IF(ISNUMBER(SEARCH($B$6,E799)),MAX($D$4:D798)+1,0)","v":0},"TANNER.LB ",null,"TANNER.LB",null,null,"TANNER.LB"]
[null,null,{"$f":"IFERROR(VLOOKUP(ROWS($C$5:C799),$D$6:$E$902,2,FALSE),\"\")","v":""},{"$f":"IF(ISNUMBER(SEARCH($B$6,E800)),MAX($D$4:D799)+1,0)","v":0},"TANNER.NB ",null,"TANNER.NB",null,null,"TANNER.NB"]
[null,null,{"$f":"IFERROR(VLOOKUP(ROWS($C$5:C800),$D$6:$E$902,2,FALSE),\"\")","v":""},{"$f":"IF(ISNUMBER(SEARCH($B$6,E801)),MAX($D$4:D800)+1,0)","v":0},"TAOS ",null,"TAOS",null,null,"TAOS"]
[null,null,{"$f":"IFERROR(VLOOKUP(ROWS($C$5:C801),$D$6:$E$902,2,FALSE),\"\")","v":""},{"$f":"IF(ISNUMBER(SEARCH($B$6,E802)),MAX($D$4:D801)+1,0)","v":0},"TENASKA_GEN ",null,"TENASKA_GEN",null,null,"TENASKA_GEN"]
[null,null,{"$f":"IFERROR(VLOOKUP(ROWS($C$5:C802),$D$6:$E$902,2,FALSE),\"\")","v":""},{"$f":"IF(ISNUMBER(SEARCH($B$6,E803)),MAX($D$4:D802)+1,0)","v":0},"TENDOY ",null,"TENDOY",null,null,"TENDOY"]
[null,null,{"$f":"IFERROR(VLOOKUP(ROWS($C$5:C803),$D$6:$E$902,2,FALSE),\"\")","v":""},{"$f":"IF(ISNUMBER(SEARCH($B$6,E804)),MAX($D$4:D803)+1,0)","v":121},"TESLA230 ",null,"TESLA230",null,null,"TESLA230"]
[null,null,{"$f":"IFERROR(VLOOKUP(ROWS($C$5:C804),$D$6:$E$902,2,FALSE),\"\")","v":""},{"$f":"IF(ISNUMBER(SEARCH($B$6,E805)),MAX($D$4:D804)+1,0)","v":122},"TESLA500 ",null,"TESLA500",null,null,"TESLA500"]
[null,null,{"$f":"IFERROR(VLOOKUP(ROWS($C$5:C805),$D$6:$E$902,2,FALSE),\"\")","v":""},{"$f":"IF(ISNUMBER(SEARCH($B$6,E806)),MAX($D$4:D805)+1,0)","v":0},"TESORO449 ",null,"TESORO449",null,null,"TESORO449"]
[null,null,{"$f":"IFERROR(VLOOKUP(ROWS($C$5:C806),$D$6:$E$902,2,FALSE),\"\")","v":""},{"$f":"IF(ISNUMBER(SEARCH($B$6,E807)),MAX($D$4:D806)+1,0)","v":123},"TESTTRACK230 ",null,"TESTTRACK230",null,null,"TESTTRACK230"]
[null,null,{"$f":"IFERROR(VLOOKUP(ROWS($C$5:C807),$D$6:$E$902,2,FALSE),\"\")","v":""},{"$f":"IF(ISNUMBER(SEARCH($B$6,E808)),MAX($D$4:D807)+1,0)","v":0},"TESTTRACK69 ",null,"TESTTRACK69",null,null,"TESTTRACK69"]
[null,null,{"$f":"IFERROR(VLOOKUP(ROWS($C$5:C808),$D$6:$E$902,2,FALSE),\"\")","v":""},{"$f":"IF(ISNUMBER(SEARCH($B$6,E809)),MAX($D$4:D808)+1,0)","v":0},"THORNYDALE46 ",null,"THORNYDALE46",null,null,"THORNYDALE46"]
[null,null,{"$f":"IFERROR(VLOOKUP(ROWS($C$5:C809),$D$6:$E$902,2,FALSE),\"\")","v":""},{"$f":"IF(ISNUMBER(SEARCH($B$6,E810)),MAX($D$4:D809)+1,0)","v":0},"TID.SYSTEM ",null,"TID.SYSTEM",null,null,"TID.SYSTEM"]
[null,null,{"$f":"IFERROR(VLOOKUP(ROWS($C$5:C810),$D$6:$E$902,2,FALSE),\"\")","v":""},{"$f":"IF(ISNUMBER(SEARCH($B$6,E811)),MAX($D$4:D810)+1,0)","v":0},"TIETON ",null,"TIETON",null,null,"TIETON"]
[null,null,{"$f":"IFERROR(VLOOKUP(ROWS($C$5:C811),$D$6:$E$902,2,FALSE),\"\")","v":""},{"$f":"IF(ISNUMBER(SEARCH($B$6,E812)),MAX($D$4:D811)+1,0)","v":0},"Tillamook ",null,"Tillamook",null,null,"Tillamook"]
[null,null,{"$f":"IFERROR(VLOOKUP(ROWS($C$5:C812),$D$6:$E$902,2,FALSE),\"\")","v":""},{"$f":"IF(ISNUMBER(SEARCH($B$6,E813)),MAX($D$4:D812)+1,0)","v":0},"TMK ",null,"TMK",null,null,"TMK"]
[null,null,{"$f":"IFERROR(VLOOKUP(ROWS($C$5:C813),$D$6:$E$902,2,FALSE),\"\")","v":""},{"$f":"IF(ISNUMBER(SEARCH($B$6,E814)),MAX($D$4:D813)+1,0)","v":0},"TNDY ",null,"TNDY",null,null,"TNDY"]
[null,null,{"$f":"IFERROR(VLOOKUP(ROWS($C$5:C814),$D$6:$E$902,2,FALSE),\"\")","v":""},{"$f":"IF(ISNUMBER(SEARCH($B$6,E815)),MAX($D$4:D814)+1,0)","v":0},"TNPSYS ",null,"TNPSYS",null,null,"TNPSYS"]
[null,null,{"$f":"IFERROR(VLOOKUP(ROWS($C$5:C815),$D$6:$E$902,2,FALSE),\"\")","v":""},{"$f":"IF(ISNUMBER(SEARCH($B$6,E816)),MAX($D$4:D815)+1,0)","v":0},"TOLUCA ",null,"TOLUCA",null,null,"TOLUCA"]
[null,null,{"$f":"IFERROR(VLOOKUP(ROWS($C$5:C816),$D$6:$E$902,2,FALSE),\"\")","v":""},{"$f":"IF(ISNUMBER(SEARCH($B$6,E817)),MAX($D$4:D816)+1,0)","v":0},"TONGUERIVER ",null,"TONGUERIVER",null,null,"TONGUERIVER"]
[null,null,{"$f":"IFERROR(VLOOKUP(ROWS($C$5:C817),$D$6:$E$902,2,FALSE),\"\")","v":""},{"$f":"IF(ISNUMBER(SEARCH($B$6,E818)),MAX($D$4:D817)+1,0)","v":124},"TOPOCK230 ",null,"TOPOCK230",null,null,"TOPOCK230"]
[null,null,{"$f":"IFERROR(VLOOKUP(ROWS($C$5:C818),$D$6:$E$902,2,FALSE),\"\")","v":""},{"$f":"IF(ISNUMBER(SEARCH($B$6,E819)),MAX($D$4:D818)+1,0)","v":0},"TOT2AGW ",null,"TOT2AGW",null,null,"TOT2AGW"]
[null,null,{"$f":"IFERROR(VLOOKUP(ROWS($C$5:C819),$D$6:$E$902,2,FALSE),\"\")","v":""},{"$f":"IF(ISNUMBER(SEARCH($B$6,E820)),MAX($D$4:D819)+1,0)","v":0},"TOT3GS ",null,"TOT3GS",null,null,"TOT3GS"]
[null,null,{"$f":"IFERROR(VLOOKUP(ROWS($C$5:C820),$D$6:$E$902,2,FALSE),\"\")","v":""},{"$f":"IF(ISNUMBER(SEARCH($B$6,E821)),MAX($D$4:D820)+1,0)","v":0},"TOT5GW ",null,"TOT5GW",null,null,"TOT5GW"]
[null,null,{"$f":"IFERROR(VLOOKUP(ROWS($C$5:C821),$D$6:$E$902,2,FALSE),\"\")","v":""},{"$f":"IF(ISNUMBER(SEARCH($B$6,E822)),MAX($D$4:D821)+1,0)","v":0},"TOWNSEND ",null,"TOWNSEND",null,null,"TOWNSEND"]
[null,null,{"$f":"IFERROR(VLOOKUP(ROWS($C$5:C822),$D$6:$E$902,2,FALSE),\"\")","v":""},{"$f":"IF(ISNUMBER(SEARCH($B$6,E823)),MAX($D$4:D822)+1,0)","v":0},"TPWR.STAR ",null,"TPWR.STAR",null,null,"TPWR.STAR"]
[null,null,{"$f":"IFERROR(VLOOKUP(ROWS($C$5:C823),$D$6:$E$902,2,FALSE),\"\")","v":""},{"$f":"IF(ISNUMBER(SEARCH($B$6,E824)),MAX($D$4:D823)+1,0)","v":0},"TROJAN ",null,"TROJAN",null,null,"TROJAN"]
[null,null,{"$f":"IFERROR(VLOOKUP(ROWS($C$5:C824),$D$6:$E$902,2,FALSE),\"\")","v":""},{"$f":"IF(ISNUMBER(SEARCH($B$6,E825)),MAX($D$4:D824)+1,0)","v":0},"TRONA ",null,"TRONA",null,null,"TRONA"]
[null,null,{"$f":"IFERROR(VLOOKUP(ROWS($C$5:C825),$D$6:$E$902,2,FALSE),\"\")","v":""},{"$f":"IF(ISNUMBER(SEARCH($B$6,E826)),MAX($D$4:D825)+1,0)","v":0},"Troutdale ",null,"Troutdale",null,null,"Troutdale"]
[null,null,{"$f":"IFERROR(VLOOKUP(ROWS($C$5:C826),$D$6:$E$902,2,FALSE),\"\")","v":""},{"$f":"IF(ISNUMBER(SEARCH($B$6,E827)),MAX($D$4:D826)+1,0)","v":125},"TRY230 ",null,"TRY230",null,null,"TRY230"]
[null,null,{"$f":"IFERROR(VLOOKUP(ROWS($C$5:C827),$D$6:$E$902,2,FALSE),\"\")","v":""},{"$f":"IF(ISNUMBER(SEARCH($B$6,E828)),MAX($D$4:D827)+1,0)","v":126},"TRY500 ",null,"TRY500",null,null,"TRY500"]
[null,null,{"$f":"IFERROR(VLOOKUP(ROWS($C$5:C828),$D$6:$E$902,2,FALSE),\"\")","v":""},{"$f":"IF(ISNUMBER(SEARCH($B$6,E829)),MAX($D$4:D828)+1,0)","v":0},"TRY69 ",null,"TRY69",null,null,"TRY69"]
[null,null,{"$f":"IFERROR(VLOOKUP(ROWS($C$5:C829),$D$6:$E$902,2,FALSE),\"\")","v":""},{"$f":"IF(ISNUMBER(SEARCH($B$6,E830)),MAX($D$4:D829)+1,0)","v":0},"TSGTWSTATION ",null,"TSGTWSTATION",null,null,"TSGTWSTATION"]
[null,null,{"$f":"IFERROR(VLOOKUP(ROWS($C$5:C830),$D$6:$E$902,2,FALSE),\"\")","v":""},{"$f":"IF(ISNUMBER(SEARCH($B$6,E831)),MAX($D$4:D830)+1,0)","v":0},"Tuolumne ",null,"Tuolumne",null,null,"Tuolumne"]
[null,null,{"$f":"IFERROR(VLOOKUP(ROWS($C$5:C831),$D$6:$E$902,2,FALSE),\"\")","v":""},{"$f":"IF(ISNUMBER(SEARCH($B$6,E832)),MAX($D$4:D831)+1,0)","v":0},"TURQUOISE115 ",null,"TURQUOISE115",null,null,"TURQUOISE115"]
[null,null,{"$f":"IFERROR(VLOOKUP(ROWS($C$5:C832),$D$6:$E$902,2,FALSE),\"\")","v":""},{"$f":"IF(ISNUMBER(SEARCH($B$6,E833)),MAX($D$4:D832)+1,0)","v":0},"UINTA ",null,"UINTA",null,null,"UINTA"]
[null,null,{"$f":"IFERROR(VLOOKUP(ROWS($C$5:C833),$D$6:$E$902,2,FALSE),\"\")","v":""},{"$f":"IF(ISNUMBER(SEARCH($B$6,E834)),MAX($D$4:D833)+1,0)","v":0},"UPLC ",null,"UPLC",null,null,"UPLC"]
[null,null,{"$f":"IFERROR(VLOOKUP(ROWS($C$5:C834),$D$6:$E$902,2,FALSE),\"\")","v":""},{"$f":"IF(ISNUMBER(SEARCH($B$6,E835)),MAX($D$4:D834)+1,0)","v":0},"UPSK ",null,"UPSK",null,null,"UPSK"]
[null,null,{"$f":"IFERROR(VLOOKUP(ROWS($C$5:C835),$D$6:$E$902,2,FALSE),\"\")","v":""},{"$f":"IF(ISNUMBER(SEARCH($B$6,E836)),MAX($D$4:D835)+1,0)","v":0},"VAIL345 ",null,"VAIL345",null,null,"VAIL345"]
[null,null,{"$f":"IFERROR(VLOOKUP(ROWS($C$5:C836),$D$6:$E$902,2,FALSE),\"\")","v":""},{"$f":"IF(ISNUMBER(SEARCH($B$6,E837)),MAX($D$4:D836)+1,0)","v":0},"VAL115 ",null,"VAL115",null,null,"VAL115"]
[null,null,{"$f":"IFERROR(VLOOKUP(ROWS($C$5:C837),$D$6:$E$902,2,FALSE),\"\")","v":""},{"$f":"IF(ISNUMBER(SEARCH($B$6,E838)),MAX($D$4:D837)+1,0)","v":0},"Vansycle ",null,"Vansycle",null,null,"Vansycle"]
[null,null,{"$f":"IFERROR(VLOOKUP(ROWS($C$5:C838),$D$6:$E$902,2,FALSE),\"\")","v":""},{"$f":"IF(ISNUMBER(SEARCH($B$6,E839)),MAX($D$4:D838)+1,0)","v":0},{"$f":"CONCATENATE(G839, \" \")","v":"VEASYS "},null,"VEASYS",null,null,"VEASYS"]
[null,null,{"$f":"IFERROR(VLOOKUP(ROWS($C$5:C839),$D$6:$E$902,2,FALSE),\"\")","v":""},{"$f":"IF(ISNUMBER(SEARCH($B$6,E840)),MAX($D$4:D839)+1,0)","v":0},"VEF ",null,"VEF",null,null,"VEF"]
[null,null,{"$f":"IFERROR(VLOOKUP(ROWS($C$5:C840),$D$6:$E$902,2,FALSE),\"\")","v":""},{"$f":"IF(ISNUMBER(SEARCH($B$6,E841)),MAX($D$4:D840)+1,0)","v":0},"Vera ",null,"Vera",null,null,"Vera"]
[null,null,{"$f":"IFERROR(VLOOKUP(ROWS($C$5:C841),$D$6:$E$902,2,FALSE),\"\")","v":""},{"$f":"IF(ISNUMBER(SEARCH($B$6,E842)),MAX($D$4:D841)+1,0)","v":0},"VICTORVILLE ",null,"VICTORVILLE",null,null,"VICTORVILLE"]
[null,null,{"$f":"IFERROR(VLOOKUP(ROWS($C$5:C842),$D$6:$E$902,2,FALSE),\"\")","v":""},{"$f":"IF(ISNUMBER(SEARCH($B$6,E843)),MAX($D$4:D842)+1,0)","v":0},"VILA ",null,"VILA",null,null,"VILA"]
[null,null,{"$f":"IFERROR(VLOOKUP(ROWS($C$5:C843),$D$6:$E$902,2,FALSE),\"\")","v":""},{"$f":"IF(ISNUMBER(SEARCH($B$6,E844)),MAX($D$4:D843)+1,0)","v":0},"VNL ",null,"VNL",null,null,"VNL"]
[null,null,{"$f":"IFERROR(VLOOKUP(ROWS($C$5:C844),$D$6:$E$902,2,FALSE),\"\")","v":""},{"$f":"IF(ISNUMBER(SEARCH($B$6,E845)),MAX($D$4:D844)+1,0)","v":0},"VUL ",null,"VUL",null,null,"VUL"]
[null,null,{"$f":"IFERROR(VLOOKUP(ROWS($C$5:C845),$D$6:$E$902,2,FALSE),\"\")","v":""},{"$f":"IF(ISNUMBER(SEARCH($B$6,E846)),MAX($D$4:D845)+1,0)","v":0},"WACM-WEST ",null,"WACM-WEST",null,null,"WACM-WEST"]
[null,null,{"$f":"IFERROR(VLOOKUP(ROWS($C$5:C846),$D$6:$E$902,2,FALSE),\"\")","v":""},{"$f":"IF(ISNUMBER(SEARCH($B$6,E847)),MAX($D$4:D846)+1,0)","v":0},"WACMWSTATION ",null,"WACMWSTATION",null,null,"WACMWSTATION"]
[null,null,{"$f":"IFERROR(VLOOKUP(ROWS($C$5:C847),$D$6:$E$902,2,FALSE),\"\")","v":""},{"$f":"IF(ISNUMBER(SEARCH($B$6,E848)),MAX($D$4:D847)+1,0)","v":0},"WALC.SYS ",null,"WALC.SYS",null,null,"WALC.SYS"]
[null,null,{"$f":"IFERROR(VLOOKUP(ROWS($C$5:C848),$D$6:$E$902,2,FALSE),\"\")","v":""},{"$f":"IF(ISNUMBER(SEARCH($B$6,E849)),MAX($D$4:D848)+1,0)","v":0},"WALLAWALLA ",null,"WALLAWALLA",null,null,"WALLAWALLA"]
[null,null,{"$f":"IFERROR(VLOOKUP(ROWS($C$5:C849),$D$6:$E$902,2,FALSE),\"\")","v":""},{"$f":"IF(ISNUMBER(SEARCH($B$6,E850)),MAX($D$4:D849)+1,0)","v":0},"WALNUT ",null,"WALNUT",null,null,"WALNUT"]
[null,null,{"$f":"IFERROR(VLOOKUP(ROWS($C$5:C850),$D$6:$E$902,2,FALSE),\"\")","v":""},{"$f":"IF(ISNUMBER(SEARCH($B$6,E851)),MAX($D$4:D850)+1,0)","v":0},"WALT ",null,"WALT",null,null,"WALT"]
[null,null,{"$f":"IFERROR(VLOOKUP(ROWS($C$5:C851),$D$6:$E$902,2,FALSE),\"\")","v":""},{"$f":"IF(ISNUMBER(SEARCH($B$6,E852)),MAX($D$4:D851)+1,0)","v":0},"Wasco ",null,"Wasco",null,null,"Wasco"]
[null,null,{"$f":"IFERROR(VLOOKUP(ROWS($C$5:C852),$D$6:$E$902,2,FALSE),\"\")","v":""},{"$f":"IF(ISNUMBER(SEARCH($B$6,E853)),MAX($D$4:D852)+1,0)","v":0},"WASN.SYSTEM ",null,"WASN.SYSTEM",null,null,"WASN.SYSTEM"]
[null,null,{"$f":"IFERROR(VLOOKUP(ROWS($C$5:C853),$D$6:$E$902,2,FALSE),\"\")","v":""},{"$f":"IF(ISNUMBER(SEARCH($B$6,E854)),MAX($D$4:D853)+1,0)","v":0},"WEED ",null,"WEED",null,null,"WEED"]
[null,null,{"$f":"IFERROR(VLOOKUP(ROWS($C$5:C854),$D$6:$E$902,2,FALSE),\"\")","v":""},{"$f":"IF(ISNUMBER(SEARCH($B$6,E855)),MAX($D$4:D854)+1,0)","v":0},"West ",null,"West",null,null,"West"]
[null,null,{"$f":"IFERROR(VLOOKUP(ROWS($C$5:C855),$D$6:$E$902,2,FALSE),\"\")","v":""},{"$f":"IF(ISNUMBER(SEARCH($B$6,E856)),MAX($D$4:D855)+1,0)","v":0},"WESTLEY ",null,"WESTLEY",null,null,"WESTLEY"]
[null,null,{"$f":"IFERROR(VLOOKUP(ROWS($C$5:C856),$D$6:$E$902,2,FALSE),\"\")","v":""},{"$f":"IF(ISNUMBER(SEARCH($B$6,E857)),MAX($D$4:D856)+1,0)","v":127},"WESTPHX230 ",null,"WESTPHX230",null,null,"WESTPHX230"]
[null,null,{"$f":"IFERROR(VLOOKUP(ROWS($C$5:C857),$D$6:$E$902,2,FALSE),\"\")","v":""},{"$f":"IF(ISNUMBER(SEARCH($B$6,E858)),MAX($D$4:D857)+1,0)","v":0},"WestValley ",null,"WestValley",null,null,"WestValley"]
[null,null,{"$f":"IFERROR(VLOOKUP(ROWS($C$5:C858),$D$6:$E$902,2,FALSE),\"\")","v":""},{"$f":"IF(ISNUMBER(SEARCH($B$6,E859)),MAX($D$4:D858)+1,0)","v":128},"WESTWING230 ",null,"WESTWING230",null,null,"WESTWING230"]
[null,null,{"$f":"IFERROR(VLOOKUP(ROWS($C$5:C859),$D$6:$E$902,2,FALSE),\"\")","v":""},{"$f":"IF(ISNUMBER(SEARCH($B$6,E860)),MAX($D$4:D859)+1,0)","v":0},"WESTWING345 ",null,"WESTWING345",null,null,"WESTWING345"]
[null,null,{"$f":"IFERROR(VLOOKUP(ROWS($C$5:C860),$D$6:$E$902,2,FALSE),\"\")","v":""},{"$f":"IF(ISNUMBER(SEARCH($B$6,E861)),MAX($D$4:D860)+1,0)","v":129},"WESTWING500 ",null,"WESTWING500",null,null,"WESTWING500"]
[null,null,{"$f":"IFERROR(VLOOKUP(ROWS($C$5:C861),$D$6:$E$902,2,FALSE),\"\")","v":""},{"$f":"IF(ISNUMBER(SEARCH($B$6,E862)),MAX($D$4:D861)+1,0)","v":0},"Weyerhauser2 ",null,"Weyerhauser2",null,null,"Weyerhauser2"]
[null,null,{"$f":"IFERROR(VLOOKUP(ROWS($C$5:C862),$D$6:$E$902,2,FALSE),\"\")","v":""},{"$f":"IF(ISNUMBER(SEARCH($B$6,E863)),MAX($D$4:D862)+1,0)","v":0},"WFDE ",null,"WFDE",null,null,"WFDE"]
[null,null,{"$f":"IFERROR(VLOOKUP(ROWS($C$5:C863),$D$6:$E$902,2,FALSE),\"\")","v":""},{"$f":"IF(ISNUMBER(SEARCH($B$6,E864)),MAX($D$4:D863)+1,0)","v":0},"Wheatfield ",null,"Wheatfield",null,null,"Wheatfield"]
[null,null,{"$f":"IFERROR(VLOOKUP(ROWS($C$5:C864),$D$6:$E$902,2,FALSE),\"\")","v":""},{"$f":"IF(ISNUMBER(SEARCH($B$6,E865)),MAX($D$4:D864)+1,0)","v":0},"WheatfieldLD ",null,"WheatfieldLD",null,null,"WheatfieldLD"]
[null,null,{"$f":"IFERROR(VLOOKUP(ROWS($C$5:C865),$D$6:$E$902,2,FALSE),\"\")","v":""},{"$f":"IF(ISNUMBER(SEARCH($B$6,E866)),MAX($D$4:D865)+1,0)","v":0},"WhtCrkWind ",null,"WhtCrkWind",null,null,"WhtCrkWind"]
[null,null,{"$f":"IFERROR(VLOOKUP(ROWS($C$5:C866),$D$6:$E$902,2,FALSE),\"\")","v":""},{"$f":"IF(ISNUMBER(SEARCH($B$6,E867)),MAX($D$4:D866)+1,0)","v":0},"WhtCrkWindLD ",null,"WhtCrkWindLD",null,null,"WhtCrkWindLD"]
[null,null,{"$f":"IFERROR(VLOOKUP(ROWS($C$5:C867),$D$6:$E$902,2,FALSE),\"\")","v":""},{"$f":"IF(ISNUMBER(SEARCH($B$6,E868)),MAX($D$4:D867)+1,0)","v":130},"WHY230 ",null,"WHY230",null,null,"WHY230"]
[null,null,{"$f":"IFERROR(VLOOKUP(ROWS($C$5:C868),$D$6:$E$902,2,FALSE),\"\")","v":""},{"$f":"IF(ISNUMBER(SEARCH($B$6,E869)),MAX($D$4:D868)+1,0)","v":0},"WILC ",null,"WILC",null,null,"WILC"]
[null,null,{"$f":"IFERROR(VLOOKUP(ROWS($C$5:C869),$D$6:$E$902,2,FALSE),\"\")","v":""},{"$f":"IF(ISNUMBER(SEARCH($B$6,E870)),MAX($D$4:D869)+1,0)","v":0},"WILLARD115 ",null,"WILLARD115",null,null,"WILLARD115"]
[null,null,{"$f":"IFERROR(VLOOKUP(ROWS($C$5:C870),$D$6:$E$902,2,FALSE),\"\")","v":""},{"$f":"IF(ISNUMBER(SEARCH($B$6,E871)),MAX($D$4:D870)+1,0)","v":0},"WILLIAMS69 ",null,"WILLIAMS69",null,null,"WILLIAMS69"]
[null,null,{"$f":"IFERROR(VLOOKUP(ROWS($C$5:C871),$D$6:$E$902,2,FALSE),\"\")","v":""},{"$f":"IF(ISNUMBER(SEARCH($B$6,E872)),MAX($D$4:D871)+1,0)","v":0},"WillowCreek ",null,"WillowCreek",null,null,"WillowCreek"]
[null,null,{"$f":"IFERROR(VLOOKUP(ROWS($C$5:C872),$D$6:$E$902,2,FALSE),\"\")","v":""},{"$f":"IF(ISNUMBER(SEARCH($B$6,E873)),MAX($D$4:D872)+1,0)","v":0},"WINCHESTR345 ",null,"WINCHESTR345",null,null,"WINCHESTR345"]
[null,null,{"$f":"IFERROR(VLOOKUP(ROWS($C$5:C873),$D$6:$E$902,2,FALSE),\"\")","v":""},{"$f":"IF(ISNUMBER(SEARCH($B$6,E874)),MAX($D$4:D873)+1,0)","v":0},"WINDRIDGE ",null,"WINDRIDGE",null,null,"WINDRIDGE"]
[null,null,{"$f":"IFERROR(VLOOKUP(ROWS($C$5:C874),$D$6:$E$902,2,FALSE),\"\")","v":""},{"$f":"IF(ISNUMBER(SEARCH($B$6,E875)),MAX($D$4:D874)+1,0)","v":0},"WINTERHAVEN ",null,"WINTERHAVEN",null,null,"WINTERHAVEN"]
[null,null,{"$f":"IFERROR(VLOOKUP(ROWS($C$5:C875),$D$6:$E$902,2,FALSE),\"\")","v":""},{"$f":"IF(ISNUMBER(SEARCH($B$6,E876)),MAX($D$4:D875)+1,0)","v":0},"WM115 ",null,"WM115",null,null,"WM115"]
[null,null,{"$f":"IFERROR(VLOOKUP(ROWS($C$5:C876),$D$6:$E$902,2,FALSE),\"\")","v":""},{"$f":"IF(ISNUMBER(SEARCH($B$6,E877)),MAX($D$4:D876)+1,0)","v":0},"WM345 ",null,"WM345",null,null,"WM345"]
[null,null,{"$f":"IFERROR(VLOOKUP(ROWS($C$5:C877),$D$6:$E$902,2,FALSE),\"\")","v":""},{"$f":"IF(ISNUMBER(SEARCH($B$6,E878)),MAX($D$4:D877)+1,0)","v":0},"WOODLANDTAP ",null,"WOODLANDTAP",null,null,"WOODLANDTAP"]
[null,null,{"$f":"IFERROR(VLOOKUP(ROWS($C$5:C878),$D$6:$E$902,2,FALSE),\"\")","v":""},{"$f":"IF(ISNUMBER(SEARCH($B$6,E879)),MAX($D$4:D878)+1,0)","v":0},"WPE ",null,"WPE",null,null,"WPE"]
[null,null,{"$f":"IFERROR(VLOOKUP(ROWS($C$5:C879),$D$6:$E$902,2,FALSE),\"\")","v":""},{"$f":"IF(ISNUMBER(SEARCH($B$6,E880)),MAX($D$4:D879)+1,0)","v":0},"WPEnergizer ",null,"WPEnergizer",null,null,"WPEnergizer"]
[null,null,{"$f":"IFERROR(VLOOKUP(ROWS($C$5:C880),$D$6:$E$902,2,FALSE),\"\")","v":""},{"$f":"IF(ISNUMBER(SEARCH($B$6,E881)),MAX($D$4:D880)+1,0)","v":0},"WRAY ",null,"WRAY",null,null,"WRAY"]
[null,null,{"$f":"IFERROR(VLOOKUP(ROWS($C$5:C881),$D$6:$E$902,2,FALSE),\"\")","v":""},{"$f":"IF(ISNUMBER(SEARCH($B$6,E882)),MAX($D$4:D881)+1,0)","v":0},"WRS ",null,"WRS",null,null,"WRS"]
[null,null,{"$f":"IFERROR(VLOOKUP(ROWS($C$5:C882),$D$6:$E$902,2,FALSE),\"\")","v":""},{"$f":"IF(ISNUMBER(SEARCH($B$6,E883)),MAX($D$4:D882)+1,0)","v":0},"WSTAR ",null,"WSTAR",null,null,"WSTAR"]
[null,null,{"$f":"IFERROR(VLOOKUP(ROWS($C$5:C883),$D$6:$E$902,2,FALSE),\"\")","v":""},{"$f":"IF(ISNUMBER(SEARCH($B$6,E884)),MAX($D$4:D883)+1,0)","v":0},"WY69 ",null,"WY69",null,null,"WY69"]
[null,null,{"$f":"IFERROR(VLOOKUP(ROWS($C$5:C884),$D$6:$E$902,2,FALSE),\"\")","v":""},{"$f":"IF(ISNUMBER(SEARCH($B$6,E885)),MAX($D$4:D884)+1,0)","v":0},"Wynoochee ",null,"Wynoochee",null,null,"Wynoochee"]
[null,null,{"$f":"IFERROR(VLOOKUP(ROWS($C$5:C885),$D$6:$E$902,2,FALSE),\"\")","v":""},{"$f":"IF(ISNUMBER(SEARCH($B$6,E886)),MAX($D$4:D885)+1,0)","v":0},"WYOCENTRAL ",null,"WYOCENTRAL",null,null,"WYOCENTRAL"]
[null,null,{"$f":"IFERROR(VLOOKUP(ROWS($C$5:C886),$D$6:$E$902,2,FALSE),\"\")","v":""},{"$f":"IF(ISNUMBER(SEARCH($B$6,E887)),MAX($D$4:D886)+1,0)","v":0},"WYODAK ",null,"WYODAK",null,null,"WYODAK"]
[null,null,{"$f":"IFERROR(VLOOKUP(ROWS($C$5:C887),$D$6:$E$902,2,FALSE),\"\")","v":""},{"$f":"IF(ISNUMBER(SEARCH($B$6,E888)),MAX($D$4:D887)+1,0)","v":0},"WYOEAST ",null,"WYOEAST",null,null,"WYOEAST"]
[null,null,{"$f":"IFERROR(VLOOKUP(ROWS($C$5:C888),$D$6:$E$902,2,FALSE),\"\")","v":""},{"$f":"IF(ISNUMBER(SEARCH($B$6,E889)),MAX($D$4:D888)+1,0)","v":0},"WYONORTH ",null,"WYONORTH",null,null,"WYONORTH"]
[null,null,{"$f":"IFERROR(VLOOKUP(ROWS($C$5:C889),$D$6:$E$902,2,FALSE),\"\")","v":""},{"$f":"IF(ISNUMBER(SEARCH($B$6,E890)),MAX($D$4:D889)+1,0)","v":0},"YakamaDPGen ",null,"YakamaDPGen",null,null,"YakamaDPGen"]
[null,null,{"$f":"IFERROR(VLOOKUP(ROWS($C$5:C890),$D$6:$E$902,2,FALSE),\"\")","v":""},{"$f":"IF(ISNUMBER(SEARCH($B$6,E891)),MAX($D$4:D890)+1,0)","v":0},"Yakima ",null,"Yakima",null,null,"Yakima"]
[null,null,{"$f":"IFERROR(VLOOKUP(ROWS($C$5:C891),$D$6:$E$902,2,FALSE),\"\")","v":""},{"$f":"IF(ISNUMBER(SEARCH($B$6,E892)),MAX($D$4:D891)+1,0)","v":0},"YakimaPac ",null,"YakimaPac",null,null,"YakimaPac"]
[null,null,{"$f":"IFERROR(VLOOKUP(ROWS($C$5:C892),$D$6:$E$902,2,FALSE),\"\")","v":""},{"$f":"IF(ISNUMBER(SEARCH($B$6,E893)),MAX($D$4:D892)+1,0)","v":131},"Yamsay230 ",null,"Yamsay230",null,null,"Yamsay230"]
[null,null,{"$f":"IFERROR(VLOOKUP(ROWS($C$5:C893),$D$6:$E$902,2,FALSE),\"\")","v":""},{"$f":"IF(ISNUMBER(SEARCH($B$6,E894)),MAX($D$4:D893)+1,0)","v":0},"YATH ",null,"YATH",null,null,"YATH"]
[null,null,{"$f":"IFERROR(VLOOKUP(ROWS($C$5:C894),$D$6:$E$902,2,FALSE),\"\")","v":""},{"$f":"IF(ISNUMBER(SEARCH($B$6,E895)),MAX($D$4:D894)+1,0)","v":0},"YEW ",null,"YEW",null,null,"YEW"]
[null,null,{"$f":"IFERROR(VLOOKUP(ROWS($C$5:C895),$D$6:$E$902,2,FALSE),\"\")","v":""},{"$f":"IF(ISNUMBER(SEARCH($B$6,E896)),MAX($D$4:D895)+1,0)","v":0},"YOCN ",null,"YOCN",null,null,"YOCN"]
[null,null,{"$f":"IFERROR(VLOOKUP(ROWS($C$5:C896),$D$6:$E$902,2,FALSE),\"\")","v":""},{"$f":"IF(ISNUMBER(SEARCH($B$6,E897)),MAX($D$4:D896)+1,0)","v":0},"YT115 ",null,"YT115",null,null,"YT115"]
[null,null,{"$f":"IFERROR(VLOOKUP(ROWS($C$5:C897),$D$6:$E$902,2,FALSE),\"\")","v":""},{"$f":"IF(ISNUMBER(SEARCH($B$6,E898)),MAX($D$4:D897)+1,0)","v":0},"YTP ",null,"YTP",null,null,"YTP"]
[null,null,{"$f":"IFERROR(VLOOKUP(ROWS($C$5:C898),$D$6:$E$902,2,FALSE),\"\")","v":""},{"$f":"IF(ISNUMBER(SEARCH($B$6,E899)),MAX($D$4:D898)+1,0)","v":0},"YTW ",null,"YTW",null,null,"YTW"]
[null,null,{"$f":"IFERROR(VLOOKUP(ROWS($C$5:C899),$D$6:$E$902,2,FALSE),\"\")","v":""},{"$f":"IF(ISNUMBER(SEARCH($B$6,E900)),MAX($D$4:D899)+1,0)","v":0},"YUCCA ",null,"YUCCA",null,null,"YUCCA"]
[null,null,{"$f":"IFERROR(VLOOKUP(ROWS($C$5:C900),$D$6:$E$902,2,FALSE),\"\")","v":""},{"$f":"IF(ISNUMBER(SEARCH($B$6,E901)),MAX($D$4:D900)+1,0)","v":0},"YUCCA69 ",null,"YUCCA69",null,null,"YUCCA69"]
[null,null,{"$f":"IFERROR(VLOOKUP(ROWS($C$5:C901),$D$6:$E$902,2,FALSE),\"\")","v":""},{"$f":"IF(ISNUMBER(SEARCH($B$6,E902)),MAX($D$4:D901)+1,0)","v":0},"ZP26 ",null,"ZP26",null,null,"ZP26"]

{"sheet":"EF List","index":17,"n_rows":289,"n_cols":28,"rows_kept":289,"cut":false,"hidden":false,"merged":[[2,4,2,6]]}
[]
[null,null,null,null,"Table 1 - Emission Factors for Imported Electricity",null,null,null,null,null,null,null,null,null,null,null,null,null,null,"EF CO2e","EF CO2","EF CO2","EF CO2","EF CO2","EF CO2e","EF CO2e","EF CO2e","EF CO2e"]
[null,null,null,null,"To update this emission factor list in Workbook 1, ensure that the new, standalone emission factor file provided by ARB is saved in the same directory as this copy of Workbook 1, where the standalone emission factor file has the name \"Updated 2015 EFs.xls\".   After that, click the button titled \"Update Emission Factors.\"",null,null,null,null,null,null,null,null,null,null,null,null,null,null,"Total","Fossil & Process Non-Exempt","Biomass Exempt","Biomass Non-Exempt","Geothermal Exempt","All Geothermal CH4 Exempt","All Other CH4 NonExempt","All N2O NonExempt","Total Non-Exempt"]
[null,null,null,null,1,2,3,4,5,6,7,8,9,10,11,12,13,14,15,16,17,18,19,20,21,22,23,24]
["Drop Dow List (Dynamic)","Target Cell","Dynamic List","Index Count",null,"Updated 2/23/2018 at 5:56pm",null,null,null,null,null,null,null,null,null,null,null,null,null,"P","Q","R","S","T","U","V","W","X"]
[null,null,null,null,"Concatenated Field = Spec Import Name + ARB ID","Facility and Unit Name","ARB ID#","Federal IDs\n\nUS EPA ID / EIA Plant ID","CEC RPS ID","Jurisdiction","Net generation, MWh ","[CO2e total]  (MT CO2e)","[CO2 fossil fuel combustion and process] (MT CO2)","[CO2 biomass exempt] (MT CO2)","[CO2 biomass non-exempt] (MT CO2)","[ CO2 geothermal exempt] (MT CO2)","CH4 geothermal exempt (MT CO2e)","CH4 non-geothermal (MT  CO2e)"," N2O (MT  CO2e) ","[EFsp : CO2e total] Facility-specific or unit-specific emission factor published on the ARB Mandatory Reporting website, (MT CO2e/MWh)","[EFsp: CO2 fossil fuel combustion and process] (MT CO2/MWh) ","[EFsp :  CO2 biomass exempt] Facility-specific or unit-specific emission factor published on the ARB Mandatory Reporting website, (MT CO2/MWh)","[EFsp :  CO2 biomass non-exempt] Facility-specific or unit-specific emission factor published on the ARB Mandatory Reporting website, (MT CO2/MWh)","[EFsp :  CO2 geothermal exempt] Facility-specific or unit-specific emission factor published on the ARB Mandatory Reporting website, (MT CO2/MWh)","ARB to input as CO2e Efs\n[EFsp: MT CH4 geothermal exempt] (MTCO2e/MWh)  ","ARB to input as CO2e Efs\n[EFsp: MT CH4 non-geothermal] (MTCO2e/MWh)  ","ARB to input as CO2e Efs\n[EFsp: MT N2O] (MTCO2e/MWh) ","[EFsp: CO2e Total Non-Exempt] (MT CO2e/MWh) "]
[" ",{"$f":" CELL(\"contents\")","v":0},{"$f":"IFERROR(VLOOKUP(ROWS($C$6:C6),$D$7:$E$905,2,FALSE),\"\")","v":"0ther - not listed"},{"$f":"IF(ISNUMBER(SEARCH($B$7,E7)),MAX($D$6:D6)+1,0)","v":1},"0ther - not listed","Other","0","0",null,null,"0",{"$f":"SUM(M7:S7)","v":0},"0","0","0","0","0","0","0","0","0","0","0","0","0","0","0",{"$f":"U7+W7+Z7+AA7","v":0}]
[null,null,{"$f":"IFERROR(VLOOKUP(ROWS($C$6:C7),$D$7:$E$905,2,FALSE),\"\")","v":"Copper Mountain Solar 1 (CM10)"},{"$f":"IF(ISNUMBER(SEARCH($B$7,E8)),MAX($D$6:D7)+1,0)","v":0},{"$f":"F8","v":"Apache Generating Station"},"Apache Generating Station",900009,"1005949/160","","AZ",2068779.0100000002,2204513.89,2188130.6,0,0,0,0,5214.3,11168.99,1.0656111065241327,1.0576918024704822,0,0,0,0,2.5204722083873037E-3,5.3988318452631622E-3,1.0656111065241327]
[null,null,{"$f":"IFERROR(VLOOKUP(ROWS($C$6:C8),$D$7:$E$905,2,FALSE),\"\")","v":"MCAS Yuma Microgrid MCGX02"},{"$f":"IF(ISNUMBER(SEARCH($B$7,E9)),MAX($D$6:D8)+1,0)","v":0},{"$f":"F9","v":"Apache Solar"},"Apache Solar",710100,"Various","","AZ",1,0,0,0,0,0,0,0,0,0,0,0,0,0,0,0,0,0]
[null,null,{"$f":"IFERROR(VLOOKUP(ROWS($C$6:C9),$D$7:$E$905,2,FALSE),\"\")","v":""},{"$f":"IF(ISNUMBER(SEARCH($B$7,E10)),MAX($D$3:D9)+1,0)","v":0},{"$f":"F10","v":"Apex Generating Station-Natural Gas Combined Cycle"},"Apex Generating Station-Natural Gas Combined Cycle",900247,"1000068/55514","","NV",3423755,1297793.08,1296543,0,0,0,0,504.84,745.24,0.37905547564005021,0.37869035605643514,0,0,0,0,1.4745213953685354E-4,2.1766744407821238E-4,0.37905547564005021]
[null,null,{"$f":"IFERROR(VLOOKUP(ROWS($C$6:C10),$D$7:$E$905,2,FALSE),\"\")","v":""},{"$f":"IF(ISNUMBER(SEARCH($B$7,E11)),MAX($D$3:D10)+1,0)","v":0},"Arlington Valley Solar Project II","Arlington Valley Solar Project II",710101,"57680","","AZ",364396,0,0,0,0,0,0,0,0,0,0,0,0,0,0,0,0,0]
[null,null,{"$f":"IFERROR(VLOOKUP(ROWS($C$6:C11),$D$7:$E$905,2,FALSE),\"\")","v":""},{"$f":"IF(ISNUMBER(SEARCH($B$7,E12)),MAX($D$3:D11)+1,0)","v":0},"Arlington Wind Power Project","Arlington Wind Power Project",800016,"56855","","OR",201811,0,0,0,0,0,0,0,0,0,0,0,0,0,0,0,0,0]
[null,null,{"$f":"IFERROR(VLOOKUP(ROWS($C$6:C12),$D$7:$E$905,2,FALSE),\"\")","v":""},{"$f":"IF(ISNUMBER(SEARCH($B$7,E13)),MAX($D$3:D12)+1,0)","v":0},"Armstrong Woodwaste Cogeneration (CAN)","Armstrong Woodwaste Cogeneration (CAN)",901600,"Various","","Canada",1,1.492541658014779,0,1.4617788493932202,0,0,0,1.0472445488190235E-2,2.0290363133368579E-2,1.492541658014779,0,1.4617788493932202,0,0,0,1.0472445488190235E-2,2.0290363133368579E-2,3.0762808621558814E-2]
[null,null,{"$f":"IFERROR(VLOOKUP(ROWS($C$6:C13),$D$7:$E$905,2,FALSE),\"\")","v":""},{"$f":"IF(ISNUMBER(SEARCH($B$7,E14)),MAX($D$3:D13)+1,0)","v":0},"Beaver ","Beaver ",910100,"1002488/8073","","OR",457474,236408.98,236178.1,0,0,0,0,93.240000000000009,137.64000000000001,0.51677030825795567,0.51626562383873187,0,0,0,0,2.0381486160962154E-4,3.0086955761420323E-4,0.51677030825795567]
[null,null,{"$f":"IFERROR(VLOOKUP(ROWS($C$6:C14),$D$7:$E$905,2,FALSE),\"\")","v":""},{"$f":"IF(ISNUMBER(SEARCH($B$7,E15)),MAX($D$3:D14)+1,0)","v":0},"Bennett Mountain Power","Bennett Mountain Power",910101,"1000244/55733","","ID",103240,59580.2,59523,0,0,0,0,23.1,34.1,0.57710383572258817,0.5765497869043007,0,0,0,0,2.237504843084076E-4,3.3029833397907787E-4,0.57710383572258817]
[null,null,{"$f":"IFERROR(VLOOKUP(ROWS($C$6:C15),$D$7:$E$905,2,FALSE),\"\")","v":""},{"$f":"IF(ISNUMBER(SEARCH($B$7,E16)),MAX($D$3:D15)+1,0)","v":0},"Beowawe Power","Beowawe Power",900033,"10287","","NV",104584,6477.92346,0,0,0,6477.92346,0,0,0,6.1939909163925645E-2,0,0,0,6.1939909163925645E-2,0,0,0,0]
[null,null,{"$f":"IFERROR(VLOOKUP(ROWS($C$6:C16),$D$7:$E$905,2,FALSE),\"\")","v":""},{"$f":"IF(ISNUMBER(SEARCH($B$7,E17)),MAX($D$3:D16)+1,0)","v":0},"Big Horn II-Wind","Big Horn II-Wind",800180,"57319","","WA",123028,0,0,0,0,0,0,0,0,0,0,0,0,0,0,0,0,0]
[null,null,{"$f":"IFERROR(VLOOKUP(ROWS($C$6:C17),$D$7:$E$905,2,FALSE),\"\")","v":""},{"$f":"IF(ISNUMBER(SEARCH($B$7,E18)),MAX($D$3:D17)+1,0)","v":0},"Big Horn PPM-Wind Power Project","Big Horn PPM-Wind Power Project",800177,"56361","","WA",502920,0,0,0,0,0,0,0,0,0,0,0,0,0,0,0,0,0]
[null,null,{"$f":"IFERROR(VLOOKUP(ROWS($C$6:C18),$D$7:$E$905,2,FALSE),\"\")","v":""},{"$f":"IF(ISNUMBER(SEARCH($B$7,E19)),MAX($D$3:D18)+1,0)","v":0},"Biglow Canyon Wind Farm (Phase 1)","Biglow Canyon Wind Farm (Phase 1)",800007,"56485","","OR",1058132,0,0,0,0,0,0,0,0,0,0,0,0,0,0,0,0,0]
[null,null,{"$f":"IFERROR(VLOOKUP(ROWS($C$6:C19),$D$7:$E$905,2,FALSE),\"\")","v":""},{"$f":"IF(ISNUMBER(SEARCH($B$7,E20)),MAX($D$3:D19)+1,0)","v":0},"Biglow Canyon Wind Farm (Phase 2)","Biglow Canyon Wind Farm (Phase 2)",810004,"56485","","OR",1058132,0,0,0,0,0,0,0,0,0,0,0,0,0,0,0,0,0]
[null,null,{"$f":"IFERROR(VLOOKUP(ROWS($C$6:C20),$D$7:$E$905,2,FALSE),\"\")","v":""},{"$f":"IF(ISNUMBER(SEARCH($B$7,E21)),MAX($D$3:D20)+1,0)","v":0},"Biglow Canyon Wind Farm (Phase 3)","Biglow Canyon Wind Farm (Phase 3)",810003,"56485","","OR",1058132,0,0,0,0,0,0,0,0,0,0,0,0,0,0,0,0,0]
[null,null,{"$f":"IFERROR(VLOOKUP(ROWS($C$6:C21),$D$7:$E$905,2,FALSE),\"\")","v":""},{"$f":"IF(ISNUMBER(SEARCH($B$7,E22)),MAX($D$3:D21)+1,0)","v":0},"Biomass One, L.P.","Biomass One, L.P.",900038,"10869","","OR",155355,290441.74227599998,0,284455.4412,0,0,0,2037.8897280000001,3948.4113479999996,1.8695358519262333,0,1.8310028077628657,0,0,0,1.311763205561456E-2,2.5415412107753207E-2,3.8533044163367766E-2]
[null,null,{"$f":"IFERROR(VLOOKUP(ROWS($C$6:C22),$D$7:$E$905,2,FALSE),\"\")","v":""},{"$f":"IF(ISNUMBER(SEARCH($B$7,E23)),MAX($D$3:D22)+1,0)","v":0},"Blackspring Ridge 1A Wind Project (CAN)","Blackspring Ridge 1A Wind Project (CAN)",810005,"Various","","Canada",1,0,0,0,0,0,0,0,0,0,0,0,0,0,0,0,0,0]
[null,null,{"$f":"IFERROR(VLOOKUP(ROWS($C$6:C23),$D$7:$E$905,2,FALSE),\"\")","v":""},{"$f":"IF(ISNUMBER(SEARCH($B$7,E24)),MAX($D$3:D23)+1,0)","v":0},"Blackspring Ridge 1B Wind Project (CAN)","Blackspring Ridge 1B Wind Project (CAN)",810006,"Various","","Canada",1,0,0,0,0,0,0,0,0,0,0,0,0,0,0,0,0,0]
[null,null,{"$f":"IFERROR(VLOOKUP(ROWS($C$6:C24),$D$7:$E$905,2,FALSE),\"\")","v":""},{"$f":"IF(ISNUMBER(SEARCH($B$7,E25)),MAX($D$3:D24)+1,0)","v":0},"Boardman Power Plant","Boardman Power Plant",900307,"1007940/6106","","OR",1903051.98,1843649.26,1829659.3,0,0,0,0,4444.4400000000005,9545.52,0.96878555046089709,0.96143422209623519,0,0,0,0,2.3354275378226928E-3,5.0159008268392128E-3,0.96878555046089709]
[null,null,{"$f":"IFERROR(VLOOKUP(ROWS($C$6:C25),$D$7:$E$905,2,FALSE),\"\")","v":""},{"$f":"IF(ISNUMBER(SEARCH($B$7,E26)),MAX($D$3:D25)+1,0)","v":0},"Bonanza Power Plant","Bonanza Power Plant",900133,"1001149/7790","","UT",3063496.997,3284112.3800000004,3258837.7,0,0,0,0,8024.73,17249.95,1.0720142318455161,1.063763960986837,0,0,0,0,2.619467232335596E-3,5.6308036263434929E-3,1.0720142318455161]
[null,null,{"$f":"IFERROR(VLOOKUP(ROWS($C$6:C26),$D$7:$E$905,2,FALSE),\"\")","v":""},{"$f":"IF(ISNUMBER(SEARCH($B$7,E27)),MAX($D$3:D26)+1,0)","v":0},"Bonneville Power Administration (Asset-Controlling Supplier)","Bonneville Power Administration (Asset-Controlling Supplier)",300001,"","","Multiple",1,null,null,null,0,null,0,null,null,1.9300000000000001E-2,1.9300000000000001E-2,null,0,null,0,null,null,1.9300000000000001E-2]
[null,null,{"$f":"IFERROR(VLOOKUP(ROWS($C$6:C27),$D$7:$E$905,2,FALSE),\"\")","v":""},{"$f":"IF(ISNUMBER(SEARCH($B$7,E28)),MAX($D$3:D27)+1,0)","v":0},"Boundary Hydroelectric Units","Boundary Hydroelectric Units",500043,"6433","","WA",3884516,0,0,0,0,0,0,0,0,0,0,0,0,0,0,0,0,0]
[null,null,{"$f":"IFERROR(VLOOKUP(ROWS($C$6:C28),$D$7:$E$905,2,FALSE),\"\")","v":""},{"$f":"IF(ISNUMBER(SEARCH($B$7,E29)),MAX($D$3:D28)+1,0)","v":0},"Brownlee","Brownlee",500010,"811","","ID",2013316,0,0,0,0,0,0,0,0,0,0,0,0,0,0,0,0,0]
[null,null,{"$f":"IFERROR(VLOOKUP(ROWS($C$6:C29),$D$7:$E$905,2,FALSE),\"\")","v":""},{"$f":"IF(ISNUMBER(SEARCH($B$7,E30)),MAX($D$3:D29)+1,0)","v":0},"Cabinet Gorge","Cabinet Gorge",500011,"833","","ID",1075975,0,0,0,0,0,0,0,0,0,0,0,0,0,0,0,0,0]
[null,null,{"$f":"IFERROR(VLOOKUP(ROWS($C$6:C30),$D$7:$E$905,2,FALSE),\"\")","v":""},{"$f":"IF(ISNUMBER(SEARCH($B$7,E31)),MAX($D$3:D30)+1,0)","v":0},"Caithness Shepherd's Flat - Horseshoe Bend (Wind)","Caithness Shepherd's Flat - Horseshoe Bend (Wind)",800017,"57550","","OR",612344,0,0,0,0,0,0,0,0,0,0,0,0,0,0,0,0,0]
[null,null,{"$f":"IFERROR(VLOOKUP(ROWS($C$6:C31),$D$7:$E$905,2,FALSE),\"\")","v":""},{"$f":"IF(ISNUMBER(SEARCH($B$7,E32)),MAX($D$3:D31)+1,0)","v":0},"Caithness Shepherd's Flat - North Hurlburt (Wind)","Caithness Shepherd's Flat - North Hurlburt (Wind)",800015,"57526","","OR",550227,0,0,0,0,0,0,0,0,0,0,0,0,0,0,0,0,0]
[null,null,{"$f":"IFERROR(VLOOKUP(ROWS($C$6:C32),$D$7:$E$905,2,FALSE),\"\")","v":""},{"$f":"IF(ISNUMBER(SEARCH($B$7,E33)),MAX($D$3:D32)+1,0)","v":0},"Caithness Shepherd's Flat - South Hurlburt (Wind)","Caithness Shepherd's Flat - South Hurlburt (Wind)",800027,"57549","","OR",585383,0,0,0,0,0,0,0,0,0,0,0,0,0,0,0,0,0]
[null,null,{"$f":"IFERROR(VLOOKUP(ROWS($C$6:C33),$D$7:$E$905,2,FALSE),\"\")","v":""},{"$f":"IF(ISNUMBER(SEARCH($B$7,E34)),MAX($D$3:D33)+1,0)","v":0},"Campbell Hill Windpower Project (Three Buttes Windpower LLC)","Campbell Hill Windpower Project (Three Buttes Windpower LLC)",800053,"57090","","WY",332386,0,0,0,0,0,0,0,0,0,0,0,0,0,0,0,0,0]
[null,null,{"$f":"IFERROR(VLOOKUP(ROWS($C$6:C34),$D$7:$E$905,2,FALSE),\"\")","v":""},{"$f":"IF(ISNUMBER(SEARCH($B$7,E35)),MAX($D$3:D34)+1,0)","v":0},"Cape Scott Wind Farm (CAN)","Cape Scott Wind Farm (CAN)",800049,"Various","","Canada",1,0,0,0,0,0,0,0,0,0,0,0,0,0,0,0,0,0]
[null,null,{"$f":"IFERROR(VLOOKUP(ROWS($C$6:C35),$D$7:$E$905,2,FALSE),\"\")","v":""},{"$f":"IF(ISNUMBER(SEARCH($B$7,E36)),MAX($D$3:D35)+1,0)","v":0},"Carty Generating Station","Carty Generating Station",910102,"1012606/58503","","OR",1362782,541829.58000000007,541307.5,0,0,0,0,210.84,311.23999999999995,0.39759079588664958,0.39720769719588311,0,0,0,0,1.5471293280950292E-4,2.2838575795688522E-4,0.39759079588664958]
[null,null,{"$f":"IFERROR(VLOOKUP(ROWS($C$6:C36),$D$7:$E$905,2,FALSE),\"\")","v":""},{"$f":"IF(ISNUMBER(SEARCH($B$7,E37)),MAX($D$3:D36)+1,0)","v":0},"Cedar Creek II","Cedar Creek II",810100,"57210","","CO",751628,0,0,0,0,0,0,0,0,0,0,0,0,0,0,0,0,0]
[null,null,{"$f":"IFERROR(VLOOKUP(ROWS($C$6:C37),$D$7:$E$905,2,FALSE),\"\")","v":""},{"$f":"IF(ISNUMBER(SEARCH($B$7,E38)),MAX($D$3:D37)+1,0)","v":0},"Cedar Creek Wind","Cedar Creek Wind",800190,"56371","","CO",852867,0,0,0,0,0,0,0,0,0,0,0,0,0,0,0,0,0]
[null,null,{"$f":"IFERROR(VLOOKUP(ROWS($C$6:C38),$D$7:$E$905,2,FALSE),\"\")","v":""},{"$f":"IF(ISNUMBER(SEARCH($B$7,E39)),MAX($D$3:D38)+1,0)","v":0},"Chuck Lenzie Station","Chuck Lenzie Station",900062,"1000150/55322","","NV",6344882,2523573.3200000003,2521141.8000000003,0,0,0,0,981.95999999999992,1449.56,0.39773368834912931,0.39735046294005155,0,0,0,0,1.5476410751216491E-4,2.2846130156557677E-4,0.39773368834912931]
[null,null,{"$f":"IFERROR(VLOOKUP(ROWS($C$6:C39),$D$7:$E$905,2,FALSE),\"\")","v":""},{"$f":"IF(ISNUMBER(SEARCH($B$7,E40)),MAX($D$3:D39)+1,0)","v":0},"CJ Strike","CJ Strike",510101,"812","","ID",376793,0,0,0,0,0,0,0,0,0,0,0,0,0,0,0,0,0]
[null,null,{"$f":"IFERROR(VLOOKUP(ROWS($C$6:C40),$D$7:$E$905,2,FALSE),\"\")","v":""},{"$f":"IF(ISNUMBER(SEARCH($B$7,E41)),MAX($D$3:D40)+1,0)","v":0},"Clark Station","Clark Station",900056,"1000726/2322","","NV",907543,469575.64,469119.6,0,0,0,0,184.17,271.87,0.5174142051671381,0.51691170556105881,0,0,0,0,2.0293253322432105E-4,2.9956707285495014E-4,0.5174142051671381]
[null,null,{"$f":"IFERROR(VLOOKUP(ROWS($C$6:C41),$D$7:$E$905,2,FALSE),\"\")","v":""},{"$f":"IF(ISNUMBER(SEARCH($B$7,E42)),MAX($D$3:D41)+1,0)","v":0},"Colstrip","Colstrip",900325,"1001020/6076","","MT",13358655.657000002,14386838.530000001,14281357,0,0,0,0,33513.480000000003,71968.05,1.0769675407016892,1.0690714220570914,0,0,0,0,2.5087464532734458E-3,5.3873721913243857E-3,1.0769675407016892]
[null,null,{"$f":"IFERROR(VLOOKUP(ROWS($C$6:C42),$D$7:$E$905,2,FALSE),\"\")","v":""},{"$f":"IF(ISNUMBER(SEARCH($B$7,E43)),MAX($D$3:D42)+1,0)","v":2},"Copper Mountain Solar 1 (CM10)","Copper Mountain Solar 1 (CM10)",700061,"56944","","NV",19061,0,0,0,0,0,0,0,0,0,0,0,0,0,0,0,0,0]
[null,null,{"$f":"IFERROR(VLOOKUP(ROWS($C$6:C43),$D$7:$E$905,2,FALSE),\"\")","v":""},{"$f":"IF(ISNUMBER(SEARCH($B$7,E44)),MAX($D$3:D43)+1,0)","v":0},"Copper Mountain Solar 2 (CMS2)","Copper Mountain Solar 2 (CMS2)",700004,"58017","","NV",356633,0,0,0,0,0,0,0,0,0,0,0,0,0,0,0,0,0]
[null,null,{"$f":"IFERROR(VLOOKUP(ROWS($C$6:C44),$D$7:$E$905,2,FALSE),\"\")","v":""},{"$f":"IF(ISNUMBER(SEARCH($B$7,E45)),MAX($D$3:D44)+1,0)","v":0},"Copper Mountain Solar 3","Copper Mountain Solar 3",700101,"58915","","NV",605854,0,0,0,0,0,0,0,0,0,0,0,0,0,0,0,0,0]
[null,null,{"$f":"IFERROR(VLOOKUP(ROWS($C$6:C45),$D$7:$E$905,2,FALSE),\"\")","v":""},{"$f":"IF(ISNUMBER(SEARCH($B$7,E46)),MAX($D$3:D45)+1,0)","v":0},"Copper Mountain Solar 4 (CMS4)","Copper Mountain Solar 4 (CMS4)",700130,"59814","","NV",42979,0,0,0,0,0,0,0,0,0,0,0,0,0,0,0,0,0]
[null,null,{"$f":"IFERROR(VLOOKUP(ROWS($C$6:C46),$D$7:$E$905,2,FALSE),\"\")","v":""},{"$f":"IF(ISNUMBER(SEARCH($B$7,E47)),MAX($D$3:D46)+1,0)","v":0},"Cowiltz River Project (Mayfield Dam and Mossyrock Dam)","Cowiltz River Project (Mayfield Dam and Mossyrock Dam)",501000,"3917","","WA",784801,0,0,0,0,0,0,0,0,0,0,0,0,0,0,0,0,0]
[null,null,{"$f":"IFERROR(VLOOKUP(ROWS($C$6:C47),$D$7:$E$905,2,FALSE),\"\")","v":""},{"$f":"IF(ISNUMBER(SEARCH($B$7,E48)),MAX($D$3:D47)+1,0)","v":0},"CSE Arizona Facility","CSE Arizona Facility",910019,"Various","","AZ",1,0.5774758634468381,0,0.5745792425295343,0,0,0,7.415349548297428E-4,2.1550859624739401E-3,0.5774758634468381,0,0.5745792425295343,0,0,0,7.415349548297428E-4,2.1550859624739401E-3,2.896620917303683E-3]
[null,null,{"$f":"IFERROR(VLOOKUP(ROWS($C$6:C48),$D$7:$E$905,2,FALSE),\"\")","v":""},{"$f":"IF(ISNUMBER(SEARCH($B$7,E49)),MAX($D$3:D48)+1,0)","v":0},"Cushman Hydro Project (Cushman No. 1 Dam and Cushman No. 2 Dam)","Cushman Hydro Project (Cushman No. 1 Dam and Cushman No. 2 Dam)",501001,"3914","","WA",185034,0,0,0,0,0,0,0,0,0,0,0,0,0,0,0,0,0]
[null,null,{"$f":"IFERROR(VLOOKUP(ROWS($C$6:C49),$D$7:$E$905,2,FALSE),\"\")","v":""},{"$f":"IF(ISNUMBER(SEARCH($B$7,E50)),MAX($D$3:D49)+1,0)","v":0},"Desert Star Energy Center (formerly: Eldorado Energy)-Natural Gas Combined Cycle","Desert Star Energy Center (formerly: Eldorado Energy)-Natural Gas Combined Cycle",900243,"1001306/55077","","NV",1223034,508457.04,507975,0,0,0,0,194.67,287.37,0.415734182369419,0.41534004778280897,0,0,0,0,1.5916973690020063E-4,2.3496484970982E-4,0.415734182369419]
[null,null,{"$f":"IFERROR(VLOOKUP(ROWS($C$6:C50),$D$7:$E$905,2,FALSE),\"\")","v":""},{"$f":"IF(ISNUMBER(SEARCH($B$7,E51)),MAX($D$3:D50)+1,0)","v":0},"Desert View Power","Desert View Power",900070,"10300","","CA",332818.00200000004,507705.38458200003,2092.7524200000003,495189.429,0,0,0,3548.454651,6874.7485109999998,1.5254745282137712,6.2879784369356323E-3,1.4878685228090516,0,0,0,1.0661847104652709E-2,2.065617986313132E-2,3.7606005404719658E-2]
[null,null,{"$f":"IFERROR(VLOOKUP(ROWS($C$6:C51),$D$7:$E$905,2,FALSE),\"\")","v":""},{"$f":"IF(ISNUMBER(SEARCH($B$7,E52)),MAX($D$3:D51)+1,0)","v":0},"Dokie Wind Energy Project (CAN)","Dokie Wind Energy Project (CAN)",800012,"Various","","Canada",1,0,0,0,0,0,0,0,0,0,0,0,0,0,0,0,0,0]
[null,null,{"$f":"IFERROR(VLOOKUP(ROWS($C$6:C52),$D$7:$E$905,2,FALSE),\"\")","v":""},{"$f":"IF(ISNUMBER(SEARCH($B$7,E53)),MAX($D$3:D52)+1,0)","v":0},"Don A. Campbell (Phase 2) Geothermal Plant","Don A. Campbell (Phase 2) Geothermal Plant",910020,"60419","","NV",174984,0,0,0,0,0,0,0,0,0,0,0,0,0,0,0,0,0]
[null,null,{"$f":"IFERROR(VLOOKUP(ROWS($C$6:C53),$D$7:$E$905,2,FALSE),\"\")","v":""},{"$f":"IF(ISNUMBER(SEARCH($B$7,E54)),MAX($D$3:D53)+1,0)","v":0},"Don A. Campbell (Wild Rose) Geothermal Plant","Don A. Campbell (Wild Rose) Geothermal Plant",900076,"58533","","NV",175650,0,0,0,0,0,0,0,0,0,0,0,0,0,0,0,0,0]
[null,null,{"$f":"IFERROR(VLOOKUP(ROWS($C$6:C54),$D$7:$E$905,2,FALSE),\"\")","v":""},{"$f":"IF(ISNUMBER(SEARCH($B$7,E55)),MAX($D$3:D54)+1,0)","v":0},"Dorena Hydroelectric Facility","Dorena Hydroelectric Facility",501004,"59357","","OR",11166,0,0,0,0,0,0,0,0,0,0,0,0,0,0,0,0,0]
[null,null,{"$f":"IFERROR(VLOOKUP(ROWS($C$6:C55),$D$7:$E$905,2,FALSE),\"\")","v":""},{"$f":"IF(ISNUMBER(SEARCH($B$7,E56)),MAX($D$3:D55)+1,0)","v":0},"Dunlap I","Dunlap I",800175,"57299","","WY",388498,0,0,0,0,0,0,0,0,0,0,0,0,0,0,0,0,0]
[null,null,{"$f":"IFERROR(VLOOKUP(ROWS($C$6:C56),$D$7:$E$905,2,FALSE),\"\")","v":""},{"$f":"IF(ISNUMBER(SEARCH($B$7,E57)),MAX($D$3:D56)+1,0)","v":0},"El Cabo Wind","El Cabo Wind",810101,"Various","","NM",1,0,0,0,0,0,0,0,0,0,0,0,0,0,0,0,0,0]
[null,null,{"$f":"IFERROR(VLOOKUP(ROWS($C$6:C57),$D$7:$E$905,2,FALSE),\"\")","v":""},{"$f":"IF(ISNUMBER(SEARCH($B$7,E58)),MAX($D$3:D57)+1,0)","v":0},"Elkhorn Valley Wind Farm","Elkhorn Valley Wind Farm",800050,"56623","","OR",331119,0,0,0,0,0,0,0,0,0,0,0,0,0,0,0,0,0]
[null,null,{"$f":"IFERROR(VLOOKUP(ROWS($C$6:C58),$D$7:$E$905,2,FALSE),\"\")","v":""},{"$f":"IF(ISNUMBER(SEARCH($B$7,E59)),MAX($D$3:D58)+1,0)","v":0},"Encogen Generating Station","Encogen Generating Station",910046,"1006502/7870","","WA",212717.003,103707.56,103607.2,0,0,0,0,40.53,59.83,0.48753770755222609,0.48706590699757085,0,0,0,0,1.9053483938000012E-4,2.8126571527523823E-4,0.48753770755222609]
[null,null,{"$f":"IFERROR(VLOOKUP(ROWS($C$6:C59),$D$7:$E$905,2,FALSE),\"\")","v":""},{"$f":"IF(ISNUMBER(SEARCH($B$7,E60)),MAX($D$3:D59)+1,0)","v":0},"Energía Sierra Juárez Wind Farm (MEX)","Energía Sierra Juárez Wind Farm (MEX)",810011,"Various","","Mexico",1,0,0,0,0,0,0,0,0,0,0,0,0,0,0,0,0,0]
[null,null,{"$f":"IFERROR(VLOOKUP(ROWS($C$6:C60),$D$7:$E$905,2,FALSE),\"\")","v":""},{"$f":"IF(ISNUMBER(SEARCH($B$7,E61)),MAX($D$3:D60)+1,0)","v":0},"Eurus Combine Hills II LLC","Eurus Combine Hills II LLC",800010,"57137","","OR",173247,0,0,0,0,0,0,0,0,0,0,0,0,0,0,0,0,0]
[null,null,{"$f":"IFERROR(VLOOKUP(ROWS($C$6:C61),$D$7:$E$905,2,FALSE),\"\")","v":""},{"$f":"IF(ISNUMBER(SEARCH($B$7,E62)),MAX($D$3:D61)+1,0)","v":0},"Evander Andrews Power Complex","Evander Andrews Power Complex",910104,"1000120/7953","","ID",198102,114448.74,114338.5,0,0,0,0,44.52,65.72,0.5777263228034043,0.57716984179866937,0,0,0,0,2.2473271345064665E-4,3.317482912842879E-4,0.5777263228034043]
[null,null,{"$f":"IFERROR(VLOOKUP(ROWS($C$6:C62),$D$7:$E$905,2,FALSE),\"\")","v":""},{"$f":"IF(ISNUMBER(SEARCH($B$7,E63)),MAX($D$3:D62)+1,0)","v":0},"Ferndale Generating Station","Ferndale Generating Station",910047,"1000001/54537","","WA",742347.00199999998,311768.85993984941,311468.54237732361,0,0,0,0,121.2820925584961,179.03546996730378,0.4199772600952047,0.41957270863649776,0,0,0,0,1.633765506316359E-4,2.4117490807527205E-4,0.4199772600952047]
[null,null,{"$f":"IFERROR(VLOOKUP(ROWS($C$6:C63),$D$7:$E$905,2,FALSE),\"\")","v":""},{"$f":"IF(ISNUMBER(SEARCH($B$7,E64)),MAX($D$3:D63)+1,0)","v":0},"Fort Churchill Station","Fort Churchill Station",900057,"1007576/2330","","NV",271863,175144.28,174975.80000000002,0,0,0,0,68.040000000000006,100.44000000000001,0.64423728127770241,0.64361755737264736,0,0,0,0,2.5027311550302915E-4,3.694507895520906E-4,0.64423728127770241]
[null,null,{"$f":"IFERROR(VLOOKUP(ROWS($C$6:C64),$D$7:$E$905,2,FALSE),\"\")","v":""},{"$f":"IF(ISNUMBER(SEARCH($B$7,E65)),MAX($D$3:D64)+1,0)","v":0},"Four Corners Power Plant","Four Corners Power Plant",900016,"1007245/2442","","NM",6873285.0330000008,6269733.4699999997,6221179,0,0,0,0,15428.489999999998,33125.979999999996,0.91218877725829339,0.90512454672414855,0,0,0,0,2.2447039408266594E-3,4.8195265933182775E-3,0.91218877725829339]
[null,null,{"$f":"IFERROR(VLOOKUP(ROWS($C$6:C65),$D$7:$E$905,2,FALSE),\"\")","v":""},{"$f":"IF(ISNUMBER(SEARCH($B$7,E66)),MAX($D$3:D65)+1,0)","v":0},"FPL Energy Vansycle LLC (OR)","FPL Energy Vansycle LLC (OR)",810102,"55989","","OR",284876,0,0,0,0,0,0,0,0,0,0,0,0,0,0,0,0,0]
[null,null,{"$f":"IFERROR(VLOOKUP(ROWS($C$6:C66),$D$7:$E$905,2,FALSE),\"\")","v":""},{"$f":"IF(ISNUMBER(SEARCH($B$7,E67)),MAX($D$3:D66)+1,0)","v":0},"FPL Energy Vansycle LLC (WA)","FPL Energy Vansycle LLC (WA)",810103,"55560","","WA",381650,0,0,0,0,0,0,0,0,0,0,0,0,0,0,0,0,0]
[null,null,{"$f":"IFERROR(VLOOKUP(ROWS($C$6:C67),$D$7:$E$905,2,FALSE),\"\")","v":""},{"$f":"IF(ISNUMBER(SEARCH($B$7,E68)),MAX($D$3:D67)+1,0)","v":0},"Frank Tracy Station","Frank Tracy Station",900058,"1007549/2336","","NV",4026970,1694384.4000000001,1692751.5999999999,0,0,0,0,659.4,973.39999999999986,0.42075913155548716,0.42035366541096653,0,0,0,0,1.6374594297946098E-4,2.4172020154110903E-4,0.42075913155548716]
[null,null,{"$f":"IFERROR(VLOOKUP(ROWS($C$6:C68),$D$7:$E$905,2,FALSE),\"\")","v":""},{"$f":"IF(ISNUMBER(SEARCH($B$7,E69)),MAX($D$3:D68)+1,0)","v":0},"Frederickson Power LP","Frederickson Power LP",900080,"1000301/55818","","WA",837562,330367.74,330049.5,0,0,0,0,128.52000000000001,189.72,0.39443974296828171,0.39405978303695727,0,0,0,0,1.5344535688104286E-4,2.2651457444344418E-4,0.39443974296828171]
[null,null,{"$f":"IFERROR(VLOOKUP(ROWS($C$6:C69),$D$7:$E$905,2,FALSE),\"\")","v":""},{"$f":"IF(ISNUMBER(SEARCH($B$7,E70)),MAX($D$3:D69)+1,0)","v":0},"Frederickson PSE","Frederickson PSE",910048,"1004175/99","","WA",19474,30294.14,30264.5,0,0,0,0,11.969999999999999,17.670000000000002,1.5556198007599877,1.5540977713874911,0,0,0,0,6.1466570812365197E-4,9.0736366437301028E-4,1.5556198007599877]
[null,null,{"$f":"IFERROR(VLOOKUP(ROWS($C$6:C70),$D$7:$E$905,2,FALSE),\"\")","v":""},{"$f":"IF(ISNUMBER(SEARCH($B$7,E71)),MAX($D$3:D70)+1,0)","v":0},"Fredonia Generating Station","Fredonia Generating Station",910049,"1004066/607","","WA",245804.00099999999,163707.85999999999,163547.59999999998,0,0,0,0,64.47,95.789999999999992,0.66600974489426634,0.66535776201624963,0,0,0,0,2.6228214242940661E-4,3.8970073558729419E-4,0.66600974489426634]
[null,null,{"$f":"IFERROR(VLOOKUP(ROWS($C$6:C71),$D$7:$E$905,2,FALSE),\"\")","v":""},{"$f":"IF(ISNUMBER(SEARCH($B$7,E72)),MAX($D$3:D71)+1,0)","v":0},"Gala Solar","Gala Solar",710104,"Various","","OR",1,0,0,0,0,0,0,0,0,0,0,0,0,0,0,0,0,0]
[null,null,{"$f":"IFERROR(VLOOKUP(ROWS($C$6:C72),$D$7:$E$905,2,FALSE),\"\")","v":""},{"$f":"IF(ISNUMBER(SEARCH($B$7,E73)),MAX($D$3:D72)+1,0)","v":0},"Galena 3 Geothermal Power Plant","Galena 3 Geothermal Power Plant",900047,"56541","","NV",144796,0,0,0,0,0,0,0,0,0,0,0,0,0,0,0,0,0]
[null,null,{"$f":"IFERROR(VLOOKUP(ROWS($C$6:C73),$D$7:$E$905,2,FALSE),\"\")","v":""},{"$f":"IF(ISNUMBER(SEARCH($B$7,E74)),MAX($D$3:D73)+1,0)","v":0},{"$f":"F74","v":"Glacier Wind Farm (Naturener)"},"Glacier Wind Farm (Naturener)",800032,"57049","","MT",284565.59999999998,0,0,0,0,0,0,0,0,0,0,0,0,0,0,0,0,0]
[null,null,{"$f":"IFERROR(VLOOKUP(ROWS($C$6:C74),$D$7:$E$905,2,FALSE),\"\")","v":""},{"$f":"IF(ISNUMBER(SEARCH($B$7,E75)),MAX($D$3:D74)+1,0)","v":0},"Glen Canyon Dam","Glen Canyon Dam",500007,"153","","AZ",4016225,0,0,0,0,0,0,0,0,0,0,0,0,0,0,0,0,0]
[null,null,{"$f":"IFERROR(VLOOKUP(ROWS($C$6:C75),$D$7:$E$905,2,FALSE),\"\")","v":""},{"$f":"IF(ISNUMBER(SEARCH($B$7,E76)),MAX($D$3:D75)+1,0)","v":0},"Glenrock I","Glenrock I",800037,"56841","","WY",430345,0,0,0,0,0,0,0,0,0,0,0,0,0,0,0,0,0]
[null,null,{"$f":"IFERROR(VLOOKUP(ROWS($C$6:C76),$D$7:$E$905,2,FALSE),\"\")","v":""},{"$f":"IF(ISNUMBER(SEARCH($B$7,E77)),MAX($D$3:D76)+1,0)","v":0},"Glenrock III","Glenrock III",810007,"56841","","WY",430345,0,0,0,0,0,0,0,0,0,0,0,0,0,0,0,0,0]
[null,null,{"$f":"IFERROR(VLOOKUP(ROWS($C$6:C77),$D$7:$E$905,2,FALSE),\"\")","v":""},{"$f":"IF(ISNUMBER(SEARCH($B$7,E78)),MAX($D$3:D77)+1,0)","v":0},"Goldendale Generating Station","Goldendale Generating Station",910050,"1001436/55482","","WA",1004047,385263.98000000004,384892.7,0,0,0,0,149.94,221.34,0.38371110117355067,0.38334131768731944,0,0,0,0,1.4933563867030128E-4,2.2044784756092097E-4,0.38371110117355067]
[null,null,{"$f":"IFERROR(VLOOKUP(ROWS($C$6:C78),$D$7:$E$905,2,FALSE),\"\")","v":""},{"$f":"IF(ISNUMBER(SEARCH($B$7,E79)),MAX($D$3:D78)+1,0)","v":0},"Goodnoe Hills","Goodnoe Hills",800036,"56666","","WA",223899,0,0,0,0,0,0,0,0,0,0,0,0,0,0,0,0,0]
[null,null,{"$f":"IFERROR(VLOOKUP(ROWS($C$6:C79),$D$7:$E$905,2,FALSE),\"\")","v":""},{"$f":"IF(ISNUMBER(SEARCH($B$7,E80)),MAX($D$3:D79)+1,0)","v":0},"Goshen Phase II LLC","Goshen Phase II LLC",800186,"57211","","ID",308287,0,0,0,0,0,0,0,0,0,0,0,0,0,0,0,0,0]
[null,null,{"$f":"IFERROR(VLOOKUP(ROWS($C$6:C80),$D$7:$E$905,2,FALSE),\"\")","v":""},{"$f":"IF(ISNUMBER(SEARCH($B$7,E81)),MAX($D$3:D80)+1,0)","v":0},"Grays Harbor Energy ","Grays Harbor Energy ",900060,"1000207/7999","","WA",2818292,1081672.6000000001,1080630,0,0,0,0,421.04999999999995,621.54999999999995,0.38380430416720485,0.38343436379197043,0,0,0,0,1.4939899769079995E-4,2.2054137754356183E-4,0.38380430416720485]
[null,null,{"$f":"IFERROR(VLOOKUP(ROWS($C$6:C81),$D$7:$E$905,2,FALSE),\"\")","v":""},{"$f":"IF(ISNUMBER(SEARCH($B$7,E82)),MAX($D$3:D81)+1,0)","v":0},"Griffith Energy, LLC","Griffith Energy, LLC",900177,"1001326/55124","","AZ",2086732,832427.44,831625.6,0,0,0,0,323.82,478.02000000000004,0.39891439820734043,0.39853014186776259,0,0,0,0,1.551804448295229E-4,2.2907589474834337E-4,0.39891439820734043]
[null,null,{"$f":"IFERROR(VLOOKUP(ROWS($C$6:C82),$D$7:$E$905,2,FALSE),\"\")","v":""},{"$f":"IF(ISNUMBER(SEARCH($B$7,E83)),MAX($D$3:D82)+1,0)","v":0},"Halkirk I Wind Project (CAN)","Halkirk I Wind Project (CAN)",800013,"Various","","Canada",1,0,0,0,0,0,0,0,0,0,0,0,0,0,0,0,0,0]
[null,null,{"$f":"IFERROR(VLOOKUP(ROWS($C$6:C83),$D$7:$E$905,2,FALSE),\"\")","v":""},{"$f":"IF(ISNUMBER(SEARCH($B$7,E84)),MAX($D$3:D83)+1,0)","v":0},"Harry Allen Station","Harry Allen Station",900059,"1006804/7082","","NV",3565578,1371980.26,1370657.9,0,0,0,0,534.03,788.33,0.38478481188744151,0.38441394354575892,0,0,0,0,1.4977375337182357E-4,2.2109458831078721E-4,0.38478481188744151]
[null,null,{"$f":"IFERROR(VLOOKUP(ROWS($C$6:C84),$D$7:$E$905,2,FALSE),\"\")","v":""},{"$f":"IF(ISNUMBER(SEARCH($B$7,E85)),MAX($D$3:D84)+1,0)","v":0},"Harvest Wind","Harvest Wind",800188,"57152","","WA",261218,0,0,0,0,0,0,0,0,0,0,0,0,0,0,0,0,0]
[null,null,{"$f":"IFERROR(VLOOKUP(ROWS($C$6:C85),$D$7:$E$905,2,FALSE),\"\")","v":""},{"$f":"IF(ISNUMBER(SEARCH($B$7,E86)),MAX($D$3:D85)+1,0)","v":0},"Hay Canyon Wind","Hay Canyon Wind",800140,"56790","","OR",206106,0,0,0,0,0,0,0,0,0,0,0,0,0,0,0,0,0]
[null,null,{"$f":"IFERROR(VLOOKUP(ROWS($C$6:C86),$D$7:$E$905,2,FALSE),\"\")","v":""},{"$f":"IF(ISNUMBER(SEARCH($B$7,E87)),MAX($D$3:D86)+1,0)","v":0},"Headgate Rock Dam","Headgate Rock Dam",501138,"7179","","AZ",75735,0,0,0,0,0,0,0,0,0,0,0,0,0,0,0,0,0]
[null,null,{"$f":"IFERROR(VLOOKUP(ROWS($C$6:C87),$D$7:$E$905,2,FALSE),\"\")","v":""},{"$f":"IF(ISNUMBER(SEARCH($B$7,E88)),MAX($D$3:D87)+1,0)","v":0},"Heber Geothermal","Heber Geothermal",910106,"54689","","CA",355359,22191.956670000003,0,0,0,22191.956670000003,0,0,0,6.244940094383427E-2,0,0,0,6.244940094383427E-2,0,0,0,0]
[null,null,{"$f":"IFERROR(VLOOKUP(ROWS($C$6:C88),$D$7:$E$905,2,FALSE),\"\")","v":""},{"$f":"IF(ISNUMBER(SEARCH($B$7,E89)),MAX($D$3:D88)+1,0)","v":0},"Hells Canyon","Hells Canyon",500019,"3013","","OR",1792718,0,0,0,0,0,0,0,0,0,0,0,0,0,0,0,0,0]
[null,null,{"$f":"IFERROR(VLOOKUP(ROWS($C$6:C89),$D$7:$E$905,2,FALSE),\"\")","v":""},{"$f":"IF(ISNUMBER(SEARCH($B$7,E90)),MAX($D$3:D89)+1,0)","v":0},"Hermiston Power, LLC","Hermiston Power, LLC",900063,"1000788/55328","","OR",3179734,1252039.5,1250859.1000000001,0,0,0,0,476.7,703.7,0.39375605003437397,0.39338482401358105,0,0,0,0,1.4991820070483884E-4,2.2130782008809543E-4,0.39375605003437397]
[null,null,{"$f":"IFERROR(VLOOKUP(ROWS($C$6:C90),$D$7:$E$905,2,FALSE),\"\")","v":""},{"$f":"IF(ISNUMBER(SEARCH($B$7,E91)),MAX($D$3:D90)+1,0)","v":0},"Higgins Generating Station","Higgins Generating Station",900275,"1000278/55687","","NV",3512565,1378049.78,1376721.7,0,0,0,0,536.34,791.7399999999999,0.39232007948607356,0.39194198541521652,0,0,0,0,1.5269183630765553E-4,2.2540223454939622E-4,0.39232007948607356]
[null,null,{"$f":"IFERROR(VLOOKUP(ROWS($C$6:C91),$D$7:$E$905,2,FALSE),\"\")","v":""},{"$f":"IF(ISNUMBER(SEARCH($B$7,E92)),MAX($D$3:D91)+1,0)","v":0},"High Plains","High Plains",800040,"57040","","WY",316175,0,0,0,0,0,0,0,0,0,0,0,0,0,0,0,0,0]
[null,null,{"$f":"IFERROR(VLOOKUP(ROWS($C$6:C92),$D$7:$E$905,2,FALSE),\"\")","v":""},{"$f":"IF(ISNUMBER(SEARCH($B$7,E93)),MAX($D$3:D92)+1,0)","v":0},"Hoover Dam","Hoover Dam",500066,"154","","NV",1748122,0,0,0,0,0,0,0,0,0,0,0,0,0,0,0,0,0]
[null,null,{"$f":"IFERROR(VLOOKUP(ROWS($C$6:C93),$D$7:$E$905,2,FALSE),\"\")","v":""},{"$f":"IF(ISNUMBER(SEARCH($B$7,E94)),MAX($D$3:D93)+1,0)","v":0},"Hopkins Ridge Wind","Hopkins Ridge Wind",800001,"56255","","WA",415070,0,0,0,0,0,0,0,0,0,0,0,0,0,0,0,0,0]
[null,null,{"$f":"IFERROR(VLOOKUP(ROWS($C$6:C94),$D$7:$E$905,2,FALSE),\"\")","v":""},{"$f":"IF(ISNUMBER(SEARCH($B$7,E95)),MAX($D$3:D94)+1,0)","v":0},"Horse Butte Wind","Horse Butte Wind",800030,"57890","","ID",177234,0,0,0,0,0,0,0,0,0,0,0,0,0,0,0,0,0]
[null,null,{"$f":"IFERROR(VLOOKUP(ROWS($C$6:C95),$D$7:$E$905,2,FALSE),\"\")","v":""},{"$f":"IF(ISNUMBER(SEARCH($B$7,E96)),MAX($D$3:D95)+1,0)","v":0},"HW Hill Landfill Gas (aka Roosevelt Biogas 1)","HW Hill Landfill Gas (aka Roosevelt Biogas 1)",900052,"7832","","WA",146557,169914.23352999997,0,169487.01687999998,0,0,0,109.36746240000001,317.84918759999999,1.15937303254024,0,1.1564580121045054,0,0,0,7.4624523154813492E-4,2.1687752041867668E-3,2.9150204357349021E-3]
[null,null,{"$f":"IFERROR(VLOOKUP(ROWS($C$6:C96),$D$7:$E$905,2,FALSE),\"\")","v":""},{"$f":"IF(ISNUMBER(SEARCH($B$7,E97)),MAX($D$3:D96)+1,0)","v":0},"Intermountain Power Project","Intermountain Power Project",900233,"1005628/6481","","UT",8403849.9979999997,7826600.017,7766234.5,0,0,0,0,19178.607,41186.909999999996,0.93131124649566843,0.92412816766699268,0,0,0,0,2.2821215281762816E-3,4.9009573004994032E-3,0.93131124649566843]
[null,null,{"$f":"IFERROR(VLOOKUP(ROWS($C$6:C97),$D$7:$E$905,2,FALSE),\"\")","v":""},{"$f":"IF(ISNUMBER(SEARCH($B$7,E98)),MAX($D$3:D97)+1,0)","v":0},"Jim Bridger Total Plant","Jim Bridger Total Plant",900013,"1001192/8066","","WY",11685770.984999999,11731582.610000001,11642674.9,0,0,0,0,28248.15,60659.56,1.0039202911865042,0.99631208885957823,0,0,0,0,2.4173116207958957E-3,5.1908907061299905E-3,1.0039202911865042]
[null,null,{"$f":"IFERROR(VLOOKUP(ROWS($C$6:C98),$D$7:$E$905,2,FALSE),\"\")","v":""},{"$f":"IF(ISNUMBER(SEARCH($B$7,E99)),MAX($D$3:D98)+1,0)","v":0},"Judith Gap Wind Farm","Judith Gap Wind Farm",900218,"56377","","MT",481097,0,0,0,0,0,0,0,0,0,0,0,0,0,0,0,0,0]
[null,null,{"$f":"IFERROR(VLOOKUP(ROWS($C$6:C99),$D$7:$E$905,2,FALSE),\"\")","v":""},{"$f":"IF(ISNUMBER(SEARCH($B$7,E100)),MAX($D$3:D99)+1,0)","v":0},"Juniper Canyon Wind","Juniper Canyon Wind",800011,"57320","","WA",322142,0,0,0,0,0,0,0,0,0,0,0,0,0,0,0,0,0]
[null,null,{"$f":"IFERROR(VLOOKUP(ROWS($C$6:C100),$D$7:$E$905,2,FALSE),\"\")","v":""},{"$f":"IF(ISNUMBER(SEARCH($B$7,E101)),MAX($D$3:D100)+1,0)","v":0},"Kerr","Kerr",500014,"2188","","MT",1068156,0,0,0,0,0,0,0,0,0,0,0,0,0,0,0,0,0]
[null,null,{"$f":"IFERROR(VLOOKUP(ROWS($C$6:C101),$D$7:$E$905,2,FALSE),\"\")","v":""},{"$f":"IF(ISNUMBER(SEARCH($B$7,E102)),MAX($D$3:D101)+1,0)","v":0},"Kettle Falls Woodwaste Plant","Kettle Falls Woodwaste Plant",900021,"550","","WA",344837.99699999997,472606.64937599999,2400.6925799999999,460512.22559999995,0,0,0,3300.1429229999999,6393.5882729999985,1.3705179054731607,6.9617982962590988E-3,1.335445135415283,0,0,0,9.5701255421687184E-3,1.8540846219449531E-2,3.5072770057877345E-2]
[null,null,{"$f":"IFERROR(VLOOKUP(ROWS($C$6:C102),$D$7:$E$905,2,FALSE),\"\")","v":""},{"$f":"IF(ISNUMBER(SEARCH($B$7,E103)),MAX($D$3:D102)+1,0)","v":0},"Kittitas Valley Wind Power Project (Sagebrush Power)","Kittitas Valley Wind Power Project (Sagebrush Power)",800033,"56858","","WA",251119,0,0,0,0,0,0,0,0,0,0,0,0,0,0,0,0,0]
[null,null,{"$f":"IFERROR(VLOOKUP(ROWS($C$6:C103),$D$7:$E$905,2,FALSE),\"\")","v":""},{"$f":"IF(ISNUMBER(SEARCH($B$7,E104)),MAX($D$3:D103)+1,0)","v":0},"Klamath Falls Cogeneration","Klamath Falls Cogeneration",900276,"1001314/55103","","OR",2427619.0299999998,1036369.3531074832,1035367.8917890715,0,0,0,0,404.43630166629276,597.02501674547977,0.42690773976486884,0.42649521156088138,0,0,0,0,1.6659792853341275E-4,2.4593027545408548E-4,0.42690773976486884]
[null,null,{"$f":"IFERROR(VLOOKUP(ROWS($C$6:C104),$D$7:$E$905,2,FALSE),\"\")","v":""},{"$f":"IF(ISNUMBER(SEARCH($B$7,E105)),MAX($D$3:D104)+1,0)","v":0},"Klondike Windpower II","Klondike Windpower II",800051,"56359","","OR",209298,0,0,0,0,0,0,0,0,0,0,0,0,0,0,0,0,0]
[null,null,{"$f":"IFERROR(VLOOKUP(ROWS($C$6:C105),$D$7:$E$905,2,FALSE),\"\")","v":""},{"$f":"IF(ISNUMBER(SEARCH($B$7,E106)),MAX($D$3:D105)+1,0)","v":0},"Klondike Windpower III","Klondike Windpower III",800029,"56468","","OR",759196,0,0,0,0,0,0,0,0,0,0,0,0,0,0,0,0,0]
[null,null,{"$f":"IFERROR(VLOOKUP(ROWS($C$6:C106),$D$7:$E$905,2,FALSE),\"\")","v":""},{"$f":"IF(ISNUMBER(SEARCH($B$7,E107)),MAX($D$3:D106)+1,0)","v":0},"Klondike Windpower IIIA","Klondike Windpower IIIA",800031,"56468","","OR",759196,0,0,0,0,0,0,0,0,0,0,0,0,0,0,0,0,0]
[null,null,{"$f":"IFERROR(VLOOKUP(ROWS($C$6:C107),$D$7:$E$905,2,FALSE),\"\")","v":""},{"$f":"IF(ISNUMBER(SEARCH($B$7,E108)),MAX($D$3:D107)+1,0)","v":0},"La Rosita Power Project (MEX)","La Rosita Power Project (MEX)",901631,"","","Mexico",2886669.0996093699,1162634.5052799997,1161495.3547999999,0,0,0,0,460.04154000000005,679.10893999999996,0.40275988177423239,0.40236525722923205,0,0,0,0,1.5936760471169136E-4,2.352569402886872E-4,0.40275988177423239]
[null,null,{"$f":"IFERROR(VLOOKUP(ROWS($C$6:C108),$D$7:$E$905,2,FALSE),\"\")","v":""},{"$f":"IF(ISNUMBER(SEARCH($B$7,E109)),MAX($D$3:D108)+1,0)","v":0},"Lake Chelan Hydroelectric Facility","Lake Chelan Hydroelectric Facility",500040,"6424","","WA",442769,0,0,0,0,0,0,0,0,0,0,0,0,0,0,0,0,0]
[null,null,{"$f":"IFERROR(VLOOKUP(ROWS($C$6:C109),$D$7:$E$905,2,FALSE),\"\")","v":""},{"$f":"IF(ISNUMBER(SEARCH($B$7,E110)),MAX($D$3:D109)+1,0)","v":0},"Langley Gulch Power Plant","Langley Gulch Power Plant",910107,"1007379/57028","","ID",1420178,537832.05999999994,537302.69999999995,0,0,0,0,213.78,315.58,0.37870750004576886,0.37833475803737276,0,0,0,0,1.5053042646766813E-4,2.2221158192846247E-4,0.37870750004576886]
[null,null,{"$f":"IFERROR(VLOOKUP(ROWS($C$6:C110),$D$7:$E$905,2,FALSE),\"\")","v":""},{"$f":"IF(ISNUMBER(SEARCH($B$7,E111)),MAX($D$3:D110)+1,0)","v":0},"Las Vegas Generating Station","Las Vegas Generating Station",910031,"1000595/10761","","NV",366345,173217.80000000002,173051.4,0,0,0,0,67.2,99.2,0.47282698003248308,0.47237276337878226,0,0,0,0,1.8343364860991688E-4,2.7078300509082969E-4,0.47282698003248308]
[null,null,{"$f":"IFERROR(VLOOKUP(ROWS($C$6:C111),$D$7:$E$905,2,FALSE),\"\")","v":""},{"$f":"IF(ISNUMBER(SEARCH($B$7,E112)),MAX($D$3:D111)+1,0)","v":0},"Leaning Juniper ","Leaning Juniper ",800034,"56360","","OR",202614,0,0,0,0,0,0,0,0,0,0,0,0,0,0,0,0,0]
[null,null,{"$f":"IFERROR(VLOOKUP(ROWS($C$6:C112),$D$7:$E$905,2,FALSE),\"\")","v":""},{"$f":"IF(ISNUMBER(SEARCH($B$7,E113)),MAX($D$3:D112)+1,0)","v":0},"Leaning Juniper II","Leaning Juniper II",800178,"57333","","OR",387149,0,0,0,0,0,0,0,0,0,0,0,0,0,0,0,0,0]
[null,null,{"$f":"IFERROR(VLOOKUP(ROWS($C$6:C113),$D$7:$E$905,2,FALSE),\"\")","v":""},{"$f":"IF(ISNUMBER(SEARCH($B$7,E114)),MAX($D$3:D113)+1,0)","v":0},"Limon Wind I","Limon Wind I",810013,"58126","","CO",701195,0,0,0,0,0,0,0,0,0,0,0,0,0,0,0,0,0]
[null,null,{"$f":"IFERROR(VLOOKUP(ROWS($C$6:C114),$D$7:$E$905,2,FALSE),\"\")","v":""},{"$f":"IF(ISNUMBER(SEARCH($B$7,E115)),MAX($D$3:D114)+1,0)","v":0},"Limon Wind II","Limon Wind II",810014,"58127","","CO",605023,0,0,0,0,0,0,0,0,0,0,0,0,0,0,0,0,0]
[null,null,{"$f":"IFERROR(VLOOKUP(ROWS($C$6:C115),$D$7:$E$905,2,FALSE),\"\")","v":""},{"$f":"IF(ISNUMBER(SEARCH($B$7,E116)),MAX($D$3:D115)+1,0)","v":0},"Limon Wind III","Limon Wind III",810015,"59083","","CO",792326,0,0,0,0,0,0,0,0,0,0,0,0,0,0,0,0,0]
[null,null,{"$f":"IFERROR(VLOOKUP(ROWS($C$6:C116),$D$7:$E$905,2,FALSE),\"\")","v":""},{"$f":"IF(ISNUMBER(SEARCH($B$7,E117)),MAX($D$3:D116)+1,0)","v":0},"Linden Wind Energy Project (aka Linden Ranch Wind Farm)","Linden Wind Energy Project (aka Linden Ranch Wind Farm)",800194,"57635","","WA",142458,0,0,0,0,0,0,0,0,0,0,0,0,0,0,0,0,0]
[null,null,{"$f":"IFERROR(VLOOKUP(ROWS($C$6:C117),$D$7:$E$905,2,FALSE),\"\")","v":""},{"$f":"IF(ISNUMBER(SEARCH($B$7,E118)),MAX($D$3:D117)+1,0)","v":0},"Little Falls (WA)","Little Falls (WA)",510104,"3866","","WA",182385,0,0,0,0,0,0,0,0,0,0,0,0,0,0,0,0,0]
[null,null,{"$f":"IFERROR(VLOOKUP(ROWS($C$6:C118),$D$7:$E$905,2,FALSE),\"\")","v":""},{"$f":"IF(ISNUMBER(SEARCH($B$7,E119)),MAX($D$3:D118)+1,0)","v":0},"Logan Wind Farm","Logan Wind Farm",800008,"56613","","CO",592579,0,0,0,0,0,0,0,0,0,0,0,0,0,0,0,0,0]
[null,null,{"$f":"IFERROR(VLOOKUP(ROWS($C$6:C119),$D$7:$E$905,2,FALSE),\"\")","v":""},{"$f":"IF(ISNUMBER(SEARCH($B$7,E120)),MAX($D$3:D119)+1,0)","v":0},"Long Lake","Long Lake",510105,"3867","","WA",525331,0,0,0,0,0,0,0,0,0,0,0,0,0,0,0,0,0]
[null,null,{"$f":"IFERROR(VLOOKUP(ROWS($C$6:C120),$D$7:$E$905,2,FALSE),\"\")","v":""},{"$f":"IF(ISNUMBER(SEARCH($B$7,E121)),MAX($D$3:D120)+1,0)","v":0},"Longview Washington Pulp and Paper Mill","Longview Washington Pulp and Paper Mill",900019,"54562","","WA",299157.99700000003,162481.65059381753,8871.7076857759293,152171.34001810176,0,0,0,280.47103976302628,1158.1318501767889,0.54312989197416472,2.9655592612407845E-2,0.50866545953676023,0,0,0,9.3753482298862382E-4,3.8713050020079817E-3,3.4464432437404449E-2]
[null,null,{"$f":"IFERROR(VLOOKUP(ROWS($C$6:C121),$D$7:$E$905,2,FALSE),\"\")","v":""},{"$f":"IF(ISNUMBER(SEARCH($B$7,E122)),MAX($D$3:D121)+1,0)","v":0},"Lower Baker","Lower Baker",500025,"3855","","WA",358833,0,0,0,0,0,0,0,0,0,0,0,0,0,0,0,0,0]
[null,null,{"$f":"IFERROR(VLOOKUP(ROWS($C$6:C122),$D$7:$E$905,2,FALSE),\"\")","v":""},{"$f":"IF(ISNUMBER(SEARCH($B$7,E123)),MAX($D$3:D122)+1,0)","v":0},"Lower Snake River Wind Energy Project","Lower Snake River Wind Energy Project",810008,"57195","","WA",865023,0,0,0,0,0,0,0,0,0,0,0,0,0,0,0,0,0]
[null,null,{"$f":"IFERROR(VLOOKUP(ROWS($C$6:C123),$D$7:$E$905,2,FALSE),\"\")","v":""},{"$f":"IF(ISNUMBER(SEARCH($B$7,E124)),MAX($D$3:D123)+1,0)","v":0},"Lucky Peak Power Plant Project","Lucky Peak Power Plant Project",500046,"10014","","ID",340296,0,0,0,0,0,0,0,0,0,0,0,0,0,0,0,0,0]
[null,null,{"$f":"IFERROR(VLOOKUP(ROWS($C$6:C124),$D$7:$E$905,2,FALSE),\"\")","v":""},{"$f":"IF(ISNUMBER(SEARCH($B$7,E125)),MAX($D$3:D124)+1,0)","v":0},"Luning Solar","Luning Solar",710111,"Various","","NV",1,0,0,0,0,0,0,0,0,0,0,0,0,0,0,0,0,0]
[null,null,{"$f":"IFERROR(VLOOKUP(ROWS($C$6:C125),$D$7:$E$905,2,FALSE),\"\")","v":""},{"$f":"IF(ISNUMBER(SEARCH($B$7,E126)),MAX($D$3:D125)+1,0)","v":0},"Macho Springs Solar Facility","Macho Springs Solar Facility",700124,"59010","","NM",143733,0,0,0,0,0,0,0,0,0,0,0,0,0,0,0,0,0]
[null,null,{"$f":"IFERROR(VLOOKUP(ROWS($C$6:C126),$D$7:$E$905,2,FALSE),\"\")","v":""},{"$f":"IF(ISNUMBER(SEARCH($B$7,E127)),MAX($D$3:D126)+1,0)","v":0},"Marengo Wind Farm I","Marengo Wind Farm I",800035,"56466","","WA",526422,0,0,0,0,0,0,0,0,0,0,0,0,0,0,0,0,0]
[null,null,{"$f":"IFERROR(VLOOKUP(ROWS($C$6:C127),$D$7:$E$905,2,FALSE),\"\")","v":""},{"$f":"IF(ISNUMBER(SEARCH($B$7,E128)),MAX($D$3:D127)+1,0)","v":0},"Marengo Wind Farm II","Marengo Wind Farm II",810002,"56466","","WA",526422,0,0,0,0,0,0,0,0,0,0,0,0,0,0,0,0,0]
[null,null,{"$f":"IFERROR(VLOOKUP(ROWS($C$6:C128),$D$7:$E$905,2,FALSE),\"\")","v":""},{"$f":"IF(ISNUMBER(SEARCH($B$7,E129)),MAX($D$3:D128)+1,0)","v":3},"MCAS Yuma Microgrid MCGX02","MCAS Yuma Microgrid MCGX02",910108,"Various","","AZ",1,0.78642687489582408,0.78382803095829257,0,0,0,0,6.5753882756820813E-4,1.9413051099632806E-3,0.78642687489582408,0.78382803095829257,0,0,0,0,6.5753882756820813E-4,1.9413051099632806E-3,0.78642687489582408]
[null,null,{"$f":"IFERROR(VLOOKUP(ROWS($C$6:C129),$D$7:$E$905,2,FALSE),\"\")","v":""},{"$f":"IF(ISNUMBER(SEARCH($B$7,E130)),MAX($D$3:D129)+1,0)","v":0},"McFadden Ridge","McFadden Ridge",800041,"57039","","WY",95925,0,0,0,0,0,0,0,0,0,0,0,0,0,0,0,0,0]
[null,null,{"$f":"IFERROR(VLOOKUP(ROWS($C$6:C130),$D$7:$E$905,2,FALSE),\"\")","v":""},{"$f":"IF(ISNUMBER(SEARCH($B$7,E131)),MAX($D$3:D130)+1,0)","v":0},"Meikle Wind Energy Project (CAN)","Meikle Wind Energy Project (CAN)",810017,"Various","","Canada",1,0,0,0,0,0,0,0,0,0,0,0,0,0,0,0,0,0]
[null,null,{"$f":"IFERROR(VLOOKUP(ROWS($C$6:C131),$D$7:$E$905,2,FALSE),\"\")","v":""},{"$f":"IF(ISNUMBER(SEARCH($B$7,E132)),MAX($D$3:D131)+1,0)","v":0},"Mesquite Generating Station - All Blocks","Mesquite Generating Station - All Blocks",900139,"","","AZ",4487692,1791977.5,1790251.1,0,0,0,0,697.2,1029.2,0.39930937773804442,0.39892468110556611,0,0,0,0,1.5535825542394621E-4,2.2933837705439678E-4,0.39930937773804442]
[null,null,{"$f":"IFERROR(VLOOKUP(ROWS($C$6:C132),$D$7:$E$905,2,FALSE),\"\")","v":""},{"$f":"IF(ISNUMBER(SEARCH($B$7,E133)),MAX($D$3:D132)+1,0)","v":0},"Mesquite Generating Station - Block 2","Mesquite Generating Station - Block 2",910008,"55481","","AZ",2507692,987499.82423999999,986532.2709,0,0,0,0,390.74269500000003,576.81064500000002,0.39378832178752415,0.39340248758619478,0,0,0,0,1.5581765822916054E-4,2.3001654310018935E-4,0.39378832178752415]
[null,null,{"$f":"IFERROR(VLOOKUP(ROWS($C$6:C133),$D$7:$E$905,2,FALSE),\"\")","v":""},{"$f":"IF(ISNUMBER(SEARCH($B$7,E134)),MAX($D$3:D133)+1,0)","v":0},"Mesquite Solar 1","Mesquite Solar 1",700001,"57707","","AZ",408250,0,0,0,0,0,0,0,0,0,0,0,0,0,0,0,0,0]
[null,null,{"$f":"IFERROR(VLOOKUP(ROWS($C$6:C134),$D$7:$E$905,2,FALSE),\"\")","v":""},{"$f":"IF(ISNUMBER(SEARCH($B$7,E135)),MAX($D$3:D134)+1,0)","v":0},"Mid-C Hydro - Priest Rapids and Wanapum dams (Grant County PUD)","Mid-C Hydro - Priest Rapids and Wanapum dams (Grant County PUD)",500054,"3887","","WA",4758428,0,0,0,0,0,0,0,0,0,0,0,0,0,0,0,0,0]
[null,null,{"$f":"IFERROR(VLOOKUP(ROWS($C$6:C135),$D$7:$E$905,2,FALSE),\"\")","v":""},{"$f":"IF(ISNUMBER(SEARCH($B$7,E136)),MAX($D$3:D135)+1,0)","v":0},"Mid-C Hydro - Rock Island (Chelan County PUD)","Mid-C Hydro - Rock Island (Chelan County PUD)",500003,"6200","","WA",2666195,0,0,0,0,0,0,0,0,0,0,0,0,0,0,0,0,0]
[null,null,{"$f":"IFERROR(VLOOKUP(ROWS($C$6:C136),$D$7:$E$905,2,FALSE),\"\")","v":""},{"$f":"IF(ISNUMBER(SEARCH($B$7,E137)),MAX($D$3:D136)+1,0)","v":0},"Mid-C Hydro - Rocky Reach (Chelan County PUD)","Mid-C Hydro - Rocky Reach (Chelan County PUD)",500055,"3883","","WA",6069429,0,0,0,0,0,0,0,0,0,0,0,0,0,0,0,0,0]
[null,null,{"$f":"IFERROR(VLOOKUP(ROWS($C$6:C137),$D$7:$E$905,2,FALSE),\"\")","v":""},{"$f":"IF(ISNUMBER(SEARCH($B$7,E138)),MAX($D$3:D137)+1,0)","v":0},{"$f":"F138","v":"Mid-C Hydro - Wanapum (Grant County PUD)"},"Mid-C Hydro - Wanapum (Grant County PUD)",500236,"3888","","WA",5305067,0,0,0,0,0,0,0,0,0,0,0,0,0,0,0,0,0]
[null,null,{"$f":"IFERROR(VLOOKUP(ROWS($C$6:C138),$D$7:$E$905,2,FALSE),\"\")","v":""},{"$f":"IF(ISNUMBER(SEARCH($B$7,E139)),MAX($D$3:D138)+1,0)","v":0},"Mid-C Hydro - Wells (Douglas County PUD)","Mid-C Hydro - Wells (Douglas County PUD)",500237,"3886","","WA",4320978,0,0,0,0,0,0,0,0,0,0,0,0,0,0,0,0,0]
[null,null,{"$f":"IFERROR(VLOOKUP(ROWS($C$6:C139),$D$7:$E$905,2,FALSE),\"\")","v":""},{"$f":"IF(ISNUMBER(SEARCH($B$7,E140)),MAX($D$3:D139)+1,0)","v":0},"Milford I Wind Farm","Milford I Wind Farm",800165,"57079","","UT",455189,0,0,0,0,0,0,0,0,0,0,0,0,0,0,0,0,0]
[null,null,{"$f":"IFERROR(VLOOKUP(ROWS($C$6:C140),$D$7:$E$905,2,FALSE),\"\")","v":""},{"$f":"IF(ISNUMBER(SEARCH($B$7,E141)),MAX($D$3:D140)+1,0)","v":0},"Milford II Wind Farm","Milford II Wind Farm",800009,"57107","","UT",214357,0,0,0,0,0,0,0,0,0,0,0,0,0,0,0,0,0]
[null,null,{"$f":"IFERROR(VLOOKUP(ROWS($C$6:C141),$D$7:$E$905,2,FALSE),\"\")","v":""},{"$f":"IF(ISNUMBER(SEARCH($B$7,E142)),MAX($D$3:D141)+1,0)","v":0},"Mint Farm Generation Station","Mint Farm Generation Station",910051,"1001435/55700","","WA",1057948,433428.26,433010.7,0,0,0,0,168.63,248.93,0.40968767841141529,0.40929298982558693,0,0,0,0,1.5939346735378298E-4,2.3529511847463202E-4,0.40968767841141529]
[null,null,{"$f":"IFERROR(VLOOKUP(ROWS($C$6:C142),$D$7:$E$905,2,FALSE),\"\")","v":""},{"$f":"IF(ISNUMBER(SEARCH($B$7,E143)),MAX($D$3:D142)+1,0)","v":0},"Moapa Southern Paiute Solar","Moapa Southern Paiute Solar",700138,"57859","","NV",77107,0,0,0,0,0,0,0,0,0,0,0,0,0,0,0,0,0]
[null,null,{"$f":"IFERROR(VLOOKUP(ROWS($C$6:C143),$D$7:$E$905,2,FALSE),\"\")","v":""},{"$f":"IF(ISNUMBER(SEARCH($B$7,E144)),MAX($D$3:D143)+1,0)","v":0},"Monroe Street HED","Monroe Street HED",500002,"9095","","WA",96851,0,0,0,0,0,0,0,0,0,0,0,0,0,0,0,0,0]
[null,null,{"$f":"IFERROR(VLOOKUP(ROWS($C$6:C144),$D$7:$E$905,2,FALSE),\"\")","v":""},{"$f":"IF(ISNUMBER(SEARCH($B$7,E145)),MAX($D$3:D144)+1,0)","v":0},"Neal Hot Springs Geothermal Plant","Neal Hot Springs Geothermal Plant",900078,"58022","","OR",179571,0,0,0,0,0,0,0,0,0,0,0,0,0,0,0,0,0]
[null,null,{"$f":"IFERROR(VLOOKUP(ROWS($C$6:C145),$D$7:$E$905,2,FALSE),\"\")","v":""},{"$f":"IF(ISNUMBER(SEARCH($B$7,E146)),MAX($D$3:D145)+1,0)","v":0},"Nebo Power Station","Nebo Power Station",900106,"1000444/56177","","UT",534329,210232.9,210030.1,0,0,0,0,81.899999999999991,120.9,0.39345216149600715,0.39307262005243959,0,0,0,0,1.5327635220996799E-4,2.2626509135757183E-4,0.39345216149600715]
[null,null,{"$f":"IFERROR(VLOOKUP(ROWS($C$6:C146),$D$7:$E$905,2,FALSE),\"\")","v":""},{"$f":"IF(ISNUMBER(SEARCH($B$7,E147)),MAX($D$3:D146)+1,0)","v":0},"Nine Canyon Wind Project","Nine Canyon Wind Project",800004,"7936","","WA",245759,0,0,0,0,0,0,0,0,0,0,0,0,0,0,0,0,0]
[null,null,{"$f":"IFERROR(VLOOKUP(ROWS($C$6:C147),$D$7:$E$905,2,FALSE),\"\")","v":""},{"$f":"IF(ISNUMBER(SEARCH($B$7,E148)),MAX($D$3:D147)+1,0)","v":0},"Nine Mile HED","Nine Mile HED",500001,"3869","","WA",108780,0,0,0,0,0,0,0,0,0,0,0,0,0,0,0,0,0]
[null,null,{"$f":"IFERROR(VLOOKUP(ROWS($C$6:C148),$D$7:$E$905,2,FALSE),\"\")","v":""},{"$f":"IF(ISNUMBER(SEARCH($B$7,E149)),MAX($D$3:D148)+1,0)","v":0},"Nippon Paper Co-Generation","Nippon Paper Co-Generation",900072,"58352","","WA",58989,49172.587133492285,63.679421126379175,48096.512976126905,0,0,0,344.62627614351049,667.76846009549706,0.83358909514472668,1.0795134877075248E-3,0.81534714906384076,0,0,0,5.8422125505350232E-3,1.1320220042643494E-2,1.8241946080886039E-2]
[null,null,{"$f":"IFERROR(VLOOKUP(ROWS($C$6:C149),$D$7:$E$905,2,FALSE),\"\")","v":""},{"$f":"IF(ISNUMBER(SEARCH($B$7,E150)),MAX($D$3:D149)+1,0)","v":0},"Nisqually River Project (Alder Dam and LaGrande Dam)","Nisqually River Project (Alder Dam and LaGrande Dam)",501002,"3913","","WA",251255,0,0,0,0,0,0,0,0,0,0,0,0,0,0,0,0,0]
[null,null,{"$f":"IFERROR(VLOOKUP(ROWS($C$6:C150),$D$7:$E$905,2,FALSE),\"\")","v":""},{"$f":"IF(ISNUMBER(SEARCH($B$7,E151)),MAX($D$3:D150)+1,0)","v":0},"North Valmy Station","North Valmy Station",900025,"1001197/8224","","NV",970556.99599999993,994815.36,987271.8,0,0,0,0,2396.94,5146.62,1.0249942704034665,1.0172218675141054,0,0,0,0,2.4696540335895946E-3,5.3027488557714749E-3,1.0249942704034665]
[null,null,{"$f":"IFERROR(VLOOKUP(ROWS($C$6:C151),$D$7:$E$905,2,FALSE),\"\")","v":""},{"$f":"IF(ISNUMBER(SEARCH($B$7,E152)),MAX($D$3:D151)+1,0)","v":0},"Noxon Rapids","Noxon Rapids",500016,"2199","","MT",1695642,0,0,0,0,0,0,0,0,0,0,0,0,0,0,0,0,0]
[null,null,{"$f":"IFERROR(VLOOKUP(ROWS($C$6:C152),$D$7:$E$905,2,FALSE),\"\")","v":""},{"$f":"IF(ISNUMBER(SEARCH($B$7,E153)),MAX($D$3:D152)+1,0)","v":0},"Oxbow (Oregon)","Oxbow (Oregon)",500059,"3014","","OR",900918,0,0,0,0,0,0,0,0,0,0,0,0,0,0,0,0,0]
[null,null,{"$f":"IFERROR(VLOOKUP(ROWS($C$6:C153),$D$7:$E$905,2,FALSE),\"\")","v":""},{"$f":"IF(ISNUMBER(SEARCH($B$7,E154)),MAX($D$3:D153)+1,0)","v":0},"Palo Verde Nuclear Generating Station","Palo Verde Nuclear Generating Station",600000,"6008","","AZ",32377477,0,0,0,0,0,0,0,0,0,0,0,0,0,0,0,0,0]
[null,null,{"$f":"IFERROR(VLOOKUP(ROWS($C$6:C154),$D$7:$E$905,2,FALSE),\"\")","v":""},{"$f":"IF(ISNUMBER(SEARCH($B$7,E155)),MAX($D$3:D154)+1,0)","v":0},"Palouse Wind","Palouse Wind",800052,"57530","","WA",349771,0,0,0,0,0,0,0,0,0,0,0,0,0,0,0,0,0]
[null,null,{"$f":"IFERROR(VLOOKUP(ROWS($C$6:C155),$D$7:$E$905,2,FALSE),\"\")","v":""},{"$f":"IF(ISNUMBER(SEARCH($B$7,E156)),MAX($D$3:D155)+1,0)","v":0},"Parker-Davis  Project","Parker-Davis  Project",500254,"447","","AZ",440872,0,0,0,0,0,0,0,0,0,0,0,0,0,0,0,0,0]
[null,null,{"$f":"IFERROR(VLOOKUP(ROWS($C$6:C156),$D$7:$E$905,2,FALSE),\"\")","v":""},{"$f":"IF(ISNUMBER(SEARCH($B$7,E157)),MAX($D$3:D156)+1,0)","v":0},"Patua Geothermal","Patua Geothermal",900077,"58319","","NV",115450,0,0,0,0,0,0,0,0,0,0,0,0,0,0,0,0,0]
[null,null,{"$f":"IFERROR(VLOOKUP(ROWS($C$6:C157),$D$7:$E$905,2,FALSE),\"\")","v":""},{"$f":"IF(ISNUMBER(SEARCH($B$7,E158)),MAX($D$3:D157)+1,0)","v":0},"Pebble Springs","Pebble Springs",800063,"56789","","OR",199872,0,0,0,0,0,0,0,0,0,0,0,0,0,0,0,0,0]
[null,null,{"$f":"IFERROR(VLOOKUP(ROWS($C$6:C158),$D$7:$E$905,2,FALSE),\"\")","v":""},{"$f":"IF(ISNUMBER(SEARCH($B$7,E159)),MAX($D$3:D158)+1,0)","v":0},"Peetz Table Wind Energy","Peetz Table Wind Energy",800193,"56563","","CO",616321,0,0,0,0,0,0,0,0,0,0,0,0,0,0,0,0,0]
[null,null,{"$f":"IFERROR(VLOOKUP(ROWS($C$6:C159),$D$7:$E$905,2,FALSE),\"\")","v":""},{"$f":"IF(ISNUMBER(SEARCH($B$7,E160)),MAX($D$3:D159)+1,0)","v":0},"Pelton Round Butte","Pelton Round Butte",510106,"3048","","OR",401591,0,0,0,0,0,0,0,0,0,0,0,0,0,0,0,0,0]
[null,null,{"$f":"IFERROR(VLOOKUP(ROWS($C$6:C160),$D$7:$E$905,2,FALSE),\"\")","v":""},{"$f":"IF(ISNUMBER(SEARCH($B$7,E161)),MAX($D$3:D160)+1,0)","v":0},"Perrin Ranch Wind","Perrin Ranch Wind",810105,"58155","","AZ",222162,0,0,0,0,0,0,0,0,0,0,0,0,0,0,0,0,0]
[null,null,{"$f":"IFERROR(VLOOKUP(ROWS($C$6:C161),$D$7:$E$905,2,FALSE),\"\")","v":""},{"$f":"IF(ISNUMBER(SEARCH($B$7,E162)),MAX($D$3:D161)+1,0)","v":0},"Pleasant Valley Wind Energy Project","Pleasant Valley Wind Energy Project",800026,"56093","","WY",362139,0,0,0,0,0,0,0,0,0,0,0,0,0,0,0,0,0]
[null,null,{"$f":"IFERROR(VLOOKUP(ROWS($C$6:C162),$D$7:$E$905,2,FALSE),\"\")","v":""},{"$f":"IF(ISNUMBER(SEARCH($B$7,E163)),MAX($D$3:D162)+1,0)","v":0},"Post Falls Hydro","Post Falls Hydro",500061,"835","","ID",88444,0,0,0,0,0,0,0,0,0,0,0,0,0,0,0,0,0]
[null,null,{"$f":"IFERROR(VLOOKUP(ROWS($C$6:C163),$D$7:$E$905,2,FALSE),\"\")","v":""},{"$f":"IF(ISNUMBER(SEARCH($B$7,E164)),MAX($D$3:D163)+1,0)","v":0},"Powerex (Asset-Controlling Supplier)","Powerex (Asset-Controlling Supplier)",300002,"","","Multiple",1,null,null,null,0,null,0,null,null,2.0500000000000001E-2,2.0500000000000001E-2,null,0,null,0,null,null,2.0500000000000001E-2]
[null,null,{"$f":"IFERROR(VLOOKUP(ROWS($C$6:C164),$D$7:$E$905,2,FALSE),\"\")","v":""},{"$f":"IF(ISNUMBER(SEARCH($B$7,E165)),MAX($D$3:D164)+1,0)","v":0},"Quality Wind Project (CAN)","Quality Wind Project (CAN)",800014,"Various","","Canada",1,0,0,0,0,0,0,0,0,0,0,0,0,0,0,0,0,0]
[null,null,{"$f":"IFERROR(VLOOKUP(ROWS($C$6:C165),$D$7:$E$905,2,FALSE),\"\")","v":""},{"$f":"IF(ISNUMBER(SEARCH($B$7,E166)),MAX($D$3:D165)+1,0)","v":0},"Red Hawk Power Station CC Natural Gas","Red Hawk Power Station CC Natural Gas",900018,"1000822/55455","","AZ",5158899,2070068.6199999999,2068073.9,0,0,0,0,805.56,1189.1599999999999,0.40126170719760162,0.40087505105255983,0,0,0,0,1.5614959703611178E-4,2.3050654800568879E-4,0.40126170719760162]
[null,null,{"$f":"IFERROR(VLOOKUP(ROWS($C$6:C166),$D$7:$E$905,2,FALSE),\"\")","v":""},{"$f":"IF(ISNUMBER(SEARCH($B$7,E167)),MAX($D$3:D166)+1,0)","v":0},"Reid Gardner Station","Reid Gardner Station",900254,"1006882/2324","","NV",318171.99700000003,414266.07,411124.6,0,0,0,0,998.13,2143.3399999999997,1.3020192660135328,1.292145769823986,0,0,0,0,3.1370768308060745E-3,6.7364193587407363E-3,1.3020192660135328]
[null,null,{"$f":"IFERROR(VLOOKUP(ROWS($C$6:C167),$D$7:$E$905,2,FALSE),\"\")","v":""},{"$f":"IF(ISNUMBER(SEARCH($B$7,E168)),MAX($D$3:D167)+1,0)","v":0},"Richard Burdette Power Plant","Richard Burdette Power Plant",900045,"56321","","NV",148168,0,0,0,0,0,0,0,0,0,0,0,0,0,0,0,0,0]
[null,null,{"$f":"IFERROR(VLOOKUP(ROWS($C$6:C168),$D$7:$E$905,2,FALSE),\"\")","v":""},{"$f":"IF(ISNUMBER(SEARCH($B$7,E169)),MAX($D$3:D168)+1,0)","v":0},"Rim Rock Wind Farm (Naturener)","Rim Rock Wind Farm (Naturener)",800055,"57995","","MT",652904.01,0,0,0,0,0,0,0,0,0,0,0,0,0,0,0,0,0]
[null,null,{"$f":"IFERROR(VLOOKUP(ROWS($C$6:C169),$D$7:$E$905,2,FALSE),\"\")","v":""},{"$f":"IF(ISNUMBER(SEARCH($B$7,E170)),MAX($D$3:D169)+1,0)","v":0},"Rolling Hills","Rolling Hills",800038,"56842","","WY",284156,0,0,0,0,0,0,0,0,0,0,0,0,0,0,0,0,0]
[null,null,{"$f":"IFERROR(VLOOKUP(ROWS($C$6:C170),$D$7:$E$905,2,FALSE),\"\")","v":""},{"$f":"IF(ISNUMBER(SEARCH($B$7,E171)),MAX($D$3:D170)+1,0)","v":0},"San Emidio Project","San Emidio Project",400002,"57456","","NV",75049,5217.1680299999998,0,0,0,5217.1680299999998,0,0,0,6.9516822742474921E-2,0,0,0,6.9516822742474921E-2,0,0,0,0]
[null,null,{"$f":"IFERROR(VLOOKUP(ROWS($C$6:C171),$D$7:$E$905,2,FALSE),\"\")","v":""},{"$f":"IF(ISNUMBER(SEARCH($B$7,E172)),MAX($D$3:D171)+1,0)","v":0},"San Juan","San Juan",900352,"1006727/2451","","NM",10277563.614,11356103.069999998,11270238.699999999,0,0,0,0,27273.75,58590.62,1.1049411608146917,1.0965866155912465,0,0,0,0,2.6537174591503335E-3,5.700827764295072E-3,1.1049411608146917]
[null,null,{"$f":"IFERROR(VLOOKUP(ROWS($C$6:C172),$D$7:$E$905,2,FALSE),\"\")","v":""},{"$f":"IF(ISNUMBER(SEARCH($B$7,E173)),MAX($D$3:D172)+1,0)","v":0},"Seneca Sustainable Energy","Seneca Sustainable Energy",900023,"57457","","OR",118216,112156.43002199999,0,109844.7714,0,0,0,786.94761600000004,1524.711006,0.948741541094268,0,0.9291870085267645,0,0,0,6.6568621506395073E-3,1.2897670416864045E-2,1.9554532567503551E-2]
[null,null,{"$f":"IFERROR(VLOOKUP(ROWS($C$6:C173),$D$7:$E$905,2,FALSE),\"\")","v":""},{"$f":"IF(ISNUMBER(SEARCH($B$7,E174)),MAX($D$3:D173)+1,0)","v":0},"Seven Mile Hill I","Seven Mile Hill I",800039,"56843","","WY",418688,0,0,0,0,0,0,0,0,0,0,0,0,0,0,0,0,0]
[null,null,{"$f":"IFERROR(VLOOKUP(ROWS($C$6:C174),$D$7:$E$905,2,FALSE),\"\")","v":""},{"$f":"IF(ISNUMBER(SEARCH($B$7,E175)),MAX($D$3:D174)+1,0)","v":0},"Seven Mile Hill II","Seven Mile Hill II",800161,"56843","","WY",418688,0,0,0,0,0,0,0,0,0,0,0,0,0,0,0,0,0]
[null,null,{"$f":"IFERROR(VLOOKUP(ROWS($C$6:C175),$D$7:$E$905,2,FALSE),\"\")","v":""},{"$f":"IF(ISNUMBER(SEARCH($B$7,E176)),MAX($D$3:D175)+1,0)","v":0},"Sierra Pacific Burlington ","Sierra Pacific Burlington ",900020,"56406","","WA",172281,74352.420968000006,0,72819.941599999991,0,0,0,521.69510400000001,1010.7842639999998,0.43157644178986659,0,0.42268121034821016,0,0,0,3.0281638950319539E-3,5.867067546624409E-3,8.8952314416563642E-3]
[null,null,{"$f":"IFERROR(VLOOKUP(ROWS($C$6:C176),$D$7:$E$905,2,FALSE),\"\")","v":""},{"$f":"IF(ISNUMBER(SEARCH($B$7,E177)),MAX($D$3:D176)+1,0)","v":0},"Silverhawk Station","Silverhawk Station",900066,"1000404/55841","","NV",2704702,1107168.72,1106102.2,0,0,0,0,430.71000000000004,635.81000000000006,0.40934961411645349,0.40895529341125192,0,0,0,0,1.5924490017754268E-4,2.3507580502399157E-4,0.40934961411645349]
[null,null,{"$f":"IFERROR(VLOOKUP(ROWS($C$6:C177),$D$7:$E$905,2,FALSE),\"\")","v":""},{"$f":"IF(ISNUMBER(SEARCH($B$7,E178)),MAX($D$3:D177)+1,0)","v":0},"Snoqualmie Hydroelectric Project","Snoqualmie Hydroelectric Project",510107,"3860","","WA",53051,0,0,0,0,0,0,0,0,0,0,0,0,0,0,0,0,0]
[null,null,{"$f":"IFERROR(VLOOKUP(ROWS($C$6:C178),$D$7:$E$905,2,FALSE),\"\")","v":""},{"$f":"IF(ISNUMBER(SEARCH($B$7,E179)),MAX($D$3:D178)+1,0)","v":0},"Southpoint Energy Center, LLC","Southpoint Energy Center, LLC",900061,"1001350/55177","","AZ",100404,42576.900000000009,42535.3,0,0,0,0,16.8,24.8,0.42405581450938218,0.4236414883869169,0,0,0,0,1.6732401099557787E-4,2.4700211146966257E-4,0.42405581450938218]
[null,null,{"$f":"IFERROR(VLOOKUP(ROWS($C$6:C179),$D$7:$E$905,2,FALSE),\"\")","v":""},{"$f":"IF(ISNUMBER(SEARCH($B$7,E180)),MAX($D$3:D179)+1,0)","v":0},"Spring Valley Wind Project","Spring Valley Wind Project",800054,"57192","","NV",343865,0,0,0,0,0,0,0,0,0,0,0,0,0,0,0,0,0]
[null,null,{"$f":"IFERROR(VLOOKUP(ROWS($C$6:C180),$D$7:$E$905,2,FALSE),\"\")","v":""},{"$f":"IF(ISNUMBER(SEARCH($B$7,E181)),MAX($D$3:D180)+1,0)","v":0},"Star Point","Star Point",800179,"57096","","OR",224270,0,0,0,0,0,0,0,0,0,0,0,0,0,0,0,0,0]
[null,null,{"$f":"IFERROR(VLOOKUP(ROWS($C$6:C181),$D$7:$E$905,2,FALSE),\"\")","v":""},{"$f":"IF(ISNUMBER(SEARCH($B$7,E182)),MAX($D$3:D181)+1,0)","v":0},"Steamboat II","Steamboat II",900040,"54665","","NV",64067,0,0,0,0,0,0,0,0,0,0,0,0,0,0,0,0,0]
[null,null,{"$f":"IFERROR(VLOOKUP(ROWS($C$6:C182),$D$7:$E$905,2,FALSE),\"\")","v":""},{"$f":"IF(ISNUMBER(SEARCH($B$7,E183)),MAX($D$3:D182)+1,0)","v":0},"Steamboat III","Steamboat III",900041,"54666","","NV",70857,0,0,0,0,0,0,0,0,0,0,0,0,0,0,0,0,0]
[null,null,{"$f":"IFERROR(VLOOKUP(ROWS($C$6:C183),$D$7:$E$905,2,FALSE),\"\")","v":""},{"$f":"IF(ISNUMBER(SEARCH($B$7,E184)),MAX($D$3:D183)+1,0)","v":0},"Stotz Southern Generation","Stotz Southern Generation",910041,"Various","","AZ",1,0.5774758634468381,0,0.5745792425295343,0,0,0,7.415349548297428E-4,2.1550859624739401E-3,0.5774758634468381,0,0.5745792425295343,0,0,0,7.415349548297428E-4,2.1550859624739401E-3,2.896620917303683E-3]
[null,null,{"$f":"IFERROR(VLOOKUP(ROWS($C$6:C184),$D$7:$E$905,2,FALSE),\"\")","v":""},{"$f":"IF(ISNUMBER(SEARCH($B$7,E185)),MAX($D$3:D184)+1,0)","v":0},"Sumas Power Plant","Sumas Power Plant",910053,"1004367/54476","","WA",394995,187747.08157702183,187566.08533170022,0,0,0,0,73.094637533722931,107.90160778787671,0.47531508393023159,0.47485685978733966,0,0,0,0,1.8505205770635814E-4,2.7317208518557633E-4,0.47531508393023159]
[null,null,{"$f":"IFERROR(VLOOKUP(ROWS($C$6:C185),$D$7:$E$905,2,FALSE),\"\")","v":""},{"$f":"IF(ISNUMBER(SEARCH($B$7,E186)),MAX($D$3:D185)+1,0)","v":0},"Sun Peak Generating Station","Sun Peak Generating Station",910042,"1011465/54854","","NV",20192,14368.319999999998,14354.8,0,0,0,0,5.46,8.06,0.71158478605388265,0.71091521394611723,0,0,0,0,2.7040412044374007E-4,3.9916798732171161E-4,0.71158478605388265]
[null,null,{"$f":"IFERROR(VLOOKUP(ROWS($C$6:C186),$D$7:$E$905,2,FALSE),\"\")","v":""},{"$f":"IF(ISNUMBER(SEARCH($B$7,E187)),MAX($D$3:D186)+1,0)","v":0},"Tacoma Power (Asset-Controlling Supplier)","Tacoma Power (Asset-Controlling Supplier)",104567,"","","Multiple",1,null,null,null,0,null,0,null,null,2.4899999999999999E-2,2.4899999999999999E-2,null,0,null,0,null,null,2.4899999999999999E-2]
[null,null,{"$f":"IFERROR(VLOOKUP(ROWS($C$6:C187),$D$7:$E$905,2,FALSE),\"\")","v":""},{"$f":"IF(ISNUMBER(SEARCH($B$7,E188)),MAX($D$3:D187)+1,0)","v":0},"Termoelectrica de Mexicali (MEX)","Termoelectrica de Mexicali (MEX)",900576,"","","Mexico",2687504,1043907.1340800001,1042884.3128000001,0,0,0,0,413.06244000000004,609.75884000000008,0.38842998338979218,0.38804939929391735,0,0,0,0,1.5369742333406762E-4,2.2688667254076647E-4,0.38842998338979218]
[null,null,{"$f":"IFERROR(VLOOKUP(ROWS($C$6:C188),$D$7:$E$905,2,FALSE),\"\")","v":""},{"$f":"IF(ISNUMBER(SEARCH($B$7,E189)),MAX($D$3:D188)+1,0)","v":0},"Terra-Gen Dixie Valley","Terra-Gen Dixie Valley",900571,"52015","","NV",495329,34433.756280000001,0,0,0,34433.756280000001,0,0,0,6.9516939811721107E-2,0,0,0,6.9516939811721107E-2,0,0,0,0]
[null,null,{"$f":"IFERROR(VLOOKUP(ROWS($C$6:C189),$D$7:$E$905,2,FALSE),\"\")","v":""},{"$f":"IF(ISNUMBER(SEARCH($B$7,E190)),MAX($D$3:D189)+1,0)","v":0},"Thermo No. 1 Geothermal (Raser Technologies)","Thermo No. 1 Geothermal (Raser Technologies)",900577,"57353","","UT",63332,0,0,0,0,0,0,0,0,0,0,0,0,0,0,0,0,0]
[null,null,{"$f":"IFERROR(VLOOKUP(ROWS($C$6:C190),$D$7:$E$905,2,FALSE),\"\")","v":""},{"$f":"IF(ISNUMBER(SEARCH($B$7,E191)),MAX($D$3:D190)+1,0)","v":0},"Thompson Falls Dam","Thompson Falls Dam",500015,"2195","","MT",510256,0,0,0,0,0,0,0,0,0,0,0,0,0,0,0,0,0]
[null,null,{"$f":"IFERROR(VLOOKUP(ROWS($C$6:C191),$D$7:$E$905,2,FALSE),\"\")","v":""},{"$f":"IF(ISNUMBER(SEARCH($B$7,E192)),MAX($D$3:D191)+1,0)","v":0},"Tieton Dam Hydro Electric Project","Tieton Dam Hydro Electric Project",500239,"57496","","WA",53722,0,0,0,0,0,0,0,0,0,0,0,0,0,0,0,0,0]
[null,null,{"$f":"IFERROR(VLOOKUP(ROWS($C$6:C192),$D$7:$E$905,2,FALSE),\"\")","v":""},{"$f":"IF(ISNUMBER(SEARCH($B$7,E193)),MAX($D$3:D192)+1,0)","v":0},"Top of the World","Top of the World",800176,"57327","","WY",627052,0,0,0,0,0,0,0,0,0,0,0,0,0,0,0,0,0]
[null,null,{"$f":"IFERROR(VLOOKUP(ROWS($C$6:C193),$D$7:$E$905,2,FALSE),\"\")","v":""},{"$f":"IF(ISNUMBER(SEARCH($B$7,E194)),MAX($D$3:D193)+1,0)","v":0},"Transalta Centralia Generation","Transalta Centralia Generation",900456,"1007310/3845","","WA",4576834.976999999,5093013.9200000009,5054396.2,0,0,0,0,12270.509999999998,26347.21,1.1127807634738764,1.1043431160179236,0,0,0,0,2.6810033705962914E-3,5.7566440853565439E-3,1.1127807634738764]
[null,null,{"$f":"IFERROR(VLOOKUP(ROWS($C$6:C194),$D$7:$E$905,2,FALSE),\"\")","v":""},{"$f":"IF(ISNUMBER(SEARCH($B$7,E195)),MAX($D$3:D194)+1,0)","v":0},"Trans-Jordan Generating Station (Landfill Gas)","Trans-Jordan Generating Station (Landfill Gas)",900053,"56853","","UT",37267,45653.542809999999,0,45538.75576,0,0,0,29.3854848,85.401565199999993,1.225039386320337,0,1.2219592604717311,0,0,0,7.8851221724313733E-4,2.2916136313628679E-3,3.0801258486060053E-3]
[null,null,{"$f":"IFERROR(VLOOKUP(ROWS($C$6:C195),$D$7:$E$905,2,FALSE),\"\")","v":""},{"$f":"IF(ISNUMBER(SEARCH($B$7,E196)),MAX($D$3:D195)+1,0)","v":0},"Tucannon River Wind Farm","Tucannon River Wind Farm",810016,"58571","","WA",869351,0,0,0,0,0,0,0,0,0,0,0,0,0,0,0,0,0]
[null,null,{"$f":"IFERROR(VLOOKUP(ROWS($C$6:C196),$D$7:$E$905,2,FALSE),\"\")","v":""},{"$f":"IF(ISNUMBER(SEARCH($B$7,E197)),MAX($D$3:D196)+1,0)","v":0},"Tungsten Mountain Geothermal Energy Facility","Tungsten Mountain Geothermal Energy Facility",910112,"Various","","NV",1,0,0,0,0,0,0,0,0,0,0,0,0,0,0,0,0,0]
[null,null,{"$f":"IFERROR(VLOOKUP(ROWS($C$6:C197),$D$7:$E$905,2,FALSE),\"\")","v":""},{"$f":"IF(ISNUMBER(SEARCH($B$7,E198)),MAX($D$3:D197)+1,0)","v":0},"Unknown, CAISO Sales","Unknown, CAISO Sales",999997,"","","n/a",1,null,null,null,0,null,0,null,null,0.42799999999999999,0.42739680000000002,0,0,0,0,2.1835621203767565E-4,3.8480308588760873E-4,0.42799999999999999]
[null,null,{"$f":"IFERROR(VLOOKUP(ROWS($C$6:C198),$D$7:$E$905,2,FALSE),\"\")","v":""},{"$f":"IF(ISNUMBER(SEARCH($B$7,E199)),MAX($D$3:D198)+1,0)","v":0},"Unspecified, CAISO Sales","Unspecified, CAISO Sales",999998,"","","n/a",1,null,null,null,0,null,0,null,null,0.42799999999999999,0.42739680000000002,0,0,0,0,2.1835621203767565E-4,3.8480308588760873E-4,0.42799999999999999]
[null,null,{"$f":"IFERROR(VLOOKUP(ROWS($C$6:C199),$D$7:$E$905,2,FALSE),\"\")","v":""},{"$f":"IF(ISNUMBER(SEARCH($B$7,E200)),MAX($D$3:D199)+1,0)","v":0},"Unspecified, Retail Provider Replacement Power, per 95111(c)(3)(C)(2)","Unspecified, Retail Provider Replacement Power, per 95111(c)(3)(C)(2)",999999,"","","n/a",1,null,null,null,0,null,0,null,null,0.42799999999999999,0.42739680000000002,0,0,0,0,2.1835621203767565E-4,3.8480308588760873E-4,0.42799999999999999]
[null,null,{"$f":"IFERROR(VLOOKUP(ROWS($C$6:C200),$D$7:$E$905,2,FALSE),\"\")","v":""},{"$f":"IF(ISNUMBER(SEARCH($B$7,E201)),MAX($D$3:D200)+1,0)","v":0},"Upper Baker","Upper Baker",500026,"3861","","WA",369105,0,0,0,0,0,0,0,0,0,0,0,0,0,0,0,0,0]
[null,null,{"$f":"IFERROR(VLOOKUP(ROWS($C$6:C201),$D$7:$E$905,2,FALSE),\"\")","v":""},{"$f":"IF(ISNUMBER(SEARCH($B$7,E202)),MAX($D$3:D201)+1,0)","v":0},{"$f":"F202","v":"Upper Falls Hydro"},"Upper Falls Hydro",500062,"9096","","WA",62708,0,0,0,0,0,0,0,0,0,0,0,0,0,0,0,0,0]
[null,null,{"$f":"IFERROR(VLOOKUP(ROWS($C$6:C202),$D$7:$E$905,2,FALSE),\"\")","v":""},{"$f":"IF(ISNUMBER(SEARCH($B$7,E203)),MAX($D$3:D202)+1,0)","v":0},"Vansycle II Wind Energy Center","Vansycle II Wind Energy Center",810107,"58324","","OR",262620,0,0,0,0,0,0,0,0,0,0,0,0,0,0,0,0,0]
[null,null,{"$f":"IFERROR(VLOOKUP(ROWS($C$6:C203),$D$7:$E$905,2,FALSE),\"\")","v":""},{"$f":"IF(ISNUMBER(SEARCH($B$7,E204)),MAX($D$3:D203)+1,0)","v":0},"Vantage Wind","Vantage Wind",800003,"57188","","WA",258876,0,0,0,0,0,0,0,0,0,0,0,0,0,0,0,0,0]
[null,null,{"$f":"IFERROR(VLOOKUP(ROWS($C$6:C204),$D$7:$E$905,2,FALSE),\"\")","v":""},{"$f":"IF(ISNUMBER(SEARCH($B$7,E205)),MAX($D$3:D204)+1,0)","v":0},"Veyo Heat Recovery Project","Veyo Heat Recovery Project",910113,"60421","","UT",36108,0,0,0,0,0,0,0,0,0,0,0,0,0,0,0,0,0]
[null,null,{"$f":"IFERROR(VLOOKUP(ROWS($C$6:C205),$D$7:$E$905,2,FALSE),\"\")","v":""},{"$f":"IF(ISNUMBER(SEARCH($B$7,E206)),MAX($D$3:D205)+1,0)","v":0},"WestRock - Tacoma (formerly: Simpson Biomass)","WestRock - Tacoma (formerly: Simpson Biomass)",900586,"57099","","WA",339445.99599999998,384510.94310799858,3766.4711764697954,376489.16280925862,0,0,0,1013.5903926671808,3241.7187296029683,1.1327602848141964,1.1095936381202138E-2,1.1091283068463669,0,0,0,2.986013694700293E-3,9.5500278919270817E-3,2.3631977967829513E-2]
[null,null,{"$f":"IFERROR(VLOOKUP(ROWS($C$6:C206),$D$7:$E$905,2,FALSE),\"\")","v":""},{"$f":"IF(ISNUMBER(SEARCH($B$7,E207)),MAX($D$3:D206)+1,0)","v":0},"Weyerhaeuser Longview WA","Weyerhaeuser Longview WA",900547,"50187","","WA",284063.38799999998,132866.59338070499,26040.078900611123,105607.34383923475,0,0,0,279.0959533088714,940.07468755023467,0.46773572024250093,9.1669958187681422E-2,0.37177386562479059,0,0,0,9.8251293584117718E-4,3.3093834941876942E-3,9.5961854617710271E-2]
[null,null,{"$f":"IFERROR(VLOOKUP(ROWS($C$6:C207),$D$7:$E$905,2,FALSE),\"\")","v":""},{"$f":"IF(ISNUMBER(SEARCH($B$7,E208)),MAX($D$3:D207)+1,0)","v":0},"Whitehorn Generating Station","Whitehorn Generating Station",910054,"1004176/6120","","WA",33638,44947.200000000004,44902.9,0,0,0,0,17.64,26.659999999999997,1.3362031036327964,1.3348861406742376,0,0,0,0,5.2440692074439625E-4,7.9255603781437645E-4,1.3362031036327964]
[null,null,{"$f":"IFERROR(VLOOKUP(ROWS($C$6:C208),$D$7:$E$905,2,FALSE),\"\")","v":""},{"$f":"IF(ISNUMBER(SEARCH($B$7,E209)),MAX($D$3:D208)+1,0)","v":0},"Wild Horse Wind","Wild Horse Wind",800002,"56322","","WA",672926,0,0,0,0,0,0,0,0,0,0,0,0,0,0,0,0,0]
[null,null,{"$f":"IFERROR(VLOOKUP(ROWS($C$6:C209),$D$7:$E$905,2,FALSE),\"\")","v":""},{"$f":"IF(ISNUMBER(SEARCH($B$7,E210)),MAX($D$3:D209)+1,0)","v":0},"Willow Creek Wind","Willow Creek Wind",800062,"56952","","OR",152128,0,0,0,0,0,0,0,0,0,0,0,0,0,0,0,0,0]
[null,null,{"$f":"IFERROR(VLOOKUP(ROWS($C$6:C210),$D$7:$E$905,2,FALSE),\"\")","v":""},{"$f":"IF(ISNUMBER(SEARCH($B$7,E211)),MAX($D$3:D210)+1,0)","v":0},"Windy Flats Wind Project","Windy Flats Wind Project",800164,"57159","","WA",663771,0,0,0,0,0,0,0,0,0,0,0,0,0,0,0,0,0]
[null,null,{"$f":"IFERROR(VLOOKUP(ROWS($C$6:C211),$D$7:$E$905,2,FALSE),\"\")","v":""},{"$f":"IF(ISNUMBER(SEARCH($B$7,E212)),MAX($D$3:D211)+1,0)","v":0},"Windy Point/Flats Project phase 1 (Tuolumne Wind Project)","Windy Point/Flats Project phase 1 (Tuolumne Wind Project)",800141,"56702","","WA",386317,0,0,0,0,0,0,0,0,0,0,0,0,0,0,0,0,0]
[null,null,{"$f":"IFERROR(VLOOKUP(ROWS($C$6:C212),$D$7:$E$905,2,FALSE),\"\")","v":""},{"$f":"IF(ISNUMBER(SEARCH($B$7,E213)),MAX($D$3:D212)+1,0)","v":0},"Wolverine Creek","Wolverine Creek",800028,"56301","","ID",174811,0,0,0,0,0,0,0,0,0,0,0,0,0,0,0,0,0]
[null,null,{"$f":"IFERROR(VLOOKUP(ROWS($C$6:C213),$D$7:$E$905,2,FALSE),\"\")","v":""},{"$f":"IF(ISNUMBER(SEARCH($B$7,E214)),MAX($D$3:D213)+1,0)","v":0},"Yucca","Yucca",900015,"1001424/120","","AZ",360704,243299.15999999997,243063.5,0,0,0,0,94.92,140.74,0.67451195440028378,0.67385862091909154,0,0,0,0,2.6315205819730305E-4,3.9018142299503198E-4,0.67451195440028378]
[null,null,{"$f":"IFERROR(VLOOKUP(ROWS($C$6:C214),$D$7:$E$905,2,FALSE),\"\")","v":""},{"$f":"IF(ISNUMBER(SEARCH($B$7,E215)),MAX($D$3:D214)+1,0)","v":0},"Yuma Cogeneration Associates","Yuma Cogeneration Associates",900160,"1009168/54694","","AZ",11206,7855.2099637718848,7847.6095224475639,0,0,0,0,3.0694089963598548,4.5310323279597853,0.70098250613705915,0.70030425865139778,0,0,0,0,2.7390763844010839E-4,4.0433984722111236E-4,0.70098250613705915]
[null,null,{"$f":"IFERROR(VLOOKUP(ROWS($C$6:C215),$D$7:$E$905,2,FALSE),\"\")","v":""}]
[null,null,{"$f":"IFERROR(VLOOKUP(ROWS($C$6:C216),$D$7:$E$905,2,FALSE),\"\")","v":""}]
[null,null,{"$f":"IFERROR(VLOOKUP(ROWS($C$6:C217),$D$7:$E$905,2,FALSE),\"\")","v":""}]
[null,null,{"$f":"IFERROR(VLOOKUP(ROWS($C$6:C218),$D$7:$E$905,2,FALSE),\"\")","v":""}]
[null,null,{"$f":"IFERROR(VLOOKUP(ROWS($C$6:C219),$D$7:$E$905,2,FALSE),\"\")","v":""}]
[null,null,{"$f":"IFERROR(VLOOKUP(ROWS($C$6:C220),$D$7:$E$905,2,FALSE),\"\")","v":""}]
[null,null,{"$f":"IFERROR(VLOOKUP(ROWS($C$6:C221),$D$7:$E$905,2,FALSE),\"\")","v":""}]
[null,null,{"$f":"IFERROR(VLOOKUP(ROWS($C$6:C222),$D$7:$E$905,2,FALSE),\"\")","v":""}]
[null,null,{"$f":"IFERROR(VLOOKUP(ROWS($C$6:C223),$D$7:$E$905,2,FALSE),\"\")","v":""}]
[null,null,{"$f":"IFERROR(VLOOKUP(ROWS($C$6:C224),$D$7:$E$905,2,FALSE),\"\")","v":""}]
[null,null,{"$f":"IFERROR(VLOOKUP(ROWS($C$6:C225),$D$7:$E$905,2,FALSE),\"\")","v":""}]
[null,null,{"$f":"IFERROR(VLOOKUP(ROWS($C$6:C226),$D$7:$E$905,2,FALSE),\"\")","v":""}]
[null,null,{"$f":"IFERROR(VLOOKUP(ROWS($C$6:C227),$D$7:$E$905,2,FALSE),\"\")","v":""}]
[null,null,{"$f":"IFERROR(VLOOKUP(ROWS($C$6:C228),$D$7:$E$905,2,FALSE),\"\")","v":""}]
[null,null,{"$f":"IFERROR(VLOOKUP(ROWS($C$6:C229),$D$7:$E$905,2,FALSE),\"\")","v":""}]
[null,null,{"$f":"IFERROR(VLOOKUP(ROWS($C$6:C230),$D$7:$E$905,2,FALSE),\"\")","v":""}]
[null,null,{"$f":"IFERROR(VLOOKUP(ROWS($C$6:C231),$D$7:$E$905,2,FALSE),\"\")","v":""}]
[null,null,{"$f":"IFERROR(VLOOKUP(ROWS($C$6:C232),$D$7:$E$905,2,FALSE),\"\")","v":""}]
[null,null,{"$f":"IFERROR(VLOOKUP(ROWS($C$6:C233),$D$7:$E$905,2,FALSE),\"\")","v":""}]
[null,null,{"$f":"IFERROR(VLOOKUP(ROWS($C$6:C234),$D$7:$E$905,2,FALSE),\"\")","v":""}]
[null,null,{"$f":"IFERROR(VLOOKUP(ROWS($C$6:C235),$D$7:$E$905,2,FALSE),\"\")","v":""}]
[null,null,{"$f":"IFERROR(VLOOKUP(ROWS($C$6:C236),$D$7:$E$905,2,FALSE),\"\")","v":""}]
[null,null,{"$f":"IFERROR(VLOOKUP(ROWS($C$6:C237),$D$7:$E$905,2,FALSE),\"\")","v":""}]
[null,null,{"$f":"IFERROR(VLOOKUP(ROWS($C$6:C238),$D$7:$E$905,2,FALSE),\"\")","v":""}]
[null,null,{"$f":"IFERROR(VLOOKUP(ROWS($C$6:C239),$D$7:$E$905,2,FALSE),\"\")","v":""}]
[null,null,{"$f":"IFERROR(VLOOKUP(ROWS($C$6:C240),$D$7:$E$905,2,FALSE),\"\")","v":""}]
[null,null,{"$f":"IFERROR(VLOOKUP(ROWS($C$6:C241),$D$7:$E$905,2,FALSE),\"\")","v":""}]
[null,null,{"$f":"IFERROR(VLOOKUP(ROWS($C$6:C242),$D$7:$E$905,2,FALSE),\"\")","v":""}]
[null,null,{"$f":"IFERROR(VLOOKUP(ROWS($C$6:C243),$D$7:$E$905,2,FALSE),\"\")","v":""}]
[null,null,{"$f":"IFERROR(VLOOKUP(ROWS($C$6:C244),$D$7:$E$905,2,FALSE),\"\")","v":""}]
[null,null,{"$f":"IFERROR(VLOOKUP(ROWS($C$6:C245),$D$7:$E$905,2,FALSE),\"\")","v":""}]
[null,null,{"$f":"IFERROR(VLOOKUP(ROWS($C$6:C246),$D$7:$E$905,2,FALSE),\"\")","v":""}]
[null,null,{"$f":"IFERROR(VLOOKUP(ROWS($C$6:C247),$D$7:$E$905,2,FALSE),\"\")","v":""}]
[null,null,{"$f":"IFERROR(VLOOKUP(ROWS($C$6:C248),$D$7:$E$905,2,FALSE),\"\")","v":""}]
[null,null,{"$f":"IFERROR(VLOOKUP(ROWS($C$6:C249),$D$7:$E$905,2,FALSE),\"\")","v":""}]
[null,null,{"$f":"IFERROR(VLOOKUP(ROWS($C$6:C250),$D$7:$E$905,2,FALSE),\"\")","v":""}]
[null,null,{"$f":"IFERROR(VLOOKUP(ROWS($C$6:C251),$D$7:$E$905,2,FALSE),\"\")","v":""}]
[null,null,{"$f":"IFERROR(VLOOKUP(ROWS($C$6:C252),$D$7:$E$905,2,FALSE),\"\")","v":""}]
[null,null,{"$f":"IFERROR(VLOOKUP(ROWS($C$6:C253),$D$7:$E$905,2,FALSE),\"\")","v":""}]
[null,null,{"$f":"IFERROR(VLOOKUP(ROWS($C$6:C254),$D$7:$E$905,2,FALSE),\"\")","v":""}]
[null,null,{"$f":"IFERROR(VLOOKUP(ROWS($C$6:C255),$D$7:$E$905,2,FALSE),\"\")","v":""}]
[null,null,{"$f":"IFERROR(VLOOKUP(ROWS($C$6:C256),$D$7:$E$905,2,FALSE),\"\")","v":""}]
[null,null,{"$f":"IFERROR(VLOOKUP(ROWS($C$6:C257),$D$7:$E$905,2,FALSE),\"\")","v":""}]
[null,null,{"$f":"IFERROR(VLOOKUP(ROWS($C$6:C258),$D$7:$E$905,2,FALSE),\"\")","v":""}]
[null,null,{"$f":"IFERROR(VLOOKUP(ROWS($C$6:C259),$D$7:$E$903,2,FALSE),\"\")","v":""}]
[null,null,{"$f":"IFERROR(VLOOKUP(ROWS($C$6:C260),$D$7:$E$903,2,FALSE),\"\")","v":""}]
[null,null,{"$f":"IFERROR(VLOOKUP(ROWS($C$6:C261),$D$7:$E$903,2,FALSE),\"\")","v":""}]
[null,null,{"$f":"IFERROR(VLOOKUP(ROWS($C$6:C262),$D$7:$E$903,2,FALSE),\"\")","v":""}]
[null,null,{"$f":"IFERROR(VLOOKUP(ROWS($C$6:C263),$D$7:$E$903,2,FALSE),\"\")","v":""}]
[null,null,{"$f":"IFERROR(VLOOKUP(ROWS($C$6:C264),$D$7:$E$903,2,FALSE),\"\")","v":""}]
[null,null,{"$f":"IFERROR(VLOOKUP(ROWS($C$6:C265),$D$7:$E$903,2,FALSE),\"\")","v":""}]
[null,null,{"$f":"IFERROR(VLOOKUP(ROWS($C$6:C266),$D$7:$E$903,2,FALSE),\"\")","v":""}]
[null,null,{"$f":"IFERROR(VLOOKUP(ROWS($C$6:C267),$D$7:$E$903,2,FALSE),\"\")","v":""}]
[null,null,{"$f":"IFERROR(VLOOKUP(ROWS($C$6:C268),$D$7:$E$903,2,FALSE),\"\")","v":""}]
[null,null,{"$f":"IFERROR(VLOOKUP(ROWS($C$6:C269),$D$7:$E$903,2,FALSE),\"\")","v":""}]
[null,null,{"$f":"IFERROR(VLOOKUP(ROWS($C$6:C270),$D$7:$E$903,2,FALSE),\"\")","v":""}]
[null,null,{"$f":"IFERROR(VLOOKUP(ROWS($C$6:C271),$D$7:$E$903,2,FALSE),\"\")","v":""}]
[null,null,{"$f":"IFERROR(VLOOKUP(ROWS($C$6:C272),$D$7:$E$903,2,FALSE),\"\")","v":""}]
[null,null,{"$f":"IFERROR(VLOOKUP(ROWS($C$6:C273),$D$7:$E$903,2,FALSE),\"\")","v":""}]
[null,null,{"$f":"IFERROR(VLOOKUP(ROWS($C$6:C274),$D$7:$E$903,2,FALSE),\"\")","v":""}]
[null,null,{"$f":"IFERROR(VLOOKUP(ROWS($C$6:C275),$D$7:$E$903,2,FALSE),\"\")","v":""}]
[null,null,{"$f":"IFERROR(VLOOKUP(ROWS($C$6:C276),$D$7:$E$903,2,FALSE),\"\")","v":""}]
[null,null,{"$f":"IFERROR(VLOOKUP(ROWS($C$6:C277),$D$7:$E$903,2,FALSE),\"\")","v":""}]
[null,null,{"$f":"IFERROR(VLOOKUP(ROWS($C$6:C278),$D$7:$E$903,2,FALSE),\"\")","v":""}]
[null,null,{"$f":"IFERROR(VLOOKUP(ROWS($C$6:C279),$D$7:$E$903,2,FALSE),\"\")","v":""}]
[null,null,{"$f":"IFERROR(VLOOKUP(ROWS($C$6:C280),$D$7:$E$903,2,FALSE),\"\")","v":""}]
[null,null,{"$f":"IFERROR(VLOOKUP(ROWS($C$6:C281),$D$7:$E$903,2,FALSE),\"\")","v":""}]
[null,null,{"$f":"IFERROR(VLOOKUP(ROWS($C$6:C282),$D$7:$E$903,2,FALSE),\"\")","v":""}]
[null,null,{"$f":"IFERROR(VLOOKUP(ROWS($C$6:C283),$D$7:$E$903,2,FALSE),\"\")","v":""}]
[null,null,{"$f":"IFERROR(VLOOKUP(ROWS($C$6:C284),$D$7:$E$903,2,FALSE),\"\")","v":""}]
[null,null,{"$f":"IFERROR(VLOOKUP(ROWS($C$6:C285),$D$7:$E$903,2,FALSE),\"\")","v":""}]
[null,null,{"$f":"IFERROR(VLOOKUP(ROWS($C$6:C286),$D$7:$E$903,2,FALSE),\"\")","v":""}]
[null,null,{"$f":"IFERROR(VLOOKUP(ROWS($C$6:C287),$D$7:$E$903,2,FALSE),\"\")","v":""}]
[null,null,{"$f":"IFERROR(VLOOKUP(ROWS($C$6:C288),$D$7:$E$903,2,FALSE),\"\")","v":""}]

{"sheet":"Other Lookups","index":18,"n_rows":82,"n_cols":11,"rows_kept":82,"cut":false,"hidden":false,"merged":[[18,13,18,14]]}
["RPS Technologies","Primary Technology or Fuel Type, per Section 95111(g)(1)(L)",null,"Relationship",null,"Continuity Descriptions",null,"REC Serial Number Types",null,null,"TSP"]
["Cofired fuels","Biomass fuel (Only):  landfill gas ",null,"Scheduling Coordinator",null,"Imported from specified source previously reported as consumed in California",null,"95111(g)(1)(M)(1) Current RPS Adjust",null,null,"AESO  "]
["Cogeneration, primary fuel 1","Biomass fuel (Only):  liquid biomass fuel ",null,"Party to a Power Contract",null,"Imported from existing federally owned hydroelectricity facilities by exclusive marketers",null,"95111(g)(1)(M)(2) Previous RPS Adjust",null,null,"AVAT  "]
["Cogeneration, primary fuel 2","Biomass fuel (Only):  Other biogases incl. digester gas and biomethane",null,"Retail Provider",null,"Imported from existing federally owned hydroelectricity facilities allocated by contract",null,"95111(g)(1)(M)(3) Spec Source",null,null,"AZPS  "]
["Cogeneration, primary fuel 3","Biomass fuel (Only):  Solid biomass fuel ",null,"Generation Providing Entity (GPE)",null,"Imported from new facilities",null,null,null,null,"AZUS  "]
["Cogeneration, primary fuel 4","Coal and coke",null,"Transmission Provider",null,"Imported from existing facilities with additional capacity",null,"REC Status",null,null,"BANN  "]
["Cogeneration, primary fuel 5","Co-fired fuels:  Biomass fuel",null,"Other",null,"Other",null,"Retired in WREGIS",null,null,"BCHA  "]
["Cogeneration, primary fuel 6","Co-fired fuels:  Fossil fuel",null,null,null,"Not applicable",null,"Will Be Retired Later",null,null,"BEPW  "]
["Geothermal binary cycle plant or closed loop system","Cogeneration:  Coal and coke",null,null,null,null,null,"Did Not Buy RECs",null,null,"BHBE  "]
["Geothermal steam plant or open loop system","Cogeneration:  Landfill gas",null,"Direct Delivery",null,null,null,"Sold the RECs",null,null,"BHCT  "]
["Hybrid facility (e.g., solar thermal)","Cogeneration:  Liquid biomass fuel",null,"1st POR is CA BAA",null,"EPE_Type",null,null,null,null,"BPAT  "]
["Hydroelectric facility ≤ 30 MW, not run-of-river","Cogeneration:  Municipal Solid Waste (MSW)",null,"1st POR via Distribution Grid",null,"IOU - Investor Owned Utility serving load in CA",null,null,null,null,"BURT  "]
["MSW combustion","Cogeneration:  Natural gas",null,"Spec Source to POD in CA",null,"POU - Publicly Owned Utility serving load in CA",null,null,null,null,"CFE   "]
["Other","Cogeneration:  Other biogases (e.g., digester gas and biomethane)",null,"Dynamic Transfer",null,"Marketer",null,null,null,null,"CISO  "]
["Pure solar","Cogeneration:  Other fuel",null,"Not Directly Delivered to CA",null,"COOP - Electrical Cooperative serving load in CA",null,null,null,null,"CLNT  "]
["Pure wind","Cogeneration:  Other petroleum products",null,null,null,"CCA - Community Choice Aggregator serving load in CA",null,null,null,null,"CRCM  "]
["Run-of-river hydroelectricity","Cogeneration:  Petroleum coke",null,"RPS_Import_Must",null,"ESP - Electric Serivce Provider per CPUC",null,null,null,null,"CSU   "]
["Units combusting only biomass-derived fuel: Fuel 1","Cogeneration:  Solid biomass fuel",null,"Ownership or Contract Rights",null,"MJRP - Multi-Jurisdictional Retail Provider",null,null,null,null,"DGT   "]
["Units combusting only biomass-derived fuel: Fuel 2","Geothermal:  Closed loop system",null,"On Behalf of Owner or Contracted Entity",null,null,null,null,null,null,"DOPD  "]
["Units combusting only biomass-derived fuel: Fuel 3","Geothermal:  Open loop system",null,"Neither",null,null,null,null,null,null,"EPE   "]
["Units combusting only biomass-derived fuel: Fuel 4","Hybrid facility (e.g., solar thermal)",null,null,null,null,null,null,null,null,"GCPD  "]
["Units combusting only biomass-derived fuel: Fuel 5","Hydroelectric facility > 30 MW",null,null,null,null,null,null,null,null,"GLEN  "]
["Units combusting only biomass-derived fuel: Fuel 6","Hydroelectric facility ≤ 30 MW, not run-of-river",null,null,null,null,null,null,null,null,"IID   "]
[null,"Hydroelectricity run-of-river ",null,null,null,null,null,null,null,null,"IPCO  "]
[null,"Municipal Solid Waste (MSW) combustion",null,null,null,null,null,null,null,null,"LAPT  "]
[null,"Natural gas",null,null,null,null,null,null,null,null,"LDWP  "]
[null,"Nuclear",null,null,null,null,null,null,null,null,"MHUB  "]
[null,"Other fossil fuels",null,null,null,null,null,null,null,null,"MIDT  "]
[null,"Other petroleum products",null,null,null,null,null,null,null,null,"MSRT  "]
[null,"Other primary technology or fuel type",null,"Where Did You Get The RECs?",null,null,null,null,null,null,"NEVP  "]
[null,"Petroleum coke",null,"WREGIS",null,null,null,null,null,null,"NVE   "]
[null,"Solar (Only)",null,"GPE",null,null,null,null,null,null,"NWMT  "]
[null,"Wind (Only)",null,"Other EPE",null,null,null,null,null,null,"PASA  "]
[null,null,null,"Not Listed",null,null,null,null,null,null,"PGE   "]
[null,null,null,null,null,null,null,null,null,null,"PNM   "]
[null,"Jurisdiction Name","Linked Status (Y/N)",null,null,null,null,null,null,null,"PPW   "]
[null,"Alberta"," ",null,null,null,null,null,null,null,"PRPA  "]
[null,"Arizona","No",null,null,null,null,null,null,null,"PSCO  "]
[null,"Baja","No",null,null,null,null,null,null,null,"PSEI  "]
[null,"British Columbia","No",null,null,null,null,null,null,null,"REDT  "]
[null,"California","Not applicable",null,null,null,null,null,null,null,"RVSD  "]
[null,"Colorado","No",null,null,null,null,null,null,null,"SMD1  "]
[null,"Idaho","No",null,null,null,null,null,null,null,"SPPC  "]
[null,"Montana","No",null,null,null,null,null,null,null,"SRP   "]
[null,"Nevada","No",null,null,null,null,null,null,null,"SWTC  "]
[null,"New Mexico","No",null,null,null,null,null,null,null,"TANC  "]
[null,"Oregon","No",null,null,null,null,null,null,null,"TEPC  "]
[null,"South Dakota","No",null,null,null,null,null,null,null,"TIDT  "]
[null,"Utah","No",null,null,null,null,null,null,null,"TNPN  "]
[null,"Washington","No",null,null,null,null,null,null,null,"TPWT  "]
[null,"Wyoming","No",null,null,null,null,null,null,null,"TSGT  "]
[null,"Other",null,null,null,null,null,null,null,null,"UMPS  "]
[null,null,null,null,null,null,null,null,null,null,"UMPT  "]
[null,null,null,null,null,null,null,null,null,null,"VERN  "]
[null,null,null,null,null,null,null,null,null,null,"WALC  "]
[null,null,null,null,null,null,null,null,null,null,"WASN  "]
[null,null,null,null,null,null,null,null,null,null,"WPEL  "]
[]
[]
[]
[null,"FACILITY_JURISDICTION"]
[null,""]
[null,"Alberta",null,null,null,null,null,null,null,null,"Exports"]
[null,"Arizona",null,null,null,null,null,null,null,null,"Other"]
[null,"Baja"]
[null,"British Columbia",null,null,null,null,null,null,null,null,"Transmission Loss Factor Determination"]
[null,"California",null,null,null,null,null,null,null,null,"(1) Non-California BAA Generation TL=1.02"]
[null,"Colorado",null,null,null,null,null,null,null,null,"(2) Accounted For using TL=1.0"]
[null,"Idaho",null,null,null,null,null,null,null,null,"(3) California BAA Generation TL=1.0"]
[null,"Montana",null,null,null,null,null,null,null,null,"(4) California Sourced Generation TL=1.0"]
[null,"Nevada"]
[null,"New Mexico"]
[null,"Oregon"]
[null,"South Dakota",null,null,null,null,null,null,null,null,"Meter Data Exclusions"]
[null,"Utah",null,null,null,null,null,null,null,null,"Not Excluded"]
[null,"Washington",null,null,null,null,null,null,null,null,"1. Grandfathered Resource"]
[null,"Wyoming",null,null,null,null,null,null,null,null,"2. Dynamically Tagged"]
[null,null,null,null,null,null,null,null,null,null,"3. Untagged or EIM"]
[null,null,null,null,null,null,null,null,null,null,"4. Nuclear"]
[null,null,null,null,null,null,null,null,null,null,"5. ACS Power"]
[null,null,null,null,null,null,null,null,null,null,"6. Share of metered hydro by non-contract"]
[null,null,null,null,null,null,null,null,null,null,"Does Not Apply"]

{"sheet":"CEC RPS List","index":19,"n_rows":651,"n_cols":13,"rows_kept":651,"cut":false,"hidden":false,"merged":[[1,1,1,9],[2,1,2,9],[3,1,3,9],[5,6,5,9]]}
[]
[null,"Table 1"]
[null,"CARB Interpretation of CEC Renewables Portfolio Standard (RPS) Eligibility in California"]
[null,"Data from the CEC RPS Eligible List at http://rps.energy.ca.gov except as noted, and from CARB Specified Source Master List"]
[]
[null,null,"From CEC RPS website on Nov 18, 2017",null,null,null,"Note:  Column 9 shows the CARB interpretation of CEC RPS Eligibility based on Columns 6-8.  To be eligible, a project must be Approved, Not -Pre-Certification, and Date Eligible."]
[null,null,null,null,null,null,"Certification Status","Certification Type","Eligibility Date ","CARB Field"]
[null,1,2,3,4,5,6,7,8,9]
[null,"ARB ID","Facility Name","EIA ID","CEC ID","Generation Type","CEC Approved","CEC Certification","CEC Eligibility Date","CEC RPS Eligibility","Eligibility Check","Notes","Master List Check"]
[null,910010,"150 Mile House Waste Heat",null,null,"Waste Heat","","","","Not Eligible","",null,""]
[null,501131,"26-foot Drop Small Hydro",null,null,"Hydro","","","","Not Eligible","",null,""]
[null,501050,"45 Mile Hydroelectric Project (EBD Hydro)",58455,null,"Hydro","","","","Not Eligible","",null,""]
[null,501020,"Aberfeldie  Hydroelectric Generation Facility (CAN)",null,null,"Hydro","","","","Not Eligible","",null,""]
[null,501007,"Afton Lower Valley culinary hydro",null,null,"Hydro","","","","Not Eligible","",null,""]
[null,700003,"Agua Caliente Solar Project",57373,60894,"Solar","Approved","Certification","2009-10-15","Eligible","",null,""]
[null,501051,"Akolkolex",null,null,"Hydro","","","","Not Eligible","",null,""]
[null,500297,"Albeni Falls",851,null,"Hydro","","","","Not Eligible","",null,""]
[null,501052,"Alouette Lake Hydroelectric Facility (CAN)",null,null,"Hydro","","","","Not Eligible","",null,""]
[null,500298,"Anderson Ranch",6395,null,"Hydro","","","","Not Eligible","",null,""]
[null,900009,"Apache Generating Station",160,null,"Coal","","","","Not Eligible","",null,""]
[null,900247,"Apex Generating Station-Natural Gas Combined Cycle",55514,null,"Natural Gas","","","","Not Eligible","",null,""]
[null,900234,"Arlington Valley Energy Facility-Natural Gas Combined Cycle",55282,null,"Natural Gas","","","","Not Eligible","",null,""]
[null,700100,"Arlington Valley Solar Project",57680,60864,"Solar","Approved","Pre-Certification","2009-07-29","Not Eligible","",null,""]
[null,4,"Arlington Valley Solar Project II",57680,60865,"Solar","Approved","Certification","2009-07-29","Eligible","",null,""]
[null,800016,"Arlington Wind Power Project",56855,60553,"Wind","Approved","Certification","2007-05-26","Eligible","",null,""]
[null,901600,"Armstrong Woodwaste Cogeneration (CAN)",null,null,"Biomass","","","","Not Eligible","",null,""]
[null,501053,"Arrow Lakes Hydro",null,null,"Hydro","","","","Not Eligible","",null,""]
[null,501021,"Ash River Hydroelectric Generation Facility (CAN)",null,null,"Hydro","","","","Not Eligible","",null,""]
[null,700030,"Ashland Solar",null,null,"Solar","","","","Not Eligible","",null,""]
[null,501054,"Ashlu Creek Water Power",null,null,"Hydro","","","","Not Eligible","",null,""]
[null,500240,"Ashton",825,60578,"Hydro","Approved","Certification","2007-06-07","Eligible","",null,""]
[null,900563,"Ballard Hog Farms",null,60783,"Digester Gas","Withdrawn","Utility Certification","2009-04-27","Not Eligible","",null,""]
[null,501055,"Barr Creek Hydro",null,null,"Hydro","","","","Not Eligible","",null,""]
[null,910001,"Basin Creek Plant",55866,null,"Natural gas","","","","Not Eligible","",null,""]
[null,501056,"Bear Creek Dam Hydro Turbine (City of Astoria)",null,null,"Hydro","","","","Not Eligible","",null,""]
[null,810010,"Bear Mountain Wind Park",null,61051,"Wind","Approved","Certification","2010-03-30","Eligible","",null,""]
[null,500202,"Bell Mountain Hydro (Pancheri)",null,61377,"Hydro","Disapproved","Certification","2011-02-10","Not Eligible","",null,""]
[null,501003,"Bell Mountain Power (Jake Amy)",null,null,"Hydro","","","","Not Eligible","",null,""]
[null,500246,"Bend",6484,60522,"Hydro","Approved","Certification","2006-10-19","Eligible","",null,""]
[null,900033,"Beowawe Power",10287,60677,"Geothermal (Closed System)","Approved","Certification","2008-03-20","Eligible","",null,""]
[null,700106,"Beryl Solar Plant",58598,null,"Solar","","","","Not Eligible","",null,""]
[null,500299,"Big Cliff",3074,null,"Hydro","","","","Not Eligible","",null,""]
[null,500244,"Big Fork",6459,60579,"Hydro","Approved","Certification","2007-06-07","Eligible","",null,""]
[null,800180,"Big Horn II-Wind",57319,61201,"Wind","Approved","Certification","2010-09-14","Eligible","",null,""]
[null,800177,"Big Horn PPM-Wind Power Project",56361,60776,"Wind","Approved","Certification","2009-01-05","Eligible","",null,""]
[null,800157,"Big Top, LLC",56968,60977,"Wind","Approved","Certification","2010-01-21","Eligible","",null,""]
[null,800007,"Biglow Canyon Wind Farm (Phase 1)",56485,60993,"Wind","Approved","Certification","2010-02-08","Eligible","",null,""]
[null,810004,"Biglow Canyon Wind Farm (Phase 2)",56485,63055,"Wind","Approved","Certification","2010-02-08","Eligible","",null,""]
[null,810003,"Biglow Canyon Wind Farm (Phase 3)",56485,63056,"Wind","Approved","Certification","2010-09-01","Eligible","",null,""]
[null,900038,"Biomass One, L.P.",10869,61204,"Biomass","Approved","Certification","2010-11-19","Eligible","",null,""]
[null,500203,"Birch Creek Hydro",10140,61378,"Hydro","Approved","Certification","2011-02-10","Eligible","",null,""]
[null,500300,"Black Canyon",6396,60801,"Hydro","Disapproved","Pre-Certification","2009-05-08","Not Eligible","",null,""]
[null,700002,"Black Cap Solar (Lakeview, OR)",58150,null,"Solar","","","","Not Eligible","",null,""]
[null,501057,"Black Eagle Dam",2181,null,"Hydro","","","","Not Eligible","",null,""]
[null,900024,"Black Hills Power Inc - Ben French Power Plant",3325,null,"Coal","","","","Not Eligible","",null,""]
[null,810005,"Blackspring Ridge 1A Wind Project (CAN)",null,60987,"Wind","Approved","Certification","2010-01-25","Eligible","",null,""]
[null,810006,"Blackspring Ridge 1B Wind Project (CAN)",null,60988,"Wind","Approved","Certification","2010-01-25","Eligible","",null,""]
[null,900048,"Blue Mountain Geothermal Project",56982,60769,"Geothermal (Closed System)","Disapproved","Pre-Certification","2009-03-16","Not Eligible","",null,""]
[null,901652,"Blundell PacifiCorp Geothermal I/II",299,60820,"Geothermal (Open System)","Approved","Certification","2009-05-01","Eligible","",null,""]
[null,900307,"Boardman Power Plant",6106,null,"Coal","","","","Not Eligible","",null,""]
[null,500247,"Bogus Creek (Lower Cold Springs/Upper Cold Springs)",null,60780,"Hydro","Approved","Utility Certification","2009-04-27","Eligible","",null,""]
[null,500301,"Boise River Diversion",6397,null,"Hydro","","","","Not Eligible","",null,""]
[null,900133,"Bonanza Power Plant",7790,null,"Coal","","","","Not Eligible","",null,""]
[null,501058,"Bone Creek Hydro",null,null,"Hydro","","","","Not Eligible","",null,""]
[null,500302,"Bonneville",3075,null,"Hydro","","","","Not Eligible","",null,""]
[null,300001,"Bonneville Power Administration (Asset-Controlling Supplier)",null,null,"Various","","","","Not Eligible","",null,""]
[null,501059,"Boston Bar Hydro",null,null,"Hydro","","","","Not Eligible","",null,""]
[null,500043,"Boundary Hydroelectric Units",6433,null,"Hydro","","","","Not Eligible","",null,""]
[null,700105,"Bourdet 5713351 solar",null,null,"Solar","","","","Not Eligible","",null,""]
[null,500248,"Box Canyon Dam (Siskiyou Power Authority)",50179,60778,"Hydro","Approved","Utility Certification","2009-04-27","Eligible","",null,""]
[null,900043,"Brady Hot Springs OEC",55991,60674,"Geothermal (Open System)","Approved","Certification","2017-04-05","Partial Year Eligibility","",null,""]
[null,501060,"Brandywine Creek Small Hydro",null,null,"Hydro","","","","Not Eligible","",null,""]
[null,501022,"Bridge River 1 Hydroelectric Generation Facility (CAN)",null,null,"Hydro","","","","Not Eligible","",null,""]
[null,501023,"Bridge River 2 Hydroelectric Generation Facility (CAN)",null,null,"Hydro","","","","Not Eligible","",null,""]
[null,501061,"Brilliant Expansion 1",null,null,"Hydro","","","","Not Eligible","",null,""]
[null,501062,"Brown Lake Hydro",null,null,"Hydro","","","","Not Eligible","",null,""]
[null,500010,"Brownlee",811,null,"Hydro","","","","Not Eligible","",null,""]
[null,700107,"Buckhorn Solar Plant",58600,null,"Solar","","","","Not Eligible","",null,""]
[null,900068,"Burrard Generating Station (CAN)",null,null,"Natural Gas","","","","Not Eligible","",null,""]
[null,800158,"Butter Creek Power, LLC.",56967,60985,"Wind","Approved","Certification","2010-01-21","Eligible","",null,""]
[null,910011,"BYUI Central Energy Facility",59496,null,"Natural Gas","","","","Not Eligible","",null,""]
[null,500008,"Cabin Creek (CO)",467,null,"Hydro","","","","Not Eligible","",null,""]
[null,500011,"Cabinet Gorge",833,null,"Hydro","","","","Not Eligible","",null,""]
[null,910012,"Cache Creek Landfill",null,null,"Landfill Gas","","","","Not Eligible","",null,""]
[null,800017,"Caithness Shepherd's Flat - Horseshoe Bend (Wind)",57550,61668,"Wind","Approved","Certification","2007-07-10","Eligible","",null,""]
[null,800015,"Caithness Shepherd's Flat - North Hurlburt (Wind)",57526,60606,"Wind","Approved","Certification","2007-07-10","Eligible","",null,""]
[null,800027,"Caithness Shepherd's Flat - South Hurlburt (Wind)",57549,61669,"Wind","Approved","Certification","2007-07-10","Eligible","",null,""]
[null,900167,"Camas Cogen",57759,null,"Natural Gas","","","","Not Eligible","",null,""]
[null,500217,"Cameron A. Curtiss Hydro",null,null,"Hydro","","","","Not Eligible","",null,""]
[null,800053,"Campbell Hill Windpower Project (Three Buttes Windpower LLC)",57090,61017,"Wind","Approved","Certification","2010-01-07","Eligible","",null,""]
[null,501063,"Canoe Creek Hydro",null,null,"Hydro","","","","Not Eligible","",null,""]
[null,800049,"Cape Scott Wind Farm (CAN)",null,60600,"Wind","Approved","Certification","2007-05-04","Eligible","",null,""]
[null,900014,"Carbon",3644,null,"Coal","","","","Not Eligible","",null,""]
[null,900028,"Cargil, Inc.",57344,60717,"Digester Gas","Disapproved","Certification","2008-06-18","Not Eligible","",null,""]
[null,910013,"Cariboo Pulp and Paper",null,null,"Biomass","","","","Not Eligible","",null,""]
[null,500021,"Carmen Smith",3067,null,"Hydro","","","","Not Eligible","",null,""]
[null,800154,"Casper Wind Farm",57093,60975,"Wind","Approved","Certification","2010-01-19","Eligible","",null,""]
[null,501064,"Castle Creek Hydro",null,null,"Hydro","","","","Not Eligible","",null,""]
[null,500050,"C-Drop Hydro",58470,null,"Hydro","","","","Not Eligible","",null,""]
[null,1,"Cedar Creek II",57210,61384,"Wind","Approved","Certification","2011-02-18","Eligible","",null,""]
[null,800190,"Cedar Creek Wind",56371,60822,"Wind","Approved","Certification","2009-02-12","Eligible","",null,""]
[null,910014,"Cedar Road LFG Inc. (Nanaimo Landfill Gas)",null,null,"Landfill Gas","","","","Not Eligible","",null,""]
[null,700108,"Cedar Valley Solar",58599,null,"Solar","","","","Not Eligible","",null,""]
[null,910015,"Celgar Green Energy Project",null,null,"Biomass","","","","Not Eligible","",null,""]
[null,900027,"Centennial Hardin (MT)",55749,null,"Coal","","","","Not Eligible","",null,""]
[null,900005,"Cerro Prieto Geothermal Power Plants (MEX)",null,null,"Geothermal (Open System)","","","","Not Eligible","CHECK!!",null,""]
[null,500303,"Chandler",6406,null,"Hydro","","","","Not Eligible","",null,""]
[null,501024,"Cheakamus Hydroelectric Generation Facility (CAN)",null,null,"Hydro","","","","Not Eligible","",null,""]
[null,900017,"Chehalis",55662,null,"Natural Gas","","","","Not Eligible","",null,""]
[null,910016,"Chetwynd Biomass",null,null,"Biomass","","","","Not Eligible","",null,""]
[null,500304,"Chief Joseph",3921,null,"Hydro","","","","Not Eligible","",null,""]
[null,501065,"China Creek Small hydro",null,null,"Hydro","","","","Not Eligible","",null,""]
[null,900010,"Cholla Power Station",113,null,"Coal","","","","Not Eligible","",null,""]
[null,900062,"Chuck Lenzie Station",55322,null,"Natural Gas","","","","Not Eligible","",null,""]
[null,500216,"City of Albany Hydro",null,null,"Hydro","","","","Not Eligible","",null,""]
[null,500195,"City of Buffalo Hydropower Plant",null,null,"Hydro","","","","Not Eligible","",null,""]
[null,500051,"City of Portland, Portland Water Bureau",null,null,"Hydro","","","","Not Eligible","",null,""]
[null,900056,"Clark Station",2322,null,"Natural Gas","","","","Not Eligible","",null,""]
[null,500241,"Clearwater 1",3020,60507,"Hydro","Approved","Certification","2006-07-19","Eligible","",null,""]
[null,500242,"Clearwater 2",3021,60508,"Hydro","Approved","Certification","2006-07-19","Eligible","",null,""]
[null,905578,"Clearwater Paper Corp. - Lewiston",50637,60533,"Biomass","Approved","Certification","2012-07-17","Eligible","",null,"CHECK"]
[null,500245,"Cline Falls",6482,60580,"Hydro","Approved","Certification","2007-06-07","Eligible","",null,""]
[null,501025,"Clowhom Hydroelectric Generation Facility (CAN)",null,null,"Hydro","","","","Not Eligible","",null,""]
[null,501066,"Coats IPP",null,null,"Hydro","","","","Not Eligible","",null,""]
[null,810020,"Colorado Highlands Wind",57174,61229,null,"Approved","Certification","2014-09-02","Eligible","",null,""]
[null,500064,"Colorado River Storage Project (CRSP) - Hydro",584,null,"Hydro","","","","Not Eligible","",null,"CHECK"]
[null,900325,"Colstrip",6076,null,"Coal","","","","Not Eligible","",null,""]
[null,600001,"Columbia Generating Station",371,null,"Nuclear","","","","Not Eligible","",null,""]
[null,800023,"Combine Hills",56195,60565,"Wind","Withdrawn","Utility Certification","2007-04-06","Not Eligible","",null,""]
[null,500243,"Condit Dam Hydropower {Retired: dam was removed}",3846,60523,"Hydro","Decommissioned","Certification","2006-10-19","Not Eligible","",null,""]
[null,910017,"Conifex Green Energy",null,null,"Biomass","","","","Not Eligible","",null,""]
[null,501067,"Consolidated Irrigation Company hydro project",null,null,"Hydro","","","","Not Eligible","",null,""]
[null,500190,"Copco 1 -Klamath River Hydroelectric Project",294,60537,"Hydro","Approved","Certification","2006-11-01","Eligible","",null,""]
[null,500191,"Copco 2 -Klamath River Hydroelectric Project",295,60538,"Hydro","Approved","Certification","2006-11-01","Eligible","",null,""]
[null,500221,"Copper Dam (Farmers Irrigation District)",10323,null,"Hydro","","","","Not Eligible","",null,""]
[null,700004,"Copper Mountain Solar 2 (CMS2)",58017,60990,"Solar","Approved","Certification","2010-01-27","Eligible","",null,""]
[null,700101,"Copper Mountain Solar 3",58915,61397,"Solar","Approved","Certification","2011-03-03","Eligible","",null,""]
[null,700130,"Copper Mountain Solar 4 (CMS4)",59814,62662,null,"Approved","Certification","2014-01-21","Eligible","",null,""]
[null,700063,"Copper Mountain Solar I (CM48)",57205,60786,"Solar","Approved","Certification","2009-03-25","Eligible","",null,""]
[null,500305,"Cougar",3076,null,"Hydro","","","","Not Eligible","",null,""]
[null,900556,"Cowiche (Yakima-Tieton Irrigation District)",50423,60784,"Hydro","Approved","Certification","2009-04-27","Eligible","",null,"CHECK"]
[null,501000,"Cowiltz River Project (Mayfield Dam and Mossyrock Dam)",3917,null,"Hydro","","","","Not Eligible","",null,"CHECK"]
[null,500367,"Cowlitz Falls",7427,null,"Hydro","","","","Not Eligible","",null,""]
[null,900460,"Craig",6021,null,"Coal","","","","Not Eligible","",null,""]
[null,700005,"Crook County Solar 1, LLC",null,null,"Solar","","","","Not Eligible","",null,""]
[null,910018,"Crowsnest Pass Waste Heat",null,null,"Waste Heat","","","","Not Eligible","CHECK!!",null,""]
[null,910019,"CSE Arizona Facility",null,62893,"Digester Gas","Approved","Certification","2015-02-02","Eligible","",null,""]
[null,700102,"CTWS Utilities Solar",null,null,"Solar","","","","Not Eligible","",null,""]
[null,900004,"Currant Creek",56102,null,"Natural Gas","","","","Not Eligible","",null,""]
[null,501001,"Cushman Hydro Project (Cushman No. 1 Dam and Cushman No. 2 Dam)",3914,null,"Hydro","","","","Not Eligible","",null,""]
[null,500178,"Cutler Hydropower",3646,60581,"Hydro","Approved","Certification","2007-06-07","Eligible","",null,""]
[null,501068,"Cypress Creek",null,null,"Hydro","","","","Not Eligible","",null,""]
[null,501069,"Dasque Hydroelectric Cluster",null,null,"Hydro","","","","Not Eligible","",null,""]
[null,900011,"Dave Johnston",4158,null,"Coal","","","","Not Eligible","",null,""]
[null,900123,"Davis County Waste Management (Wasatch Energy Systems)",55302,null,"Municipal Solid Waste (MSW)","","","","Not Eligible","",null,"CHECK"]
[null,500006,"Davis Dam",152,null,"Hydro","","","","Not Eligible","",null,""]
[null,900564,"Deruyter Dairy",null,60698,"Digester Gas","Withdrawn","Certification","2009-05-12","Not Eligible","",null,""]
[null,900031,"Desert Peak Geothermal Plant",10018,null,"Geothermal (Closed System)","","","","Not Eligible","",null,""]
[null,900032,"Desert Peak II Geothermal Plant OEC1",10018,63437,"Geothermal (Closed System)","Approved","Certification","2017-02-02","Partial Year Eligibility","",null,""]
[null,900243,"Desert Star Energy Center (formerly: Eldorado Energy)-Natural Gas Combined Cycle",55077,null,"Natural Gas","","","","Not Eligible","",null,""]
[null,900070,"Desert View Power",10300,60692,"Biomass","Approved","Certification","2005-04-05","Eligible","",null,""]
[null,500022,"Detroit",3077,null,"Hydro","","","","Not Eligible","",null,""]
[null,500307,"Dexter",3078,null,"Hydro","","","","Not Eligible","",null,""]
[null,500042,"Diablo Dam",6432,null,"Hydro","","","","Not Eligible","",null,""]
[null,800012,"Dokie Wind Energy Project (CAN)",null,61360,"Wind","Approved","Certification","2011-01-07","Eligible","",null,""]
[null,910020,"Don A. Campbell (Phase 2) Geothermal Plant",60419,62889,"Geothermal","Approved","Certification","2015-01-02","Eligible","",null,""]
[null,900076,"Don A. Campbell (Wild Rose) Geothermal Plant",58533,61938,"Geothermal (Closed System)","Approved","Certification","2012-03-07","Eligible","",null,""]
[null,501070,"Doran Taylor Hydro",null,null,"Hydro","","","","Not Eligible","",null,""]
[null,501004,"Dorena Hydroelectric Facility",59357,61443,"Hydro","Approved","Certification","2016-08-17","Eligible","",null,""]
[null,900559,"Douglas County Forest Products",null,61473,"Biomass","Approved","Certification","2011-05-24","Eligible","",null,""]
[null,500052,"Draper Irrigation",null,60788,"Hydro","Approved","Certification","2009-05-12","Eligible","",null,""]
[null,500206,"Dry Creek (Idaho)",54394,61381,"Hydro","Approved","Certification","2011-02-10","Eligible","",null,""]
[null,500053,"Duane Wiggins Hydro",null,null,"Hydro","","","","Not Eligible","",null,""]
[null,800175,"Dunlap",57299,61188,"Wind","Approved","Certification","2010-09-01","Eligible","",null,""]
[null,500012,"Dworshak",840,null,"Hydro","","","","Not Eligible","",null,"CHECK"]
[null,500160,"Eagle Point",3024,60509,"Hydro","Approved","Certification","2006-07-19","Eligible","",null,""]
[null,500219,"Eagle Point Irrigation District (Nichols Gap Plant)",null,null,"Hydro","","","","Not Eligible","",null,""]
[null,501071,"East Toba and Montrose Hydro",null,null,"Hydro","","","","Not Eligible","",null,""]
[null,501072,"East Twin Creek Hydro",null,null,"Hydro","","","","Not Eligible","",null,""]
[null,500161,"Eastside -Klamath River Hydroelectric Project",3025,60524,"Hydro","Approved","Certification","2006-10-19","Eligible","",null,""]
[null,700006,"Ebay Solar",null,null,"Solar","","","","Not Eligible","",null,""]
[null,700061,"Eldorado Energy Solar Expansion (Sempra Generation)",null,null,"Solar","","","","Not Eligible","",null,""]
[null,501073,"Eldorado Reservoir",null,null,"Hydro","","","","Not Eligible","",null,""]
[null,800050,"Elkhorn Valley Wind Farm",56623,61034,"Wind","Approved","Certification","2010-02-22","Eligible","","2 facilites in EIA!",""]
[null,501026,"Elko Hydroelectric Generation Facility (CAN)",null,null,"Hydro","","","","Not Eligible","",null,""]
[null,501074,"Eltopia Branch Canal 4.6 Hydro",56696,null,"Hydro","","","","Not Eligible","",null,""]
[null,900035,"Empire {Retired: now part of San Emidio facility}",50760,62365,"Geothermal (Open System)","Approved","Certification","2013-06-03","Eligible","",null,""]
[null,910046,"Encogen Generating Station",7870,"",null,"","","","Not Eligible","",null,""]
[null,810011,"Energía Sierra Juárez Wind Farm (MEX)",null,60519,"Wind","Approved","Certification","2006-09-11","Eligible","",null,""]
[null,800010,"Eurus Combine Hills II LLC",57137,60928,"Wind","Approved","Certification","2009-11-19","Eligible","",null,""]
[null,900561,"Evergreen BioPower",55968,60739,"Biomass","Approved","Certification","2008-11-25","Eligible","",null,""]
[null,700109,"Ewauna Solar Plant",null,null,"Solar","","","","Not Eligible","",null,""]
[null,500192,"Fall Creek -Klamath River Hydroelectric Project",296,60539,"Hydro","Approved","Certification","2007-05-29","Eligible","",null,""]
[null,500220,"Falls Creek",52187,61375,"Hydro","Approved","Certification","2011-02-01","Eligible","",null,""]
[null,501027,"Falls River Hydroelectric Generation Facility",null,null,"Hydro","","","","Not Eligible","",null,""]
[null,900075,"Farm Power Misty Meadows",null,null,"Digester Gas","","","","Not Eligible","",null,""]
[null,500204,"Felt Hydro Plant (CDM Hydro)",10028,null,"Hydro","","","","Not Eligible","",null,""]
[null,910047,"Ferndale Generating Station",54537,"",null,"","","","Not Eligible","",null,""]
[null,700110,"Fiddler's Canyon #1 Solar Plant",59787,null,"Solar","","","","Not Eligible","",null,""]
[null,700111,"Fiddler's Canyon #2 Solar Plant",59786,null,"Solar","","","","Not Eligible","",null,""]
[null,700112,"Fiddler's Canyon #3 Solar Plant",59932,null,"Solar","","","","Not Eligible","",null,""]
[null,900356,"Finley Buttes Landfill Gas (Finley Bioenergy)",58687,60597,"Landfill Gas","Disapproved","Certification","2009-01-13","Not Eligible","",null,""]
[null,500162,"Fish Creek",3026,60513,"Hydro","Approved","Certification","2006-10-16","Eligible","",null,""]
[null,501075,"Fitzsimmons Creek Hydro",null,null,"Hydro","","","","Not Eligible","",null,""]
[null,500039,"Flaming Gorge",6405,null,"Hydro","","","","Not Eligible","",null,""]
[null,800156,"Foote Creek 3",55609,63085,"Wind","Withdrawn","Certification","2015-07-27","Not Eligible","",null,""]
[null,800044,"Foote Creek I Wind",55607,60561,"Wind","Approved","Certification","2007-04-06","Eligible","",null,""]
[null,800195,"Foote Creek II (Storage and Integration)",55608,63084,"Wind","Withdrawn","Certification","2015-07-27","Not Eligible","",null,""]
[null,800151,"Foote Creek IV (Storage and Integration)",55610,null,"Wind","","","","Not Eligible","",null,""]
[null,501076,"Forrest Kerr Hydroelectric",null,null,"Hydro","","","","Not Eligible","",null,""]
[null,900057,"Fort Churchill Station",2330,null,"Natural Gas","","","","Not Eligible","",null,""]
[null,500309,"Foster",6552,null,"Hydro","","","","Not Eligible","",null,""]
[null,500179,"Fountain Green",null,60582,"Hydro","Approved","Certification","2007-06-07","Eligible","",null,""]
[null,900016,"Four Corners Power Plant",2442,null,"Coal","","","","Not Eligible","",null,""]
[null,800148,"Four Corners Windfarm, LLC",56969,60981,"Wind","Approved","Certification","2010-01-21","Eligible","",null,""]
[null,800147,"Four Mile Canyon Windfarm, LLC",56970,60980,"Wind","Approved","Certification","2010-01-21","Eligible","",null,""]
[null,900058,"Frank Tracy Station",2336,null,"Natural Gas","","","","Not Eligible","",null,""]
[null,910021,"Fraser Lake Biomass",null,null,"Biomass","","","","Not Eligible","",null,""]
[null,910022,"Fraser Richmond Soil and Fibre",null,null,"Digester Gas","","","","Not Eligible","",null,""]
[null,900080,"Frederickson Power LP",55818,null,"Natural Gas","","","","Not Eligible","",null,""]
[null,910048,"Frederickson PSE",99,"",null,"","","","Not Eligible","",null,""]
[null,910049,"Fredonia Generating Station",607,"",null,"","","","Not Eligible","",null,""]
[null,501077,"Furry Creek Hydro",null,null,"Hydro","","","","Not Eligible","",null,""]
[null,501028,"G.M. Shrum Hydroelectric Generation Facility (CAN)",null,null,"Hydro","","","","Not Eligible","",null,""]
[null,900003,"Gadsby",3648,null,"Natural Gas","","","","Not Eligible","",null,""]
[null,900046,"Galena 2",56540,63476,"Geothermal (Closed System)","Approved","Certification","2017-02-02","Partial Year Eligibility","",null,""]
[null,900047,"Galena 3",56541,60764,"Geothermal (Closed System)","Approved","Certification","2009-02-27","Eligible","",null,""]
[null,500233,"Galesville Dam",50938,null,"Hydro","","","","Not Eligible","",null,""]
[null,500196,"Garland Canal (Shoshone)",57551,61437,"Hydro","Approved","Certification","2011-04-11","Eligible","",null,""]
[null,500207,"Georgetown Power",472,null,"Hydro","","","","Not Eligible","",null,""]
[null,900071,"Georgia-Pacific Wauna Mill",56192,null,"Natural Gas","","","","Not Eligible","",null,""]
[null,900001,"Gila River Power Station - All Blocks",null,null,"Natural Gas","","","","Not Eligible","",null,""]
[null,910004,"Gila River Power Station - Block 1-2 (Sundevil Power Holdings)",59338,null,"Natural Gas","","","","Not Eligible","",null,""]
[null,910005,"Gila River Power Station - Block 3 (Tucson Electric Power)",59784,null,"Natural Gas","","","","Not Eligible","",null,""]
[null,910007,"Gila River Power Station - Block 4 (ENTEGRA)",55306,null,"Natural Gas","","","","Not Eligible","",null,""]
[null,800032,"Glacier Wind Farm (Naturener)",57049,60708,"Wind","Approved","Certification","2008-10-17","Eligible","",null,""]
[null,500007,"Glen Canyon Dam",153,null,"Hydro","","","","Not Eligible","",null,""]
[null,800037,"Glenrock",56841,60805,"Wind","Approved","Certification","2009-02-05","Eligible","",null,""]
[null,810007,"Glenrock III",56841,60804,"Wind","Approved","Certification","2009-02-05","Eligible","",null,""]
[null,910050,"Goldendale Generating Station",55482,null,null,"","","","Not Eligible","",null,""]
[null,800036,"Goodnoe Hills",56666,60819,"Wind","Approved","Certification","2009-04-22","Eligible","",null,""]
[null,500041,"Gorge Dam (WA)",6431,null,"Hydro","","","","Not Eligible","",null,""]
[null,800186,"Goshen Phase II LLC",57211,60691,"Wind","Approved","Certification","2008-05-13","Eligible","",null,""]
[null,500154,"Grace",827,null,"Hydro","","","","Not Eligible","",null,""]
[null,500310,"Grand Coulee",6163,null,"Hydro","","","","Not Eligible","",null,""]
[null,500180,"Granite",3651,60583,"Hydro","Approved","Certification","2007-06-07","Eligible","",null,""]
[null,700113,"Granite Peak Solar Plant",58604,null,"Solar","","","","Not Eligible","",null,""]
[null,900060,"Grays Harbor Energy",7999,null,"Natural Gas","","","","Not Eligible","",null,""]
[null,910023,"Greater Nanaimo PCC Cogeneration",null,null,"Digester Gas","","","","Not Eligible","",null,""]
[null,500311,"Green Peter",3080,null,"Hydro","","","","Not Eligible","",null,""]
[null,500312,"Green Springs",6403,null,"Hydro","","","","Not Eligible","",null,""]
[null,700114,"Greenville Solar Plant",58603,null,"Solar","","","","Not Eligible","",null,""]
[null,900177,"Griffith Energy, LLC",55124,null,"Natural Gas","","","","Not Eligible","",null,""]
[null,500175,"Gunlock",null,60584,"Hydro","Approved","Certification","2007-06-07","Eligible","",null,""]
[null,900468,"H. Wilson Sundt Generating Station (formerly Irvington Generating Station)",126,null,"Coal","","","","Not Eligible","",null,""]
[null,501078,"Haa-ak-suuk Creek Hydro",null,null,"Hydro","","","","Not Eligible","",null,""]
[null,800013,"Halkirk I Wind Project (CAN)",null,60989,"Wind","Approved","Certification","2010-01-25","Eligible","",null,""]
[null,910024,"Harmac Biomass (Pulp Mill)",null,null,"Biomass","","","","Not Eligible","",null,""]
[null,900259,"Harquahala Generating Project",55372,null,"Natural Gas","","","","Not Eligible","",null,""]
[null,900059,"Harry Allen Station",7082,null,"Natural Gas","","","","Not Eligible","",null,""]
[null,910025,"Hartland Landfill Generator",null,null,"Landfill Gas","","","","Not Eligible","",null,""]
[null,800188,"Harvest Wind",57152,60857,"Wind","Approved","Certification","2009-08-26","Eligible","",null,""]
[null,501079,"Hauer Creek Hydro",null,null,"Hydro","","","","Not Eligible","",null,""]
[null,501080,"Hauser Dam",2185,null,"Hydro","","","","Not Eligible","",null,""]
[null,800140,"Hay Canyon Wind",56790,60724,"Wind","Approved","Certification","2008-09-08","Eligible","",null,""]
[null,900343,"Hayden",525,null,"Coal","","","","Not Eligible","",null,""]
[null,501138,"Headgate Rock Dam",7179,"",null,"","","","Not Eligible","",null,""]
[null,500019,"Hells Canyon",3013,null,"Hydro","","","","Not Eligible","",null,""]
[null,500033,"Henry M. Jackson Hydroelectric Project",7588,null,"Hydro","","","","Not Eligible","",null,"CHECK"]
[null,900183,"Hermiston",54761,null,"Natural Gas","","","","Not Eligible","",null,""]
[null,900063,"Hermiston Power, LLC",55328,null,"Natural Gas","","","","Not Eligible","",null,""]
[null,900275,"Higgins Generating Station",55687,null,"Natural Gas","","","","Not Eligible","",null,""]
[null,800040,"High Plains",57040,60899,"Wind","Approved","Certification","2009-09-28","Eligible","",null,""]
[null,800025,"High Winds",56075,60726,"Wind","Approved","Certification","2008-10-03","Eligible","",null,""]
[null,900565,"Hill Air Force Base",null,60789,"Landfill Gas","Disapproved","Certification","2009-05-12","Not Eligible","",null,""]
[null,500313,"Hills Creek",3081,null,"Hydro","","","","Not Eligible","",null,""]
[null,501081,"Holter Dam",2186,null,"Hydro","","","","Not Eligible","",null,""]
[null,501010,"Hood Street Reservoir Project",null,null,"Hydro","","","","Not Eligible","",null,""]
[null,500066,"Hoover Dam",154,null,"Hydro","","","","Not Eligible","",null,""]
[null,800001,"Hopkins Ridge Wind",56255,60745,"Wind","Approved","Certification","2008-11-26","Eligible","",null,""]
[null,800030,"Horse Butte Wind",57890,62359,"Wind","Approved","Certification","2013-04-30","Eligible","",null,""]
[null,500004,"Horse Mesa HM4",145,null,"Hydro","","","","Not Eligible","",null,""]
[null,900158,"Horseshoe Bend Wind Farm - Montana",56591,61672,"Wind","Approved","Certification","2011-08-31","Eligible","",null,""]
[null,910026,"Houweling Nurseries",null,60753,"Natural gas","Approved","Certification","2014-10-13","Eligible","",null,""]
[null,910027,"Howe Sound Green Energy Project (Pulp mill)",null,null,"Biomass","","","","Not Eligible","",null,""]
[null,500017,"Hungry Horse",2203,null,"Hydro","","","","Not Eligible","",null,""]
[null,900134,"Hunter",6165,null,"Coal","","","","Not Eligible","",null,""]
[null,900002,"Huntington",8069,null,"Coal","","","","Not Eligible","",null,""]
[null,900052,"HW Hill Landfill Gas (aka Roosevelt Biogas 1)",7832,60974,"Landfill Gas","Approved","Certification","2010-01-14","Eligible","",null,""]
[null,501082,"Hystad Creek Hydro",null,null,"Hydro","","","","Not Eligible","",null,""]
[null,500030,"Ice Harbor",3925,null,"Hydro","","","","Not Eligible","",null,""]
[null,500370,"Idaho Falls Bulb Turbine Project",841,null,"Hydro","","","","Not Eligible","",null,""]
[null,900190,"Idaho Falls Gem State Project",790,null,"Hydro","","","","Not Eligible","",null,""]
[null,910028,"Intercon Green Power (Canfor Pulp)",null,61053,"Biomass","Corrections ","Certification","2017-02-13","Not Eligible","",null,"CHECK"]
[null,900233,"Intermountain Power Project",6481,null,"Coal","","","","Not Eligible","",null,""]
[null,500193,"Iron Gate -Klamath River Hydroelectric Project",297,60540,"Hydro","Approved","Certification","2006-11-01","Eligible","",null,""]
[null,910029,"Island Generation",null,null,"Natural gas","","","","Not Eligible","",null,""]
[null,800081,"J Bar 9 Ranch Wind",null,61675,"Wind","Approved","Certification","2012-11-29","Eligible","",null,""]
[null,501083,"Jamie Creek Hydro",null,null,"Hydro","","","","Not Eligible","",null,""]
[null,900051,"Jersey Valley Geothermal",57376,null,"Geothermal (Closed System)","","","","Not Eligible","",null,""]
[null,900013,"Jim Bridger Total Plant",8066,null,"Coal","","","","Not Eligible","",null,""]
[null,500163,"John C Boyle - Klamath River Hydroelectric Project",3028,null,"Hydro","","","","Not Eligible","",null,""]
[null,500023,"John Day",3082,null,"Hydro","","","","Not Eligible","",null,""]
[null,501029,"John Hart Hydroelectric Generation Facility (CAN)",null,null,"Hydro","","","","Not Eligible","",null,""]
[null,501030,"Jordan River Hydroelectric Generation Facility (CAN)",null,null,"Hydro","","","","Not Eligible","",null,""]
[null,700007,"Joseph Community Solar",null,null,"Solar","","","","Not Eligible","",null,""]
[null,900218,"Judith Gap Wind Farm",56377,null,"Wind","","","","Not Eligible","",null,""]
[null,800011,"Juniper Canyon Wind",57320,61202,"Wind","Approved","Certification","2010-09-14","Eligible","",null,""]
[null,500048,"Juniper Ridge Hydroelectric Project (Central Oregon ID)",57437,61358,"Hydro","Approved","Certification","2010-12-31","Eligible","",null,""]
[null,910030,"Kamloops Green Energy (Domtar Pulp)",null,null,"Biomass","","","","Not Eligible","",null,""]
[null,501084,"Kemano Power Station (Alcan)",null,null,"Hydro","","","","Not Eligible","",null,""]
[null,900220,"Kennecott Utah Copper Corporation",56163,null,"Coal","","","","Not Eligible","",null,""]
[null,500014,"Kerr",2188,null,"Hydro","","","","Not Eligible","",null,""]
[null,900021,"Kettle Falls Woodwaste Plant",550,60495,"Biomass","Approved","Certification","2012-08-09","Eligible","",null,""]
[null,810021,"Kit Carson Windpower",57244,61670,null,"Approved","Certification","2011-08-25","Eligible","",null,""]
[null,800033,"Kittitas Valley Wind Power Project (Sagebrush Power)",56858,60939,"Wind","Approved","Certification","2009-11-25","Eligible","",null,""]
[null,900064,"Klamath Expansion Project",55544,null,"Natural Gas","","","","Not Eligible","",null,""]
[null,900276,"Klamath Falls Cogeneration",55103,null,"Natural Gas","","","","Not Eligible","",null,""]
[null,800051,"Klondike Windpower II",56359,62434,"Wind","Approved","Certification","2013-10-03","Eligible","",null,""]
[null,800029,"Klondike Windpower III",56468,60602,"Wind","Approved","Certification","2008-07-09","Eligible","",null,""]
[null,800031,"Klondike Windpower IIIA",56468,60694,"Wind","Approved","Certification","2008-05-02","Eligible","",null,""]
[null,501085,"Kokish River Hydro",null,null,"Hydro","","","","Not Eligible","",null,""]
[null,501031,"Kootenay Canal Hydroelectric Generation Facility (CAN)",null,null,"Hydro","","","","Not Eligible","",null,""]
[null,501086,"Kwalsa Energy Hydro Project",null,null,"Hydro","","","","Not Eligible","",null,""]
[null,501087,"Kwoiek Creek Hydro",null,null,"Hydro","","","","Not Eligible","",null,""]
[null,901631,"La Rosita Power Project (MEX)",null,61121,"Natural Gas","Withdrawn","Certification","2010-07-15","Not Eligible","",null,""]
[null,500222,"Lacomb Irrigation",52155,61440,"Hydro","Approved","Certification","2013-02-19","Eligible","",null,""]
[null,501032,"Ladore Hydroelectric Generation Facility (CAN)",null,null,"Hydro","","","","Not Eligible","",null,""]
[null,700115,"Laho Solar Plant",58602,null,"Solar","","","","Not Eligible","",null,""]
[null,501033,"LaJoie Hydroelectric Generation Facility (CAN)",null,null,"Hydro","","","","Not Eligible","",null,""]
[null,501034,"Lake Buntzen 1 Hydroelectric Generation Facility (CAN)",null,null,"Hydro","","","","Not Eligible","",null,""]
[null,500040,"Lake Chelan Hydroelectric Facility",6424,null,"Hydro","","","","Not Eligible","",null,""]
[null,500058,"Lake Creek Hydro (Mountain Energy, Inc)",null,null,"Hydro","","","","Not Eligible","",null,""]
[null,900006,"Lake Side",56237,null,"Natural Gas","","","","Not Eligible","",null,""]
[null,910000,"Laramie River Station",6204,null,"Coal and coke","","","","Not Eligible","",null,""]
[null,910031,"Las Vegas Generating Station",10761,null,"Natural Gas","","","","Not Eligible","",null,""]
[null,500158,"Last Chance",987,60791,"Hydro","Approved","Certification","2009-05-12","Eligible","",null,""]
[null,810012,"Latigo Wind Park",59965,63358,"Wind","Approved","Certification","2016-12-19","Eligible","",null,""]
[null,800034,"Leaning Juniper",56360,60562,"Wind","Approved","Certification","2007-04-06","Eligible","",null,""]
[null,800178,"Leaning Juniper II",57333,61200,"Wind","Approved","Certification","2010-09-14","Eligible","",null,""]
[null,500164,"Lemolo 1",3029,null,"Hydro","","","","Not Eligible","",null,""]
[null,500173,"Lemolo 2",6421,null,"Hydro","","","","Not Eligible","",null,""]
[null,500034,"Libby (USACE)",6172,null,"Hydro","","","","Not Eligible","",null,""]
[null,810013,"Limon Wind I",58126,62246,"Wind","Approved","Certification","2012-11-20","Eligible","",null,""]
[null,810014,"Limon Wind II",58127,62246,"Wind","Approved","Certification","2012-11-20","Eligible","",null,""]
[null,810015,"Limon Wind III",59083,62859,"Wind","Approved","Certification","2014-11-04","Eligible","",null,""]
[null,800194,"Linden Wind Energy Project (aka Linden Ranch Wind Farm)",57635,61994,"Wind","Approved","Certification","2012-03-29","Eligible","",null,""]
[null,500230,"Little Cottonwood Lower Facility (Cottonwood Hydro LLC)",6537,null,"Hydro","","","","Not Eligible","",null,""]
[null,501088,"Little Cottonwood Upper Facility (Cottonwood Hydro LLC)",null,null,"Hydro","","","","Not Eligible","",null,""]
[null,500031,"Little Goose",3926,null,"Hydro","","","","Not Eligible","",null,""]
[null,900008,"Little Mountain {Retired: 2011}",6553,null,"Natural Gas","","","","Not Eligible","",null,""]
[null,800008,"Logan Wind Farm",56613,60817,"Wind","Approved","Certification","2009-02-12","Eligible","",null,""]
[null,501089,"Long Lake Hydro",null,null,"Hydro","","","","Not Eligible","",null,""]
[null,900019,"Longview Washington Pulp and Paper Mill",54562,61147,"Biomass","Approved","Certification","2010-08-12","Eligible","",null,""]
[null,500319,"Lookout Point",3083,null,"Hydro","","","","Not Eligible","",null,""]
[null,500320,"Lost Creek",6174,null,"Hydro","","","","Not Eligible","",null,""]
[null,500025,"Lower Baker",3855,null,"Hydro","","","","Not Eligible","",null,""]
[null,501090,"Lower Bear Hydro",null,null,"Hydro","","","","Not Eligible","",null,""]
[null,501091,"Lower Clowhom Hydro",null,null,"Hydro","","","","Not Eligible","CHECK!!",null,""]
[null,500035,"Lower Granite",6175,null,"Hydro","","","","Not Eligible","",null,""]
[null,500032,"Lower Monumental",3927,null,"Hydro","","","","Not Eligible","",null,""]
[null,810008,"Lower Snake River Wind Energy Project",57195,62044,"Wind","Approved","Certification","2012-09-10","Eligible","",null,""]
[null,500223,"Loyd Fery Hydro",null,null,"Hydro","","","","Not Eligible","",null,""]
[null,910032,"LP Golden Biomass (laminated veneer lumber mill)",null,null,"Biomass","","","","Not Eligible","",null,""]
[null,500046,"Lucky Peak Power Plant Project",10014,null,"Hydro","","","","Not Eligible","",null,""]
[null,700124,"Macho Springs Solar Facility",59010,62878,null,"Approved","Certification","2014-12-19","Eligible","",null,""]
[null,501092,"Madison Dam",6422,null,"Hydro","","","","Not Eligible","",null,""]
[null,900572,"Magnesium Corporation of America",58191,null,"Natural Gas","","","","Not Eligible","",null,""]
[null,501093,"Main Canal Headworks Hydro",56698,null,"Hydro","","","","Not Eligible","",null,"CHECK"]
[null,501094,"Mamquam Hydro",null,null,"Hydro","","","","Not Eligible","",null,""]
[null,500063,"Marana Hydro",null,null,"Hydro","","","","Not Eligible","",null,""]
[null,800035,"Marengo Wind Farm I",56466,60729,"Wind","Approved","Certification","2008-10-21","Eligible","",null,""]
[null,810002,"Marengo Wind Farm II",56466,60730,"Wind","Approved","Certification","2008-10-21","Eligible","",null,""]
[null,501095,"Marion 3 Creek Hydro",null,null,"Hydro","","","","Not Eligible","",null,""]
[null,500209,"Marsh Valley Hydro & Electric Company",50972,61380,"Hydro","Approved","Certification","2011-02-10","Eligible","",null,""]
[null,501096,"McDonald Ranch Hydro",null,null,"Hydro","","","","Not Eligible","",null,""]
[null,800041,"McFadden Ridge",57039,60896,"Wind","Approved","Certification","2009-10-12","Eligible","",null,""]
[null,501097,"McLymont Creek Hydro",null,null,"Hydro","","","","Not Eligible","",null,"CHECK"]
[null,910033,"McMahon Cogeneration",null,null,"Natural gas","","","","Not Eligible","",null,""]
[null,501098,"McNair Creek Hydro",null,null,"Hydro","","","","Not Eligible","",null,""]
[null,500024,"McNary",3084,null,"Hydro","","","","Not Eligible","",null,""]
[null,500057,"McNary Fishway Hydro Project",7511,null,"Hydro","","","","Not Eligible","",null,""]
[null,800019,"Meadow Creek Project Company (Five Pine & North Point)",58106,62006,"Wind","Approved","Certification","2012-12-10","Eligible","",null,""]
[null,501099,"Mears Creek Hydro",null,null,"Hydro","","","","Not Eligible","",null,""]
[null,810017,"Meikle Wind Energy Project (CAN)",null,63268,null,"Approved","Certification","2016-06-07","Eligible","",null,""]
[null,500186,"Merwin",3847,null,"Hydro","","","","Not Eligible","",null,""]
[null,900139,"Mesquite Generating Station - All Blocks",null,null,"Natural Gas","","","","Not Eligible","",null,""]
[null,910006,"Mesquite Generating Station - Block 1",58557,null,"Natural Gas","","","","Not Eligible","",null,""]
[null,910008,"Mesquite Generating Station - Block 2",55481,null,"Natural Gas","","","","Not Eligible","",null,""]
[null,700001,"Mesquite Solar 1",57707,60875,"Solar","Approved","Certification","2009-08-28","Eligible","",null,""]
[null,501035,"Mica Hydroelectric Generation Facility (CAN)",null,null,"Hydro","","","","Not Eligible","",null,"CHECK"]
[null,500054,"Mid-C Hydro - Priest Rapids and Wanapum dams (Grant County PUD)",3887,null,"Hydro","","","","Not Eligible","",null,""]
[null,500003,"Mid-C Hydro - Rock Island (Chelan County PUD)",6200,null,"Hydro","","","","Not Eligible","",null,"CHECK"]
[null,500055,"Mid-C Hydro - Rocky Reach (Chelan County PUD)",3883,null,"Hydro","","","","Not Eligible","",null,""]
[null,500236,"Mid-C Hydro - Wanapum (Grant County PUD)",3888,null,"Hydro","","","","Not Eligible","",null,""]
[null,500237,"Mid-C Hydro - Wells (Douglas County PUD)",3886,null,"Hydro","","","","Not Eligible","",null,""]
[null,500065,"Mid-Columbia Hourly Coordination - 7 Hydro Dams (Who sells that Power?)",3921,null,"Hydro","","","","Not Eligible","",null,""]
[null,500224,"Middlefork Irrigation District",50917,61383,"Hydro","Approved","Certification","2011-02-14","Eligible","",null,""]
[null,700116,"Milford 2 Solar Plant",59958,null,"Solar","","","","Not Eligible","",null,""]
[null,700117,"Milford Flat Solar Plant",58601,61638,"Solar","Approved","Pre-Certification","2011-08-01","Not Eligible","CHECK!!",null,"CHECK"]
[null,800165,"Milford I Wind Farm",57079,61011,"Wind","Approved","Certification","2009-09-14","Eligible","",null,""]
[null,800009,"Milford II Wind Farm",57107,61307,"Wind","Approved","Certification","2010-12-06","Eligible","",null,""]
[null,501100,"Miller Creek Power",null,null,"Hydro","","","","Not Eligible","",null,""]
[null,500324,"Minidoka",6398,null,"Hydro","","","","Not Eligible","",null,""]
[null,500210,"Mink Creek Hydro",10325,61425,"Hydro","Approved","Certification","2011-03-29","Eligible","",null,""]
[null,910051,"Mint Farm Generation Station",55700,"",null,"","","","Not Eligible","",null,""]
[null,700138,"Moapa Southern Paiute Solar",57859,62019,null,"Approved","Certification","2012-06-01","Eligible","",null,""]
[null,501101,"Monroe Hydro",null,null,"Hydro","","","","Not Eligible","",null,""]
[null,500002,"Monroe Street HED",9095,60496,"Hydro","Approved","Certification","2012-08-09","Eligible","",null,""]
[null,500005,"Mormon Flat",148,null,"Hydro","","","","Not Eligible","",null,""]
[null,500009,"Morrow Point",514,null,"Hydro","","","","Not Eligible","",null,""]
[null,500028,"Mossyrock",3918,null,"Hydro","","","","Not Eligible","",null,""]
[null,500038,"Mount Elbert",6208,null,"Hydro","","","","Not Eligible","",null,"CHECK"]
[null,800021,"Mountain Wind",56752,60811,"Wind","Approved","Certification","2009-05-22","Eligible","",null,""]
[null,800022,"Mountain Wind 2",56753,60812,"Wind","Approved","Certification","2009-05-22","Eligible","",null,""]
[null,501102,"Mystic Lake Dam",2192,null,"Hydro","","","","Not Eligible","",null,""]
[null,501103,"Nanaimo Reservoir",null,null,"Hydro","","","","Not Eligible","",null,""]
[null,900012,"Naughton",4162,null,"Coal","","","","Not Eligible","",null,""]
[null,900401,"Navajo Generating Station",4941,null,"Coal","","","","Not Eligible","",null,""]
[null,900078,"Neal Hot Springs Geothermal Plant",58022,62427,"Geothermal (Open System)","Approved","Certification","2013-09-09","Eligible","",null,""]
[null,900106,"Nebo Power Station",56177,null,"Natural Gas","","","","Not Eligible","",null,""]
[null,500211,"Nicholson Sunnybar Ranch",null,null,"Hydro","","","","Not Eligible","",null,""]
[null,800004,"Nine Canyon Wind Project",7936,60803,"Wind","Approved","Certification","2009-01-09","Eligible","",null,""]
[null,500001,"Nine Mile HED",3869,60497,"Hydro","Approved","Certification","2012-08-09","Eligible","",null,""]
[null,900072,"Nippon Paper Co-Generation",58352,61252,"Biomass","Approved","Certification","2010-10-18","Eligible","",null,""]
[null,501002,"Nisqually River Project (Alder Dam and LaGrande Dam)",3913,null,"Hydro","","","","Not Eligible","",null,""]
[null,500226,"North Fork Sprague",10737,61379,"Hydro","Approved","Certification","2015-03-30","Eligible","",null,""]
[null,900025,"North Valmy Station",8224,null,"Coal","","","","Not Eligible","",null,""]
[null,501104,"Northwest Stave River Hydro",null,null,"Hydro","","","","Not Eligible","",null,""]
[null,910034,"Northwood Green Power Project (Canfor Pulp)",null,null,"Biomass","","","","Not Eligible","",null,"CHECK"]
[null,500016,"Noxon Rapids",2199,null,"Hydro","","","","Not Eligible","",null,""]
[null,910035,"NWE Williams Lake WW",null,null,"Biomass","","","","Not Eligible","",null,""]
[null,500212,"O.J. Power Company",null,null,"Hydro","","","","Not Eligible","",null,"CHECK"]
[null,500227,"Odell Creek",null,null,"Hydro","","","","Not Eligible","",null,"CHECK"]
[null,501132,"Old Lahontan hydropower Plant",6521,null,"Hydro","","","","Not Eligible","",null,""]
[null,500181,"Olmsted",3655,60792,"Hydro","Withdrawn","Certification","2009-05-12","Not Eligible","",null,""]
[null,500155,"Oneida",829,null,"Hydro","","","","Not Eligible","",null,""]
[null,500218,"Opal Springs (Deschutes Valley Water District)",54251,61439,"Hydro","Approved","Certification","2011-01-01","Eligible","",null,""]
[null,500047,"Orchard Avenue 1 (Yakima-Tieton ID)",50421,60785,"Hydro","Approved","Certification","2009-04-27","Eligible","",null,""]
[null,900566,"Oregon Environmental Industries",56461,61680,"Landfill Gas","Approved","Certification","2011-09-15","Eligible","",null,""]
[null,400001,"Oregon Institute of Technology",null,null,"Geothermal (Closed System)","","","","Not Eligible","",null,""]
[null,700103,"Oregon Solar Incentive program (rooftop solar)",null,null,"Solar","","","","Not Eligible","",null,""]
[null,900067,"Oregon State University",57653,null,"Natural Gas","","","","Not Eligible","",null,""]
[null,800145,"Oregon Trail Windfarm, LLC",56971,60984,"Wind","Approved","Certification","2010-01-21","Eligible","",null,""]
[null,0,"Other",null,"",null,"","","","Not Eligible","",null,""]
[null,500059,"Oxbow (Oregon)",3014,null,"Hydro","","","","Not Eligible","",null,""]
[null,800143,"Pacific Canyon Windfarm, LLC",56972,60983,"Wind","Approved","Certification","2010-01-21","Eligible","",null,""]
[null,300003,"PacifiCorp (Multi-Jurisdictional Retail Provider)",null,null,"Various","","","","Not Eligible","","Withdrawn 2013",""]
[null,500060,"Packwood",3929,null,"Hydro","","","","Not Eligible","",null,""]
[null,500325,"Palisades",850,null,"Hydro","","","","Not Eligible","",null,""]
[null,600000,"Palo Verde Nuclear Generating Station",6008,null,"Nuclear","","","","Not Eligible","",null,""]
[null,800052,"Palouse Wind",57530,62288,"Wind","Approved","Certification","2012-12-24","Eligible","",null,""]
[null,501105,"Paris Creek Hydro",null,null,"Hydro","","","","Not Eligible","",null,""]
[null,501011,"Paris Creek Hydro project",null,60586,"Hydro","Approved","Certification","2007-06-07","Eligible","",null,""]
[null,500156,"Paris Dam Hydro (CAN)",null,null,"Hydro","","","","Not Eligible","","3 facilities",""]
[null,500254,"Parker-Davis  Project",447,null,"Hydro","","","","Not Eligible","",null,""]
[null,900077,"Patua Geothermal",58319,61382,"Geothermal (Closed System)","Approved","Certification","2011-02-14","Eligible","",null,""]
[null,500249,"Paul Luckey (hydro)",null,60782,"Hydro","Approved","Certification","2009-04-27","Eligible","",null,""]
[null,700118,"Pavant Solar Plant",59702,63328,"Solar","Approved","Certification","2016-10-11","Eligible","",null,"CHECK"]
[null,501036,"Peace Canyon Hydroelectric Generation Facility (CAN)",null,null,"Hydro","","","","Not Eligible","",null,""]
[null,800063,"Pebble Springs",56789,60693,"Wind","Approved","Certification","2008-05-02","Eligible","",null,""]
[null,800193,"Peetz Table Wind Energy",56563,60816,"Wind","Approved","Certification","2009-02-12","Eligible","",null,""]
[null,501008,"Pelton Hydro Project",3048,null,"Hydro","","","","Not Eligible","",null,""]
[null,910036,"PGP Bio Energy Project",null,null,"Biomass","","","","Not Eligible","",null,""]
[null,501106,"Pingston Creek Hydro",null,null,"Hydro","","","","Not Eligible","",null,""]
[null,500182,"Pioneer",3656,60587,"Hydro","Approved","Certification","2007-06-07","Eligible","",null,"CHECK"]
[null,800026,"Pleasant Valley Wind Energy Project",56093,61559,"Wind","Approved","Certification","2012-07-02","Eligible","",null,""]
[null,500205,"Portneuf River Hydro (Commercial Energy Management)",null,61701,"Hydro","Approved","Certification","2011-10-20","Eligible","",null,""]
[null,500061,"Post Falls Hydro",835,60498,"Hydro","Approved","Certification","2012-08-09","Eligible","",null,""]
[null,501107,"Potholes East Canal 66.0 Hydro",56697,null,"Hydro","","","","Not Eligible","",null,""]
[null,500044,"Potholes East Canal Headworks Powerplant",7113,null,"Hydro","","","","Not Eligible","",null,""]
[null,700104,"Powell Butte Solar",null,null,"Solar","","","","Not Eligible","",null,""]
[null,910037,"Powell River Generation (Catalyst paper)",null,null,"Biomass","","","","Not Eligible","",null,"CHECK"]
[null,800046,"Power County North",57761,61613,"Wind","Approved","Certification","2011-07-25","Eligible","",null,""]
[null,800047,"Power County South",57760,61614,"Wind","Approved","Certification","2011-07-25","Eligible","",null,""]
[null,500377,"Powerdale Dam",3031,60529,"Hydro","Decommissioned","Certification","2006-10-19","Not Eligible","",null,""]
[null,300002,"Powerex (Asset-Controlling Supplier)",null,null,"Various","","","","Not Eligible","",null,""]
[null,500214,"Preston City Hydro",null,null,"Hydro","","","","Not Eligible","CHECK!!",null,""]
[null,900069,"Prince Rupert Generating Station (CAN)",null,null,"Natural Gas","","","","Not Eligible","",null,""]
[null,500165,"Prospect 1",3032,60530,"Hydro","Approved","Certification","2006-10-19","Eligible","",null,""]
[null,500166,"Prospect 2",3033,null,"Hydro","","","","Not Eligible","",null,""]
[null,500167,"Prospect 3",3034,60514,"Hydro","Approved","Certification","2006-07-19","Eligible","",null,""]
[null,500168,"Prospect 4",3035,60531,"Hydro","Approved","Certification","2006-10-19","Eligible","",null,""]
[null,501037,"Puntledge Hydroelectric Generation Facility (CAN)",null,null,"Hydro","","","","Not Eligible","",null,""]
[null,800014,"Quality Wind Project (CAN)",null,62247,"Wind","Approved","Certification","2012-11-30","Eligible","",null,""]
[null,500013,"Quincy Chute Hydroelectric Project",917,null,"Hydro","","","","Not Eligible","",null,""]
[null,900044,"Raft River Geothermal GE 1",56317,null,"Geothermal (Closed System)","","","","Not Eligible","","CEC: Granger Electric of South Jordan",""]
[null,501108,"Raging River 1 Small Hydro",null,null,"Hydro","","","","Not Eligible","",null,""]
[null,900081,"Rawhide Unit",6761,null,"Natural Gas","","","","Not Eligible","",null,""]
[null,810009,"Rawlins Field Office Wind Turbine (BLM)",null,null,"Wind","","","","Not Eligible","",null,""]
[null,900018,"Red Hawk Power Station CC Natural Gas",55455,null,"Natural Gas","","","","Not Eligible","",null,""]
[null,800048,"Red Mesa Wind LLC",57357,61096,"Wind","Approved","Certification","2010-06-08","Eligible","",null,""]
[null,900254,"Reid Gardner Station",2324,null,"Coal","","","","Not Eligible","",null,""]
[null,900029,"Res-AG Oak Lea, LLC",null,null,"Digester Gas","","","","Not Eligible","",null,""]
[null,501038,"Revelstoke Hydroelectric Generation Facility (CAN)",null,null,"Hydro","","","","Not Eligible","",null,""]
[null,900045,"Richard Burdette Power Plant",56321,60664,"Geothermal (Closed System)","Approved","Certification","2008-02-20","Eligible","",null,""]
[null,800055,"Rim Rock Wind Farm (Naturener)",57995,60874,"Wind","Approved","Certification","2012-08-31","Eligible","",null,""]
[null,900360,"River Road generating plant (Clark County PUD)",7605,null,"Natural gas","","","","Not Eligible","",null,""]
[null,900054,"Riverbend Renewable Energy Facility",57019,60963,"Landfill Gas","Approved","Certification","2010-01-05","Eligible","",null,""]
[null,501109,"Robson Valley (Ptarmigan Creek - RBV)",null,null,"Hydro","","","","Not Eligible","",null,""]
[null,800045,"Rock River I Wind",55740,60563,"Wind","Approved","Utility Certification","2007-04-06","Eligible","",null,""]
[null,900388,"Rocky Brook",50228,null,"Hydro","","","","Not Eligible","",null,""]
[null,800038,"Rolling Hills",56842,60806,"Wind","Approved","Certification","2009-01-26","Eligible","",null,""]
[null,900391,"Roseburg Forest Products  (Dillard cogeneration)",50396,60510,"Biomass","Withdrawn","Pre-Certification","2006-06-27","Not Eligible","",null,""]
[null,900022,"Roseburg Forest Products - (Weed cogeneration)",56469,60501,"Biomass","Approved","Certification","2006-05-26","Eligible","",null,""]
[null,900055,"Roseburg LFG Energy, LLC",57911,null,"Landfill Gas","","","","Not Eligible","",null,""]
[null,500037,"Ross Dam",6202,null,"Hydro","","","","Not Eligible","",null,""]
[null,900562,"Rough & Ready Lumber",50945,null,"Biomass","","","","Not Eligible","",null,""]
[null,500020,"Round Butte Hydro Project",3050,null,"Hydro","","","","Not Eligible","",null,""]
[null,500228,"Roush Hydro, Inc",null,null,"Hydro","","","","Not Eligible","",null,""]
[null,500326,"Roza",6407,62686,"Hydro","Disapproved","Pre-Certification","2015-07-24","Not Eligible","",null,""]
[null,501039,"Ruskin Hydroelectric Generation Facility (CAN)",null,null,"Hydro","","","","Not Eligible","",null,""]
[null,501110,"Rutherford Creek Hydro",null,null,"Hydro","","","","Not Eligible","",null,""]
[null,501111,"Sakwi Creek Hydro",null,null,"Hydro","","","","Not Eligible","",null,""]
[null,501112,"Salmon Inlet (Sechelt Creek) Hydro",null,null,"Hydro","","","","Not Eligible","",null,""]
[null,900049,"Salt Wells Geothermal",57213,null,"Geothermal (Closed System)","","","","Not Eligible","",null,""]
[null,400002,"San Emidio Project",57456,62365,"Geothermal (Closed System)","Approved","Certification","2013-06-03","Eligible","",null,""]
[null,900352,"San Juan",2451,null,"Coal","","","","Not Eligible","",null,""]
[null,500177,"Sand Cove",null,60588,"Hydro","Approved","Certification","2007-06-07","Eligible","",null,""]
[null,800144,"Sand Ranch Windfarm, LLC",56973,60982,"Wind","Approved","Certification","2010-01-21","Eligible","",null,""]
[null,500229,"Santiam Water Control District",null,null,"Hydro","","","","Not Eligible","",null,""]
[null,910038,"Savona ERG",null,null,"Waste Heat","","","","Not Eligible","",null,""]
[null,501113,"Seaton Creek Hydro (Homestead)",null,null,"Hydro","","","","Not Eligible","",null,""]
[null,910039,"Seegen (MSW)",null,null,"Municipal Solid Waste (MSW)","","","","Not Eligible","",null,""]
[null,900023,"Seneca Sustainable Energy",57457,61090,"Biomass","Approved","Certification","2010-06-02","Eligible","",null,""]
[null,501040,"Seton Hydroelectric Generation Facility (CAN)",null,null,"Hydro","","","","Not Eligible","",null,""]
[null,800039,"Seven Mile Hill I",56843,60807,"Wind","Approved","Certification","2009-02-12","Eligible","",null,""]
[null,800161,"Seven Mile Hill II",56843,60808,"Wind","Approved","Certification","2009-02-12","Eligible","",null,""]
[null,501041,"Seven Mile Hydroelectric Generation Facility (CAN)",null,null,"Hydro","","","","Not Eligible","",null,""]
[null,900576,"SGEN, Termoelectrica de Mexicali (MEX)",null,null,"Natural Gas","","","","Not Eligible","",null,""]
[null,500208,"Shiloh Warm Springs Ranch",null,null,"Hydro","","","","Not Eligible","",null,""]
[null,501042,"Shuswap Hydroelectric Generation Facility (CAN)",null,null,"Hydro","","","","Not Eligible","",null,""]
[null,900020,"Sierra Pacific Burlington",56406,60596,"Biomass","Approved","Certification","2007-05-14","Eligible","",null,""]
[null,900066,"Silverhawk Station",55841,null,"Natural Gas","","","","Not Eligible","",null,""]
[null,501133,"Silversmith Power & Light",null,null,"Hydro","","","","Not Eligible","",null,""]
[null,900420,"Simplot Phosphates, LLC",54472,null,"Crude Oil","","","","Not Eligible","",null,""]
[null,500215,"Siphon (Central Oregon ID)",50980,61357,"Hydro","Approved","Certification","2010-12-31","Eligible","",null,""]
[null,501114,"Skookum Power (aka Mamquam Skookum)",null,null,"Hydro","","","","Not Eligible","",null,""]
[null,910040,"Skookumchuck Power Project (Pulp mill)",null,null,"Biomass","","","","Not Eligible","",null,""]
[null,500251,"Slate Creek",50961,60777,"Hydro","Approved","Utility Certification","2009-04-27","Eligible","",null,""]
[null,500174,"Slide Creek",3036,60515,"Hydro","Approved","Certification","2006-07-19","Eligible","CHECK!!",null,"CHECK"]
[null,500183,"Snake Creek",3658,60589,"Hydro","Approved","Certification","2007-06-07","Eligible","",null,""]
[null,500157,"Soda",831,60590,"Hydro","Approved","Certification","2007-06-07","Eligible","",null,""]
[null,900039,"Soda Lake Geothermal No I II",52174,60672,"Geothermal (Open System)","Withdrawn","Utility Certification","2008-02-26","Not Eligible","",null,""]
[null,500169,"Soda Springs",3037,60516,"Hydro","Approved","Certification","2006-07-19","Eligible","",null,""]
[null,700009,"Solwatt II Solar Plant",null,null,"Solar","","","","Not Eligible","",null,""]
[null,501115,"Soo River Hydro",null,null,"Hydro","","","","Not Eligible","",null,""]
[null,501116,"South Cranberry Creek Hydro",null,null,"Hydro","","","","Not Eligible","",null,""]
[null,700119,"South Milford Solar Plant",59620,null,"Solar","","","","Not Eligible","",null,""]
[null,501117,"South Sutton Creek Hydro",null,null,"Hydro","","","","Not Eligible","",null,""]
[null,900061,"Southpoint Energy Center, LLC",55177,null,"Natural Gas","","","","Not Eligible","",null,""]
[null,800020,"Spanish Fork Wind Park 2",56751,63434,"Wind","Approved","Certification","2017-02-11","Partial Year Eligibility","",null,""]
[null,501043,"Spillamacheen Hydroelectric Generation Facility (CAN)",null,null,"Hydro","","","","Not Eligible","",null,""]
[null,800005,"Spring Canyon",56320,60775,"Wind","Approved","Certification","2009-01-30","Eligible","",null,""]
[null,800054,"Spring Valley Wind Project",57192,null,"Wind","","","","Not Eligible","",null,""]
[null,900073,"Springerville Generating Station",8223,null,"Coal","","","","Not Eligible","",null,""]
[null,501118,"Squamish Power Hydro Project",null,null,"Hydro","","","","Not Eligible","",null,""]
[null,501005,"St Anthony Hydro plant",null,null,"Hydro","","","","Not Eligible","",null,""]
[null,900587,"Stahlbush Island Farms, Inc.",null,null,"Digester Gas","","","","Not Eligible","",null,""]
[null,500184,"Stairs",3659,60591,"Hydro","Approved","Certification","2007-06-07","Eligible","",null,""]
[null,800179,"Star Point",57096,60890,"Wind","Approved","Certification","2009-09-29","Eligible","",null,""]
[null,501044,"Stave Falls LMS Hydroelectric Generation Facility (CAN)",null,null,"Hydro","","","","Not Eligible","",null,""]
[null,900037,"Steamboat 1a",52138,60673,"Geothermal (Closed System)","Withdrawn","Utility Certification","2008-02-26","Not Eligible","",null,""]
[null,900034,"Steamboat Hills Geothermal",50654,60667,"Geothermal (Closed System)","Approved","Certification","2016-09-16","Eligible","",null,""]
[null,900040,"Steamboat II",54665,60676,"Geothermal (Closed System)","Approved","Certification","2008-02-26","Eligible","",null,""]
[null,900041,"Steamboat III",54666,60675,"Geothermal (Closed System)","Approved","Certification","2008-02-26","Eligible","",null,""]
[null,900036,"Stillwater II",50765,null,"Geothermal (Closed System)","","","","Not Eligible","",null,""]
[null,910041,"Stotz Southern Generation",null,62894,"Digester Gas","Approved","Certification","2015-02-02","Eligible","",null,""]
[null,501045,"Strathcona Hydroelectric Generation Facility (CAN)",null,null,"Hydro","","","","Not Eligible","",null,""]
[null,910053,"Sumas Power Plant",54476,"",null,"","","","Not Eligible","",null,""]
[null,501119,"Summer Falls Power Plant Hydro",56695,null,"Hydro","","","","Not Eligible","",null,""]
[null,910042,"Sun Peak Generating Station",54854,null,"Natural Gas","","","","Not Eligible","",null,""]
[null,700120,"SunMine Solar Project",null,null,"Solar","","","","Not Eligible","",null,""]
[null,900439,"Sunnyside Cogeneration Associates",50951,null,"Coal","","","","Not Eligible","",null,""]
[null,500710,"Swalley Irrigation District",null,null,"Hydro","","","","Not Eligible","",null,""]
[null,500187,"Swift 1",3850,null,"Hydro","","","","Not Eligible","","2 facilites in EIA!",""]
[null,500375,"Swift Creek Hydro (Lower Valley Energy, Inc.)",6394,null,"Hydro","","","","Not Eligible","",null,""]
[null,500045,"Swift No.2 Hydroelectric Project (Cowlitz PUD)",6265,null,"Hydro","","","","Not Eligible","",null,""]
[null,104567,"Tacoma Power (Asset-Controlling Supplier)",null,"",null,"","","","Not Eligible","",null,""]
[null,910003,"Tata Chemicals Green River Facility",54318,null,"Coal","","","","Not Eligible","",null,""]
[null,900571,"Terra-Gen Dixie Valley",52015,60313,"Geothermal (Open System)","Approved","Certification","2005-03-30","Eligible","",null,""]
[null,900575,"Tesoro Refining & Marketing Co.",56509,null,"Natural Gas","","","","Not Eligible","",null,""]
[null,500232,"Thayn Ranch Hydro",null,null,"Hydro","","","","Not Eligible","",null,""]
[null,500027,"The Dalles",3895,null,"Hydro","","","","Not Eligible","",null,""]
[null,900577,"Thermo No. 1 Geothermal (Raser Technologies)",57353,60651,"Geothermal (Closed System)","Approved","Certification","2008-02-11","Eligible","",null,""]
[null,500015,"Thompson Falls Dam",2195,null,"Hydro","","","","Not Eligible","",null,""]
[null,501006,"Three Sisters Irrigation District",null,null,"Hydro","","","","Not Eligible","",null,""]
[null,900030,"Threemile Canyon Biodigester",58382,null,"Digester Gas","","","","Not Eligible","",null,""]
[null,800146,"Threemile Canyon Wind, LLC",56933,60976,"Wind","Approved","Certification","2010-01-19","Eligible","",null,""]
[null,500239,"Tieton Dam Hydro Electric Project",57496,60735,"Hydro","Approved","Certification","2008-02-22","Eligible","",null,""]
[null,500170,"Toketee Falls",3040,null,"Hydro","","","","Not Eligible","",null,""]
[null,910043,"Tolko Kelowna Cogeneration",null,null,"Biomass","","","","Not Eligible","",null,""]
[null,800176,"Top of the World",57327,61199,"Wind","Approved","Certification","2010-09-01","Eligible","",null,""]
[null,900456,"Transalta Centralia Generation",3845,null,"Coal","","","","Not Eligible","",null,""]
[null,900053,"Trans-Jordan Generating Station (Landfill Gas)",56853,61356,"Landfill Gas","Approved","Certification","2010-12-31","Eligible","",null,""]
[null,501120,"Tretheway Creek Hydro",null,null,"Hydro","","","","Not Eligible","",null,""]
[null,810016,"Tucannon River Wind Farm",58571,63027,"Wind","Approved","Certification","2015-04-15","Eligible","",null,""]
[null,800006,"Twin Buttes",56460,60818,"Wind","Approved","Certification","2009-03-05","Eligible","",null,""]
[null,500238,"Twin Reservoirs (City of Walla Walla)",50382,61848,"Hydro","Approved","Certification","2012-02-13","Eligible","",null,""]
[null,501121,"Tyson Creek Hydro",null,null,"Hydro","","","","Not Eligible","",null,""]
[null,999997,"Unknown, CAISO Sales",null,"",null,"","","","Not Eligible","",null,""]
[null,999999,"Unspecified -- Retail Provider Replacement Power, per 95111(c)(3)(C)(2)",null,null,"Unspecified","","","","Not Eligible","",null,""]
[null,999998,"Unspecified, CAISO Sales",null,"",null,"","","","Not Eligible","",null,""]
[null,500026,"Upper Baker",3861,null,"Hydro","","","","Not Eligible","",null,""]
[null,501122,"Upper Bear Hydro",null,null,"Hydro","","","","Not Eligible","",null,""]
[null,501123,"Upper Clowhom Hydro",null,null,"Hydro","","","","Not Eligible","",null,""]
[null,500062,"Upper Falls Hydro",9096,60499,"Hydro","Approved","Certification","2012-08-09","Eligible","",null,""]
[null,501124,"Upper Mamquam Hydro",null,null,"Hydro","","","","Not Eligible","",null,""]
[null,501125,"Upper Stave River Hydro",null,null,"Hydro","","","","Not Eligible","",null,""]
[null,700121,"Utah Red Hills Renewable Park (Solar)",58660,63161,"Solar","Approved","Certification","2016-01-19","Eligible","",null,""]
[null,910044,"Vancouver Landfill Gas Utilization",null,null,"Landfill Gas","","","","Not Eligible","",null,""]
[null,800139,"Vansycle/Stateline Wind Project",55989,60944,"Wind","Approved","Certification","2009-12-01","Eligible","",null,""]
[null,800003,"Vantage Wind",57188,60712,"Wind","Approved","Certification","2008-07-21","Eligible","",null,""]
[null,500176,"Veyo Dam",null,60593,"Hydro","Approved","Certification","2007-06-07","Eligible","",null,""]
[null,501009,"Viva Naughton hydro",null,60594,"Hydro","Approved","Certification","2007-06-07","Eligible","",null,""]
[null,501126,"Volcano Creek hydro",null,null,"Hydro","","","","Not Eligible","",null,""]
[null,3,"Vulcan",null,60308,null,"Approved","Certification","2005-03-30","Eligible","",null,""]
[null,900042,"Wabuska",55988,null,"Geothermal (Open System)","","","","Not Eligible","",null,""]
[null,800159,"Wagon Trail, LLC",56974,60979,"Wind","Approved","Certification","2010-01-21","Eligible","",null,""]
[null,501046,"Wahleach Hydroelectric Generation Facility (CAN)",null,null,"Hydro","","","","Not Eligible","",null,""]
[null,501127,"Walden North Hydro",null,null,"Hydro","","","","Not Eligible","",null,""]
[null,500171,"Wallowa Falls",3041,60517,"Hydro","Approved","Certification","2006-07-19","Eligible","",null,""]
[null,501047,"Walter Hardman Hydroelectric Generation Facility (CAN)",null,null,"Hydro","","","","Not Eligible","",null,""]
[null,501128,"Waneta Dam Expansion",null,null,"Hydro","","","","Not Eligible","",null,""]
[null,501048,"Waneta Hydroelectric Generation Facility (CAN)",null,null,"Hydro","","","","Not Eligible","",null,""]
[null,800142,"Ward Butte Windfarm, LLC",56975,60978,"Wind","Approved","Certification","2010-01-21","Eligible","",null,""]
[null,900539,"Warm Springs Forest Products",50426,61577,"Biomass","Disapproved","Pre-Certification","2011-06-20","Not Eligible","",null,""]
[null,900543,"Weber County Landfill (Utah)",null,null,"Landfill Gas","","","","Not Eligible","",null,""]
[null,500185,"Weber Hydro Project",3661,60595,"Hydro","Approved","Certification","2007-06-07","Eligible","",null,""]
[null,900065,"West Valley Generation Project",55622,null,"Natural Gas","","","","Not Eligible","",null,""]
[null,900586,"WestRock - Tacoma (formerly: Simpson Biomass)",57099,60697,"Biomass","Approved","Certification","2008-06-02","Eligible","",null,""]
[null,500172,"Westside - Klamath River Hydroelectric Project",null,60532,"Hydro","Approved","Certification","2006-10-19","Eligible","",null,""]
[null,900547,"Weyerhaeuser Longview WA",50187,null,"Biomass","","","","Not Eligible","",null,""]
[null,501049,"Whatshan Hydroelectric Generation Facility (CAN)",null,null,"Hydro","","","","Not Eligible","",null,""]
[null,800166,"Wheat Field Wind",56854,60750,"Wind","Approved","Certification","2008-12-12","Eligible","",null,""]
[null,900074,"Whelan Energy Center",60,null,"Coal","","","","Not Eligible","",null,""]
[null,800043,"White Creek Wind Farm",56487,60721,"Wind","Approved","Certification","2008-02-28","Eligible","",null,""]
[null,910054,"Whitehorn Generating Station",6120,"",null,"","","","Not Eligible","",null,""]
[null,800002,"Wild Horse Wind",56322,60746,"Wind","Approved","Certification","2008-11-26","Eligible","",null,""]
[null,800062,"Willow Creek Wind",56952,60723,"Wind","Approved","Certification","2008-09-05","Eligible","",null,""]
[null,800164,"Windy Flats Wind Project",57159,60599,"Wind","Approved","Certification","2007-07-13","Eligible","",null,""]
[null,800141,"Windy Point/Flats Project phase 1 (Tuolumne Wind Project)",56702,60991,"Wind","Approved","Certification","2007-07-13","Eligible","",null,""]
[null,800028,"Wolverine Creek",56301,60564,"Wind","Approved","Certification","2007-06-07","Eligible","",null,""]
[null,501012,"Wynoochee River Project",7127,null,"Hydro","","","","Not Eligible","",null,""]
[null,900007,"Wyodak",6101,null,"Coal","","","","Not Eligible","CHECK!!",null,""]
[null,500188,"Yale",3852,null,"Hydro","","","","Not Eligible","",null,"CHECK"]
[null,900557,"Yellowstone Energy",50931,null,"Coal and coke","","","","Not Eligible","","CEC: Colmac Energy Mecca Plant",""]
[null,500018,"Yellowtail",2204,null,"Hydro","","","","Not Eligible","",null,""]
[null,900015,"Yucca",120,null,"Natural Gas","","","","Not Eligible","",null,""]
[null,900160,"Yuma Cogeneration Associates",54694,null,"Natural Gas","","","","Not Eligible","",null,"CHECK"]
[null,501130,"Zeballos Lake Hydro",null,null,"Hydro","","","","Not Eligible","CHECK!!","Eligible as CM 48",""]

{"sheet":"EPEs","index":20,"n_rows":139,"n_cols":6,"rows_kept":139,"cut":false,"hidden":false,"merged":[[1,1,1,3],[2,1,2,3]]}
[]
[null,"List of Electric Power Entities (EPE) \nFrom Public Data for 2014-2016 Emissions"]
[null,"https://www.arb.ca.gov/cc/reporting/ghg-rep/reported-data/ghg-reports.htm"]
[null,"ARB_ID","FACILITY_NAME","Type"]
[null,0,"Other -- Not Listed","Other"]
[null,3006,"3 Phases Renewables","ESP"]
[null,104659,"Agera Energy LLC","ESP"]
[null,3022,"Alameda Municipal Power","POU"]
[null,104578,"Anza Electric Cooperative","Co-op"]
[null,2098,"Arizona Electric Power Cooperative","Marketer"]
[null,104131,"Arizona Public Service Company","Marketer"]
[null,2292,"Avangrid Renewables","Marketer"]
[null,104677,"Avista Utilities","Marketer"]
[null,3024,"Azusa Light and Water","POU"]
[null,2425,"Barclays Capital","Marketer"]
[null,3000,"Bear Valley Electric Service (BVES)","IOU"]
[null,3026,"Biggs Municipal Utilities","POU"]
[null,2017,"BNP Paribas Energy Trading GP","Marketer",null,{"$f":"VLOOKUP(D18,LSE2_Lookup,2,FALSE)","v":{"$error":"#N/A"}}]
[null,4000,"Bonneville Power Administration - AO/CS","ACS"]
[null,2044,"Bonneville Power Administration - Marketer","Marketer"]
[null,104692,"Boston Energy Trading and Marketing","Marketer"]
[null,2113,"BP Energy Company","Marketer"]
[null,104120,"Brookfield Energy Marketing LP","Marketer"]
[null,3027,"Burbank Water and Power","POU"]
[null,3072,"California Department of Water Resources (DWR), State Water Project","State"]
[null,3010,"Calpine Corporation","ESP"]
[null,3018,"Calpine Energy Solutions, LLC","ESP"]
[null,2214,"Cargill Power Markets, LLC","Marketer"]
[null,104577,"Central Arizona Water Conservation District - CAWCD","Marketer"]
[null,104628,"Chapel Street Environmental II","Marketer"]
[null,2428,"Citigroup Energy Inc.","Marketer"]
[null,3023,"City of Anaheim, Public Utilities Department, Anaheim City Hall West","POU"]
[null,3025,"City of Banning Electric Department","POU"]
[null,3029,"City of Cerritos","POU"]
[null,3031,"City of Colton - EPE","POU"]
[null,3032,"City of Corona Dept. of Water & Power - EPE","POU"]
[null,3030,"City of Industry","POU"]
[null,104641,"City of Lancaster","POU, CCA"]
[null,3041,"City of Lompoc","POU"]
[null,3047,"City of Needles","POU"]
[null,3048,"City of Palo Alto - Electric Power Entity","POU"]
[null,3056,"City of Riverside Public Utilities","POU"]
[null,3059,"City of Shasta Lake - Electric","POU"]
[null,3065,"City of Ukiah, Electric Utilities Division","POU"]
[null,3066,"City of Vernon, Vernon Gas & Electric","POU"]
[null,104705,"CleanPowerSF","CCA"]
[null,104570,"Comision Federal de Electricidad (CFE)","Marketer"]
[null,104646,"Commercial Energy of California","ESP"]
[null,3012,"Constellation NewEnergy, Inc.","ESP"]
[null,3102,"CP Energy Marketing (US) Inc. (Capital Power)","Marketer"]
[null,104674,"CWP Energy","Marketer"]
[null,2231,"DB Energy Trading LLC","Marketer"]
[null,2264,"Direct Energy Business, LLC (fka Strategic Energy)","ESP"]
[null,3033,"Eastside Power Authority","POU"]
[null,104452,"EDF Industrial Power Services (CA), LLC","ESP"]
[null,104067,"EDF Trading North America, LLC","Marketer"]
[null,2078,"Exelon Generation Company, LLC","Marketer"]
[null,104507,"Gexa Energy California, LLC","ESP"]
[null,104119,"Gila River - Entegra Power Group","Marketer"]
[null,3034,"Glendale Water & Power","POU"]
[null,3035,"Gridley Electric Utility","POU"]
[null,104473,"Guzman Energy","Marketer"]
[null,3036,"Healdsburg Electric Dept.","POU"]
[null,3038,"Imperial Irrigation District (IID)","POU"]
[null,104335,"J. Aron & Company LLC","Marketer"]
[null,3077,"J.P. Morgan Ventures Energy Corporation","Marketer"]
[null,3011,"Just Energy Solutions Inc.","ESP"]
[null,3001,"Kirkwood Meadows PUD Powerhouse","POU"]
[null,104211,"La Rosita Power - Marketing","Marketer"]
[null,3039,"Lassen Municipal Utility District","POU"]
[null,104656,"Lathrop Irrigation District","POU"]
[null,104451,"Liberty Power Holdings, LLC","ESP"]
[null,104099,"Liberty Utilities (CalPeco Electric) LLC","IOU"]
[null,3040,"Lodi Electric Utility","POU"]
[null,3042,"Los Angeles Department of Water & Power (LADWP)","POU"]
[null,2112,"Macquarie Energy LLC","Marketer"]
[null,104573,"MAG Energy Solutions, Inc. - EPE","Marketer"]
[null,104463,"Marin Clean Energy","CCA"]
[null,3044,"Merced Irrigation District (MeID)","POU"]
[null,2027,"Merrill Lynch Commodities, Inc.","Marketer"]
[null,2046,"Metropolitan Water District of Southern California (MWD)","POU"]
[null,3045,"Modesto Irrigation District (MID)","POU"]
[null,3046,"Moreno Valley Utility (MVU)","POU"]
[null,2369,"Morgan Stanley Capital Group Inc. - EPE","Marketer"]
[null,2388,"Nevada Power Company (dba NV Energy)","Marketer"]
[null,104225,"Nextera Energy Marketing, LLC","Marketer"]
[null,2500,"Noble Americas Gas & Power Corp.","Marketer"]
[null,2215,"Northern California Power Agency (NCPA)","POU"]
[null,3002,"Pacific Gas and Electric Company (PG&E) - Electric Power Entity","IOU"]
[null,3003,"PacifiCorp","MJRP"]
[null,3049,"Pasadena Water and Power, 91101","POU"]
[null,104574,"Patua Project - EPE","Marketer"]
[null,104698,"Peninsula Clean Energy (PCE)","CCA"]
[null,3016,"Pilot Power Group, Inc.","ESP"]
[null,5024,"Pittsburg Power Company dba Island Energy - EPE","POU"]
[null,3100,"Plumas-Sierra REC","Co-op"]
[null,3051,"Port of Oakland","POU"]
[null,3052,"Port of Stockton, 95203","POU"]
[null,2127,"Portland General Electric Company","Marketer"]
[null,3053,"Power and Water Resources Pooling Authority (PWRPA)","POU"]
[null,3101,"Powerex Corp - AO/CS","ACS"]
[null,2243,"Powerex Corp. - Marketer","Marketer"]
[null,104462,"Puget Sound Energy","Marketer"]
[null,104203,"Rainbow Energy Marketing Corporation (REMC)","Marketer"]
[null,3054,"Rancho Cucamonga Municipal Utility","POU"]
[null,3055,"Redding Electric Utility","POU"]
[null,3057,"Roseville Electric","POU"]
[null,3058,"Sacramento Municipal Utility District (SMUD) - Electric Power Entity","POU"]
[null,104461,"Salt River Project","Marketer"]
[null,3004,"San Diego Gas & Electric (SDG&E) - Electric Power Entity","IOU"]
[null,3028,"San Francisco Hetch Hetchy Water and Power, CCSF","POU"]
[null,2060,"Sempra Gas & Power Marketing, LLC","Marketer"]
[null,3081,"Shell Energy North America (US), L.P. - EPE","ESP"]
[null,2438,"Sierra Pacific Power Company (dba NV Energy)","Marketer"]
[null,3061,"Silicon Valley Power (SVP), City of Santa Clara","POU"]
[null,104537,"Sonoma Clean Power (SCP)","CCA"]
[null,3005,"Southern California Edison (SCE) - Electric Power Entity","IOU"]
[null,104579,"Surprise Valley Electrification Corp.","Co-op"]
[null,104567,"Tacoma Power - ACS","ACS"]
[null,104194,"Tenaska Power Services Co.","ESP"]
[null,2427,"Terra-Gen Dixie Valley, LLC","Marketer"]
[null,2278,"The Energy Authority, Inc.","Marketer"]
[null,104518,"The Regents of the University of California - EPE","ESP"]
[null,5047,"Tiger Natural Gas, Inc. - EPE","ESP"]
[null,2312,"TransAlta Energy Marketing (US), Inc.","Marketer"]
[null,104230,"TransCanada Energy Sales Ltd.","Marketer"]
[null,104639,"Trinity Public Utility District (PUD)","POU"]
[null,3063,"Truckee Donner Public Utility District","POU"]
[null,3064,"Turlock Irrigation District (TID)","POU"]
[null,104515,"Twin Eagle Resource Management, LLC","Marketer"]
[null,104695,"Unisource Electric Power Marketing","Marketer"]
[null,104510,"Valley Electric Association","Co-op"]
[null,3067,"Victorville Municipal Utility Services - EPE","POU"]
[null,104467,"Vitol Inc. - EPE","Marketer"]
[null,3078,"WAPA - Desert Southwest Region","Marketer"]
[null,3079,"WAPA - Sierra Nevada Region","Marketer"]
[null,104693,"ZGlobal Inc.","Marketer"]
[null,104697,"Westar Energy Generation & Marketing","Marketer"]
[null,104694,"Energy America L.L.C.","Marketer"]